{"text_format":"1","workbook":"xlsx","n_sheets":12,"sheets":["問題を解くテクニック編","数独問題を解く","数独問題の正解を得る","数独解読図","数独問題を作成","数独問題を発生","数独作品集","日付け管理","数独作品集並べ替え","数独作品集並べ替え済","操作環境について","計算用"],"not_rendered":{"charts":0,"images":4,"macros":1,"external_links":0,"defined_names":6,"comments":1,"pivot_tables":0},"unopened":[],"bounds":{"document_bytes":16777216,"sheet_cells":100000,"rows_first":2000,"rows_last":500,"rows_between":2000,"halvings":0,"cell_chars":16384,"cell_head_chars":4096},"cells_cut":0,"cells_raw":0,"read":"whole","date_system":"1900"}

{"sheet":"問題を解くテクニック編","index":0,"n_rows":656,"n_cols":32,"rows_kept":656,"cut":false,"hidden":true,"merged":[[39,13,39,30],[262,2,262,30],[285,1,285,30],[80,2,80,30],[111,4,111,30],[151,2,151,30],[152,2,152,30],[126,2,126,30],[150,2,150,30],[42,13,42,30],[40,13,40,30],[41,13,41,30],[220,14,220,19],[175,13,175,30],[163,13,163,30],[79,1,79,30],[243,2,243,30],[244,2,244,30],[242,1,242,3],[197,16,197,29],[209,25,209,30],[217,12,217,30],[261,1,261,3],[220,1,220,11],[477,13,477,30],[478,13,478,30],[311,6,311,30],[370,16,370,30],[479,13,479,30],[480,13,480,30],[293,2,293,30],[287,1,287,30],[278,1,278,30],[289,1,289,30],[292,1,292,4],[294,2,294,30],[345,2,345,11],[346,2,346,11],[347,23,347,30],[295,2,295,30],[345,14,345,30],[343,1,343,30],[346,14,346,30],[313,2,313,13],[312,17,312,30],[326,17,326,27],[296,2,296,12],[344,1,344,30],[638,13,638,30],[595,13,595,30],[568,13,568,30],[569,13,569,30],[576,13,576,30],[577,13,577,30],[574,13,574,30],[589,13,589,30],[529,13,529,30],[530,13,530,30],[564,13,564,30],[565,13,565,30],[566,13,566,30],[567,13,567,30],[538,13,538,30],[531,13,531,30],[532,13,532,30],[533,13,533,30],[540,13,540,30],[587,13,587,30],[578,13,578,30],[579,13,579,30],[580,13,580,30],[581,13,581,30],[639,13,639,30],[640,13,640,30],[641,13,641,30],[124,1,124,3],[81,2,81,30],[91,13,91,30],[440,1,440,30],[148,2,148,30],[281,1,281,30],[601,13,601,30],[599,13,599,30],[625,13,625,30],[626,13,626,30],[623,13,623,30],[613,13,613,30],[614,13,614,30],[615,13,615,30],[616,13,616,30],[617,13,617,30],[590,13,590,30],[591,13,591,30],[592,13,592,30],[593,13,593,30],[594,13,594,30],[655,13,655,30],[642,13,642,30],[643,13,643,30],[650,13,650,30],[651,13,651,30],[648,13,648,30],[652,13,652,30],[653,13,653,30],[654,13,654,30],[196,1,196,3],[66,13,66,30],[67,13,67,30],[43,13,43,30],[61,13,61,30],[54,13,54,30],[55,13,55,30],[63,13,63,30],[64,13,64,30],[51,13,51,30],[52,13,52,30],[53,13,53,30],[49,13,49,30],[65,13,65,30],[84,13,84,30],[86,13,86,30],[87,13,87,30],[88,13,88,30],[89,13,89,30],[90,13,90,30],[167,13,167,30],[168,13,168,30],[158,1,158,3],[159,2,159,30],[1,3,1,25],[2,4,2,25],[3,4,3,25],[4,4,4,25],[34,2,34,30],[37,13,37,30],[9,1,9,30],[10,2,10,30],[13,2,13,30],[19,2,19,30],[16,2,16,30],[15,2,15,30],[5,4,5,25],[7,1,7,30],[12,2,12,30],[20,2,20,30],[33,2,33,30],[18,1,18,2],[21,17,21,25],[6,4,6,25],[11,2,11,30],[14,2,14,30],[21,2,21,10],[218,15,218,28],[283,1,283,30],[282,1,282,30],[288,1,288,30],[270,13,270,30],[271,13,271,30],[272,13,272,30],[284,1,284,30],[286,1,286,30],[280,1,280,30],[279,1,279,30],[263,2,263,30],[265,13,265,30],[267,13,267,30],[311,1,311,4],[342,1,342,4],[312,2,312,14],[296,16,296,30],[393,2,393,10],[393,17,393,30],[414,11,415,15],[451,13,451,30],[448,13,448,30],[449,13,449,30],[450,13,450,30],[444,12,444,30],[446,13,446,30],[441,1,441,30],[394,21,394,30],[452,13,452,30],[460,13,460,30],[474,13,474,30],[462,13,462,30],[463,13,463,30],[464,13,464,30],[465,13,465,30],[466,13,466,30],[476,13,476,30],[488,13,488,30],[501,13,501,30],[502,13,502,30],[490,13,490,30],[491,13,491,30],[492,13,492,30],[493,13,493,30],[494,13,494,30],[495,13,495,30],[513,13,513,30],[514,13,514,30],[504,13,504,30],[505,13,505,30],[506,13,506,30],[507,13,507,30],[508,13,508,30],[516,13,516,30],[526,13,526,30],[521,13,521,30],[517,13,517,30],[518,13,518,30],[519,13,519,30],[520,13,520,30],[528,13,528,30],[541,13,541,30],[542,13,542,30],[550,13,550,30],[543,13,543,30],[544,13,544,30],[545,13,545,30],[546,13,546,30],[562,13,562,30],[552,13,552,30],[553,13,553,30],[554,13,554,30],[555,13,555,30],[556,13,556,30],[557,13,557,30],[582,13,582,30],[583,13,583,30],[602,13,602,30],[603,13,603,30],[604,13,604,30],[605,13,605,30],[606,13,606,30],[607,13,607,30],[636,13,636,30],[627,13,627,30],[628,13,628,30],[629,13,629,30],[630,13,630,30],[611,13,611,30],[618,13,618,30],[161,13,161,30],[98,13,98,30],[100,13,100,30],[101,13,101,30],[102,13,102,30],[103,13,103,30],[111,1,111,3],[164,13,164,30],[165,13,165,30],[104,13,104,30],[156,2,156,22],[155,2,155,30],[112,2,112,30],[125,2,125,30],[147,1,147,30],[160,12,160,30],[149,2,149,30],[166,13,166,30],[392,2,392,30],[391,2,391,30],[367,1,367,4],[390,1,390,4],[372,1,372,10],[371,16,371,30],[368,1,368,30],[372,16,372,30],[369,1,369,30],[370,1,370,7],[178,13,178,30],[179,13,179,30],[245,2,245,30],[174,12,174,30],[218,1,218,3],[172,1,172,3],[173,2,173,30],[181,13,181,30],[182,13,182,30],[195,2,195,30],[197,1,197,11],[180,13,180,30],[177,13,177,30]]}
[null,null,null,null,null,null,null,null,null,null,null,null,null,null,null,null,null,null,null,null,null,"  ","  ",null,null,null,null,null,null,null,null,"　　"]
[null,null,null,"数独（すうどく） ルール"]
[null,null,null,"①","空いているマスに、１から９までの数字のどれかを入れます。"]
[null,null,null,"②","タテ列（９列あります）、ヨコ列（９列あります）、２重線で囲まれた３Ｘ３のブロック（それぞれ"]
[null,null,null,null,"９マスあるブロックが９つあります）のどれにも１から９までの数字が１ずつ入ります。"]
[null,null,null,null,"つまり同じ数値がタテ列、ヨコ列、ブロックでダブらないように配置することです。"]
[]
[null,"数　独　問　題　を　解　く　テ　ク　ニ　ッ　ク　解　説"]
[]
[null,"☆　初級コース　(まず数独問題のとき方の発想の転換を考えよう)"]
[null,null,"初めて数独を始められる方は,まず数独のルールを理解しましょう。　そのうえで数独問題の解きかたの考え方を"]
[null,null,"転換しましょう。　最初は、数独問題を解こうと思ってマスに入る数値を考える時、一生懸命そこに入る数値を考えると"]
[null,null,"思いますが、それではなかなか該当する数値が見つかりません、解き方の楽な考え方は入らない数値を考えるのです"]
[null,null,"そうです発想の転換をするのです。　同じ数値はタテ列、ヨコ列、ブロックで入らないということですから、入らない場所を"]
[null,null,"埋めていくのです。　その結果そこのマスにその数値しか入らない所を探し全体を詰めて行くと浮き上がってきます。"]
[null,null,"最後に１つだけその数値しか入らない場所が見つかります。"]
[null,null,"整理して考えますと、入らない場所を探し浮き上がった１つの場所を探すのです。　そこが数値の入る場所になります。"]
[]
[null,"参考図１"]
[null,null,"下図の例では１の入る場所だけ考えてみますと、紫色で示した領域に１は入りません。　残されたマスを見ますと、"]
[null,null,"１つだけ限定されたマスが発見できます。　青色で示したマスに１が入ることになります。"]
[null,null,"１が入らない場所を紫色で示す",null,null,null,null,null,null,null,null,null,null,null,null,null,null,"１が入る場所を青色で示す"]
[null,null,null,null,4,6,null,8,null,null,null,null,null,null,null,null,null,null,null,4,6,null,8]
[null,null,null,5,null,null,7,null,null,4,null,null,null,null,null,null,null,null,5,null,null,7,null,null,4]
[null,null,null,null,1,5,null,null,2,null,3,null,null,null,null,null,null,null,null,1,5,null,null,2,null,3]
[null,null,4,null,null,null,3,null,5,null,1,null,null,null,null,null,null,4,null,null,null,3,null,5,null,1]
[null,null,null,7,null,2,null,1,null,6,null,null,null,null,null,null,null,null,7,null,2,null,1,null,6]
[null,null,2,null,6,null,4,null,null,null,7,null,null,null,null,null,null,2,1,6,null,4,null,null,null,7]
[null,null,3,null,9,null,null,2,1,null,null,null,null,null,null,null,null,3,null,9,null,null,2,1]
[null,null,null,8,null,null,6,null,null,5,null,null,null,null,null,null,null,null,8,null,null,6,null,null,5]
[null,null,null,null,null,4,null,7,3,null,null,null,null,null,null,null,null,null,null,null,4,null,7,3]
[]
[]
[null,null,"★①～③は基本的な解き方はを示します。初級コースの場合この考え方で"]
[null,null,"　充分問題を解くことができます。"]
[]
[null,null,null,null,null,null,1,null,null,5,null,null,"①"]
[null,null,null,null,null,null,null,null,"✽",null,4,null,null,"✽マークの赤色で示されるマスには、１が入ります。 "]
[null,null,null,null,1,null,null,null,2,null,null,null,null,"(解説)"]
[null,null,null,null,null,null,null,null,null,null,null,null,null,"１つの数字はタテの列、ヨコの行、１つのブロック内では、１つしか入りません。"]
[null,"①",null,null,null,null,null,null,null,1,null,null,null,"１が入らない場所を橙色で埋めつくされた領域で、１つだけの空マスに、"]
[null,null,null,null,null,null,null,null,null,null,null,null,null,"該当する数値１が入ります。"]
[null,null,null,null,null,null,null,null,null,null,null,null,null,"ほとんどの数独問題はこの方法で埋めていきます。"]
[]
[]
[]
[]
[]
[null,null,null,null,null,null,1,null,null,null,null,null,"②"]
[null,null,null,null,null,null,null,null,null,null,null,null,null,"✽マークの赤色で示されるマスには、１が入ります。　"]
[null,null,1,null,null,null,null,null,null,null,null,null,null,"(解説)"]
[null,null,"◎",7,5,3,"◎",2,6,"✽",4,null,null,"◎マークの緑色部分には、タテ列に１が存在しますから１は入りません。　"]
[null,"②",null,null,null,null,null,null,null,null,null,null,null,"この行の残り✽マークのマスに１が入ることになります。１に決まりです。"]
[null,null,null,null,null,null,null,null,null,null,null,null,null,"ちょっと注意を払うと気ずくものです。"]
[]
[]
[]
[]
[]
[]
[null,null,null,null,null,null,1,null,null,null,null,null,"③"]
[null,null,null,null,null,9,4,null,null,null,null,null,null,"✽マークの赤色で示されるマスには、９が入ります。"]
[null,null,null,null,null,null,"◎",null,null,null,null,null,null,"(解説)"]
[null,null,null,null,null,null,8,null,null,null,null,null,null,"ブロック内や、ヨコ行、で９が存在しますから、◎マークの緑色部分に"]
[null,"③",null,null,null,null,"✽",null,null,null,null,null,null,"９は入りません。残されたマスに９が入ります。　９に決まりです。"]
[null,null,null,null,null,null,6,null,null,null,null,null,null,"ちょっと気ずきにくいが更に注意を集中すると気ずきます。"]
[null,null,null,null,null,null,3]
[null,null,null,null,null,null,5]
[null,null,null,null,null,null,"◎",null,null,null,9]
[]
[]
[]
[]
[]
[]
[]
[]
[]
[]
[null,"☆　中級コース　（じっくり考えよう）１つの数値を限定"]
[null,null,"★見えている単独の数値を追いかける。"]
[null,null,"★一連番号の成立は意外と見つけることができないので、中級クラスとしました。"]
[]
[null,null,null,null,null,null,null,null,null,null,null,null,"④"]
[null,null,null,null,null,4,null,null,null,null,null,null,null,"✽マークの赤色で示されるマスには、７が入ります。　"]
[null,null,null,null,null,1,null,null,null,null,null,null,null,"(解説)"]
[null,null,null,null,null,null,3,null,null,null,null,null,null,"タテの列、ヨコの行、１個のブロック内で考えると,　✽マークの赤色の部分に"]
[null,"④",null,null,null,5,null,null,null,null,null,null,null,"７が入ることが分かります。　（　１ ～ ９　迄の一連番号が成立　）　"]
[null,null,null,6,null,"✽",9,null,null,2,null,null,null,"理屈はどうあれ、解く方法として覚えておくと突破口が開けてきます。"]
[null,null,null,null,null,null,null,null,null,null,null,null,null,"意外と見つけるのは困難ですが数字にバラツキがあり数字が密集している"]
[null,null,null,null,null,8,null,null,null,null,null,null,null,"ところを探すとよくあります。　　　　　　　　　"]
[null,null,null,null,null,null,null,null,null,null,null,null,null,"中級以上でよく使うテクニックです。"]
[]
[]
[]
[]
[]
[null,null,null,null,null,null,null,null,null,null,7,null,"⑤"]
[null,null,null,null,null,null,null,null,null,null,null,null,null,"✽マークの赤色で示されるマスには、７が入ります。"]
[null,null,null,null,null,null,null,null,null,null,null,null,null,"(解説)"]
[null,null,null,"✽",5,null,null,null,6,1,null,null,null,"◎マークの緑色部分には７がどちらかに入ります。"]
[null,"⑤",null,null,null,null,9,1,"◎","◎",null,null,null,"７が入らないマスを除くと、残りの✽マーク部分のマスには、７が入ります。"]
[null,null,null,1,2,null,null,null,8,9,null,null,null,"７に決まりです。　　"]
[null,null,null,null,null,null,null,null,null,null,null,null,null,"この場合2つの数字を限定するわけではないが行方向で７の数字が限定され"]
[null,null,null,null,null,null,null,null,null,null,null,null,null,"確定できる。　中級レベルの解き方となります。"]
[null,null,7]
[]
[]
[]
[]
[]
[null,"参考図２",null,null,"数値が入る場所を限定しよう。（１つの数値を限定する。）"]
[null,null,"下図の例では４について入る場所を考えた時、方向性で追っていくと入る場所を限定することができます。"]
[null,null,9,null,null,null,7,null,null,null,6]
[null,null,null,null,8,null,null,null,9]
[null,null,null,3,null,null,null,null,null,7]
[null,null,null,null,null,1,null,2]
[null,null,6,null,1,null,null,null,2,null,8]
[null,null,null,null,null,3,null,4]
[null,null,null,8,null,null,3,null,null,5]
[null,null,null,null,4,null,null,null,8]
[null,null,7,null,null,null,9,null,null,null,2]
[]
[]
[null,"参考図３"]
[null,null,"下図の例では７について入る場所を考えた時、方向性で追っていくと入る場所を限定できる。"]
[null,null,"（斜めマスでも限定する。）"]
[null,null,7,null,null,null,null,null,null,null,9]
[null,null,null,null,5,4,null,6,1]
[null,null,null,8,null,null,2,null,null,6]
[null,null,null,1,null,null,null,null,null,8]
[null,null,null,null,2,null,4]
[null,null,null,9,null,null,null,null,null,5]
[null,null,null,5,null,null,9,null,null,4]
[null,null,null,null,6,7,null,3,2]
[null,null,1,null,null,null,null,null,null,null,8]
[]
[]
[]
[]
[]
[]
[]
[]
[]
[]
[]
[null,"☆上級コース　（いっそう集中して考えよう）２マス限定攻略"]
[null,null,"★見えている数値を追い詰めて攻略する。又、数々の法則を理解しておこう。"]
[null,null,"★偶然の正解よりも、論理的に正解を問い詰め導こう。必ず解く方法があると思います。"]
[null,null,"★数値を限定できるようにメモ書きし、２つの数値を２つのマスに限定する攻略法で数値を追い詰めよう。"]
[null,null,"★２つの数値を限定することで、この２つの数値以外を考えて追い込んでいく。"]
[]
[]
[]
[null,null,"★（　2つの数字を2つのマスに限定する攻略法　）"]
[null,null,"★数値が入る場所を限定しよう。（２つの数値を限定する。）"]
[]
[null,"参考図４"]
[null,null,"下図の例では８と９の２つの数値で入る場所を考えた時、方向性で２つのマスに入る場所を限定できる。"]
[null,null,1,9,7,null,null,3,6,5,2,null,"（見えている数値の組み合わせで追い詰めている例。）"]
[null,null,4,5,3,2,7,6,1,8,9]
[null,null,null,null,null,5,1,9,3,4,7]
[null,null,null,null,null,null,null,8,9,7]
[null,null,7]
[null,null,null,3,4,7]
[null,null,null,7,null,3,6,4]
[null,null,3,8,6,1,2,7,null,9]
[null,null,2,4,1,null,null,5,7,3,6]
[]
[]
[]
[null,"参考図５"]
[null,null,"下図の例では３と７の２つの数値で入る場所を考えた時、方向性で２つのマスに入る場所を限定できる。"]
[null,null,null,null,1,3,null,5,7,null,null,null,"（見えていない数値との組み合わせで追い詰めている例。）"]
[null,null,null,6,null,null,null,null,5,3]
[null,null,5,null,null,4,null,8]
[null,null,2,null,null,null,7,4,1]
[null,null,null,9,null,null,5,null,3,4]
[null,null,null,null,4,null,3,9,null,null,5]
[null,null,null,null,null,9,null,6,null,null,3]
[null,null,null,2,null,null,null,null,null,5]
[null,null,null,null,8,5,null,null,4]
[]
[]
[]
[]
[]
[]
[]
[]
[]
[]
[]
[]
[null,null,"★上図のように判定できるようにするにはまずメモ書きをして判定しよう。"]
[null,"参考図６"]
[null,"参考図２と３の考え方でメモ書きをする",null,null,null,null,null,null,null,null,null,null,null,null,null,null,"メモ書きを整理して考えた結果下図のようになる。"]
[]
[null,null,3,2,null,1,null,null,null,7,"4,8",null,null,null,null,null,null,3,2,null,1,null,null,null,7,"4,8"]
[null,null,5,null,null,1,null,null,null,"4,8",3,null,null,null,null,null,null,5,null,null,1,null,null,null,"4,8",3]
[null,null,null,null,4,3,null,8,1,null,null,null,null,null,null,null,null,null,null,4,3,null,8,1]
[null,null,4,"3,5",2,6,3,1,8,null,7,null,null,null,null,null,null,4,"3,5",2,6,3,1,8,null,7]
[null,null,6,"5,6",6,null,8,null,3,"1,2,4","2,4,7",null,null,null,null,null,null,6,"5,6",6,null,8,null,3,"2,4","2,4"]
[null,null,null,"3,5",7,2,"3,8",4,6,1,null,null,null,null,null,null,null,null,"3,5",7,2,"3,8",4,6,1]
[null,null,"2,7",7,3,8,1,5,4,9,9,null,null,null,null,null,null,"2,7",7,3,8,1,5,4,9,9]
[null,null,9,4,5,7,null,3,null,8,1,null,null,null,null,null,null,9,4,5,7,null,3,null,8,1]
[null,null,2,1,5,"4,9","4,9",9,7,3,8,null,null,null,null,null,null,2,1,5,"4,9","4,9",9,7,3,8]
[]
[null,null,null,null,null,null,null,null,null,null,null,null,null,null,null,null,null,null,null,null,null,null,null,null,null,"○は限定を意味します。"]
[]
[]
[]
[]
[]
[]
[]
[]
[null,"参考図７",null,null,null,null,null,null,null,null,null,null,null,null,null,"メモ書きを整理して考えた結果下図のようになる。"]
[]
[null,"参考図２と３の考え方でメモ書きする。",null,null,null,null,null,null,null,null,null,null,null,null,"○は限定を意味します。"]
[]
[null,null,8,2,"1,8",7,"1,7",null,"5,9",4,6,null,null,null,null,null,null,8,2,"1,8",7,"1,7",null,"5,9",4,6]
[null,null,9,5,"1,3","4,6","1,3","4,6",2,7,8,null,null,null,null,null,null,9,5,3,"4,6",1,"4,6",2,7,8]
[null,null,7,6,4,2,8,2,1,3,"5,9",null,null,null,null,null,null,7,6,4,2,8,2,1,3,"5,9"]
[null,null,null,"1,9",2,5,"2,3",7,null,8,1,null,null,null,null,null,null,null,"1,9",2,5,"2,3",7,null,8,1]
[null,null,5,"1,9",7,"6,8",4,"6,8",3,2,1,null,null,null,null,null,null,5,"1,9",7,"6,8",4,"6,8",3,2,"1,9"]
[null,null,4,8,2,1,"2,3",9,"5,7",6,"5,7",null,null,null,null,null,null,4,8,"2,3",1,"2,3",9,"5,7",6,"5,7"]
[null,null,2,3,9,"4,7",6,1,8,5,"4,7",null,null,null,null,null,null,2,3,9,"4,7",6,1,8,5,"4,7"]
[null,null,1,4,null,3,null,3,6,9,2,null,null,null,null,null,null,1,4,null,3,null,3,6,9,2]
[null,null,null,7,null,"2,9","2,9",2,"4,6",1,3,null,null,null,null,null,null,null,7,null,"2,9","2,9",2,"4,6",1,3]
[]
[]
[]
[]
[]
[]
[]
[]
[]
[]
[]
[null,"参考図８"]
[null,null,"★列方向、行方向で限定された４つのマスに共通する数値がある場合、"]
[null,null,"　その延長線上の数値は排除できる。　対角線上のいずれかに数値が入るわけで、"]
[null,null,"　その延長線上に同じ数値入らないから排除できることになる。"]
[]
[null,null,null,null,null,null,null,null,null,9,null,null,null,null,null,null,null,null,null,null,null,null,null,null,9]
[null,null,7,3,null,2,8,9,null,6,null,null,null,null,null,null,null,7,3,null,2,8,9,null,6]
[null,null,null,null,5,6,null,7,3,null,null,null,null,null,null,null,null,null,null,5,6,null,7,3]
[null,null,null,null,3,null,null,5,2,4,null,null,null,null,null,null,null,null,null,3,null,null,5,2,4]
[null,null,null,5,null,null,2,6,null,3,null,null,null,null,null,null,null,null,5,null,null,2,6,null,3]
[null,null,2,7,8,null,null,null,6,null,null,null,null,null,null,null,null,2,7,8,null,null,null,6]
[null,null,null,null,6,3,null,1,4,null,null,null,null,null,null,null,null,null,null,6,3,null,1,4]
[null,null,3,null,null,null,9,8,null,null,6,null,null,null,null,null,null,3,null,null,null,9,8,null,null,6]
[null,null,null,8,null,null,6,2,null,null,3,null,null,null,null,null,null,null,8,null,null,6,2,null,null,3]
[]
[]
[]
[]
[]
[null,"参考図９"]
[null,null,"★限定された数値との組み合わせで一連番号が成立する場合、入る数値は確定する。"]
[null,null,"この例では限定された３つの数値と組み合わせて一連番号（１～９）が成立する。"]
[null,null,8,null,null,null,6,4,2,null,5]
[null,null,null,2,null,null,5,7,null,8]
[null,null,null,null,null,null,2,8,null,4]
[null,null,null,3,1,null,null,null,5]
[null,null,2,null,8,null,null,null,6,null,3]
[null,null,null,null,null,null,null,null,4,2]
[null,null,null,null,null,5,8]
[null,null,null,9,null,4,null,null,8,5]
[null,null,1,8,5,null,9,null,null,null,4]
[]
[]
[]
[]
[]
[null,"☆　最上級コース　（見えてない数値を発掘しょう）"]
[null,"諦めず必ず解く方法があるはずです探しましょう。"]
[null,"当てつけで攻略するより論理的に追い詰めて解きましょう。"]
[null,"難しいと言うのは追い詰める数値が埋もれているからです。ここではその数値を発掘します。"]
[null,"見えている数値だけを追いかけて確定できれば幸いですが、現状は絞り込めず諦めてしまうのが実状です。それでも"]
[null,"手間がかかっても突き止めたいと思いますなら下記の方法をお勧めします。"]
[null,"★空きマスに２つだけの数値があるかどうかを一連番号を通じて調べ、その上で全体を通して２組の数値限定があるか"]
[null,"  どうかを調べる。"]
[null,"★どうしても見つからない場合は考えられる選択可能な数値全てをメモ書きする。"]
[null,"★メモ書きを整理して、２つのマスに２つの数値の組み合わせがあるかを調べる。"]
[null,"★メモ書きを整理して、３つのマスに３つの数値の組み合わせがあるかを調べる。（この数独問題は以外と少ない）"]
[]
[]
[]
[null,"参考図１０"]
[null,null,"★空きマスに一連番号（１～９）で抜けている数値が２個だけの場所にメモ書きをしよう。"]
[null,null,"下図の参考例は３列で、４と８の組み合わせがあり、その結果８が確定するのですが、この４と８の発見が"]
[null,null,"通常の追い方では発見できません、埋もれているからです。"]
[null,null,"２つの数値があるマスだけメモ書きする。",null,null,null,null,null,null,null,null,null,null,null,null,null,"共通する2つの数字の組み合わせがあるかを考える。"]
[]
[null,null,18,3,48,null,6,9,null,null,null,null,null,null,null,null,null,18,3,"4,8",null,6,9]
[null,null,7,6,6,3,null,null,1,null,null,null,null,null,null,null,null,7,6,6,3,null,null,1]
[null,null,19,null,2,8,7,7,6,3,null,null,null,null,null,null,null,19,null,2,8,7,7,6,3]
[null,null,null,null,1,5,null,null,null,null,3,null,null,null,null,null,null,null,null,1,5,null,null,null,null,3]
[null,null,5,null,3,null,null,null,null,null,6,null,null,null,null,null,null,5,null,3,null,null,null,null,null,6]
[null,null,4,null,null,null,null,3,2,5,5,null,null,null,null,null,null,4,null,null,null,null,3,2,5,5]
[null,null,3,9,null,26,null,1,4,null,null,null,null,null,null,null,null,3,9,null,null,8,1,4]
[null,null,null,null,5,null,null,null,3,null,8,null,null,null,null,null,null,null,null,5,null,null,null,3,null,8]
[null,null,null,null,48,7,3,null,9,6,9,null,null,null,null,null,null,null,null,"4,8",7,3,null,9,6,9]
[]
[]
[]
[]
[null,"参考図１１",null,null,null,null,"★　見つからない場合、全てメモ書きし整理して考える"]
[null,null,"一連番号を通し該当しない数値をメモ書きする",null,null,null,null,null,null,null,null,null,null,null,null,null,null,"メモ書きを整理し２組ある数値を追求しまとめる。"]
[null,null,"考えられる選択可能な数値をメモ書きする"]
[null,null,567,456,457,479,4569,3,2,8,1,null,null,null,null,null,null,567,456,457,479,4569,3,2,8,1,9]
[null,null,178,3,1478,2,478,48,9,5,6,null,null,null,null,null,null,178,3,1478,2,478,48,9,5,6,1]
[null,null,2,568,9,58,568,1,7,3,4,null,null,null,null,null,null,2,568,9,58,568,1,7,3,4,6]
[null,null,9,2,458,6,458,458,1,7,3,null,null,null,null,null,null,9,2,458,6,458,458,1,7,3]
[null,null,"1,5,6,7,8",4568,"1,4,5,7,8",147,3,2458,568,26,9,null,null,null,null,null,null,"1,5,6,7,8",4568,"1,4,5,7,8",147,3,2458,568,26,9,2]
[null,null,"1,5,6,7,8",568,3,17,"1,2,5,7,8",9,568,4,258,null,null,null,null,null,null,"1,5,6,7,8",568,3,17,"1,2,5,7,8",9,568,4,258,2]
[null,null,58,9,2,3,158,568,4,16,7,null,null,null,null,null,null,58,9,2,3,158,568,4,16,7,1]
[null,null,4,1,6,58,258,7,3,9,258,null,null,null,null,null,null,4,1,6,58,258,7,3,9,258,2]
[null,null,3,7,58,149,"1,2,4,5,8,9","2,4,5,6,8",568,126,258,null,null,null,null,null,null,3,7,58,149,"1,2,4,5,8,9","2,4,5,6,8",568,126,258,9]
[null,null,null,null,null,null,null,null,null,null,null,null,null,null,null,null,null,null,4,1,589,69,26,null,1]
[]
[]
[null,null,null,null,null,null,null,null,null,null,null,null,null,null,null,null,null,"見えてない数値が限定できる。"]
[null,null,null,null,null,null,null,null,null,null,null,null,null,null,null,null,null,567,456,457,479,4569,3,2,8,1]
[null,null,null,null,null,null,null,null,null,null,null,null,null,null,null,null,null,178,3,1478,2,478,48,9,5,6]
[null,null,null,null,null,null,null,null,null,null,null,null,null,null,null,null,null,2,568,9,58,568,1,7,3,4]
[null,null,null,null,null,null,null,null,null,null,null,null,null,null,null,null,null,9,2,458,6,458,458,1,7,3]
[null,null,null,null,null,null,null,null,null,null,null,null,null,null,null,null,null,"1,5,6,7,8",4568,"1,4,5,7,8",147,3,2458,568,26,9]
[null,null,null,null,null,null,null,null,null,null,null,null,null,null,null,null,null,"1,5,6,7,8",568,3,17,2,9,568,4,2]
[null,null,null,null,null,null,null,null,null,null,null,null,null,null,null,null,null,58,9,2,3,158,568,4,16,7]
[null,null,null,null,null,null,null,null,null,null,null,null,null,null,null,null,null,4,1,6,58,2,7,3,9,2]
[null,null,null,null,null,null,null,null,null,null,null,null,null,null,null,null,null,3,7,58,149,149,246,6,126,58]
[]
[]
[]
[]
[]
[]
[null,"参考図１２"]
[null,"下図の参考例は７列で、１と４の組み合わせが漠然と発見できれば良いのですが、実際は絞り込めないのが実状です。"]
[null,"そんな時は全ての選択可能な数値をメモ書きし、整理して結論を出す方法がよろしいと思います。"]
[null,null,null,null,null,null,null,null,null,null,null,null,null,null,"列、行で、２個ある数値をメモ書きする。そして共通する"]
[null,null,"選択可能な数値を全てメモ書きする",null,null,null,null,null,null,null,null,null,null,null,"2つの数値の組み合わせがあるかどうかを調べる。"]
[]
[]
[null,null,"1,4,7,8,9",89,"1,4",3,6,2,1478,457,"1,5,7,8,9",null,null,null,null,null,null,"1,4,7,8,9",89,"1,4",3,6,2,"１,4",457,"1,4,7,8,9",145]
[null,null,279,3,5,4,1,8,67,267,2679,null,null,null,null,null,null,279,3,5,4,1,8,"6,7",267,2679,9]
[null,null,1248,28,6,5,9,7,3,24,128,null,null,null,null,null,null,1248,28,6,5,9,7,3,24,128,14]
[null,null,5,7,8,6,4,1,2,9,3,null,null,null,null,null,null,5,7,8,6,4,1,2,9,3]
[null,null,3,4,2,9,8,5,"6,7",1,"6,7",null,null,null,null,null,null,3,4,2,9,8,5,"6,7",1,"6,7",67]
[null,null,6,1,9,7,2,3,5,8,4,null,null,null,null,null,null,6,1,9,7,2,3,5,8,4]
[null,null,148,58,3,2,7,6,9,45,158,null,null,null,null,null,null,148,58,3,2,7,6,9,45,158,14]
[null,null,289,2689,7,1,5,4,68,3,268,null,null,null,null,null,null,289,2689,7,1,5,4,8,3,268,69]
[null,null,1247,"5,6","1,4",8,3,9,1467,"2,4,5,6,7","1,2,5,6,7",null,null,null,null,null,null,1247,"5,6","1,4",8,3,9,"1,4","2,4,5,6,7","1,2,5,6,7"]
[null,null,null,null,null,null,null,null,null,null,null,null,null,null,null,null,null,null,2569,14,null,null,null,148,6,9]
[]
[]
[]
[]
[]
[]
[]
[]
[null,"参考図１３"]
[null,"下図の参考例は３行で、２と７の組み合わせが漠然と発見できればよろしいのですが、範囲が広くて絞りきれない"]
[null,"のが実際だと思います。そんな時は全ての選択可能な数値をメモ書きし、整理して結論を出す方法が"]
[null,"よろしいと思います。",null,null,null,null,null,null,null,null,null,null,null,null,null,null,"列、行で、２個ある数値をメモ書きする。そして"]
[null,null,null,null,null,null,null,null,null,null,null,null,null,null,null,null,"共通する2つの数値の組み合わせがあるかどうかを"]
[null,"選択可能な数値を全てメモ書きする",null,null,null,null,null,null,null,null,null,null,null,null,null,null,"調べる。"]
[]
[null,null,6,"3,5,7,8,9",1589,4,79,57,1358,"1,3,5,8,9",2,null,null,null,null,null,null,6,"3,5,7,8,9",1589,4,79,5,1358,"1,3,5,8,9",2]
[null,null,1239,2359,159,69,269,8,7,"1,3,5,6,9",4,null,null,null,null,null,null,1239,2359,159,69,269,8,7,"1,3,5,6,9",4]
[null,null,2789,4,589,1,3,2567,568,5689,589,27,null,null,null,null,null,"2,7",4,589,1,3,"2,7",568,5689,589]
[null,null,789,1,5689,6789,"2,6,7,8,9",3,4,"2,5,6,8,9",58,2,null,null,null,null,null,789,1,5689,6789,"2,6,7,8,9",3,4,"2,5,6,8,9",58]
[null,null,78,5678,3,678,4,"1,2,5,6,7",9,"1,2,5,6,8",158,2,null,null,null,null,null,78,5678,3,678,4,"1,2,5,6,7",9,"1,2,5,6,8",158]
[null,null,4,689,2,5,1689,16,1368,7,1389,3,null,null,null,null,null,4,689,2,5,1689,16,1368,7,1389]
[null,null,1238,2368,168,368,5,9,"1,2,3,6,8",4,7,null,null,null,null,null,null,1238,2368,168,368,5,9,"1,2,3,6,8",4,7]
[null,null,1389,3689,7,2,168,4,"1,3,5,6,8","1,3,5,8,9","1,3,5,8,9",6,null,null,null,null,null,1389,3689,7,2,168,4,"1,3,5,6,8","1,3,5,8,9","1,3,5,8,9"]
[null,null,5,"2,3,6,8,9",4,378,178,17,1238,"1,2,3,8,9",6,9,null,null,null,null,null,5,"2,3,6,8,9",4,378,178,17,1238,"1,2,3,8,9",6]
[null,null,null,7,6,39,2,2,2,null,3]
[]
[]
[]
[]
[]
[]
[null,"参考図１４"]
[null,null,"下図の参考例は９列で、４と７と８の３つ組み合わせが存在する問題です。これも全てメモ書きして整理して"]
[null,null,"考えないと解けません。２個でだめなら３個の組み合わせで考える。"]
[]
[null,null,null,null,null,null,null,null,null,null,null,null,null,null,null,null,null,null,null,null,null,"選択可能な数値を全てメモ書きする"]
[]
[null,null,8,4,1,2,6,7,null,9,5,null,null,null,null,null,null,8,4,"1,3",2,6,7,"1,3",9,5]
[null,null,2,2,1,9,4,null,null,null,null,null,null,null,null,null,null,"2,3","2,5,6,7","1,6,7",9,4,"5,8","1,6,7,8","1,6,7","1,3,7,8"]
[null,null,null,null,9,3,1,null,2,4,4,null,null,null,null,null,null,"6,7","5,6,7",9,3,1,"5,8",2,"4.6,7","4,7,8"]
[null,null,9,8,5,7,2,4,1,3,1,null,null,null,null,null,null,"6,9",8,"5,6",7,"2,5",4,"1,6",3,"1,2,9"]
[null,null,null,3,2,1,9,1,5,8,null,null,null,null,null,null,null,"4,7",3,2,"1,6",9,"1,6",5,8,"4,7"]
[null,null,9,1,5,8,2,3,null,null,null,null,null,null,null,null,null,"4,6,7,9",1,"5,6,7",8,"2,5",3,"4,6,7","2,4,6,7","2,4,7,9"]
[null,null,3,null,8,4,7,null,9,5,3,null,null,null,null,null,null,"2,3","2,6",8,"1,4,5,6",7,"1,6",9,"1,2,4,5","1,2,3,4"]
[null,null,1,9,null,4,3,2,null,5,null,null,null,null,null,null,null,1,9,"4,6,7","4,5,6",3,2,"4,7,8","4,5,7","4,7,8"]
[null,null,5,null,3,4,8,9,3,null,6,null,null,null,null,null,null,5,"2,7","3,4,7","1,4",8,9,"1,3,4,7","1,2,4,7",6]
[]
[]
[]
[]
[]
[null,null,null,null,null,null,null,null,null,null,null,null,null,null,null,null,null,8,4,"1,3",2,6,7,"1,3",9,5]
[null,null,null,null,null,null,null,null,null,null,null,null,null,null,null,null,null,"2,3","2,5,6,7","1,6,7",9,4,"5,8","6,7,8","6,7","1,3"]
[null,null,null,null,null,null,null,null,null,null,null,null,null,null,null,null,null,"6,7","5,6,7",9,3,1,"5,8",2,"4.6,7","4,7,8"]
[null,null,null,null,null,null,null,null,null,null,null,null,null,null,null,null,null,"6,9",8,"5,6",7,"2,5",4,"1,6",3,"1,2,9"]
[null,null,null,null,null,null,null,null,null,null,null,"整理すると",null,null,null,null,null,"4,7",3,2,"1,6",9,"1,6",5,8,"4,7"]
[null,null,null,null,null,null,null,null,null,null,null,null,null,null,null,null,null,"4,6,7,9",1,"5,6,7",8,"2,5",3,"4,6,7","2,4,6,7","2,9"]
[null,null,null,null,null,null,null,null,null,null,null,null,null,null,null,null,null,"2,3","2,6",8,"4,5",7,"1,6",9,"4,5","1,2,3"]
[null,null,null,null,null,null,null,null,null,null,null,null,null,null,null,null,null,1,9,"4,6,7","4,5,6",3,2,"4,7,8","4,5,7","4,7,8"]
[null,null,null,null,null,null,null,null,null,null,null,null,null,null,null,null,null,5,"2,7","3,4,7","1,4",8,9,"1,3,4,7",1,6]
[]
[]
[]
[]
[]
[]
[]
[]
[]
[]
[]
[]
[]
[]
[]
[]
[]
[]
[]
[]
[]
[null,"☆⑥～(２２)に難問のテクニックの参考例を示します。次の一手の考え方を応用して下さい。"]
[null,"　（ここから２つのマスに２つの数値を限定、又は３つのマスに３つの数値を限定して、解いた例を示します。）"]
[]
[]
[]
[null,null,1,null,null,null,5,null,null,4,9,null,"⑥"]
[null,null,5,2,3,4,null,9,6,null,"◎",null,null,"✽マークの赤色で示されるマスには、５が入ります。    　　　　　　　　　　　　　　　　　　　　　　　　　　　　　　　　　　　　　　　　　　　　　　　　　　　　　　　　　　　　　　　　　　"]
[null,null,4,null,9,null,null,null,null,5,"◎",null,null,"(解説)"]
[null,null,null,5,null,2,3,"◎",9,null,4,null,null,"◎マークの緑色部分のマスは、2つの数字に限定できます。　     　　　　　　　　　　　　　　　　　　　　　　　　　　　　　　　　　　　　　　　　　　　　　　　　　　　　　　　　　　　　　　　　　　"]
[null,"⑥",2,9,1,"◎",4,"◎",7,8,3,null,null,"紫色のマスに、５は入りません。　   　　　　　　　　　　　　　　　　　　　　　　　　　　　　　　　　　　　　　　　　　　　　　　　　　　　　　　　　　　　　　　　　　　"]
[null,null,3,null,4,"◎",9,8,null,2,"✽",null,null,"残されたマス✽マークの部分に５が入ることが分かります。 　　　　　　　　　　　　　　　　　　　　　　　　　　　　　　　　　　　　　　　　　　　　　　　　　　　　　　　　　　　　　　　　　　"]
[null,null,null,4,2,9,null,null,"◎",3,"◎",null,null,"５に決まりです。　       　　　　　　　　　　　　　　　　　　　　　　　　　　　　　　　　　　　　　　　　　　　　　　　　　　　　　　　　　　　　　　　　　　"]
[null,null,null,1,5,null,null,3,4,9,2]
[null,null,9,3,null,null,2,4,"◎","◎",1]
[]
[]
[]
[]
[]
[null,null,8,null,4,9,null,null,null,3,null,null,"⑦"]
[null,null,null,null,1,null,null,null,null,null,7,null,null,"✽マークの赤色で示されるマスには、４が入ります。　　　　　　　　　　　　　　　　　　　　　　　　　　　　　　　　　　　　　　　　　　　　　　　　　"]
[null,null,null,9,null,null,null,4,null,null,null,null,null,"(解説)"]
[null,null,3,null,9,6,null,1,2,null,8,null,null,"◎マークの緑色部分の２つのマスには、７，８がどちらかに入ります。　　　　　　　　　　　　　　　　　　　　　　　　　　　　　　　　　　　　　　　　　　　　　　　　　　　　　　　　　　　　　　"]
[null,"⑦",null,null,8,null,9,null,null,null,null,null,null,"紫色のマスには、４が入りません。　　　　　　　　　　　　　　　　　　　　　　　　　　　　　　　　　　　　　　　　　　　　　　　　　　　　　　　　　　　　"]
[null,null,1,null,2,null,null,5,null,null,4,null,null,"残されたマス✽マークの部分に４が入ることが分かります。　　   　　　　　　　　　　　　　　　　　　　　　　　　　　　　　　　　　　　　　　　　　　　　　　　　　　　　　　　　　　　　　　"]
[null,null,null,null,null,3,"✽",null,"◎",6,null,null,null,"即ち✽マークの部分は、４で決まりです。　　　　　　　　　　　　　　　　　　　　　　　　　　　　　　　　　　　　　　　　　　　　　　　　　　　　　　　　　　　　　　　　"]
[null,null,4,null,null,null,null,null,5,"◎"]
[null,null,null,8,null,null,null,7,null,null,1]
[]
[]
[]
[]
[]
[null,null,4,null,null,2,null,null,null,null,null,null,"⑧"]
[null,null,null,8,null,null,3,null,1,null,2,null,null,"✽マークの赤色で示されるマスには、８が入ります。　　　　　　　　　　　　　　　　　　　　　　　　　　　　　　　　　　　　　　　　　　　　　　　　　　　　　　　"]
[null,null,2,6,null,null,null,7,null,null,3,null,null,"(解説)"]
[null,null,null,"◎",9,null,null,8,null,2,null,null,null,"◎マークの緑色部分には４，７がどちらかに入ります。　　　 　　　　　　　　　　　　　　　　　　　　　　　　　　　　　　　　　　　　　　　　　　　　　　　　　　　　　　　　　"]
[null,"⑧",6,2,"◎",null,null,null,"✽",null,5,null,null,"紫色のマスには、８が入りません。　　　　　　　　　　　　　　　　　　　　　　　　　　　　　　　　　　　　　　　　　　　　　　　　　　　　　　　　　　　　　　　　"]
[null,null,null,1,null,7,null,null,4,null,null,null,null,"残りのマス✽マークの赤色部分に８が入ります。　　　　　 　　　　　　　　　　　　　　　　　　　　　　　　　　　　　　　　　　　　　　　　　　　　　　　　　　　　　　　　　　　　　　　"]
[null,null,7,null,null,9,null,null,null,8,4,null,null,"８に決まりです。　　　　　　　　　　　　　　　　　　　　　　　　　　　　　　　　　　　　　　　　　　　　　　　　　　　　　　　　　　　　　　　　"]
[null,null,null,null,2,null,4,null,null,6]
[null,null,null,null,null,null,7,5,2,null,9]
[]
[]
[]
[]
[]
[null,null,4,null,null,2,null,null,6,null,8,null,"⑨"]
[null,null,null,8,null,null,3,null,1,null,2,null,null,"✽マークの赤色で示されるマスには、６が入ります。"]
[null,null,2,6,null,null,8,7,9,null,3,null,null,"(解説)"]
[null,"⑨",null,null,9,null,null,8,null,2,null,null,null,"◎マークの２つのマス緑色部分に、３，５がどちらかに入ります。　"]
[null,null,6,2,null,null,null,null,8,null,5,null,null,"◆マークの青色部分には、１がどちらかに入ります。　"]
[null,null,null,1,null,7,null,null,4,null,6,null,null,"7行目と、3列目と、左下のブロック内で考えますと、"]
[null,null,7,"◎","✽",9,"◆","◆","◎",8,4,null,null,"これらの数値（１，３，５、６）を含めて、１～９迄の一連番号が成立します。　"]
[null,null,null,null,2,null,4,null,null,6,null,null,null,"成立することで、６が入る事が確定します。　"]
[null,null,null,null,null,null,7,5,2,null,9,null,null,"６に決まりです。　　　　　　　　　　　　　　　　　　　　　　　　　　　　　　　　　　　　　　　　　　　　　　　　　　　　　　　　　　　　　　　　"]
[]
[]
[]
[]
[null,null,null,6,null,2,null,null,null,null,null,null,"⑩"]
[null,null,null,null,5,null,null,6,2,null,null,null,null,"✽マークの赤色で示されるマスには、４が入ります。　　　　　　　　　　　　　　　　　　　　　　　　　　　　　　　　　　　　　　　　"]
[null,null,2,8,"✽",null,9,3,6,"✽",1,null,null,"✽マークの赤色で示されるマスには、７が入ります。　　　　　　　　　　　　　　　　　　　　　　　　　　　　　　　　　　　　　　　　　　　　　　　　"]
[null,null,3,2,null,8,null,null,null,6,null,null,null,"(解説)"]
[null,"⑩","◎",null,null,null,2,null,null,null,null,null,null,"◎マークの緑色部分に５，８がどちらかに入ります。　　　　　　　　　　　　　　　　　　　　　　　　　　　　　　　　　　　　　　　　　　　　　　　　　　　　　"]
[null,null,"◎",4,null,null,3,9,null,2,7,null,null,"橙色のマスに７は、入らない為、左上の紫色で示される２つのマスには　　　　　　　　　　　　　　　　　　　　　　　　　　　　　　　　　　　　　　　　　　　　　　　　　　　　"]
[null,null,1,5,8,3,6,2,null,null,null,null,null,"７がどちらかに入ります。　　左上の✽マークのマスには４，７が選べますが、　　　　　　　　　　　　　　　　　　　　　　　　　　　　　　　　　　　　　　　　　　　　　　　　　　　　"]
[null,null,null,null,2,7,null,null,5,null,6,null,null,"その７が排除できます。　残り４に決まりです。　３行目青色のマスに７は　　　　　　　　　　　　　　　　　　　　　　　　　　　　　　　　　　　　　　　　　　　　　　　　　　　　　　"]
[null,null,6,null,null,9,null,5,null,8,2,null,null,"入りません。　　右の✽マークのマスには７が単独になり７が決まります。　　　　　　　　　　　　　　　　　　　　　　　　　　　　　　　　　　　　　　　　　　　　　　　　　　　　　　　　　　　　"]
[]
[]
[]
[null,null,null,null,null,5,null,null,4,9,2,null,"⑪"]
[null,null,null,null,9,null,1,null,null,null,null,null,null,"✽マークの赤色で示されるマスには、１が入ります。　　　　　　　　　　　　　　　　　　　　　　　　　　　　　　　　　　　　　　　　　　　　　　　　　"]
[null,"⑪",null,8,null,9,null,null,1,null,7,null,null,"✽マークの青色で示されるマスには、９が入ります。　　　　　　　　　　　　　　　　　　　　　　　　　　　　　　　　　　　　　　　　　　　　　　　　　"]
[null,null,7,"✽",5,8,6,2,null,"✽",4,null,null,"(解説)"]
[null,null,null,3,null,1,4,9,7,6,5,null,null,"◎マークの緑色部分に３，８がどちらかに入ります。左下のブロックで１の入る　　　　　　　　　　　　　　　　　　　　　　　　　　　　　　　　　　　　　　　　　　　　　　　　　　　　"]
[null,null,null,null,null,3,7,5,null,null,8,null,null,"場所は橙色で部分になります。左中のブロックで１の入る場所は青色で　　　　　　　　　　　　　　　　　　　　　　　　　　　　　　　　　　　　　　　　　　　　　　　　　　　　　　"]
[null,null,9,null,7,null,null,null,null,4,null,null,null,"示された部分になります。右中のブロックで紫色のマスには１が入らない　　　　　　　　　　　　　　　　　　　　　　　　　　　　　　　　　　　　　　　　　　　　　　　　　"]
[null,null,"◎",null,"◎",null,9,null,5,null,null,null,null,"わけで、残りの✽マーク部分には１が入ります。１で決まりです。　　　　　　　　　　　　　　　　　　　　　　　　　　　　　　　　　　　　　　　　　　　　　　　"]
[null,null,4,null,6,null,null,1,null,null,9,null,null,"また✽マークの青色のマスは、１，９の数字が選択できるのですが、　　　　　　　　　　　　　　　　　　　　　　　　　　　　　　　　　　　　　　　　　　　　　　　　　　　"]
[null,null,null,null,null,null,null,null,null,null,null,null,null,"この列では、１は排除できるのです。　　残り９が決まりです。　　　　　　　　　　　　　　　　　　　　　　　　　　　　　　　　　　　　　　　　　　　　　　　　　　　　　　　　"]
[]
[]
[]
[null,null,null,null,1,3,null,5,7,null,null,null,"⑫"]
[null,null,null,6,"✽",null,null,null,5,3,null,null,null,"✽マークの赤色で示されるマスには、２が入ります。　　　　　　　　　　　　　　　　　　　　　　　　　　　　　"]
[null,"⑫",5,"◎","◎",4,null,8,null,null,null,null,null,"(解説)"]
[null,null,2,null,null,null,7,4,1,null,null,null,null,"橙色のマスには７がどちらかに入ります。　　"]
[null,null,null,9,null,null,5,null,3,4,null,null,null,"◎マークの緑色部分には３，７がどちらかに入ります。　 　"]
[null,null,null,null,4,null,3,9,null,null,5,null,null,"左上のブロックで考えますと、紫色のマスには２が入らないわけで、　　　　　　　　　　　　　　　　　　　　　　　　　　　　　　　　　　　　　"]
[null,null,null,null,null,9,null,6,null,null,3,null,null,"２の入る場所は、✽マーク部分に示されるマスになります。　　　　　　　　　　　　　　　　　　　　　　　　　　　　　　　　　　　　　　　　　　"]
[null,null,null,2,null,null,null,null,null,5,null,null,null,"✽マーク部分は２で決まりです。　　　　　　　　　　　　　　　　　　　　　　　　　　　　　　　　　　　　　　　　"]
[null,null,null,null,8,5,null,null,4]
[]
[]
[]
[null,null,5,6,null,"◆",null,"◆",null,7,null,null,"⑬"]
[null,null,7,null,null,5,null,1,null,9,6,null,null,"✽マークの赤色で示されるマスには、４が入ります。　　　　　　　　　　　　　　　　"]
[null,null,1,"◎",9,"▲",7,"▲",5,3,"◎",null,null,"(解説)"]
[null,null,null,1,null,null,null,null,3,4,null,null,null,"◎マークの緑色部分には４，８がどちらかに入ります。　　　　　　　　　　　　　"]
[null,"⑬",null,2,5,3,8,null,7,null,null,null,null,"▲マークの橙色部分には２，６がどちらかに入ります。　　　　　　　　　　　　　　"]
[null,null,null,3,null,null,null,null,null,2,null,null,null,"◆マークの青色部分には８，９がどちらかに入ります。　　　　　　　　　　　　　　"]
[null,null,2,7,1,null,9,null,4,5,3,null,null,"☓マークの灰色部分には１，６がどちらかに入ります。　　　　　　　　　　　　　　"]
[null,null,8,5,"✽",7,"☂",3,9,"☓",2,null,null,"紫色部分には４がどちらかに入ります。　　　　　　　　　　　　　　　　　　　　　　"]
[null,null,3,9,null,null,null,null,"☓",8,7,null,null,"☂マーク部分には４が入らないわけで、✽マーク部分に４が入ることが　　　　　　　　　　　　　　　　　　　　　　　　　　　　　　　　　　"]
[null,null,null,null,null,null,null,null,null,null,null,null,null,"解ります。　　　　　✽マーク部分は４で決まりです。　　　　　　　　　　　　　　　　　　　　　　　　　　　　　　　　　　　　　　"]
[]
[]
[null,null,null,null,null,null,null,6,null,2,null,null,"⑭"]
[null,null,8,null,null,null,2,null,null,null,3,null,null,"✽マークの赤色で示されるマスには、５が入ります。　　　　　　　　　　　　　　　　　　　　　　　　　"]
[null,"⑭",2,4,5,null,null,3,null,null,null,null,null,"(解説)"]
[null,null,null,null,2,4,3,"✽",8,6,null,null,null,"▲マークの橙色部分には６がどちらかに入ります。　　　　　　　　　　　　　　　"]
[null,null,9,null,null,"◎",null,null,null,3,5,null,null,"◎マークの緑色部分には２，６がどちらかに入ります。　"]
[null,null,null,3,8,"◎",null,1,null,null,null,null,null,"紫色部分には５は入りません。　"]
[null,null,null,null,null,1,"▲",2,3,8,null,null,null,"即ち、✽マーク部分に５が入ることが分かります。　                        　        　　　　　　　　　　　　　　　　　　　　　　　　　　　　　　　　　　　　　　　"]
[null,null,1,8,null,3,5,null,null,null,2,null,null,"✽マーク部分は５で決まりです。　　　　　　　　　　　　　　　　　　　　　　　　　　　　　　　　　　　　　　"]
[null,null,null,2,null,9,"▲"]
[]
[]
[]
[null,null,null,null,3,4,6,null,null,null,null,null,"⑮"]
[null,null,null,8,null,null,null,null,null,null,4,null,null,"✽マークの赤色で示されるマスには、８が入ります。　　　　　　　　　　　　　　　　　　　　　　"]
[null,null,7,null,null,null,null,3,null,6,null,null,null,"(解説)"]
[null,"⑮",2,null,null,null,null,1,6,null,null,null,null,"◎マークの緑色部分に４，６は、入りません。　　"]
[null,null,null,6,null,null,2,null,null,5,null,null,null,"▲マークの橙色部分に４、６がどちらかに入ります。　　　　　　　　　　　　　"]
[null,null,null,null,1,7,null,6,null,null,3,null,null,"紫色部分のマスには、８が入らないことが分かります。　　　　　　　　　　　　　　　　　　　　　　　　　　　　　　　　　　　　　　"]
[null,null,"▲",2,"▲",9,"◎","◎","◎","◎",7,null,null,"✽マーク部分に８が入ることになります。　　　　　　　　　　　　　　　　　　　　　　　　　　　　　　　　　　　　　　　　　　　　　　　"]
[null,null,5,null,"✽",null,null,null,null,4,null,null,null,"✽マーク部分に８が入ることになります。　　　　　　　　　　　　　　　　　　　　　　　　　　　　　　　　　　　　　　　　　　　　　　　"]
[null,null,null,null,null,null,3,4,8,null,null,null,null,"✽マーク部分は８で決まりです。　　　　　　　　　　　　　　　　　　　　　　　　　　　　　　　　　　　　　　"]
[]
[]
[]
[null,null,3,null,null,2,null,9,"◎","◎","▲",null,"⑯"]
[null,null,null,null,null,null,null,null,9,2,"▲",null,null,"✽マークの赤色で示されるマスには、８が入ります。　　　　　　　　　　　　　　　　　　　"]
[null,null,null,null,8,null,5,null,4,6,"▲",null,null,"(解説)"]
[null,null,7,null,null,4,9,null,null,null,2,null,null,"◎マークの緑色部分には、１，５がどちらかに入ります。　　　　　　　　　"]
[null,"⑯",null,null,null,8,null,5,null,null,null,null,null,"７は、▲マークの橙色部分のいずれかに入ります。　　　　　　　　　　　　　　　　　　　　　　　　　　　　　　　　　　　　　　"]
[null,null,6,null,null,null,7,2,null,null,5,null,null,"８も、▲マークの橙色部分の上2段のどちらかに入ります。　　　　　　　　　　　"]
[null,null,5,4,1,null,null,null,2,3,null,null,null,"７は、◆マークの青色部分のいずれかに入ります。　　　　　　　　　　　　　　　　　　　"]
[null,null,"✽",3,6,null,null,null,"☓","☓",null,null,null,"上記の条件で、☓マークの灰色部分には５と７がどちらかに入ります。　　　　　　　　　　　　　　　　　　　　　　　"]
[null,null,null,"◆","◆",5,null,3,"☂","☂",1,null,null,"☂マーク部分には８がどちらかに入ります。　　紫部分のマスには、８が入ら　　　　　　　　　　　　　　　　　　　　　　　　　　　　　　　　　　　　　"]
[null,null,null,null,null,null,null,null,null,null,null,null,null,"ないことが分かります。即ち、✽マーク部分に８が入ることになります。　　　　　　　　　　　　　　　　　　　　　　　　　　　　　　　　　　　　　　"]
[null,null,null,null,null,null,null,null,null,null,null,null,null,"✽マーク部分は８で決まりです。　　　　　　　　　　　　　　　　　　　　　　　　　　　　　　　　　　　　　　"]
[]
[]
[null,null,7,"◆",null,5,null,4,null,9,"◆",null,"⑰"]
[null,null,null,null,null,9,8,7,1,null,5,null,null,"✽マークの赤色で示されるマスには、４が入ります。　"]
[null,null,null,9,null,6,null,3,null,7,null,null,null,"(解説)"]
[null,null,null,"✽",9,null,7,2,6,5,8,null,null,"4角のマスに共通するものを考えます。　４つの◆マークの青色部分には、　　"]
[null,"⑰",6,5,null,8,3,9,null,2,null,null,null,"それぞれ、（３，６）、（３，６）、（２，３）、（１，２，３）の数字が選択できます。　　"]
[null,null,2,8,7,null,5,6,3,null,9,null,null,"共通する数字に３があります。　　３は対角線上でいずれかに入るわけで、　　"]
[null,null,null,1,null,2,null,8,null,null,null,null,null,"その行と列にある３は4つのマスを除いて排除できます。　　"]
[null,null,9,"◆",6,7,4,null,null,8,"◆",null,null,"✽マークの赤色部分には、３，４が選択できるわけですが、"]
[null,null,null,7,null,3,null,null,null,null,null,null,null,"その３が排除され４が確定します。　　　　"]
[null,null,null,null,null,null,null,null,null,null,null,null,null,"✽マーク部分は４で決まりです。　"]
[]
[]
[null,null,"◎",4,1,2,null,6,8,null,"◎",null,"⑱"]
[null,null,8,9,null,null,1,null,null,6,2,null,null,"✽マークの赤色で示されるマスには、５が入ります。　"]
[null,null,7,2,6,8,9,null,null,1,4,null,null,"(解説)"]
[null,null,6,5,null,null,null,2,null,8,1,null,null,"◎マークの緑色部分には、左上に３，５、左下に３，５、右上に５，９、右下に"]
[null,"⑱",9,3,null,6,null,1,2,5,7,null,null,"５，９のいずれかが入ります。　　"]
[null,null,2,1,null,null,"✽",null,null,3,6,null,null,"この４つのマスに共通している数字に５があります。　　"]
[null,null,4,8,null,null,6,null,1,2,3,null,null,"この４つのマスのいずれかに５が入ります。即ち、紫色のマスに５は、　"]
[null,null,1,6,null,null,2,null,null,null,8,null,null,"入りません。　また、青色のマスにも５は、入りません。　　　　　　　　　　　　　　　　　　　　　"]
[null,null,"◎",7,2,1,null,8,6,null,"◎",null,null,"残されたマス、✽マーク部分に５が確定します。　　　　　　　　　　　　　　　　　　　　　　　　　　　　　　　　　　　　　　　　　　　　　"]
[null,null,null,null,null,null,null,null,null,null,null,null,null,"✽マーク部分は５で決まりです。　　　　　　　　　　　　　　　　　　　　　"]
[]
[]
[null,null,8,null,"✽",null,7,null,3,null,5,null,"⑲"]
[null,null,null,9,null,null,1,null,null,6,null,null,null,"✽マークの赤色で示されるマスには、６が入ります。　"]
[null,null,null,null,4,null,2,null,1,null,null,null,null,"(解説)"]
[null,null,null,4,8,1,9,7,6,null,null,null,null,"４行目と、２列目にある７，９の数値は、紫色のマスに入りません。　　　　　　　"]
[null,"⑲",1,null,"◎",null,null,null,null,null,8,null,null,"◎マークのマスの緑色部分に、７，９がどちらかに入ります。　　　　　　　　　　"]
[null,null,"◎",null,3,5,null,8,null,1,null,null,null,"青色のマスに６は、入りません。　　"]
[null,null,4,null,null,null,3,null,2,null,null,null,null,"残り✽マーク部分に６が入ることが確定します。　　"]
[null,null,null,7,null,null,8,null,null,4,null,null,null,"✽マーク部分は６で決まりです。"]
[null,null,6,null,2,null,5,null,null,null,1]
[]
[]
[]
[null,null,1,9,7,null,null,3,6,5,2,null,"⑳"]
[null,null,4,5,3,2,7,6,1,8,9,null,null,"✽マークの赤色で示されるマスには、６が入ります。"]
[null,null,null,null,null,5,1,9,3,4,7,null,null,"(解説)"]
[null,"⑳",null,null,null,null,null,8,9,7,null,null,null,"４行目と、２列目にある８，９の数値は、紫色のマスには入りません。　　　　　"]
[null,null,7,null,"◎",null,null,null,null,null,null,null,null,"◎マークの２つのマス緑色部分に、８，９がどちらかに入ります。　　　　　　　　"]
[null,null,"◎",3,4,7,null,null,null,"✽",null,null,null,"青色のマスに６は入りません。　　"]
[null,null,null,7,null,3,6,4,null,null,null,null,null,"残されたマス✽マーク部分に６が入る事が確定します。　"]
[null,null,3,8,6,1,2,7,null,9,null,null,null,"✽マーク部分は６で決まりです。"]
[null,null,2,4,1,null,null,5,7,3,6]
[]
[]
[]
[]
[null,null,null,4,null,null,2,6,"▲","▲",null,null,"〔２１〕"]
[null,null,1,2,"✽",null,null,null,3,"◎",null,null,null,"✽マークの赤色で示されるマスには、５が入ります。　　　　　　　　　　　　　　　　　　　　　　　　　　　　　　　　　　　　　　　　　　　　　　"]
[null,null,null,null,8,5,null,null,"◎",2,null,null,null,"(解説)"]
[null,null,2,null,4,null,null,null,null,null,5,null,null,"４，６の数字に注目します。　　　　　　　　　　　　　　　　　　　　　　　　　　　　　　　　　　　　　　　　　　　　　　　　　　　　　　　　　　　　　"]
[null,"〔２１〕",3,null,null,null,8,null,null,null,4,null,null,"１行目と９列目にある４，６の数値が、右上のブロックの中で考えますと、　　　　　　　　　　　　　　　　　　　　　　　　　　　　　　　　　　　　　　　　　　　　　　　　　　　　　　　　"]
[null,null,7,null,null,null,null,null,9,null,null,null,null,"◎マークの緑色部分に４，６がどちらかに入ります。　　　　　　　　　　　　　　　　"]
[null,null,null,1,null,null,null,3,7,null,null,null,null,"また、▲マーク部分には５がどちらかに入ります。   　　　　　　　　　　　　　　　　　　　　　　　　　　　　　　　　　　　　　　　　　　　　　　　　　　　　　　　　　　　　　"]
[null,null,null,null,2,null,null,null,null,null,6,null,null,"左上のブロックで考えますと、紫色のマスには５が入らないわけで、　　　　　　　　　　　　　　　　　　　　　　　　　　　　　　　　　　　　　　　　　　　　　　　　　　　　　　　　"]
[null,null,null,null,null,1,9,null,null,8,null,null,null,"✽マーク部分に５が入ります。　５に決まりです。　　　　　　　　　　　　　　　　　　　　　　　　　　　　　　　　　　　　　　　　　　　　　　　　　　　　　　　　　　　　　　"]
[]
[]
[]
[null,null,8,null,null,"◎",6,4,2,null,5,null,"〔２２〕"]
[null,null,null,2,null,"◎",5,7,null,8,null,null,null,"✽マークの赤色で示されるマスには、７が入ります。　　　　　　　　　　　　　　　　　　　　　　　　　　　　　　　　　　　　　　　　　　　　　　"]
[null,null,null,null,null,"◎",2,8,null,4,null,null,null,"(解説)"]
[null,null,null,3,1,null,null,null,5,null,null,null,null,"◎マークの３つの緑色部分のマスには、１，３，９の数字が３つのマスのいず"]
[null,"〔２２〕",2,null,8,"✽",null,null,6,null,3,null,null,"れかに入ることが分かります。　縦列と横列を見ますと、　　　　　　　　　　　　　　　　　　　　　　　　　　"]
[null,null,null,null,null,null,null,null,4,2,null,null,null,"１～９迄の一連の数字が成り立つことが分かります。　　　　　　　　　　　　　　　　　　　　　　　　　　"]
[null,null,null,null,null,5,8,null,null,null,null,null,null,"✽マーク部分に７が入ります。　　７に決まりです。　　　　　　　　　　　　　　　　　　　　　　"]
[null,null,null,9,null,4,null,null,8,5,null,null,null,"　　　　　　　　　　　　　　　　　　　　　　　　　　　　"]
[null,null,1,8,5,null,9,null,null,null,4]

{"sheet":"数独問題を解く","index":1,"n_rows":61,"n_cols":11,"rows_kept":61,"cut":false,"hidden":false,"merged":[[1,3,1,9],[23,1,23,11],[24,2,24,4],[25,3,25,18],[18,0,19,0],[26,3,27,18],[28,3,29,18],[30,3,32,18],[50,8,50,9]]}
["ランク"]
["普通",null,null,"数独問題を解く"]
[]
[]
[null,null,null,null,4,9,null,5,null,null,6]
[]
[null,null,7,8,null,null,1,null,null,5]
[]
[null,null,3,null,5,null,null,null,7,null,4]
[]
[null,null,null,null,9,3,null,null,null,null,5]
[]
[null,null,null,6,null,null,2,null,null,3]
[]
[null,null,5,null,1,8,null,7,6,null,2]
["選択数字切り替え"]
["１～９まで表示",null,9,7,null,1,null,null,5,null,8]
[]
["作品番号",null,null,5,null,null,9,null,null,2]
[]
[5,null,4,null,3,2,null,8,null,null,7]
[]
[]
[null,"”数独問題に挑戦 ”"]
[null,null,"操作方法"]
[null,null,"①","”数独問題を解く”の中の数字を選択するマスは２つの部分に分かれています。上部分と主体部分です。主体部分のセルをクリックすると、▼マークのボタンが表示されます。更に▼マークのボタンをクリックすると、反転し数字を選ぶことができます。　この選択できる数字の表示方法についても、左端の　”選択数字切り替え”　の値を変えることで　”絞り込み表示”　と　”１～９までの表示”を選ぶことができます。　上部分のセルはメモ欄です。　　任意の数字あるいは文字を手入力することができます。　手入力された後、主体部分に確定の数値が選択され入力されますと、上部分に入力されたメモは自動的に削除されます。　目的は数独の難問クラスになりますと数独問題を解く過程で一時的に数字をメモし数独を解くのに利用できからであり手助けになるからです。"]
[null,null,"②","数独ルールに従い入力し、途中の結果を知りたい、又は最終の結果を知りたいという時は、　　　　”数独の途中、又は最終の解答結果を調べる”　ボタンをクリックすると、解答が得られます。　　　　最終の解答結果で正解が出た時は、アニメーションが表示されます。　又、不正解の時は、対象セルが赤色で表示されます。　　　数独ルールについては、別シートを参照して下さい。　　　　また　解き方の手順を知りたい場合、又は正解を知りたい場合は、　別シート　”数独問題の正解を得る”でこの問題を数独作品集より再び呼び込み実行して下さい。"]
[]
[null,null,"③","新しい数独問題を取り込みたい時は、　”数独問題を数独作品集より、取り込む”　ボタンをクリックすると、別の数独問題が得られます。　　　　　　　　　　　　　　　　　　　　　　　　　　　　　　　　　　　　　　"]
[]
[null,null,"④","新聞、雑誌等に記載されている数独問題を直接入力する場合は、数独問題として入力が終了したあと、一旦　”数独問題の途中、又は最終の解答結果を調べる”　ボタンをクリックし、数独問題として認識させて下さい。　その結果、途中入力の正解、不正解の区別が出来るようになります。　又、別な方法としては、直接数独作品集シートに数独問題を登録し、”数独作品集より取り込む”　ボタンで呼び出して下さい。"]
[]
[]
[]
[]
[]
[]
[]
[]
[]
[]
[]
[]
[]
[]
[]
[]
[]
[]
[]
[null,null,"数",null,"切り替え",null,null,null,"方向"]
[null,null,null,null,"絞り込み表示",null,null,null,"角度","ラジアン"]
[null,null,1,null,"１～９まで表示",null,null,null,10.406476974487305,{"$f":"RADIANS(I53)","v":0.18162728673778142}]
[null,null,2,null,null,null,null,null,"ボール方向計算"]
[null,null,3,null,null,null,null,null,"Sin",{"$f":"SIN(J53)","v":0.1806303314718947}]
[null,null,4,null,null,null,null,null,"Cos",{"$f":"COS(J53)","v":0.98355105782686925}]
[null,null,5]
[null,null,6]
[null,null,7]
[null,null,8]
[null,null,9]

{"sheet":"数独問題の正解を得る","index":2,"n_rows":28,"n_cols":13,"rows_kept":28,"cut":false,"hidden":false,"merged":[[0,1,0,9],[13,1,13,9],[3,12,3,15],[10,12,11,17],[15,12,15,15],[0,10,0,18],[6,12,7,17],[4,12,5,17],[8,12,9,17],[26,1,26,3],[24,12,25,17],[16,11,17,11],[18,11,21,11],[16,12,17,17],[18,12,19,17],[25,1,25,3]]}
[null,"数独問題図",null,null,null,null,null,null,null,null,"”数独問題の正解を知りたい ”　　　　　　　　　　　　　　　　　　"]
[]
[]
[null,null,null,null,null,null,null,null,null,null,null,null,"操作手順"]
[null,null,null,null,null,null,null,null,null,null,null,"①","左図の数独問題図に数字を入力し　（セルをクリックすると反転する）、　　上段の　”数独を解く開始”　ボタンを　クリックすることにより、　下図の数独正解図に結果が表示されます。"]
[]
[null,null,null,null,null,null,null,null,null,null,null,"②","下段の　”数独問題図をクリアする”　　ボタンをクリックすることにより、数字がクリアされます。"]
[]
[null,null,null,null,null,null,null,null,null,null,null,"③","左図の数独問題図を下段の　”数独問題を数独作品集に登録する”　ボタンをクリックことにより、数独作品集に登録することができます。"]
[]
[null,null,null,null,null,null,null,null,null,null,null,"④","下段の　”数独問題を数独作品集より取り込む”　ボタンをクリックすると、数独問題の取り込みができます。"]
[]
[]
[null,"数独正解図"]
[]
[null,null,null,null,null,null,null,null,null,null,{"$f":"SUM(B16:J16)","v":0},null,"数独（すうどく） ルール"]
[null,null,null,null,null,null,null,null,null,null,0,"①","空いているマスに、１から９までの数字のどれかを入れます。"]
[null,null,null,null,null,null,null,null,null,null,0]
[null,null,null,null,null,null,null,null,null,null,0,"②","タテ列（９列あります）、ヨコ列（９列あります）、２重線で囲まれた３Ｘ３のブロック（それぞれ９マスあるブロックが９つあります）のどれにも１から９までの数字が１ずつはいります。"]
[null,null,null,null,null,null,null,null,null,null,0]
[null,null,null,null,null,null,null,null,null,null,0]
[null,null,null,null,null,null,null,null,null,null,0]
[null,null,null,null,null,null,null,null,null,null,0]
[null,null,null,null,null,null,null,null,null,null,0]
[null,{"$f":"SUM(B16:B24)","v":0},0,0,0,0,0,0,0,0,{"$f":"SUM(J28:K28)","v":0},null,"数独問題の解き方を知りたい場合は、”数独解読図”シートに、　数独の解き方を段階的に示した過程が表示されます。"]
[null,"ランク"]
[]
[null,null,null,null,null,null,null,null,null,{"$f":"COUNTIF(B25:J25,45)","v":0},{"$f":"COUNTIF(K16:K24,45)","v":0}]

{"sheet":"数独解読図","index":3,"n_rows":132,"n_cols":17,"rows_kept":132,"cut":false,"hidden":false,"merged":[[1,11,1,18],[2,11,3,11],[2,12,3,18],[0,4,0,15],[45,2,45,4],[4,11,5,11],[6,11,7,11],[8,11,10,11],[4,12,5,18],[6,12,7,18],[8,12,10,18],[23,2,23,4],[34,2,34,4],[12,2,12,4],[56,2,56,4],[67,2,67,4],[78,2,78,4],[89,2,89,4],[1,2,1,5],[59,12,59,14],[59,16,59,18],[63,12,63,14],[111,2,111,4],[122,2,122,4],[100,2,100,4]]}
[null,null,null,null,"数独問題の解き方を知りたい"]
[null,null,"数独問題図",null,null,null,null,null,null,null,null,"数　独　を　解　く　テ　ク　ニ　ッ　ク　で　解　決"]
[null,null,null,1,null,2,null,null,null,9,null,1,"数独の解き方は、！問題を解くテクニック編！　シートを参照して下さい。　　　　 このシートの　！テクニック解説！　ボタンをクリックすると表示されます。"]
[null,null,null,7,null,5,null,null,null,3]
[null,null,null,2,7,null,null,4,null,null,null,2,"数独の解き方の方法は、他にもありますが、ここでは１つの方法だけを表記します。"]
[null,null,2,null,6,null,null,null,null,8]
[null,9,4,null,null,8,null,null,3,null,null,3,"第？順目で順回する基準は、順回前の数独問題図で問題が解けると考えられる全てが埋まった時を１順目としています。"]
[null,1,null,null,null,null,5,6]
[null,null,5,null,3,null,null,2,9,null,null,4,"網目状で示されるマスの中にある数値は、難問解決のヒントとして、そのマスに予約済の数値が入る事を意味します。　　 又、1つのマスに２つの数値が表示されるのは、そのマスが２つの数値に限定できることを意味します。"]
[null,7,null,null,null,null,8]
[null,null,6,null,null,null,4,null,null,1]
[]
[null,null,"第１順目の解読図"]
[null,null,null,1,null,2,null,null,null,9]
[null,null,null,7,null,5,null,null,2,3,null,2,"は①番で解決"]
[null,null,null,2,7,null,null,4]
[null,null,2,null,6,null,null,9,null,8,null,9,"は①番で解決"]
[null,9,4,6,null,8,2,null,3,null,null,6,"は③番で解決",2,"は③番で解決"]
[null,1,7,null,null,null,5,6,null,null,null,7,"は①番で解決"]
[null,null,5,null,3,null,null,2,9]
[null,7,1,null,2,null,8,null,null,null,null,1,"は①番で解決",2,"は③番で解決"]
[null,2,6,null,null,null,4,null,null,1,null,2,"は①番で解決"]
[]
[null,null,"第2順目の解読図"]
[null,null,null,1,null,2,null,null,null,9]
[null,null,null,7,null,5,null,null,2,3]
[null,null,null,2,7,null,null,4]
[null,null,2,5,6,null,null,9,null,8,null,5,"は③番で解決"]
[null,9,4,6,1,8,2,null,3,null,null,1,"は④番で解決"]
[null,1,7,8,null,null,5,6,4,2,null,8,"は①番で解決",4,"は④番で解決",2,"は②番で解決"]
[null,null,5,null,3,null,null,2,9]
[null,7,1,null,2,null,8]
[null,2,6,null,5,null,4,null,null,1,null,5,"は①番で解決"]
[]
[null,null,"第3順目の解読図"]
[null,null,null,1,null,2,null,null,null,9]
[null,null,null,7,null,5,null,1,2,3,null,1,"は②番で解決"]
[null,null,null,2,7,null,null,4]
[null,3,2,5,6,4,null,9,1,8,null,3,"は①番で解決",4,"は③番で解決",1,"は①番で解決"]
[null,9,4,6,1,8,2,null,3]
[null,1,7,8,9,3,5,6,4,2,null,9,"は④番で解決",3,"は②番で解決"]
[null,8,5,4,3,null,null,2,9,null,null,8,"は②番で解決",4,"は④番で解決"]
[null,7,1,null,2,null,8]
[null,2,6,null,5,null,4,null,null,1]
[]
[null,null,"第4順目の解読図"]
[null,null,null,1,null,2,null,null,null,9]
[null,null,null,7,null,5,null,1,2,3]
[null,null,null,2,7,null,null,4]
[null,3,2,5,6,4,7,9,1,8,null,7,"は④番で解決"]
[null,9,4,6,1,8,2,null,3]
[null,1,7,8,9,3,5,6,4,2]
[null,8,5,4,3,null,null,2,9]
[null,7,1,null,2,null,8,null,null,4,null,4,"は②番で解決"]
[null,2,6,null,5,null,4,null,null,1]
[]
[null,null,"第5順目の解読図"]
[null,5,null,1,"4,8",2,null,7,7,9]
[null,null,9,7,"4,8",5,9,1,2,3]
[null,"5,6","3,9",2,7,1,"3,9",4,8,"5,6",null,1,"は難解番で解決",null,null,8,"は難解番で解決"]
[null,3,2,5,6,4,7,9,1,8]
[null,9,4,6,1,8,2,"5,7",3,"5,7"]
[null,1,7,8,9,3,5,6,4,2]
[null,8,5,4,3,null,1,2,9,null,null,1,"は難解番で解決"]
[null,7,1,"3,9",2,null,8,null,null,4]
[null,2,6,"3,9",5,null,4,8,8,1]
[]
[null,null,"第6順目の解読図"]
[null,null,null,1,null,2,null,null,null,9]
[null,null,null,7,null,5,null,1,2,3]
[null,null,null,2,7,1,null,4,8]
[null,3,2,5,6,4,7,9,1,8]
[null,9,4,6,1,8,2,null,3]
[null,1,7,8,9,3,5,6,4,2]
[null,8,5,4,3,null,1,2,9]
[null,7,1,null,2,null,8,null,null,4]
[null,2,6,null,5,null,4,8,7,1,null,8,"は②番で解決",7,"は④番で解決"]
[]
[null,null,"第7順目の解読図"]
[null,null,null,1,null,2,null,7,null,9,null,7,"は②番で解決"]
[null,null,null,7,null,5,null,1,2,3]
[null,null,null,2,7,1,null,4,8]
[null,3,2,5,6,4,7,9,1,8]
[null,9,4,6,1,8,2,null,3,7,null,7,"は③番で解決"]
[null,1,7,8,9,3,5,6,4,2]
[null,8,5,4,3,7,1,2,9,6,null,7,"は②番で解決",6,"は④番で解決"]
[null,7,1,null,2,null,8,3,null,4,null,3,"は①番で解決"]
[null,2,6,3,5,9,4,8,7,1,null,3,"は②番で解決",9,"は④番で解決"]
[]
[null,null,"第8順目の解読図"]
[null,null,null,1,null,2,null,7,6,9,null,6,"は①番で解決"]
[null,null,null,7,null,5,null,1,2,3]
[null,null,null,2,7,1,null,4,8,5,null,5,"は④番で解決"]
[null,3,2,5,6,4,7,9,1,8]
[null,9,4,6,1,8,2,5,3,7,null,5,"は④番で解決"]
[null,1,7,8,9,3,5,6,4,2]
[null,8,5,4,3,7,1,2,9,6]
[null,7,1,9,2,6,8,3,5,4,null,9,"は④番で解決",6,"は④番で解決",5,"は④番で解決"]
[null,2,6,3,5,9,4,8,7,1]
[]
[null,null,"第9順目の解読図"]
[null,5,null,1,null,2,3,7,6,9,null,5,"は②番で解決",3,"は④番で解決"]
[null,null,null,7,null,5,null,1,2,3]
[null,6,null,2,7,1,null,4,8,5,null,6,"は④番で解決"]
[null,3,2,5,6,4,7,9,1,8]
[null,9,4,6,1,8,2,5,3,7]
[null,1,7,8,9,3,5,6,4,2]
[null,8,5,4,3,7,1,2,9,6]
[null,7,1,9,2,6,8,3,5,4]
[null,2,6,3,5,9,4,8,7,1]
[]
[null,null,"第10順目の解読図"]
[null,5,8,1,4,2,3,7,6,9,null,8,"は④番で解決",4,"は②番で解決"]
[null,4,null,7,null,5,6,1,2,3,null,4,"は④番で解決",6,"は②番で解決"]
[null,6,3,2,7,1,9,4,8,5,null,3,"は②番で解決",9,"は④番で解決"]
[null,3,2,5,6,4,7,9,1,8]
[null,9,4,6,1,8,2,5,3,7]
[null,1,7,8,9,3,5,6,4,2]
[null,8,5,4,3,7,1,2,9,6]
[null,7,1,9,2,6,8,3,5,4]
[null,2,6,3,5,9,4,8,7,1]
[]
[null,null,"第11順目の解読図"]
[null,5,8,1,4,2,3,7,6,9]
[null,4,9,7,8,5,6,1,2,3,null,9,"は④番で解決",8,"は④番で解決"]
[null,6,3,2,7,1,9,4,8,5]
[null,3,2,5,6,4,7,9,1,8]
[null,9,4,6,1,8,2,5,3,7]
[null,1,7,8,9,3,5,6,4,2]
[null,8,5,4,3,7,1,2,9,6]
[null,7,1,9,2,6,8,3,5,4]
[null,2,6,3,5,9,4,8,7,1]

{"sheet":"数独問題を作成","index":4,"n_rows":14,"n_cols":13,"rows_kept":14,"cut":false,"hidden":true,"merged":[[1,2,1,10]]}
[]
[null,null,"数独完成図"]
[]
[null,null,5,8,1,4,2,3,7,6,9,{"$f":"SUM(C4:K4)","v":45}]
[null,null,4,9,7,8,5,6,1,2,3,45]
[null,null,6,3,2,7,1,9,4,8,5,45]
[null,null,3,2,5,6,4,7,9,1,8,45]
[null,null,9,4,6,1,8,2,5,3,7,45]
[null,null,1,7,8,9,3,5,6,4,2,45]
[null,null,8,5,4,3,7,1,2,9,6,45]
[null,null,7,1,9,2,6,8,3,5,4,45]
[null,null,2,6,3,5,9,4,8,7,1,45]
[null,null,{"$f":"SUM(C4:C12)","v":45},45,45,45,45,45,45,45,45,{"$f":"SUM(L14+M13)","v":18},{"$f":"COUNTIF(L4:L12,45)","v":9}]
[null,null,null,null,null,null,null,null,null,null,null,{"$f":"COUNTIF(C13:K13,45)","v":9}]

{"sheet":"数独問題を発生","index":5,"n_rows":53,"n_cols":25,"rows_kept":53,"cut":false,"hidden":true,"merged":[[52,2,52,4],[40,3,40,9],[51,2,51,4],[28,2,28,10],[48,13,49,23],[44,13,45,23],[46,13,47,23],[40,13,43,23],[33,13,33,14],[34,13,36,23],[37,13,39,23],[25,2,25,4],[1,2,1,10],[1,14,1,22],[0,1,0,11],[14,2,14,10],[25,5,25,7],[24,13,25,23],[0,12,0,24],[17,13,17,14],[18,13,19,23],[20,13,21,23],[22,13,23,23]]}
[null,"\" 数独問題を創りたい \"　",null,null,null,null,null,null,null,null,null,null,"作成方法には自動発生と手作りの２方法があります。"]
[null,null,"数独完成図",null,null,null,null,null,null,null,null,null,null,null,"数独計算過程図"]
[]
[null,null,5,8,1,4,2,3,7,6,9,{"$f":"SUM(C4:K4)","v":45},null,null,5,8,1,4,2,3,7,6,9,{"$f":"SUM(O4:W4)","v":45}]
[null,null,4,9,7,8,5,6,1,2,3,45,null,null,4,9,7,8,5,6,1,2,3,{"$f":"SUM(O5:W5)","v":45}]
[null,null,6,3,2,7,1,9,4,8,5,45,null,null,6,3,2,7,1,9,4,8,5,45]
[null,null,3,2,5,6,4,7,9,1,8,45,null,null,3,2,5,6,4,7,9,1,8,45]
[null,null,9,4,6,1,8,2,5,3,7,45,null,null,9,4,6,1,8,2,5,3,7,45]
[null,null,1,7,8,9,3,5,6,4,2,45,null,null,1,7,8,9,3,5,6,4,2,45]
[null,null,8,5,4,3,7,1,2,9,6,45,null,null,8,5,4,3,7,1,2,9,6,45]
[null,null,7,1,9,2,6,8,3,5,4,45,null,null,7,1,9,2,6,8,3,5,4,45]
[null,null,2,6,3,5,9,4,8,7,1,{"$f":"SUM(C12:K12)","v":45},null,null,2,6,3,5,9,4,8,7,1,45,{"$f":"COUNTIF(X4:X12,45)","v":9}]
[null,null,{"$f":"SUM(C4:C12)","v":45},45,45,45,45,45,45,45,45,null,null,null,{"$f":"SUM(O4:O12)","v":45},{"$f":"SUM(P4:P12)","v":45},45,45,45,45,45,45,45]
[null,null,null,null,null,null,null,null,null,null,null,null,null,null,null,null,null,null,null,null,null,null,{"$f":"COUNTIF(O13:W13,45)","v":9},null,{"$f":"SUM(Y12)+SUM(W14)","v":18}]
[null,null,"数独問題の数字決定図(自動）"]
[]
[null,null,null,null,1,null,2,null,null,null,9]
[null,null,null,null,7,null,5,null,null,null,3,null,null,"操作手順"]
[null,null,null,null,2,7,null,null,4,null,null,null,"①","ここでは、新しい数独問題を発生させることができます。　”数独完成図に１～９までの数字を発生させる”　ボタンをクリックすることにより、数独問題を発生させる元ができあがります。"]
[null,null,null,2,null,6,null,null,null,null,8]
[null,null,9,4,null,null,8,null,null,3,null,null,"②","”数独問題の数字配置を自動的に決める”　ボタンをクリックすることにより、新しい数独問題を発生させます。 上記の数独完成図を基本に数値が無作為に選択され、正解が出るまで続けられます。"]
[null,null,1,null,null,null,null,5,6]
[null,null,null,5,null,3,null,null,2,9,null,null,"③","完成した新しい数独問題を　”数独問題の数字決定を数独作品集に登録します”　ボタンをクリックすることにより、数独作品集に登録することができます。"]
[null,null,7,null,null,null,null,8]
[null,null,null,6,null,null,null,4,null,null,1,null,"④","”一環処理（１～９までの数字発生）⇒数独問題の数値配置を自動的に決める”ボタンをクリックしますと、①と②の処理を一括で行ないます。"]
[null,null,"ランク",null,null,"超難問"]
[]
[]
[null,null,"ご自身で数独問題を創作(手動)"]
[]
[null,null,null,null,1,null,2,null,null,null,9]
[null,null,null,null,7,null,5,null,null,null,3]
[null,null,null,null,2,7,null,null,4]
[null,null,null,2,null,6,null,null,null,null,8,null,null,"操作手順"]
[null,null,9,4,null,null,8,null,null,3,null,null,"①","ここでは、ご自身で手動操作により創作数独問題を作成することができます。　数独完成図に１～９までの数字を発生させ、これとリンクしてマスの裏面に数字が配置されています。マスをクリックすると反転し数字が配置されます。数字は最初多めで無作為に配置（３５個位）します。"]
[null,null,1,null,null,null,null,5,6]
[null,null,null,5,null,3,null,null,2,9]
[null,null,7,null,null,null,null,8,null,null,null,null,"②","”数独問題を創作するをチエックする”ボタンをクリックします。　正解が得られるまで数字の配置を変更し再度実行します。数字が多いほど正解の確立は高くなります。正解がでたら徐々に数字を減らし、正解が出るところまで続けます。創作数独問題の完成です。　数字をクリアしたい場合は、”Ｄｅｌｅｔｅ”　キー　を押しましょう。"]
[null,null,null,6,null,null,null,4,null,null,1]
[]
[null,null,null,"創作（手動）処理結果",null,null,null,null,null,null,null,null,null,"処理結果は下段の”創作（手動）処理結果”に表示されます。処理途中の経過表は”数独解読図”シートに表示されます。このシートを見ながら創作数独問題を完成させて行きます。　難問作成を目的とする場合は、余分な数字を削除しながら問題が成立するところまで数字を削除し続けます。　更に数値の配置を変えながら、正解が出るところまで続けます。"]
[null,null,5,8,1,4,2,3,7,6,9,{"$f":"SUM(C42:K42)","v":45}]
[null,null,4,9,7,8,5,6,1,2,3,{"$f":"SUM(C43:K43)","v":45}]
[null,null,6,3,2,7,1,9,4,8,5,45]
[null,null,3,2,5,6,4,7,9,1,8,45,"③","完成した新しい創作数独問題を　”創作数独問題を数独作品集に登録する”　ボタンをクリックし、数独作品集に登録します。"]
[null,null,9,4,6,1,8,2,5,3,7,45]
[null,null,1,7,8,9,3,5,6,4,2,45,"④","”創作数独問題図の数字をクリアします”ボタンをクリックしますと、ご自身で数独問題を創作（手動）表の中の数字をクリアにします。"]
[null,null,8,5,4,3,7,1,2,9,6,45]
[null,null,7,1,9,2,6,8,3,5,4,45,"⑤","”数独自動配置を手動にコピー”ボタンをクリックしますと、自動で作成した数独問題を創作（手動）にコピーします。　自動で作成した数独問題の数値の削除、追加、修正して、新しい数独問題を作るのに役立ちます。"]
[null,null,2,6,3,5,9,4,8,7,1,45]
[null,null,{"$f":"SUM(C42:C50)","v":45},{"$f":"SUM(D42:D50)","v":45},45,45,45,45,45,45,45,{"$f":"SUM(K52:L52)","v":18}]
[null,null,"ランク",null,null,null,null,null,null,null,{"$f":"COUNTIF(C51:K51,45)","v":9},{"$f":"COUNTIF(L42:L50,45)","v":9}]
[null,null,"超難問"]

{"sheet":"数独作品集","index":6,"n_rows":3026,"n_cols":21,"rows_kept":3026,"cut":false,"hidden":false,"merged":[[2730,2,2730,3],[2730,6,2730,7],[2741,2,2741,3],[2741,6,2741,7],[2741,8,2741,9],[2741,13,2741,14],[2730,8,2730,9],[2730,13,2730,14],[2708,17,2708,18],[2708,19,2708,20],[2719,17,2719,18],[2719,19,2719,20],[2741,17,2741,18],[2741,19,2741,20],[2708,2,2708,3],[2708,6,2708,7],[2708,8,2708,9],[2708,13,2708,14],[2730,17,2730,18],[2730,19,2730,20],[2719,2,2719,3],[2719,6,2719,7],[2719,8,2719,9],[2719,13,2719,14],[2686,2,2686,3],[2686,6,2686,7],[2697,2,2697,3],[2697,6,2697,7],[2697,8,2697,9],[2697,13,2697,14],[2686,8,2686,9],[2686,13,2686,14],[2664,17,2664,18],[2664,19,2664,20],[2675,17,2675,18],[2675,19,2675,20],[2697,17,2697,18],[2697,19,2697,20],[2664,2,2664,3],[2664,6,2664,7],[2664,8,2664,9],[2664,13,2664,14],[2686,17,2686,18],[2686,19,2686,20],[2675,2,2675,3],[2675,6,2675,7],[2675,8,2675,9],[2675,13,2675,14],[2642,2,2642,3],[2642,6,2642,7],[2653,2,2653,3],[2653,6,2653,7],[2653,8,2653,9],[2653,13,2653,14],[2642,8,2642,9],[2642,13,2642,14],[2620,17,2620,18],[2620,19,2620,20],[2631,17,2631,18],[2631,19,2631,20],[2653,17,2653,18],[2653,19,2653,20],[2620,2,2620,3],[2620,6,2620,7],[2620,8,2620,9],[2620,13,2620,14],[2642,17,2642,18],[2642,19,2642,20],[2631,2,2631,3],[2631,6,2631,7],[2631,8,2631,9],[2631,13,2631,14],[2598,2,2598,3],[2598,6,2598,7],[2609,2,2609,3],[2609,6,2609,7],[2609,8,2609,9],[2609,13,2609,14],[2598,8,2598,9],[2598,13,2598,14],[2576,17,2576,18],[2576,19,2576,20],[2587,17,2587,18],[2587,19,2587,20],[2609,17,2609,18],[2609,19,2609,20],[2576,2,2576,3],[2576,6,2576,7],[2576,8,2576,9],[2576,13,2576,14],[2598,17,2598,18],[2598,19,2598,20],[2587,2,2587,3],[2587,6,2587,7],[2587,8,2587,9],[2587,13,2587,14],[2554,2,2554,3],[2554,6,2554,7],[2565,2,2565,3],[2565,6,2565,7],[2565,8,2565,9],[2565,13,2565,14],[2554,8,2554,9],[2554,13,2554,14],[2532,17,2532,18],[2532,19,2532,20],[2543,17,2543,18],[2543,19,2543,20],[2565,17,2565,18],[2565,19,2565,20],[2532,2,2532,3],[2532,6,2532,7],[2532,8,2532,9],[2532,13,2532,14],[2554,17,2554,18],[2554,19,2554,20],[2543,2,2543,3],[2543,6,2543,7],[2543,8,2543,9],[2543,13,2543,14],[2510,2,2510,3],[2510,6,2510,7],[2521,2,2521,3],[2521,6,2521,7],[2521,8,2521,9],[2521,13,2521,14],[2510,8,2510,9],[2510,13,2510,14],[2488,17,2488,18],[2488,19,2488,20],[2499,17,2499,18],[2499,19,2499,20],[2521,17,2521,18],[2521,19,2521,20],[2488,2,2488,3],[2488,6,2488,7],[2488,8,2488,9],[2488,13,2488,14],[2510,17,2510,18],[2510,19,2510,20],[2499,2,2499,3],[2499,6,2499,7],[2499,8,2499,9],[2499,13,2499,14],[2466,2,2466,3],[2466,6,2466,7],[2477,2,2477,3],[2477,6,2477,7],[2477,8,2477,9],[2477,13,2477,14],[2466,8,2466,9],[2466,13,2466,14],[2444,17,2444,18],[2444,19,2444,20],[2455,17,2455,18],[2455,19,2455,20],[2477,17,2477,18],[2477,19,2477,20],[2444,2,2444,3],[2444,6,2444,7],[2444,8,2444,9],[2444,13,2444,14],[2466,17,2466,18],[2466,19,2466,20],[2455,2,2455,3],[2455,6,2455,7],[2455,8,2455,9],[2455,13,2455,14],[2422,2,2422,3],[2422,6,2422,7],[2433,2,2433,3],[2433,6,2433,7],[2433,8,2433,9],[2433,13,2433,14],[2422,8,2422,9],[2422,13,2422,14],[2400,17,2400,18],[2400,19,2400,20],[2411,17,2411,18],[2411,19,2411,20],[2433,17,2433,18],[2433,19,2433,20],[2400,2,2400,3],[2400,6,2400,7],[2400,8,2400,9],[2400,13,2400,14],[2422,17,2422,18],[2422,19,2422,20],[2411,2,2411,3],[2411,6,2411,7],[2411,8,2411,9],[2411,13,2411,14],[2378,2,2378,3],[2378,6,2378,7],[2389,2,2389,3],[2389,6,2389,7],[2389,8,2389,9],[2389,13,2389,14],[2378,8,2378,9],[2378,13,2378,14],[2356,17,2356,18],[2356,19,2356,20],[2367,17,2367,18],[2367,19,2367,20],[2389,17,2389,18],[2389,19,2389,20],[2356,2,2356,3],[2356,6,2356,7],[2356,8,2356,9],[2356,13,2356,14],[2378,17,2378,18],[2378,19,2378,20],[2367,2,2367,3],[2367,6,2367,7],[2367,8,2367,9],[2367,13,2367,14],[2334,2,2334,3],[2334,6,2334,7],[2345,2,2345,3],[2345,6,2345,7],[2345,8,2345,9],[2345,13,2345,14],[2334,8,2334,9],[2334,13,2334,14],[2312,17,2312,18],[2312,19,2312,20],[2323,17,2323,18],[2323,19,2323,20],[2345,17,2345,18],[2345,19,2345,20],[2312,2,2312,3],[2312,6,2312,7],[2312,8,2312,9],[2312,13,2312,14],[2334,17,2334,18],[2334,19,2334,20],[2323,2,2323,3],[2323,6,2323,7],[2323,8,2323,9],[2323,13,2323,14],[2290,2,2290,3],[2290,6,2290,7],[2301,2,2301,3],[2301,6,2301,7],[2301,8,2301,9],[2301,13,2301,14],[2290,8,2290,9],[2290,13,2290,14],[2268,17,2268,18],[2268,19,2268,20],[2279,17,2279,18],[2279,19,2279,20],[2301,17,2301,18],[2301,19,2301,20],[2268,2,2268,3],[2268,6,2268,7],[2268,8,2268,9],[2268,13,2268,14],[2290,17,2290,18],[2290,19,2290,20],[2279,2,2279,3],[2279,6,2279,7],[2279,8,2279,9],[2279,13,2279,14],[2257,2,2257,3],[2257,6,2257,7],[2257,8,2257,9],[2257,13,2257,14],[2246,8,2246,9],[2246,13,2246,14],[2224,17,2224,18],[2224,19,2224,20],[2235,17,2235,18],[2235,19,2235,20],[2257,17,2257,18],[2257,19,2257,20],[2246,17,2246,18],[2246,19,2246,20],[2235,2,2235,3],[2235,6,2235,7],[2235,8,2235,9],[2235,13,2235,14],[2246,2,2246,3],[2246,6,2246,7],[2202,8,2202,9],[2202,13,2202,14],[2224,2,2224,3],[2224,6,2224,7],[2224,8,2224,9],[2224,13,2224,14],[2202,17,2202,18],[2202,19,2202,20],[2213,17,2213,18],[2213,19,2213,20],[2202,2,2202,3],[2202,6,2202,7],[2213,2,2213,3],[2213,6,2213,7],[2213,8,2213,9],[2213,13,2213,14],[2191,2,2191,3],[2191,6,2191,7],[2191,8,2191,9],[2191,13,2191,14],[2191,17,2191,18],[2191,19,2191,20],[2169,2,2169,3],[2169,6,2169,7],[2180,2,2180,3],[2180,6,2180,7],[2180,8,2180,9],[2180,13,2180,14],[2169,8,2169,9],[2169,13,2169,14],[2147,17,2147,18],[2147,19,2147,20],[2158,17,2158,18],[2158,19,2158,20],[2180,17,2180,18],[2180,19,2180,20],[2147,2,2147,3],[2147,6,2147,7],[2147,8,2147,9],[2147,13,2147,14],[2169,17,2169,18],[2169,19,2169,20],[2158,2,2158,3],[2158,6,2158,7],[2158,8,2158,9],[2158,13,2158,14],[2125,2,2125,3],[2125,6,2125,7],[2136,2,2136,3],[2136,6,2136,7],[2136,8,2136,9],[2136,13,2136,14],[2125,8,2125,9],[2125,13,2125,14],[2103,17,2103,18],[2103,19,2103,20],[2114,17,2114,18],[2114,19,2114,20],[2136,17,2136,18],[2136,19,2136,20],[2103,2,2103,3],[2103,6,2103,7],[2103,8,2103,9],[2103,13,2103,14],[2125,17,2125,18],[2125,19,2125,20],[2114,2,2114,3],[2114,6,2114,7],[2114,8,2114,9],[2114,13,2114,14],[2081,2,2081,3],[2081,6,2081,7],[2092,2,2092,3],[2092,6,2092,7],[2092,8,2092,9],[2092,13,2092,14],[2081,8,2081,9],[2081,13,2081,14],[2059,17,2059,18],[2059,19,2059,20],[2070,17,2070,18],[2070,19,2070,20],[2092,17,2092,18],[2092,19,2092,20],[2059,2,2059,3],[2059,6,2059,7],[2059,8,2059,9],[2059,13,2059,14],[2081,17,2081,18],[2081,19,2081,20],[2070,2,2070,3],[2070,6,2070,7],[2070,8,2070,9],[2070,13,2070,14],[1982,2,1982,3],[1982,6,1982,7],[1982,8,1982,9],[1982,13,1982,14],[2037,2,2037,3],[2037,6,2037,7],[2048,2,2048,3],[2048,6,2048,7],[2048,8,2048,9],[2048,13,2048,14],[2037,8,2037,9],[2037,13,2037,14],[2015,17,2015,18],[2015,19,2015,20],[2026,17,2026,18],[2026,19,2026,20],[2048,17,2048,18],[2048,19,2048,20],[2015,2,2015,3],[2015,6,2015,7],[2015,8,2015,9],[2015,13,2015,14],[2037,17,2037,18],[2037,19,2037,20],[2026,2,2026,3],[2026,6,2026,7],[2026,8,2026,9],[2026,13,2026,14],[1927,8,1927,9],[1927,13,1927,14],[1938,2,1938,3],[1938,6,1938,7],[1938,8,1938,9],[1938,13,1938,14],[1949,17,1949,18],[1949,19,1949,20],[1927,17,1927,18],[1927,19,1927,20],[1938,17,1938,18],[1938,19,1938,20],[1993,2,1993,3],[1993,6,1993,7],[2004,2,2004,3],[2004,6,2004,7],[2004,8,2004,9],[2004,13,2004,14],[1993,8,1993,9],[1993,13,1993,14],[1971,17,1971,18],[1971,19,1971,20],[1982,17,1982,18],[1982,19,1982,20],[2004,17,2004,18],[2004,19,2004,20],[1971,2,1971,3],[1971,6,1971,7],[1971,8,1971,9],[1971,13,1971,14],[1993,17,1993,18],[1993,19,1993,20],[1168,2,1168,3],[1168,6,1168,7],[0,2,0,19],[1454,2,1454,3],[1454,6,1454,7],[1454,8,1454,9],[1454,13,1454,14],[1454,17,1454,18],[1454,19,1454,20],[1443,17,1443,18],[1443,19,1443,20],[1443,2,1443,3],[1476,17,1476,18],[1476,19,1476,20],[1465,2,1465,3],[1465,6,1465,7],[1465,8,1465,9],[1465,13,1465,14],[1465,17,1465,18],[1465,19,1465,20],[1399,17,1399,18],[1399,19,1399,20],[1410,17,1410,18],[1410,19,1410,20],[1399,2,1399,3],[1399,6,1399,7],[1399,8,1399,9],[1399,13,1399,14],[1410,2,1410,3],[1410,6,1410,7],[1410,8,1410,9],[1410,13,1410,14],[1179,17,1179,18],[1223,17,1223,18],[1267,17,1267,18],[1311,17,1311,18],[1355,17,1355,18],[1487,17,1487,18],[1487,19,1487,20],[1476,2,1476,3],[1476,6,1476,7],[1487,2,1487,3],[1487,6,1487,7],[1487,8,1487,9],[1487,13,1487,14],[1476,8,1476,9],[1476,13,1476,14],[1432,13,1432,14],[1421,13,1421,14],[1421,17,1421,18],[1421,19,1421,20],[1443,6,1443,7],[1443,8,1443,9],[1443,13,1443,14],[1432,17,1432,18],[1432,19,1432,20],[1421,2,1421,3],[1421,6,1421,7],[1432,2,1432,3],[1432,6,1432,7],[1432,8,1432,9],[1377,2,1377,3],[1212,2,1212,3],[1212,6,1212,7],[1146,19,1146,20],[1113,13,1113,14],[1102,17,1102,18],[1102,19,1102,20],[1091,2,1091,3],[1091,6,1091,7],[1102,2,1102,3],[1102,6,1102,7],[1102,8,1102,9],[1102,13,1102,14],[1091,8,1091,9],[1091,13,1091,14],[1146,17,1146,18],[1113,17,1113,18],[1124,2,1124,3],[1124,6,1124,7],[1124,8,1124,9],[1124,13,1124,14],[1113,2,1113,3],[1113,6,1113,7],[1113,8,1113,9],[1135,2,1135,3],[1135,6,1135,7],[1146,2,1146,3],[1146,6,1146,7],[1146,8,1146,9],[1146,13,1146,14],[1135,13,1135,14],[1135,8,1135,9],[1025,2,1025,3],[1025,6,1025,7],[1025,8,1025,9],[1025,13,1025,14],[1047,17,1047,18],[1047,19,1047,20],[1036,2,1036,3],[1036,6,1036,7],[1036,8,1036,9],[1036,13,1036,14],[1003,17,1003,18],[1003,19,1003,20],[1113,19,1113,20],[1124,17,1124,18],[1124,19,1124,20],[1135,17,1135,18],[1135,19,1135,20],[1069,6,1069,7],[1069,8,1069,9],[1069,13,1069,14],[1080,2,1080,3],[1080,6,1080,7],[1080,8,1080,9],[1080,13,1080,14],[1047,2,1047,3],[1047,6,1047,7],[1058,2,1058,3],[1058,6,1058,7],[1058,8,1058,9],[1058,13,1058,14],[1047,8,1047,9],[1047,13,1047,14],[1058,17,1058,18],[1058,19,1058,20],[1014,2,1014,3],[1014,6,1014,7],[1014,8,1014,9],[1014,13,1014,14],[1014,17,1014,18],[1014,19,1014,20],[1003,2,1003,3],[1003,6,1003,7],[893,17,893,18],[893,19,893,20],[926,8,926,9],[926,13,926,14],[904,17,904,18],[904,19,904,20],[915,17,915,18],[915,19,915,20],[893,2,893,3],[893,6,893,7],[893,8,893,9],[893,13,893,14],[1003,8,1003,9],[1003,13,1003,14],[959,17,959,18],[959,19,959,20],[970,17,970,18],[970,19,970,20],[981,17,981,18],[981,19,981,20],[970,2,970,3],[970,6,970,7],[882,2,882,3],[882,6,882,7],[882,8,882,9],[882,13,882,14],[915,2,915,3],[915,6,915,7],[915,8,915,9],[915,13,915,14],[904,2,904,3],[904,6,904,7],[904,8,904,9],[904,13,904,14],[926,17,926,18],[926,19,926,20],[937,2,937,3],[937,6,937,7],[937,8,937,9],[937,13,937,14],[937,17,937,18],[937,19,937,20],[871,8,871,9],[871,13,871,14],[849,17,849,18],[849,19,849,20],[860,17,860,18],[860,19,860,20],[882,17,882,18],[882,19,882,20],[871,17,871,18],[871,19,871,20],[860,2,860,3],[860,6,860,7],[860,8,860,9],[860,13,860,14],[871,2,871,3],[871,6,871,7],[827,8,827,9],[827,13,827,14],[849,2,849,3],[849,6,849,7],[849,8,849,9],[849,13,849,14],[827,17,827,18],[827,19,827,20],[838,17,838,18],[838,19,838,20],[827,2,827,3],[827,6,827,7],[838,2,838,3],[838,6,838,7],[838,8,838,9],[838,13,838,14],[739,8,739,9],[739,13,739,14],[816,2,816,3],[816,6,816,7],[816,8,816,9],[816,13,816,14],[816,17,816,18],[816,19,816,20],[794,2,794,3],[794,6,794,7],[805,2,805,3],[805,6,805,7],[805,8,805,9],[805,13,805,14],[794,8,794,9],[794,13,794,14],[772,17,772,18],[772,19,772,20],[783,17,783,18],[783,19,783,20],[805,17,805,18],[805,19,805,20],[772,2,772,3],[772,6,772,7],[772,8,772,9],[772,13,772,14],[794,17,794,18],[794,19,794,20],[783,2,783,3],[783,6,783,7],[783,8,783,9],[783,13,783,14],[684,2,684,3],[684,6,684,7],[684,8,684,9],[684,13,684,14],[706,17,706,18],[706,19,706,20],[695,2,695,3],[695,6,695,7],[695,8,695,9],[695,13,695,14],[750,2,750,3],[750,6,750,7],[761,2,761,3],[761,6,761,7],[761,8,761,9],[761,13,761,14],[750,8,750,9],[750,13,750,14],[728,17,728,18],[728,19,728,20],[739,17,739,18],[739,19,739,20],[761,17,761,18],[761,19,761,20],[728,2,728,3],[728,6,728,7],[728,8,728,9],[728,13,728,14],[750,17,750,18],[750,19,750,20],[739,2,739,3],[739,6,739,7],[596,17,596,18],[596,19,596,20],[596,2,596,3],[596,6,596,7],[596,8,596,9],[596,13,596,14],[574,2,574,3],[574,6,574,7],[585,2,585,3],[585,6,585,7],[585,8,585,9],[585,13,585,14],[574,8,574,9],[574,13,574,14],[552,17,552,18],[552,19,552,20],[563,17,563,18],[563,19,563,20],[585,17,585,18],[585,19,585,20],[552,2,552,3],[552,6,552,7],[552,8,552,9],[552,13,552,14],[574,17,574,18],[574,19,574,20],[563,2,563,3],[563,6,563,7],[563,8,563,9],[563,13,563,14],[519,6,519,7],[530,2,530,3],[530,6,530,7],[530,8,530,9],[530,13,530,14],[519,8,519,9],[519,13,519,14],[497,17,497,18],[497,19,497,20],[508,17,508,18],[508,19,508,20],[530,17,530,18],[530,19,530,20],[497,2,497,3],[497,6,497,7],[497,8,497,9],[497,13,497,14],[519,17,519,18],[519,19,519,20],[508,2,508,3],[508,6,508,7],[508,8,508,9],[508,13,508,14],[354,2,354,3],[354,6,354,7],[354,8,354,9],[354,13,354,14],[354,17,354,18],[354,19,354,20],[376,2,376,3],[376,6,376,7],[376,8,376,9],[376,13,376,14],[398,2,398,3],[398,6,398,7],[475,2,475,3],[475,6,475,7],[486,2,486,3],[486,6,486,7],[486,8,486,9],[486,13,486,14],[475,8,475,9],[475,13,475,14],[453,17,453,18],[453,19,453,20],[464,17,464,18],[464,19,464,20],[486,17,486,18],[486,19,486,20],[453,2,453,3],[453,6,453,7],[453,8,453,9],[453,13,453,14],[475,17,475,18],[475,19,475,20],[310,19,310,20],[288,8,288,9],[288,17,288,18],[288,19,288,20],[343,8,343,9],[343,13,343,14],[277,6,277,7],[277,8,277,9],[277,17,277,18],[277,19,277,20],[299,6,299,7],[299,8,299,9],[299,17,299,18],[299,19,299,20],[321,19,321,20],[442,2,442,3],[442,6,442,7],[442,8,442,9],[442,13,442,14],[431,8,431,9],[431,13,431,14],[420,2,420,3],[420,6,420,7],[420,8,420,9],[420,13,420,14],[420,17,420,18],[420,19,420,20],[343,2,343,3],[343,6,343,7],[409,2,409,3],[409,6,409,7],[409,8,409,9],[222,19,222,20],[233,17,233,18],[233,19,233,20],[233,13,233,14],[244,6,244,7],[244,8,244,9],[244,17,244,18],[244,19,244,20],[13,19,13,20],[2,6,2,7],[2,8,2,9],[2,17,2,18],[2,19,2,20],[211,17,211,18],[211,19,211,20],[79,17,79,18],[79,19,79,20],[68,6,68,7],[68,8,68,9],[68,17,68,18],[68,19,68,20],[101,17,101,18],[101,19,101,20],[90,6,90,7],[90,8,90,9],[90,17,90,18],[90,19,90,20],[134,19,134,20],[123,17,123,18],[123,19,123,20],[112,6,112,7],[112,8,112,9],[2,2,2,3],[2,13,2,14],[13,2,13,3],[35,17,35,18],[13,13,13,14],[24,2,24,3],[13,6,13,7],[13,8,13,9],[35,2,35,3],[13,17,13,18],[35,19,35,20],[24,6,24,7],[24,8,24,9],[24,17,24,18],[24,19,24,20],[24,13,24,14],[57,17,57,18],[57,19,57,20],[46,6,46,7],[46,8,46,9],[46,17,46,18],[46,19,46,20],[35,13,35,14],[35,6,35,7],[35,8,35,9],[46,2,46,3],[46,13,46,14],[112,17,112,18],[112,19,112,20],[156,19,156,20],[167,6,167,7],[167,8,167,9],[167,17,167,18],[167,19,167,20],[145,17,145,18],[145,19,145,20],[90,13,90,14],[200,19,200,20],[189,19,189,20],[189,6,189,7],[189,8,189,9],[189,17,189,18],[178,17,178,18],[178,19,178,20],[134,13,134,14],[123,6,123,7],[123,8,123,9],[134,6,134,7],[134,8,134,9],[321,17,321,18],[200,17,200,18],[156,6,156,7],[156,8,156,9],[156,17,156,18],[57,2,57,3],[57,13,57,14],[68,2,68,3],[68,13,68,14],[57,6,57,7],[57,8,57,9],[79,2,79,3],[79,13,79,14],[90,2,90,3],[79,6,79,7],[79,8,79,9],[101,2,101,3],[101,13,101,14],[112,2,112,3],[112,13,112,14],[101,6,101,7],[101,8,101,9],[134,17,134,18],[255,17,255,18],[266,17,266,18],[222,17,222,18],[321,8,321,9],[321,13,321,14],[310,17,310,18],[123,2,123,3],[123,13,123,14],[134,2,134,3],[244,2,244,3],[244,13,244,14],[255,2,255,3],[255,13,255,14],[233,6,233,7],[233,8,233,9],[255,6,255,7],[255,8,255,9],[310,6,310,7],[310,8,310,9],[145,2,145,3],[145,13,145,14],[156,2,156,3],[156,13,156,14],[145,6,145,7],[145,8,145,9],[167,2,167,3],[167,13,167,14],[178,2,178,3],[178,13,178,14],[178,6,178,7],[178,8,178,9],[189,2,189,3],[189,13,189,14],[200,2,200,3],[200,13,200,14],[200,6,200,7],[200,8,200,9],[387,2,387,3],[387,6,387,7],[387,8,387,9],[387,13,387,14],[332,2,332,3],[332,6,332,7],[332,8,332,9],[332,13,332,14],[332,17,332,18],[332,19,332,20],[211,2,211,3],[211,13,211,14],[222,2,222,3],[222,13,222,14],[211,6,211,7],[211,8,211,9],[222,6,222,7],[222,8,222,9],[310,2,310,3],[310,13,310,14],[266,2,266,3],[266,13,266,14],[277,13,277,14],[288,2,288,3],[288,13,288,14],[266,6,266,7],[266,8,266,9],[288,6,288,7],[233,2,233,3],[277,2,277,3],[299,2,299,3]],"merged_total":1651,"flags":["merged_cut"]}
[null,null,"数　独　作　品　集"]
[]
[null,"NO.",1,null,null,{"$f":"COUNTA(B4:J12)","v":38},"ランク",null,"普通",null,null,null,"NO.",2,null,null,{"$f":"COUNTA(M4:U12)","v":38},"ランク",null,"普通"]
[null,null,2,null,6,null,5,3,4,null,null,null,null,3,5,null,7,null,9]
[null,null,3,null,1,null,2,null,null,null,null,null,null,null,1,null,9]
[null,8,1,6,null,null,null,2,9,5,null,null,null,4,9,5,2,1,3,8,6]
[null,null,7,null,null,4,null,6,null,null,null,null,2,5,null,3,null,null,null,6,8]
[null,null,null,null,null,null,6,9,null,null,null,null,4,null,3,6,null,null,null,null,9]
[null,null,4,1,2,5,9,null,null,8,null,null,null,null,8,null,5,null,null,7,3]
[null,1,null,3,null,null,7,4,null,9,null,null,null,7,4,2,null,8,null,9]
[null,7,6,null,null,null,4,null,8,null,null,null,1,null,null,7,null,null,8,2]
["*",null,null,5,null,2,8,null,7,null,null,null,null,null,null,null,null,4,null,null,7]
[]
[null,"NO.",3,null,null,{"$f":"COUNTA(B15:J23)","v":38},"ランク",null,"普通",null,null,null,"NO.",4,null,null,{"$f":"COUNTA(M15:U23)","v":37},"ランク",null,"普通"]
[null,null,null,2,null,null,null,null,9,7,null,null,null,1,7,null,5,6,3,9,2]
[null,null,1,null,null,2,3,null,8,null,null,null,null,null,8,null,2]
[null,6,5,8,null,9,4,1,null,3,null,null,null,null,null,null,1,null,7]
[null,5,4,1,2,3,null,null,null,8,null,null,null,null,null,null,9]
[null,null,9,7,null,null,5,null,6,4,null,null,3,9,4,1,8,null,6,5]
[null,3,null,null,null,null,null,null,null,null,null,null,8,null,null,3,4,5,1,2]
[null,8,null,null,null,null,1,7,null,9,null,null,null,null,3,null,7,4,null,6]
[null,null,6,null,null,null,null,null,null,null,null,null,null,4,1,null,null,8,2]
["*",null,7,5,4,8,2,6,null,1,null,null,7,null,null,5,null,null,9,null,8]
[]
[null,"NO.",5,null,null,{"$f":"COUNTA(B26:J34)","v":37},"ランク",null,"普通",null,null,null,"NO.",6,null,null,{"$f":"COUNTA(M26:U34)","v":37},"ランク",null,"普通"]
[null,null,null,4,9,null,5,null,null,6,null,null,null,null,6,8,null,4,9]
[null,7,8,null,null,1,null,null,5,null,null,null,3,2,4,null,null,null,8,5,6]
[null,3,null,5,null,null,null,7,null,4,null,null,null,null,null,6,null,3,null,2]
[null,null,null,9,3,null,null,null,null,5,null,null,7,4,2,null,null,8,null,null,9]
[null,null,6,null,null,2,null,null,3,null,null,null,null,null,null,7,9,2]
[null,5,null,1,8,null,7,6,null,2,null,null,null,5,null,3,null,null,2,7,8]
[null,9,7,null,1,null,null,5,null,8,null,null,null,3,null,2,null,null,null,null,1]
[null,null,5,null,null,9,null,null,2,null,null,null,null,6,null,null,7,null,null,8]
["*",4,null,3,2,null,8,null,null,7,null,null,null,1,8,null,null,5,6,null,7]
[]
[null,"NO.",7,null,null,{"$f":"COUNTA(B37:J45)","v":37},"ランク",null,"普通",null,null,null,"NO.",8,null,null,{"$f":"COUNTA(M37:U45)","v":37},"ランク",null,"普通"]
[null,9,3,null,2,1,null,6,null,null,null,null,7,null,8,9,null,4,2,null,5]
[null,1,null,null,null,null,9,null,3]
[null,null,4,null,8,3,null,9,2,null,null,null,3,null,4,6,null,5,9,null,1]
[null,5,null,4,1,null,null,null,8,3,null,null,6,null,3,5,null,2,4,null,8]
[null,2,null,null,5,null,null,7,6,null,null,null,null,null,null,null,1]
[null,null,8,3,null,null,2,null,1,null,null,null,1,null,9,3,null,6,7,null,2]
[null,8,null,1,4,null,null,null,9,null,null,null,5,null,7,1,null,8,3,null,6]
[null,4,null,null,null,null,null,null,7]
["*",null,7,2,null,5,8,null,null,6,null,null,2,null,6,7,null,3,1,null,4]
[]
[null,"NO.",9,null,null,{"$f":"COUNTA(B48:J56)","v":37},"ランク",null,"普通",null,null,null,"NO.",10,null,null,{"$f":"COUNTA(M48:U56)","v":37},"ランク",null,"普通"]
[null,7,null,3,null,6,9,null,null,1,null,null,null,null,null,null,3,7,null,2,8]
[null,8,6,null,null,null,2,4,9,3,null,null,3,4,null,null,null,8,7,6]
[null,2,1,null,4,null,null,6,null,null,null,null,1,7,null,null,2,9,null,null,3]
[null,null,null,8,null,4,null,null,null,null,null,null,null,2,null,null,4,6]
[null,null,2,null,null,3,null,9,null,null,null,null,8,null,null,2,null,null,null,4,6]
[null,4,null,1,null,5,null,null,8,6,null,null,9,null,4,3,null,5,null,null,2]
[null,9,null,null,6,null,null,7,3,null,null,null,4,null,6,null,5,3,null,8]
[null,null,3,null,8,7,5,null,null,9,null,null,null,null,3,null,null,null,9]
["*",null,5,7,null,null,null,null,null,8,null,null,7,1,5,null,8]
[]
[null,"NO.",11,null,null,{"$f":"COUNTA(B59:J67)","v":37},"ランク",null,"普通",null,null,null,"NO.",12,null,null,{"$f":"COUNTA(M59:U67)","v":37},"ランク",null,"普通"]
[null,null,null,8,null,null,4,3,null,null,null,null,null,null,null,null,6,9,5,null,7]
[null,null,null,1,5,null,8,6,null,null,null,null,8,null,7,1,5,2,6,null,3]
[null,4,null,6,null,null,2,null,null,9,null,null,1,null,null,null,null,3,null,null,9]
[null,8,null,null,1,null,5,9,3,4,null,null,4,7,null,6,9,5,null,3,1]
[null,2,4,5,8,null,null,null,null,6,null,null,null,null,null,null,null,4]
[null,null,null,null,null,null,7,5,2,null,null,null,3,null,1,null,null,null,null,6]
[null,null,7,null,null,8,null,null,9,null,null,null,null,2,4,null,8]
[null,3,null,9,null,null,1,2,6,null,null,null,null,3,8,2,null,null,null,9,6]
["*",5,1,null,null,7,null,null,8,null,null,null,7,1,null,5,3]
[]
[null,"NO.",13,null,null,{"$f":"COUNTA(B70:J78)","v":36},"ランク",null,"普通",null,null,null,"NO.",14,null,null,{"$f":"COUNTA(M70:U78)","v":36},"ランク",null,"普通"]
[null,8,null,null,null,null,null,2,4,null,null,null,null,7,null,null,1,null,5]
[null,null,null,7,1,4,null,null,null,8,null,null,null,3,1,null,5,9,2]
[null,1,4,6,null,2,null,7,3,null,null,null,4,null,8,7,6,2,3,9]
[null,null,1,null,3,null,null,null,null,6,null,null,8,6,null,null,null,null,4]
[null,3,6,4,2,5,null,null,null,null,null,null,null,null,null,null,8,null,1]
[null,null,null,2,null,1,null,8,null,3,null,null,null,1,4,5,9,7,6,8]
[null,4,null,null,null,9,null,null,null,5,null,null,null,null,null,3,null,8,9,6,4]
[null,null,5,null,7,8,null,9,null,2,null,null,7,null,null,null,2]
["*",2,7,9,null,null,null,null,null,null,null,null,9,null,6]
[]
[null,"NO.",15,null,null,{"$f":"COUNTA(B81:J89)","v":36},"ランク",null,"普通",null,null,null,"NO.",16,null,null,{"$f":"COUNTA(M81:U89)","v":36},"ランク",null,"普通"]
[null,null,2,1,null,null,3,null,null,7,null,null,9,1,null,2,null,null,8,3]
[null,9,8,null,2,null,1,3,null,5,null,null,7,null,null,null,3,5,null,null,2]
[null,5,null,3,null,7,8,null,null,null,null,null,5,null,null,9,null,6]
[null,1,null,null,null,null,4,null,null,6,null,null,4,null,null,6,null,null,null,7]
[null,4,5,null,null,null,7,9,1,2,null,null,null,7,1,null,5,null,9,4,6]
[null,2,null,null,5,null,9,null,null,4,null,null,null,6,5,null,4,null,null,8,1]
[null,null,6,null,3,null,null,null,null,9,null,null,null,null,7,8,2,null,null,null,9]
[null,7,9,null,null,8,null,4,null,null,null,null,null,null,4,5,null,null,3]
["*",null,null,null,null,null,5,null,6,null,null,null,null,3,9,null,null,null,null,null,8]
[]
[null,"NO.",17,null,null,{"$f":"COUNTA(B92:J100)","v":36},"ランク",null,"普通",null,null,null,"NO.",18,null,null,{"$f":"COUNTA(M92:U100)","v":36},"ランク",null,"普通"]
[null,null,7,null,null,1,9,null,2,null,null,null,null,null,2,null,null,4,null,null,9]
[null,null,5,6,null,8,4,9,3,null,null,null,null,1,null,5,7,null,2]
[null,null,1,null,null,2,null,null,null,7,null,null,4,null,8,1,2,null,null,3,7]
[null,null,3,null,4,null,2,null,null,null,null,null,5,null,null,6,9,null,null,null,2]
[null,8,null,4,null,null,null,3,5,2,null,null,2,null,9,null,null,null,3,5]
[null,7,null,null,null,5,null,null,null,6,null,null,8,4,null,null,5,2,null,null,6]
[null,9,null,null,null,7,5,null,1,null,null,null,null,null,7,null,8,5,6,null,3]
[null,5,8,7,null,null,null,null,6,null,null,null,1,null,null,9,null,null,null,null,8]
["*",null,null,1,null,3,8,null,null,9,null,null,null,null,4,null,null,null,9]
[]
[null,"NO.",19,null,null,{"$f":"COUNTA(B103:J111)","v":36},"ランク",null,"普通",null,null,null,"NO.",20,null,null,{"$f":"COUNTA(M103:U111)","v":36},"ランク",null,"普通"]
[null,1,null,null,5,6,null,null,null,4,null,null,null,null,3]
[null,null,6,null,null,3,2,null,null,null,null,null,1,null,2,null,3,4,null,6]
[null,null,9,null,null,null,1,null,3,5,null,null,null,7,6,null,2,9,3,1]
[null,3,null,null,null,null,4,2,8,null,null,null,null,null,7,null,null,5,null,null,6]
[null,null,null,8,null,1,5,null,null,6,null,null,null,null,4,1,8,7,9,2]
[null,9,4,1,6,null,8,null,5,7,null,null,5,9,null,6]
[null,null,3,2,null,8,7,null,null,9,null,null,3,null,null,null,null,8,null,null,4]
[null,null,null,null,2,null,null,8,null,null,null,null,2,null,8,4,null,1,5,9]
["*",null,7,null,9,null,null,null,6,null,null,null,7,null,null,9,null,3]
[]
[null,"NO.",21,null,null,{"$f":"COUNTA(B114:J122)","v":36},"ランク",null,"普通",null,null,null,"NO.",22,null,null,{"$f":"COUNTA(M114:U122)","v":36},"ランク",null,"普通"]
[null,null,null,1,null,null,null,null,null,null,null,null,4,null,null,1,null,null,null,5,3]
[null,5,null,6,null,9,8,3,null,2,null,null,1,7,null,null,3,null,null,8]
[null,8,7,null,1,null,2,null,9,4,null,null,3,8,5,null,null,2,null,4,1]
[null,null,3,null,null,null,null,4,6,7]
[null,4,null,null,null,null,5,null,null,null,null,null,null,1,8,6,9,7,null,null,2]
[null,7,null,2,4,6,null,null,5,null,null,null,7,4,2,null,5,null,8,9,6]
[null,null,null,null,null,null,null,null,null,null,null,null,null,5,7,8,null,null,3,2]
[null,null,1,9,5,4,3,2,null,null,null,null,8,null,null,5,null,null,9]
["*",3,null,7,8,null,6,9,null,1,null,null,null,null,null,null,6]
[]
[null,"NO.",23,null,null,{"$f":"COUNTA(B125:J133)","v":36},"ランク",null,"普通",null,null,null,"NO.",24,null,null,{"$f":"COUNTA(M125:U133)","v":36},"ランク",null,"普通"]
[null,8,null,null,1,null,4,null,3,null,null,null,null,null,2,9,null,null,null,null,7]
[null,1,null,4,null,null,null,2,null,null,null,null,null,1,8,null,3,5,6,2]
[null,null,7,9,8,2,null,4,null,1,null,null,null,7,null,2,null,4,3,8,9]
[null,null,null,8,7,null,null,null,6,null,null,null,2]
[null,4,null,null,null,null,5,null,null,7,null,null,4,3,null,null,5,null,2,null,6]
[null,null,5,null,6,null,9,3,null,2,null,null,6,5,null,1,7,null,null,4,3]
[null,3,null,6,null,5,null,null,7,9,null,null,7,null,null,null,null,8,null,null,1]
[null,null,8,null,null,null,6,null,null,null,null,null,null,null,null,null,6,null,9]
["*",5,null,7,9,null,8,6,null,null,null,null,8,6,null,4,null,null,null,5]
[]
[null,"NO.",25,null,null,{"$f":"COUNTA(B136:J144)","v":36},"ランク",null,"普通",null,null,null,"NO.",26,null,null,{"$f":"COUNTA(M136:U144)","v":36},"ランク",null,"普通"]
[null,7,null,null,8,null,6,3,2,null,null,null,null,null,3,null,9,1,2,6]
[null,null,8,2,null,5,null,null,null,null,null,null,9,null,null,null,null,null,null,4,1]
[null,null,3,1,null,4,2,null,null,8,null,null,null,1,4,6,null,2,null,3]
[null,3,2,null,null,null,8,null,null,6,null,null,null,null,7,null,8,5,null,2,3]
[null,1,7,null,6,3,5,2,9,null,null,null,null,3,8,null,7,4,6]
[null,4,9,null,2,null,null,null,null,null,null,null,4,null,5]
[null,null,null,7,null,8,null,9,null,null,null,null,3,null,6,8,null,7,9]
[null,8,null,null,5,null,null,null,4,null,null,null,null,4,null,null,null,3]
["*",null,4,null,null,6,null,7,null,null,null,null,null,7,null,null,null,6,null,5,4]
[]
[null,"NO.",27,null,null,{"$f":"COUNTA(B147:J155)","v":36},"ランク",null,"普通",null,null,null,"NO.",28,null,null,{"$f":"COUNTA(M147:U155)","v":36},"ランク",null,"普通"]
[null,null,1,3,9,2,null,null,null,8,null,null,4,8,3,null,2,1,6]
[null,8,5,null,null,7,6,9,3,null,null,null,2,null,1,9,null,4,5,null,3]
[null,null,null,null,null,null,null,null,null,5]
[null,9,8,null,3,null,null,null,2,null,null,null,7,null,4,8,5,null,null,null,6]
[null,1,3,null,5,null,2,null,9,6,null,null,null,null,null,4,null,2]
[null,null,null,4,6,null,null,null,null,null,null,null,null,9,null,6,null,null,2,null,4]
[null,null,4,null,1,8,null,7,null,null,null,null,3,1,7,null,6,5,null,null,9]
[null,null,null,1,null,5,null,4,null,9,null,null,6,4,null,null,null,8,1]
["*",7,null,8,null,6,4,null,null,null,null,null,8,null,null,null,null,3,7]
[]
[null,"NO.",29,null,null,{"$f":"COUNTA(B158:J166)","v":36},"ランク",null,"普通",null,null,null,"NO.",30,null,null,{"$f":"COUNTA(M158:U166)","v":36},"ランク",null,"普通"]
[null,2,null,null,null,null,null,3,null,null,null,null,null,null,8,4,null,null,9]
[null,1,7,null,null,3,2,null,null,9,null,null,null,1,6,null,7,3,4]
[null,null,null,null,9,7,5,8,2,1,null,null,5,null,9,null,2,null,7,3]
[null,5,null,null,null,null,null,null,null,null,null,null,4,null,null,null,null,1,6]
[null,null,null,null,7,5,3,6,null,null,null,null,3,null,null,2,5,6,1]
[null,6,4,7,1,9,null,null,5,3,null,null,9,null,null,8,3,null,5]
[null,null,null,9,null,6,null,null,null,8,null,null,null,null,null,null,null,2,null,7]
[null,7,5,null,null,8,null,null,4,null,null,null,6,2,5,null,4,null,null,null,9]
["*",8,null,3,null,null,4,null,9,null,null,null,1,7,null,null,8,null,null,null,6]
[]
[null,"NO.",31,null,null,{"$f":"COUNTA(B169:J177)","v":36},"ランク",null,"普通",null,null,null,"NO.",32,null,null,{"$f":"COUNTA(M169:U177)","v":35},"ランク",null,"普通"]
[null,null,null,null,null,null,null,null,4,null,null,null,1,9,4,5,2,null,null,7,6]
[null,4,null,1,3,9,null,null,null,null,null,null,8,6,7,1,null,null,null,3]
[null,null,7,5,null,null,2,1,null,3,null,null,2,null,null,6,null,null,4]
[null,null,null,4,null,null,5,6,null,1,null,null,6,null,8,4,5,1,2]
[null,null,5,null,null,6,null,4,8,null,null,null,null,4,null,null,null,null,6,null,5]
[null,null,6,3,null,8,null,7,null,null,null,null,null,null,9]
[null,9,3,null,7,null,null,8,2,null,null,null,null,7,null,8,6,null,9]
[null,2,null,7,null,null,8,9,1,null,null,null,null,null,6,null,null,7,3]
["*",null,null,null,null,2,9,3,null,7,null,null,null,null,2,null,3,null,null,null,8]
[]
[null,"NO.",33,null,null,{"$f":"COUNTA(B180:J188)","v":35},"ランク",null,"普通",null,null,null,"NO.",34,null,null,{"$f":"COUNTA(M180:U188)","v":35},"ランク",null,"普通"]
[null,null,null,null,null,null,2,null,7,3,null,null,9,1,null,5,2,null,3]
[null,1,null,null,6,7,3,null,4,2,null,null,3,null,null,null,7,6,1,null,9]
[null,null,2,3,8,4,null,6,null,null,null,null,null,null,2]
[null,null,null,null,null,null,5,null,6,9,null,null,null,6,null,4,null,null,null,9,3]
[null,null,5,null,2,6,null,null,8,4,null,null,null,null,null,9,5,7,8,6]
[null,4,6,null,9,null,null,null,null,1,null,null,4,8,null,6]
[null,null,null,7,null,8,null,1,9,null,null,null,7,4,null,null,null,null,9,null,1]
[null,5,null,null,null,2,null,null,null,8,null,null,1,null,null,null,null,8,5,null,2]
["*",null,null,4,null,null,1,null,null,null,null,null,null,null,5,3,1,null,null,null,7]
[]
[null,"NO.",35,null,null,{"$f":"COUNTA(B191:J199)","v":35},"ランク",null,"普通",null,null,null,"NO.",36,null,null,{"$f":"COUNTA(M191:U199)","v":35},"ランク",null,"普通"]
[null,2,4,null,null,null,5,6,7,null,null,null,null,null,4,9,null,5,null,null,6]
[null,null,6,null,null,9,null,null,3,null,null,null,7,null,null,null,1,null,null,5]
[null,null,null,9,8,null,7,null,null,2,null,null,3,null,5,null,null,null,7,null,4]
[null,null,null,2,6,null,1,null,null,7,null,null,null,null,9,3,null,null,null,null,5]
[null,null,5,null,null,3,null,null,8,null,null,null,null,6,null,null,2,null,null,3]
[null,6,null,null,9,null,8,5,null,4,null,null,5,null,1,8,null,7,6,null,2]
[null,8,null,null,null,null,3,9,null,null,null,null,null,7,null,1,null,null,5,null,8]
[null,null,1,4,null,8,null,null,6,null,null,null,null,5,null,null,9,null,null,2]
["*",null,null,5,1,null,6,null,null,3,null,null,4,null,3,2,null,8,null,null,7]
[]
[null,"NO.",37,null,null,{"$f":"COUNTA(B202:J210)","v":35},"ランク",null,"普通",null,null,null,"NO.",38,null,null,{"$f":"COUNTA(M202:U210)","v":35},"ランク",null,"普通"]
[null,null,1,null,6,3,null,null,4,8,null,null,null,9,null,null,3,1,null,4,8]
[null,9,null,4,null,2,null,null,null,null,null,null,4,1,3,2,null,null,5]
[null,7,null,null,null,null,4,null,3,null,null,null,8,null,null,4,5,null,7,null,3]
[null,8,null,null,1,null,null,5,null,null,null,null,null,null,null,null,null,null,null,null,5]
[null,null,5,9,7,null,null,8,6,2,null,null,7,null,4,8,2,null,null,null,6]
[null,4,null,null,null,null,5,3,9,null,null,null,9,2,null,5,null,null,8,3]
[null,6,null,null,null,5,1,9,null,null,null,null,6,null,null,1]
[null,null,null,7,null,null,null,null,1,null,null,null,null,7,null,null,null,null,9]
["*",null,9,null,null,null,8,6,2,3,null,null,3,null,null,null,8,2,6,7]
[]
[null,"NO.",39,null,null,{"$f":"COUNTA(B213:J221)","v":35},"ランク",null,"普通",null,null,null,"NO.",40,null,null,{"$f":"COUNTA(M213:U221)","v":35},"ランク",null,"普通"]
[null,2,null,1,null,8,null,null,null,9,null,null,null,null,null,3,null,null,2]
[null,null,null,3,null,5,null,null,1,null,null,null,null,2,null,null,null,8,null,1]
[null,null,5,null,1,null,2,null,7,3,null,null,5,8,1,4,null,2,null,7,3]
[null,null,null,null,null,null,7,null,6,null,null,null,7,5,null,9,null,4,null,null,6]
[null,6,4,null,8,2,null,1,null,null,null,null,6,4,null,5,null,3]
[null,null,1,null,3,null,5,9,null,2,null,null,null,null,2,7,null,6,null,5]
[null,null,null,null,null,null,null,null,null,4,null,null,8,1,null,null,null,null,null,null,7]
[null,7,3,2,9,null,null,null,null,null,null,null,null,null,null,null,null,null,null,3]
["*",null,6,4,null,3,8,7,9,null,null,null,2,7,null,8,3,null,1,9]
[]
[null,"NO.",41,null,null,{"$f":"COUNTA(B224:J232)","v":35},"ランク",null,"普通",null,null,null,"NO.",42,null,null,{"$f":"COUNTA(M224:U232)","v":35},"ランク",null,"普通"]
[null,null,1,7,6,null,null,3,null,null,null,null,2,null,7,null,null,null,null,3]
[null,8,null,4,2,null,null,null,null,5,null,null,null,5,null,2,null,null,null,null,4]
[null,null,null,null,8,null,null,4,1,null,null,null,null,1,null,6,9,null,8]
[null,4,null,null,null,2,8,null,null,null,null,null,null,null,1,7,5,null,null,6]
[null,1,5,3,null,null,6,null,null,7,null,null,null,null,null,4,null,null,1,8,9]
[null,2,null,8,null,5,null,6,9,null,null,null,6,4,9,null,3,null,5,2]
[null,null,4,9,null,6,null,null,7,2,null,null,7,3,4,1,null,5,6,9]
[null,7,2,null,null,8,null,9,null,null,null,null,1,null,null,null,7]
["*",null,null,null,9,7,null,null,null,null,null,null,null,null,null,null,null,8,3]
[]
[null,"NO.",43,null,null,{"$f":"COUNTA(B235:J243)","v":35},"ランク",null,"普通",null,null,null,"NO.",44,null,null,{"$f":"COUNTA(M235:U243)","v":35},"ランク",null,"普通"]
[null,null,1,null,5,2,null,null,6,3,null,null,null,3,1,2,null,4,null,null,6]
[null,null,null,null,3,null,null,1,null,9,null,null,null,8,2,6,null,null,null,3]
[null,null,null,6,null,9,null,7,null,null,null,null,null,null,null,null,null,8,9]
[null,null,5,3,null,null,6,null,null,2,null,null,8,null,null,null,4,6]
[null,null,null,4,null,null,null,null,null,null,null,null,null,1,7,null,null,9,4]
[null,8,2,7,9,5,3,6,null,null,null,null,3,null,4,5,2,7,8,6]
[null,null,null,2,null,null,null,null,null,null,null,null,null,5,3,null,null,1,7,9]
[null,4,7,null,null,8,null,null,9,6,null,null,7,null,null,null,null,null,null,1]
["*",9,null,8,7,null,4,2,null,1,null,null,null,null,null,null,8,3,null,null,5]
[]
[null,"NO.",45,null,null,{"$f":"COUNTA(B246:J254)","v":35},"ランク",null,"普通",null,null,null,"NO.",46,null,null,{"$f":"COUNTA(M246:U254)","v":34},"ランク",null,"普通"]
[null,4,7,null,3,null,null,6,null,null,null,null,null,8,2,null,null,4,9,null,7]
[null,null,5,9,null,2,null,null,null,1,null,null,1,null,9,8,6,null,5,null,3]
[null,8,1,null,null,4,null,2,3,9,null,null,null,null,null,null,9,2,6]
[null,null,null,4,null,null,6,null,null,3,null,null,null,1,null,null,5,null,4]
[null,1,null,null,5,null,null,null,6,2,null,null,8,null,4,7,null,null,null,null,5]
[null,null,null,null,2,null,3,null,8,null,null,null,null,null,7,null,4,null,null,3,6]
[null,null,6,7,8,null,null,1,4,null,null,null,null,null,null,null,8,9]
[null,null,null,null,null,5,7,null,9,null,null,null,null,2,1,null,null,null,3,null,9]
["*",5,8,null,null,6,null,null,null,null,null,null,7,null,null,3,null,null,null,6]
[]
[null,"NO.",47,null,null,{"$f":"COUNTA(B257:J265)","v":34},"ランク",null,"普通",null,null,null,"NO.",48,null,null,{"$f":"COUNTA(M257:U265)","v":34},"ランク",null,"普通"]
[null,null,1,null,6,null,null,null,null,2,null,null,null,1,5,2,9,null,4,3]
[null,8,null,5,1,null,2,3,6,9,null,null,null,3,6,null,7,null,null,8,9]
[null,null,null,null,null,8,9,5,null,4]
[null,null,4,null,5,null,null,6,null,null,null,null,null,4,3,null,1,null,5]
[null,1,6,null,9,7,null,null,3,null,null,null,null,8,null,null,4,null,3,1]
[null,null,null,2,null,null,null,null,4,null,null,null,null,2,null,3,5,null,null,null,6]
[null,null,null,7,null,null,1,9,null,null,null,null,null,9,1,null,2,7,null,6]
[null,null,null,9,null,null,7,null,null,6,null,null,3,null,null,8,null,null,9]
["*",6,null,null,8,null,5,null,null,3,null,null,7,6,null,null,null,null,null,null,1]
[]
[null,"NO.",49,null,null,{"$f":"COUNTA(B268:J276)","v":34},"ランク",null,"普通",null,null,null,"NO.",50,null,null,{"$f":"COUNTA(M268:U276)","v":34},"ランク",null,"普通"]
[null,9,8,null,null,1,null,3,null,7,null,null,null,4,null,7,null,1,null,null,5]
[null,5,null,null,7,2,null,null,4,null,null,null,null,null,null,null,3]
[null,null,null,4,null,null,null,9,null,null,null,null,6,null,9,null,null,null,3,null,7]
[null,6,null,null,9,null,1,null,3,null,null,null,null,2,null,null,null,9,8,null,6]
[null,null,5,null,null,8,null,6,1,null,null,null,null,5,7,null,8,null,4]
[null,null,9,null,6,null,4,null,null,2,null,null,3,null,null,null,null,4,null,5,9]
[null,null,null,null,3,null,7,5,null,null,null,null,1,3,null,9,2,null,5,null,8]
[null,8,7,null,null,null,2,null,9,3,null,null,null,null,2,null,5,null,null,null,1]
["*",null,null,1,null,9,null,null,null,6,null,null,7,9,null,null,null,8,null,4]
[]
[null,"NO.",51,null,null,{"$f":"COUNTA(B279:J287)","v":34},"ランク",null,"普通",null,null,null,"NO.",52,null,null,{"$f":"COUNTA(M279:U287)","v":34},"ランク",null,"普通"]
[null,null,null,null,9,null,null,7,null,5,null,null,null,7,null,null,null,9,null,6,3]
[null,null,null,7,null,2,null,1,null,null,null,null,3,null,null,null,2]
[null,null,1,4,8,null,null,null,3,2,null,null,1,null,null,8,6,null,2]
[null,null,5,null,null,null,2,null,null,null,null,null,null,null,null,null,5,1,4,9]
[null,null,4,1,null,9,null,5,2,6,null,null,8,null,2,null,null,4,6]
[null,6,9,null,5,4,7,null,null,null,null,null,5,4,null,null,8]
[null,null,null,null,null,null,null,null,9,null,null,null,null,3,7,null,1,null,9]
[null,null,6,null,null,1,3,8,null,null,null,null,9,null,8,null,7,2]
["*",4,7,null,6,8,null,null,null,3,null,null,null,2,null,null,3,8,5,null,4]
[]
[null,"NO.",53,null,null,{"$f":"COUNTA(B290:J298)","v":34},"ランク",null,"普通",null,null,null,"NO.",54,null,null,{"$f":"COUNTA(M290:U298)","v":34},"ランク",null,"普通"]
[null,9,null,null,8,null,2,3,1,null,null,null,6,null,null,2,null,null,3,null,4]
[null,null,null,8,null,null,null,null,null,null,null,null,null,null,null,8]
[null,2,1,null,null,null,4,null,6,null,null,null,2,1,3,9,null,7,null,5]
[null,7,5,null,null,null,null,1,null,null,null,null,4,null,null,null,null,5]
[null,4,null,null,3,null,null,6,null,null,null,null,null,null,6,1,null,null,2]
[null,null,6,null,4,5,7,null,null,9,null,null,null,7,1,4,null,8,6,null,9]
[null,null,null,6,null,4,8,null,2,null,null,null,null,null,7,null,8]
[null,null,null,7,null,3,9,8,null,null,null,null,null,null,9,3,null,null,null,2,7]
["*",null,3,null,6,2,5,null,9,null,null,null,3,4,5,7,null,null,9,null,8]
[]
[null,"NO.",55,null,null,{"$f":"COUNTA(B301:J309)","v":34},"ランク",null,"普通",null,null,null,"NO.",56,null,null,{"$f":"COUNTA(M301:U309)","v":34},"ランク",null,"普通"]
[null,4,2,null,null,null,null,null,null,6,null,null,4,null,null,3,6]
[null,null,3,6,null,null,null,null,null,2,null,null,null,2,null,4,null,null,3,5]
[null,7,1,5,6,4,2,3,null,null,null,null,null,1,null,null,7,2,6]
[null,null,null,null,5,null,null,null,null,null,null,null,9,4,8,6,2,null,1]
[null,null,7,2,null,1,null,null,9,4,null,null,null,null,7,1,4,null,null,2]
[null,null,9,4,null,null,8,6,null,null,null,null,null,null,null,null,null,5,null,null,6]
[null,null,null,7,1,null,null,null,null,5,null,null,2,7,1,8,null,null,9,3]
[null,2,8,null,null,3,null,9,null,7,null,null,null,8,null,9,3,null,5]
["*",null,5,null,8,null,null,1,null,null,null,null,null,9]
[]
[null,"NO.",57,null,null,{"$f":"COUNTA(B312:J320)","v":34},"ランク",null,"普通",null,null,null,"NO.",58,null,null,{"$f":"COUNTA(M312:U320)","v":34},"ランク",null,"普通"]
[null,null,null,4,null,null,null,2,null,3,null,null,2,null,null,null,null,null,null,9,3]
[null,1,5,null,null,2,6,null,8,4,null,null,9,null,null,null,3,8,null,null,2]
[null,null,2,9,8,null,null,null,null,1,null,null,null,1,3,2,null,null,8]
[null,null,null,6,null,null,null,null,2,null,null,null,null,null,6,null,5,1,null,null,8]
[null,4,9,null,null,null,null,5,1,null,null,null,7,5,4,null,2,null,null,6,1]
[null,null,null,null,4,5,9,6,3,null,null,null,1,null,null,null,null,null,5]
[null,null,null,8,null,null,1,3,null,null,null,null,null,7,null,null,null,4]
[null,null,null,5,null,8,null,null,null,6,null,null,6,null,null,null,7,9,null,null,4]
["*",7,3,null,null,6,null,null,9,null,null,null,null,4,null,6,8,null,null,7,9]
[]
[null,"NO.",59,null,null,{"$f":"COUNTA(B323:J331)","v":34},"ランク",null,"普通",null,null,null,"NO.",60,null,null,{"$f":"COUNTA(M323:U331)","v":34},"ランク",null,"普通"]
[null,8,null,3,null,null,null,2,7,null,null,null,7,4,null,null,9,null,null,3]
[null,null,null,9,null,null,null,null,null,8,null,null,6,null,1,7,2,5,null,null,8]
[null,5,1,7,8,null,2,null,3,null,null,null,2,5,null,null,null,null,6]
[null,2,3,4,6,1,9,null,5,null,null,null,4,null,null,5,7,null,1,null,6]
[null,null,null,5,null,3,null,4,6,null,null,null,null,1,null,null,null,2]
[null,null,null,null,null,5,4,null,null,null,null,null,null,null,null,null,null,9,null,null,4]
[null,null,7,2,null,8,null,null,null,null,null,null,null,null,7,null,null,8,null,null,9]
[null,null,null,8,null,null,6,null,9,null,null,null,8,9,null,2,1,null,4,null,3]
["*",null,5,null,null,null,null,7,null,3,null,null,3,null,null,null,null,null,8,null,7]
[]
[null,"NO.",61,null,null,{"$f":"COUNTA(B334:J342)","v":34},"ランク",null,"普通",null,null,null,"NO.",62,null,null,{"$f":"COUNTA(M334:U342)","v":34},"ランク",null,"普通"]
[null,null,null,1,null,null,6,null,null,3,null,null,3,6,null,7,null,null,2,8]
[null,3,4,2,7,null,9,6,null,null,null,null,null,1,null,null,null,4,5,null,3]
[null,6,5,null,8,2,null,null,null,1,null,null,null,5,null,null,2,null,4,9]
[null,9,null,null,null,null,5,null,1,4,null,null,null,null,null,2,4,null,3]
[null,null,2,null,null,4,null,null,null,null,null,null,1,4,null,null,5,3,8,6]
[null,null,null,4,2,9,null,null,null,6,null,null,5,3,null,6]
[null,null,null,3,null,7,8,null,null,null,null,null,null,null,null,null,null,9,null,2,7]
[null,4,6,7,null,3,null,null,8,null,null,null,4,null,null,null,null,null,9]
["*",null,null,null,null,null,null,null,9,7,null,null,null,7,1,null,8,2]
[]
[null,"NO.",63,null,null,{"$f":"COUNTA(B345:J353)","v":34},"ランク",null,"普通",null,null,null,"NO.",64,null,null,{"$f":"COUNTA(M345:U353)","v":34},"ランク",null,"普通"]
[null,1,8,null,null,6,null,2,7,null,null,null,9,null,7,2,3,null,4]
[null,null,null,5,null,null,2,null,null,1,null,null,1,null,null,5,null,4,3,null,9]
[null,4,null,null,null,9,null,null,3,5,null,null,null,null,3]
[null,8,4,7,3,null,5,1,6,null,null,null,3,7,4,null,null,null,6,1]
[null,null,null,1,null,8,null,null,null,3,null,null,6,5,null,null,1,7,null,null,3]
[null,null,null,null,4,null,null,null,null,null,null,null,8,null,null,6,5,null,9]
[null,null,9,4,2,null,7,3,null,null,null,null,7,null,1,null,2,8]
[null,7,1,null,8,null,null,null,null,6,null,null,null,null,null,null,null,null,8,9]
["*",2,null,null,null,null,null,9,null,null,null,null,null,6,null,null,4,5]
[]
[null,"NO.",65,null,null,{"$f":"COUNTA(B356:J364)","v":34},"ランク",null,"普通",null,null,null,"NO.",66,null,null,{"$f":"COUNTA(M356:U364)","v":34},"ランク",null,"普通"]
[null,1,null,3,6,null,7,null,8,null,null,null,1,null,null,null,6,3,null,8,5]
[null,null,7,9,2,null,3,6,null,null,null,null,8,2,null,9,null,5,null,3]
[null,4,null,6,1,null,null,null,null,3,null,null,null,null,5,2,8,null,null,7]
[null,null,1,null,null,null,5,4,null,null,null,null,null,null,8,null,null,2,null,5]
[null,null,4,5,7,1,null,8,null,6,null,null,null,7,4,5]
[null,null,null,null,null,null,null,null,null,null,null,null,null,null,3,8,null,null,null,6]
[null,2,null,null,null,null,null,null,null,null,null,null,3,null,null,null,9]
[null,null,9,null,5,null,4,2,null,null,null,null,4,5,1,null,null,8,null,9,6]
["*",7,null,4,8,null,null,3,9,1,null,null,7,null,2,6]
[]
[null,"NO.",67,null,null,{"$f":"COUNTA(B367:J375)","v":33},"ランク",null,"普通",null,null,null,"NO.",68,null,null,{"$f":"COUNTA(M367:U375)","v":33},"ランク",null,"普通"]
[null,null,null,1,null,5,null,null,null,null,null,null,9,null,null,8]
[null,null,7,null,8,null,null,null,1,9,null,null,6,7,null,1,null,null,2,5,3]
[null,8,4,9,7,2,null,null,null,3,null,null,null,1,null,null,2,6]
[null,null,null,4,null,null,5,null,null,1,null,null,5,null,null,null,null,7,1,8]
[null,null,2,null,null,4,null,3,null,null,null,null,7,4,null,6,8,2]
[null,3,null,5,null,7,2,null,null,6,null,null,null,3,null,null,null,5,null,null,6]
[null,null,null,6,null,8,null,null,5,null,null,null,null,9,null,null,7,1,null,null,4]
[null,7,null,null,null,null,3,null,4,null,null,null,null,null,null,null,null,4]
["*",null,null,8,null,1,6,9,null,null,null,null,4,null,7,null,null,8,3,null,9]
[]
[null,"NO.",69,null,null,{"$f":"COUNTA(B378:J386)","v":33},"ランク",null,"普通",null,null,null,"NO.",70,null,null,{"$f":"COUNTA(M378:U386)","v":33},"ランク",null,"普通"]
[null,null,null,null,8,null,6,3,null,9,null,null,8,null,1,6,null,null,7]
[null,null,null,1,null,null,2,null,null,null,null,null,null,null,2,null,4,null,null,null,1]
[null,9,2,null,null,7,null,null,null,1,null,null,5,null,7,null,2,null,3]
[null,5,null,3,null,4,null,null,9,6,null,null,null,null,null,4,5,3,6]
[null,7,9,null,1,null,5,null,null,4,null,null,null,null,4,null,null,null,5,null,3]
[null,null,null,4,null,null,3,null,null,5,null,null,null,6,5,null,7,1]
[null,null,7,null,6,null,null,null,null,2,null,null,7,null,9,8,null,2,4]
[null,2,null,null,null,null,null,null,8,null,null,null,null,8,6,null,null,null,9,null,2]
["*",null,4,6,7,null,8,9,null,null,null,null,4,null,null,null,null,9]
[]
[null,"NO.",71,null,null,{"$f":"COUNTA(B389:J397)","v":33},"ランク",null,"普通",null,null,null,"NO.",72,null,null,{"$f":"COUNTA(M389:U397)","v":33},"ランク",null,"普通"]
[null,null,null,null,4,6,9,3,1,null,null,null,null,9,null,null,null,4,null,2,5]
[null,null,1,2,null,null,null,null,null,8,null,null,2,4,null,null,null,7,3,1]
[null,null,3,4,2,null,null,null,7,null,null,null,1,null,null,2]
[null,null,null,7,5,null,2,9,null,6,null,null,null,null,null,null,7,9,null,6]
[null,null,6,9,1,null,null,null,3,null,null,null,null,7,4,6,null,5,null,8,3]
[null,4,null,null,null,null,6,null,null,null,null,null,5,6]
[null,7,null,1,null,5,null,null,8,3,null,null,null,null,9,null,8,3,6]
[null,5,null,null,null,2,null,null,9,null,null,null,7,null,5,null,null,1,9]
["*",null,null,null,8,null,7,null,null,null,null,null,null,3,null,9,null,null,null,null,8]
[]
[null,"NO.",73,null,null,{"$f":"COUNTA(B400:J408)","v":33},"ランク",null,"普通",null,null,null,"NO.",74,null,null,{"$f":"COUNTA(M400:U408)","v":33},"ランク",null,"普通"]
[null,null,4,7,3,null,null,null,null,null,null,null,null,5,null,2,1,null,9]
[null,null,9,1,7,null,2,null,5,3,null,null,null,1,null,null,null,5,null,null,3]
[null,null,3,null,null,8,null,1,null,9,null,null,3,4,null,6,null,null,null,1,2]
[null,4,null,null,null,null,3,null,null,6,null,null,null,null,4,5,null,8,null,null,6]
[null,null,2,null,null,7,6,null,null,null,null,null,8,null,null,null,null,1,4]
[null,null,null,8,null,null,5,3,1,null,null,null,5,null,null,7,null,null,null,null,1]
[null,null,1,null,null,5,7,2,null,null,null,null,null,7,null,3,null,null,null,6,9]
[null,null,6,null,null,null,8,null,9,null,null,null,4,3,9,8,6]
["*",7,null,5,null,null,null,null,4,null,null,null,null,null,null,null,7,null,null,2]
[]
[null,"NO.",75,null,null,{"$f":"COUNTA(B411:J419)","v":33},"ランク",null,"普通",null,null,null,"NO.",76,null,null,{"$f":"COUNTA(M411:U419)","v":33},"ランク",null,"普通"]
[null,null,7,null,null,null,null,null,null,4,null,null,null,null,6,null,8,null,null,1]
[null,5,null,4,null,2,null,null,1,null,null,null,1,4,null,3,null,5,null,9]
[null,1,null,null,null,5,8,3,null,null,null,null,null,null,null,null,7,2,4,3]
[null,9,null,null,5,null,null,null,6,null,null,null,5,null,1,7,null,null,6]
[null,null,4,null,null,7,3,null,9,5,null,null,null,null,7,null,null,null,null,4,5]
[null,7,null,null,8,null,null,null,2,null,null,null,4,null,null,5,2]
[null,null,null,7,1,3,null,9,null,6,null,null,null,7,4,null,1,8,null,null,9]
[null,null,3,null,null,null,9,8,null,null,null,null,2,8,null,9,null,null,null,6,1]
["*",null,6,9,null,8,null,2,null,null,null,null,null,null,null,null,3]
[]
[null,"NO.",77,null,null,{"$f":"COUNTA(B422:J430)","v":33},"ランク",null,"普通",null,null,null,"NO.",78,null,null,{"$f":"COUNTA(M422:U430)","v":33},"ランク",null,"普通"]
[null,null,1,null,7,null,null,null,null,2,null,null,7,2,null,null,6]
[null,7,null,null,null,null,2,null,3,1,null,null,9,null,3,7,null,null,null,null,5]
[null,2,null,null,4,5,null,null,7,null,null,null,null,null,1,4,2,null,8,null,3]
[null,3,null,null,5,null,null,null,9,null,null,null,null,null,null,6,null,2,null,4,9]
[null,null,4,null,null,null,7,6,null,8,null,null,null,1]
[null,null,null,1,6,9,null,2,5,null,null,null,null,9,4,5,3,null,6]
[null,6,null,7,8,4,null,null,null,null,null,null,null,null,null,2,null,null,7]
[null,5,null,null,null,null,null,null,8,7,null,null,null,3,7,8,null,6,1,2]
["*",null,null,null,3,null,null,9,4,null,null,null,null,8,null,null,5,null,9]
[]
[null,"NO.",79,null,null,{"$f":"COUNTA(B433:J441)","v":33},"ランク",null,"普通",null,null,null,"NO.",80,null,null,{"$f":"COUNTA(M433:U441)","v":33},"ランク",null,"普通"]
[null,5,null,null,4,null,2,7,3,null,null,null,9,null,7,1,null,2,4,null,3]
[null,2,null,4,8,5,null,null,null,6,null,null,null,5,null,null,null,null,null,2]
[null,null,null,1,9,null,null,4,null,null,null,null,null,1,null,null,6,null,null,null,5]
[null,1,null,null,null,null,5,null,4,7,null,null,6,null,null,null,7,5,null,1]
[null,null,2,null,null,null,4,6,null,null,null,null,4,2]
[null,4,null,null,null,8,9,null,null,null,null,null,null,null,null,4,2,null,9,null,6]
[null,null,1,null,null,9,null,null,null,null,null,null,3,null,6,null,null,1,null,7,8]
[null,null,null,9,null,null,null,null,6,3,null,null,null,8,null,null,3,7]
["*",null,4,7,3,null,8,null,null,9,null,null,null,7,null,5,8,null,null,null,9]
[]
[null,"NO.",81,null,null,{"$f":"COUNTA(B444:J452)","v":33},"ランク",null,"普通",null,null,null,"NO.",82,null,null,{"$f":"COUNTA(M444:U452)","v":33},"ランク",null,"普通"]
[null,4,null,5,null,null,8,null,2,null,null,null,7,null,null,null,2,6,null,null,9]
[null,null,6,null,null,3,null,null,null,9,null,null,null,null,null,null,4,null,6,3]
[null,3,null,null,null,5,null,1,null,null,null,null,1,null,5,null,null,null,2]
[null,7,null,3,5,null,1,null,null,4,null,null,null,1,null,null,8,null,null,6]
[null,null,null,null,null,7,null,null,8,1,null,null,null,4,7,null,6]
[null,null,null,4,8,null,9,6,null,null,null,null,null,2,6,3,5,null,null,7,1]
[null,8,null,null,null,null,6,null,4,null,null,null,null,5,8,null,9,3]
[null,6,3,null,7,null,null,null,null,2,null,null,null,null,null,null,null,null,null,4,8]
["*",5,null,null,null,null,2,9,7,null,null,null,null,7,null,4,null,8,9,2]
[]
[null,"NO.",83,null,null,{"$f":"COUNTA(B455:J463)","v":33},"ランク",null,"普通",null,null,null,"NO.",84,null,null,{"$f":"COUNTA(M455:U463)","v":33},"ランク",null,"普通"]
[null,null,5,null,1,4,null,null,6,8,null,null,null,1,6,2,null,null,3]
[null,null,4,null,null,null,3,1,5,null,null,null,3,2,null,null,null,null,8]
[null,null,8,1,2,null,null,3,null,null,null,null,null,null,null,7,null,6,5]
[null,6,2,null,5,null,null,null,7,null,null,null,null,null,null,4,1,null,9,7,6]
[null,5,null,4,7,null,null,6,9,null,null,null,null,null,4,5,null,7]
[null,null,null,null,null,null,9,null,null,5,null,null,1,null,2]
[null,2,null,null,4,8,null,7,null,null,null,null,null,4,9,null,null,5,null,null,8]
[null,null,null,3,6,null,null,null,null,9,null,null,2,null,null,8,7,4,null,9,3]
["*",null,null,7,null,null,null,2,null,null,null,null,null,3,7,9]
[]
[null,"NO.",85,null,null,{"$f":"COUNTA(B466:J474)","v":33},"ランク",null,"普通",null,null,null,"NO.",86,null,null,{"$f":"COUNTA(M466:U474)","v":33},"ランク",null,"普通"]
[null,null,1,5,null,null,null,null,3,4,null,null,5,null,4,8,2,null,1,null,3]
[null,3,null,4,null,1,null,2,null,9,null,null,null,1,6,9,5,7,null,2]
[null,null,null,null,2,null,3,null,null,null,null,null,null,null,null,null,null,null,5]
[null,null,4,null,null,7,6,null,null,1,null,null,null,null,3,1]
[null,null,7,null,null,2,null,null,null,null,null,null,9,null,null,null,null,8,null,4,6]
[null,null,9,null,null,null,5,null,2,6,null,null,4,null,null,null,7,5,null,9]
[null,null,5,7,null,6,null,null,8,null,null,null,1,null,null,7,8,null,null,3]
[null,8,2,6,null,5,null,9,4,7,null,null,null,7,null,null,null,1,null,null,2]
["*",null,null,null,null,8,null,null,null,null,null,null,null,null,8,null,6,null,9]
[]
[null,"NO.",87,null,null,{"$f":"COUNTA(B477:J485)","v":33},"ランク",null,"普通",null,null,null,"NO.",88,null,null,{"$f":"COUNTA(M477:U485)","v":33},"ランク",null,"普通"]
[null,9,2,null,4,null,8,3,null,null,null,null,6,null,null,8,null,null,3,2,5]
[null,4,null,null,3,1,null,9,null,null,null,null,null,1,7,null,3,2]
[null,null,null,1,2,null,null,null,null,6,null,null,null,null,null,9,null,null,null,null,7]
[null,null,null,null,1,null,2,7,4,null,null,null,3,null,5]
[null,null,null,4,null,null,null,null,9,null,null,null,4,null,null,2,null,3]
[null,null,3,8,null,5,null,null,6,null,null,null,null,null,null,5,null,9,4,6,3]
[null,null,null,null,5,2,null,null,null,9,null,null,null,null,4,null,null,5,null,1]
[null,1,5,null,6,null,3,null,null,7,null,null,7,6,null,1,null,8]
["*",null,7,null,8,null,null,5,null,null,null,null,null,null,null,7,6,4,8,9]
[]
[null,"NO.",89,null,null,{"$f":"COUNTA(B488:J496)","v":33},"ランク",null,"普通",null,null,null,"NO.",90,null,null,{"$f":"COUNTA(M488:U496)","v":33},"ランク",null,"普通"]
[null,null,2,null,9,null,null,null,4,null,null,null,9,null,null,null,1,null,null,null,3]
[null,6,9,null,null,5,2,3,1,null,null,null,6,null,2,null,5,null,null,null,7]
[null,7,null,1,null,6,null,null,2,null,null,null,1,8,5,2,null,null,null,null,4]
[null,null,null,null,null,null,5,2,null,3,null,null,5,null,4,null,null,null,3]
[null,2,4,null,null,9,null,7,null,6,null,null,null,null,9,null,2,5,6,7]
[null,5,null,null,null,null,8,null,null,null,null,null,7,null,null,null,null,1,null,4]
[null,null,null,null,8,null,null,1,null,null,null,null,null,7,null,null,8,6,null,9]
[null,4,null,3,null,1,null,8,null,null,null,null,null,null,6,null,null,9,null,3]
["*",null,null,7,null,null,6,9,null,5,null,null,null,null,null,null,3,null,8,null,6]
[]
[null,"NO.",91,null,null,{"$f":"COUNTA(B499:J507)","v":33},"ランク",null,"普通",null,null,null,"NO.",92,null,null,{"$f":"COUNTA(M499:U507)","v":33},"ランク",null,"普通"]
[null,8,9,null,2,null,null,null,null,6,null,null,9,4,null,null,null,null,2,6,3]
[null,null,1,null,null,null,null,4,2,null,null,null,null,2,null,null,4,5]
[null,null,2,6,5,null,null,3,null,null,null,null,3,1,null,null,2,null,5]
[null,null,null,2,6,4,null,null,null,null,null,null,5,null,8,null,null,4,6,9]
[null,5,null,4,1,8,null,null,6,null,null,null,null,6,null,5,null,null,null,null,7]
[null,null,null,null,null,5,2,8,null,9,null,null,4,null,null,null,null,6,null,8]
[null,null,7,null,null,null,null,9,null,3,null,null,6,null,1,null,null,7,9,3]
[null,3,null,null,7,null,8,null,null,null,null,null,null,null,null,null,9]
["*",null,null,null,9,null,3,6,7,null,null,null,7,9,null,8,null,null,1]
[]
[null,"NO.",93,null,null,{"$f":"COUNTA(B510:J518)","v":33},"ランク",null,"普通",null,null,null,"NO.",94,null,null,{"$f":"COUNTA(M510:U518)","v":33},"ランク",null,"普通"]
[null,null,1,null,6,null,8,3,5,4,null,null,null,null,1,3,7,null,4]
[null,null,null,null,null,9,4,null,null,null,null,null,null,null,8,null,null,4]
[null,5,6,null,3,null,2,null,null,null,null,null,4,null,null,1,2,null,9,3,6]
[null,null,5,1,null,null,null,null,null,2,null,null,8,null,null,null,9,5,null,6]
[null,3,null,7,null,null,null,null,null,null,null,null,null,4,5,null,null,3]
[null,4,null,null,7,5,1,6,null,null,null,null,3,null,null,null,null,null,null,2,7]
[null,null,7,null,null,null,null,null,null,null,null,null,1,7,9,8,3]
[null,1,null,null,8,3,5,null,2,9,null,null,null,null,4,null,null,null,7]
["*",null,3,9,4,null,null,null,null,6,null,null,2,null,null,5,null,null,6,9]
[]
[null,"NO.",95,null,null,{"$f":"COUNTA(B521:J529)","v":33},"ランク",null,"普通",null,null,null,"NO.",96,null,null,{"$f":"COUNTA(M521:U529)","v":33},"ランク",null,"普通"]
[null,null,null,7,null,3,null,null,9,null,null,null,null,null,4,1,6,null,null,null,3]
[null,1,4,9,null,null,5,3,8,null,null,null,9,1,6,null,3,2,7,5,4]
[null,null,null,8,null,null,2,null,null,1,null,null,3]
[null,null,null,null,null,null,9,null,null,null,null,null,null,null,2,null,8,4,3]
[null,4,null,null,3,5,null,null,2,6,null,null,1,null,null,null,null,null,null,null,6]
[null,6,null,2,1,null,null,null,5,null,null,null,null,4,8,null,5,null,null,null,9]
[null,null,null,6,4,null,7,null,null,8,null,null,5,null,null,2,null,null,null,9,7]
[null,9,null,null,null,null,null,7,3,null,null,null,null,6]
["*",7,null,4,null,8,null,null,null,9,null,null,4,7,null,null,1,8,null,3]
[]
[null,"NO.",97,null,null,{"$f":"COUNTA(B532:J540)","v":32},"ランク",null,"普通",null,null,null,"NO.",98,null,null,{"$f":"COUNTA(M532:U540)","v":32},"ランク",null,"普通"]
[null,null,3,null,2,null,7,null,null,null,null,null,null,3,6,2,null,7,5]
[null,null,5,null,null,null,null,null,9,null,null,null,2,null,null,null,3,null,6]
[null,null,1,null,6,null,4,3,8,2,null,null,null,1,null,6,null,null,3,null,2]
[null,null,7,null,null,8,null,null,6,null,null,null,null,null,1,null,null,null,null,6,5]
[null,null,4,null,3,null,null,null,null,null,null,null,null,4,null,null,7,9]
[null,9,2,null,5,null,null,4,7,null,null,null,null,null,8,5,null,null,null,7]
[null,null,null,2,null,6,null,null,null,1,null,null,null,null,2,null,6,null,null,4]
[null,4,9,7,null,2,null,null,null,null,null,null,4,9,7,1,2,null,8]
["*",1,null,null,null,null,8,null,5,9,null,null,null,null,null,null,null,8,null,null,9]
[]
[null,"NO.",99,null,null,{"$f":"COUNTA(B543:J551)","v":32},"ランク",null,"普通",null,null,null,"NO.",100,null,null,{"$f":"COUNTA(M543:U551)","v":32},"ランク",null,"普通"]
[null,null,5,null,null,7,2,8,1,null,null,null,2,null,5,null,7,null,null,null,1]
[null,null,null,2,null,null,9,3,null,null,null,null,null,1,null,8,4,2,null,5]
[null,9,1,null,null,null,null,2,null,null,null,null,null,null,null,9,null,null,3,null,2]
[null,null,null,null,9,5,null,4,3,null,null,null,null,null,null,null,2,4,null,8,3]
[null,3,2,null,4,null,null,null,null,null,null,null,null,7,null,5]
[null,null,4,8,2,null,1,null,null,6,null,null,4,null,9,null,null,null,null,6]
[null,null,6,null,null,1,null,9,null,null,null,null,null,9,null,null,null,null,null,null,8]
[null,null,null,7,8,null,null,null,null,null,null,null,null,6,2,3,1,null,null,null,9]
["*",null,null,4,null,null,5,6,null,7,null,null,null,null,7,null,8,null,null,1,6]
[]
[null,"NO.",101,null,null,{"$f":"COUNTA(B554:J562)","v":32},"ランク",null,"普通",null,null,null,"NO.",102,null,null,{"$f":"COUNTA(M554:U562)","v":32},"ランク",null,"普通"]
[null,null,5,6,7,9,null,1,null,8,null,null,null,2,null,null,null,null,null,null,3]
[null,null,4,1,null,null,2,3,null,null,null,null,null,null,null,null,null,3,5,7]
[null,null,null,null,null,null,3,null,4,null,null,null,null,1,3,2,7]
[null,null,6,null,null,3,null,null,null,7,null,null,3,null,4,9,null,null,null,null,6]
[null,null,8,4,2,null,null,5,6,null,null,null,2,9,null,7,5,null,null,8]
[null,null,null,null,null,5,9,8,null,null,null,null,8,null,6,4,null,null,1]
[null,null,null,null,null,2,null,7,null,null,null,null,7,null,9,null,2,null,null,6]
[null,null,null,7,8,null,5,9,3,null,null,null,null,null,null,null,9,null,4]
["*",null,1,3,null,null,null,null,null,null,null,null,null,null,5,8,1,null,null,null,9]
[]
[null,"NO.",103,null,null,{"$f":"COUNTA(B565:J573)","v":32},"ランク",null,"普通",null,null,null,"NO.",104,null,null,{"$f":"COUNTA(M565:U573)","v":32},"ランク",null,"普通"]
[null,null,6,1,2,null,null,null,null,3,null,null,2,null,5,null,null,null,null,null,6]
[null,null,2,null,9,null,null,null,null,1,null,null,null,null,7,null,2,4,null,3]
[null,7,9,null,1,6,null,2,null,null,null,null,null,1,null,6,null,null,2]
[null,1,null,null,7,null,4,8,null,6,null,null,null,null,6,null,null,8,1,4]
[null,4,null,3,null,9,null,null,null,null,null,null,8,7,null,null,1]
[null,null,null,null,5,null,null,3,9,null,null,null,null,4,1,5,9,null,6]
[null,null,3,null,8,7,null,5,null,null,null,null,null,null,null,8,null,null,3,null,9]
[null,null,4,7,null,null,null,null,null,8,null,null,null,5,null,2,4,null,null,8]
["*",null,null,null,null,5,null,null,null,9,null,null,7,null,9,3]
[]
[null,"NO.",105,null,null,{"$f":"COUNTA(B576:J584)","v":32},"ランク",null,"普通",null,null,null,"NO.",106,null,null,{"$f":"COUNTA(M576:U584)","v":32},"ランク",null,"普通"]
[null,7,null,6,null,null,8,null,null,9,null,null,null,null,1,7,5]
[null,null,null,4,2,null,null,null,null,null,null,null,null,null,8,9,3,null,5]
[null,null,null,1,null,null,4,5,2,3,null,null,null,null,7,2,null,null,3,null,9]
[null,null,8,5,7,null,null,null,9,6,null,null,null,3,null,null,9,null,2,6]
[null,null,4,null,null,1,5,3,null,null,null,null,null,2,9,1,null,5,null,4]
[null,null,null,null,null,6,null,null,null,5,null,null,1,4,null,null,null,8]
[null,null,3,7,1,5,null,null,null,4,null,null,null,null,4,6,7,null,1,9]
[null,null,null,null,null,null,null,2,null,null,null,null,6,7,null,8]
["*",null,6,null,null,8,7,9,null,null,null,null,null,null,null,null,null,null,null,8]
[]
[null,"NO.",107,null,null,{"$f":"COUNTA(B587:J595)","v":32},"ランク",null,"普通",null,null,null,"NO.",108,null,null,{"$f":"COUNTA(M587:U595)","v":32},"ランク",null,"普通"]
[null,null,4,null,null,6,null,null,null,7,null,null,null,5,1,null,null,null,null,null,2]
[null,null,5,1,null,9,7,4,null,3,null,null,null,null,null,1,null,4,null,null,3]
[null,3,null,null,null,2,1,null,null,null,null,null,null,8,null,2,3,null,1,5]
[null,4,null,null,null,null,5,6,null,8,null,null,4,null,null,5,9,null,null,2]
[null,null,3,2,null,1,null,null,null,5,null,null,null,3,2,null,null,8,7,4]
[null,7,null,null,null,3,null,null,1,null,null,null,null,null,8,null,null,null,null,null,6]
[null,null,9,7,null,5,null,8,null,null,null,null,null,2,null,8,null,9,null,6,7]
[null,null,null,null,1,null,null,null,9,6,null,null,7,4,null,null,null,null,9,1]
["*",null,2,null,null,8,null,null,null,null,null,null,null,null,null,null,6]
[]
[null,"NO.",109,null,null,{"$f":"COUNTA(B598:J606)","v":32},"ランク",null,"普通",null,null,null,"NO.",110,null,null,{"$f":"COUNTA(M598:U606)","v":32},"ランク",null,"普通"]
[null,6,null,null,null,null,1,3,null,null,null,null,null,6,4,null,9,null,7,3]
[null,null,4,null,8,null,null,1,null,7,null,null,1,7,null,null,3,8,null,5]
[null,7,null,1,2,4,null,null,null,null,null,null,5,9,null,null,2]
[null,null,null,9,null,1,5,null,8,2,null,null,6,null,null,null,4,5,8]
[null,null,null,5,null,3,2,null,null,6,null,null,4,5,8,null,null,null,null,6]
[null,null,null,4,7,null,null,null,null,null,null,null,null,null,null,1,null,null,null,2]
[null,null,null,6,null,null,4,null,null,null,null,null,null,null,null,null,null,null,null,7,9]
[null,null,8,7,null,null,null,9,5,null,null,null,null,null,null,8]
["*",null,null,2,9,8,null,null,null,3,null,null,7,1,5,2,null,9,3]
[]
[null,"NO.",111,null,null,{"$f":"COUNTA(B609:J617)","v":32},"ランク",null,"普通",null,null,null,"NO.",112,null,null,{"$f":"COUNTA(M609:U617)","v":32},"ランク",null,"普通"]
[null,null,null,null,null,6,8,null,3,null,null,null,5,null,null,null,null,null,3,2]
[null,null,null,6,null,null,null,null,null,7,null,null,4,1,null,2,null,6]
[null,4,1,5,3,2,null,null,null,8,null,null,null,null,null,7,null,null,null,null,8]
[null,null,4,8,null,9,null,null,5,null,null,null,null,null,5,3,null,null,6,9]
[null,null,9,null,null,5,3,null,null,6,null,null,null,4,null,6,9,8,1]
[null,null,6,null,8,null,2,null,null,9,null,null,null,3,null,null,null,5,7,8]
[null,null,null,4,7,null,null,2,null,null,null,null,null,6,7,null,2,null,9,null,1]
[null,1,null,null,null,null,null,null,9,null,null,null,null,null,null,null,null,7,null,4]
["*",null,7,null,null,8,1,null,null,5,null,null,null,9,null,5,8]
[]
[null,"NO.",113,null,null,{"$f":"COUNTA(B620:J628)","v":32},"ランク",null,"普通",null,null,null,"NO.",114,null,null,{"$f":"COUNTA(M620:U628)","v":32},"ランク",null,"普通"]
[null,null,2,null,null,null,5,null,null,null,null,null,null,null,3,null,4,null,1,null,9]
[null,1,null,null,null,null,null,2,5,3,null,null,1,null,2,6,null,null,null,null,4]
[null,null,6,4,null,7,2,null,8,null,null,null,9,8,4,null,2,null,3]
[null,9,null,null,5,null,null,3,null,null,null,null,4,null,8,null,7,null,6,null,5]
[null,null,null,null,8,null,7,null,6,9,null,null,null,2,null,8,1,5,null,4]
[null,null,4,6,null,null,null,5,null,null,null,null,5,null,null,null,9]
[null,4,5,1,null,8,null,null,null,2,null,null,null,7,null,3,null,null,null,9]
[null,null,8,null,null,null,null,null,9,null,null,null,null,1,6,null,null,7,null,null,2]
["*",null,null,7,4,null,1,null,3]
[]
[null,"NO.",115,null,null,{"$f":"COUNTA(B631:J639)","v":32},"ランク",null,"普通",null,null,null,"NO.",116,null,null,{"$f":"COUNTA(M631:U639)","v":32},"ランク",null,"普通"]
[null,null,null,1,null,7,9,6,null,3,null,null,null,8,null,null,null,null,5,3]
[null,8,null,null,null,2,1,null,null,null,null,null,null,3,null,null,2,null,null,4]
[null,4,7,6,null,5,null,null,1,null,null,null,null,1,null,null,7,4,null,null,6]
[null,null,2,4,null,null,null,null,null,7,null,null,null,null,9,null,1,null,2,null,5]
[null,null,null,8,null,3,5,null,null,1,null,null,null,4,null,5,null,null,6,1]
[null,null,null,null,null,9,null,null,null,6,null,null,1,null,null,2,null,7]
[null,null,3,null,5,8,2,null,6,null,null,null,null,9,null,6,null,null,null,8,4]
[null,7,8,null,null,null,null,null,null,9,null,null,null,null,4,null,3,8,1,null,9]
["*",null,4,null,null,null,null,null,3,null,null,null,5,7]
[]
[null,"NO.",117,null,null,{"$f":"COUNTA(B642:J650)","v":32},"ランク",null,"普通",null,null,null,"NO.",118,null,null,{"$f":"COUNTA(M642:U650)","v":32},"ランク",null,"普通"]
[null,null,9,null,null,2,3,null,null,5,null,null,null,null,4,null,1,null,3]
[null,null,2,3,null,null,5,7,null,4,null,null,5,null,null,null,null,2,8]
[null,null,1,null,null,null,7,null,3,6,null,null,1,null,8,4,null,null,null,null,6]
[null,null,8,1,null,3,null,6,null,null,null,null,null,3,5,null,null,8,null,6,7]
[null,null,null,4,7,null,null,null,8,2,null,null,null,null,null,5,null,3,9]
[null,null,null,null,null,5,null,null,4,null,null,null,null,4,1,null,null,6,null,null,5]
[null,3,null,null,8,9,null,null,null,null,null,null,null,null,7,null,6,null,null,9]
[null,null,null,null,null,null,null,5,null,null,null,null,null,null,2,9,8,null,null,7]
["*",6,7,null,null,null,1,null,2,9,null,null,null,1,null,null,null,null,null,8,2]
[]
[null,"NO.",119,null,null,{"$f":"COUNTA(B653:J661)","v":32},"ランク",null,"普通",null,null,null,"NO.",120,null,null,{"$f":"COUNTA(M653:U661)","v":32},"ランク",null,"普通"]
[null,null,null,2,null,null,7,null,6,null,null,null,null,null,1,3,null,2,5,7]
[null,8,6,null,null,9,3,null,1,null,null,null,4,null,null,null,null,null,3,null,8]
[null,null,1,null,2,null,null,null,3,4,null,null,null,7,null,null,9,null,2]
[null,2,null,null,null,null,null,null,null,null,null,null,null,null,null,null,null,null,7]
[null,6,null,null,null,4,null,null,null,9,null,null,null,9,null,6,null,5,null,1]
[null,null,9,4,null,2,5,6,8,7,null,null,null,4,2,null,null,8,6]
[null,null,7,null,8,5,null,null,9,3,null,null,2,null,4,8,6,null,9,3,5]
[null,null,null,null,7,null,null,null,null,null,null,null,5,3,null,1,null,null,4]
["*",5,4,null,null,null,null,null,null,1,null,null,7]
[]
[null,"NO.",121,null,null,{"$f":"COUNTA(B664:J672)","v":32},"ランク",null,"普通",null,null,null,"NO.",122,null,null,{"$f":"COUNTA(M664:U672)","v":32},"ランク",null,"普通"]
[null,9,null,1,null,null,4,6,null,null,null,null,null,null,null,3,null,2,8]
[null,null,8,null,null,null,1,null,3,7,null,null,8,null,null,4,5,null,null,3]
[null,3,null,4,null,null,2,null,null,null,null,null,3,1,null,6,null,7,2]
[null,5,null,null,8,null,9,null,2,null,null,null,7,null,9,null,null,5,6]
[null,null,null,null,null,null,3,7,null,null,null,null,null,null,null,8,2,4,null,null,1]
[null,null,4,9,1,null,5,null,6,null,null,null,null,4,null,7,null,null,null,null,3]
[null,null,1,null,3,null,null,null,null,8,null,null,null,9,7,2,null,8,null,null,6]
[null,null,null,2,null,null,8,null,null,null,null,null,null,null,null,5,null,null,null,9]
["*",null,null,7,null,4,6,5,null,9,null,null,null,null,6,null,null,null,null,1]
[]
[null,"NO.",123,null,null,{"$f":"COUNTA(B675:J683)","v":32},"ランク",null,"普通",null,null,null,"NO.",124,null,null,{"$f":"COUNTA(M675:U683)","v":32},"ランク",null,"普通"]
[null,5,8,null,null,null,2,7,3,4,null,null,1,null,null,null,7,null,2,null,8]
[null,null,7,null,6,3,null,null,null,null,null,null,null,9,5,2,null,1,3,4,6]
[null,null,null,1,null,null,null,null,6,null,null,null,null,null,null,null,4,null,null,7]
[null,7,4,null,null,null,9,8,1,null,null,null,null,2,null,null,6,7]
[null,null,null,null,null,null,7,null,null,null,null,null,null,null,7,null,5,null,8]
[null,1,null,null,5,8,null,6,4,null,null,null,null,4,1,null,null,null,null,6,3]
[null,8,6,null,null,null,null,9,null,2,null,null,null,5,6]
[null,null,null,7,9,null,8,3,null,null,null,null,null,1,9,null,3,null,null,null,5]
["*",null,null,5,null,2,null,null,null,null,null,null,null,7,null,8,null,null,null,9]
[]
[null,"NO.",125,null,null,{"$f":"COUNTA(B686:J694)","v":32},"ランク",null,"普通",null,null,null,"NO.",126,null,null,{"$f":"COUNTA(M686:U694)","v":32},"ランク",null,"普通"]
[null,null,null,null,2,null,null,null,null,null,null,null,1,null,null,null,2,null,null,null,7]
[null,null,1,null,3,6,null,null,5,null,null,null,null,null,8,null,7,null,null,5,4]
[null,2,null,8,null,9,null,null,3,6,null,null,2,null,null,null,8,null,3,9]
[null,4,null,9,5,null,null,null,6,7,null,null,4,null,null,2,null,null,null,3]
[null,null,null,1,4,7,null,5,null,null,null,null,null,8,9,5,null,null,null,6]
[null,null,7,null,null,null,null,null,null,1,null,null,null,3,null,null,1,null,4]
[null,null,null,null,null,3,null,null,null,null,null,null,null,null,4,7,null,null,5,1]
[null,7,4,null,null,null,null,null,9,8,null,null,null,7,null,null,6,null,9]
["*",5,9,6,8,2,null,null,1,null,null,null,null,6,1,8,null,4]
[]
[null,"NO.",127,null,null,{"$f":"COUNTA(B697:J705)","v":32},"ランク",null,"普通",null,null,null,"NO.",128,null,null,{"$f":"COUNTA(M697:U705)","v":32},"ランク",null,"普通"]
[null,9,5,null,null,2,4,null,null,null,null,null,9,1,null,5,4,2,3]
[null,null,null,null,null,null,null,1,null,null,null,null,null,null,null,1,null,null,null,null,2]
[null,null,1,7,null,6,null,9,3,null,null,null,null,7,null,null,null,3,null,null,5]
[null,null,null,6,null,5,null,null,null,null,null,null,4,5,null,null,null,8,7,null,1]
[null,null,null,4,6,null,null,null,null,7,null,null,8,6,null,3,null,4]
[null,null,null,null,4,null,2,8,6,null,null,null,null,null,null,null,null,5,null,6]
[null,2,null,8,null,null,5,null,7,null,null,null,null,2,null,null,8,null,null,null,3]
[null,5,7,null,2,null,null,3,9,8,null,null,null,3,9,6,null,null,2]
["*",null,null,null,null,8,null,5,null,1,null,null,7,null,null,null,null,1,9]
[]
[null,"NO.",129,null,null,{"$f":"COUNTA(B708:J716)","v":32},"ランク",null,"普通",null,null,null,"NO.",130,null,null,{"$f":"COUNTA(M708:U716)","v":32},"ランク",null,"普通"]
[null,null,1,null,2,null,null,3,null,9,null,null,9,8,null,2,3]
[null,null,null,4,9,3,6,null,null,8,null,null,5,null,null,null,null,9,1,3]
[null,5,null,null,null,null,null,null,7,null,null,null,null,1,null,null,7,null,null,null,8]
[null,null,4,5,null,null,null,9,3,null,null,null,1,null,null,7,2,null,6]
[null,1,6,2,4,null,null,null,null,null,null,null,2,null,null,null,null,6]
[null,null,null,3,null,null,5,null,2,6,null,null,null,4,3,null,5,null,2,null,9]
[null,8,null,7,null,null,9,null,null,4,null,null,7,5,null,8,6,null,null,4]
[null,null,null,null,5,null,null,8,9,null,null,null,4,3,null,5]
["*",null,null,null,null,8,null,null,null,7,null,null,null,null,null,null,null,null,9,null,7]
[]
[null,"NO.",131,null,null,{"$f":"COUNTA(B719:J727)","v":32},"ランク",null,"普通",null,null,null,"NO.",132,null,null,{"$f":"COUNTA(M719:U727)","v":32},"ランク",null,"普通"]
[null,9,8,null,2,null,null,null,null,3,null,null,1,null,null,null,null,2,3,null,5]
[null,6,null,null,1,9,null,null,null,null,null,null,null,null,9,8,7,null,null,4]
[null,2,1,7,null,null,null,6,null,null,null,null,4,2,null,null,3,null,8]
[null,null,null,2,5,null,3,4,7,null,null,null,7,4,null,null,null,null,9,null,6]
[null,4,5,null,null,null,null,null,null,6,null,null,8,null,null,6,5,null,1,null,3]
[null,3,null,null,null,null,1,8,null,null,null,null,null,null,5,7]
[null,5,4,null,null,null,7,null,null,9,null,null,null,1,7,null,4,8,null,null,9]
[null,null,null,null,8,null,null,null,null,null,null,null,null,6,null,null,null,null,null,8]
["*",7,null,3,4,null,null,1,null,5,null,null,null,null,null,3,null,null,null,null,2]
[]
[null,"NO.",133,null,null,{"$f":"COUNTA(B730:J738)","v":32},"ランク",null,"普通",null,null,null,"NO.",134,null,null,{"$f":"COUNTA(M730:U738)","v":32},"ランク",null,"普通"]
[null,8,null,null,2,null,null,null,5,3,null,null,null,9,null,null,3,null,null,null,6]
[null,1,6,2,8,null,null,null,4,null,null,null,6,null,null,1,null,null,3,null,9]
[null,null,null,null,null,null,6,1,null,2,null,null,1,3,null,null,2,9,null,null,7]
[null,4,9,5,null,7,null,null,null,6,null,null,null,null,null,null,null,null,null,9]
[null,null,null,null,null,null,null,null,7,5,null,null,null,8,4,5,null,null,7,null,3]
[null,null,null,null,9,5,null,null,null,4,null,null,null,null,null,7,null,4,6]
[null,null,null,8,null,6,null,null,9,null,null,null,null,null,null,3,null,1,5,7]
[null,null,3,7,4,null,null,null,null,null,null,null,null,7,null,2,8,null,9,null,4]
["*",null,null,1,null,8,null,3,null,7,null,null,4,5]
[]
[null,"NO.",135,null,null,{"$f":"COUNTA(B741:J749)","v":32},"ランク",null,"普通",null,null,null,"NO.",136,null,null,{"$f":"COUNTA(M741:U749)","v":32},"ランク",null,"普通"]
[null,6,null,1,null,4,2,3,8,null,null,null,null,2,1,null,null,null,null,4]
[null,3,null,null,null,1,null,6,null,null,null,null,3,5,null,1,null,2,null,9]
[null,7,null,8,null,null,null,null,null,null,null,null,null,null,null,null,5,null,3]
[null,null,null,null,null,null,null,4,9,null,null,null,null,6,null,9,null,8]
[null,null,1,4,null,null,null,null,null,6,null,null,2,null,null,5,3,null,null,6,8]
[null,null,null,7,2,5,4,8,null,null,null,null,null,4,8,null,null,null,null,7]
[null,null,7,null,6,null,null,5,null,null,null,null,null,9,2,7,null,null,4]
[null,null,null,6,9,null,8,null,2,null,null,null,null,null,null,null,null,null,null,1]
["*",null,null,3,null,7,5,null,null,9,null,null,7,1,null,8,2,null,6,null,9]
[]
[null,"NO.",137,null,null,{"$f":"COUNTA(B752:J760)","v":32},"ランク",null,"普通",null,null,null,"NO.",138,null,null,{"$f":"COUNTA(M752:U760)","v":32},"ランク",null,"普通"]
[null,4,null,3,2,1,null,null,null,null,null,null,null,6,null,8,null,2,null,7]
[null,null,8,null,null,null,3,null,null,6,null,null,2,null,1,null,null,null,null,null,5]
[null,null,null,1,null,null,null,4,3,null,null,null,8,null,7,null,null,1,3,2]
[null,null,null,null,null,null,1,null,6,5,null,null,4,null,null,null,null,5,6,3]
[null,null,5,null,6,null,8,null,7,null,null,null,6,null,3,null,2,null,5,9]
[null,null,6,4,5,null,7,8,null,null,null,null,null,null,null,null,1]
[null,null,9,null,null,null,null,null,null,null,null,null,7,null,9,null,6,null,4]
[null,null,null,null,8,null,9,null,null,2,null,null,null,null,null,null,7,9]
["*",7,null,8,null,6,2,null,1,9,null,null,null,null,4,null,null,8,null,6,9]
[]
[null,"NO.",139,null,null,{"$f":"COUNTA(B763:J771)","v":32},"ランク",null,"普通",null,null,null,"NO.",140,null,null,{"$f":"COUNTA(M763:U771)","v":31},"ランク",null,"普通"]
[null,1,2,null,null,8,null,null,null,null,null,null,null,8,null,null,9]
[null,null,null,3,5,7,null,8,null,4,null,null,1,null,null,2,null,null,7,null,5]
[null,null,8,null,null,null,9,null,1,null,null,null,null,null,2,null,null,6,3]
[null,null,null,6,null,null,3,null,9,5,null,null,null,1,8,null,null,null,null,null,4]
[null,5,null,8,null,9,null,null,3,null,null,null,null,3,null,5,null,4]
[null,9,null,null,null,6,5,4,null,null,null,null,4,null,null,null,null,1,9,3,6]
[null,2,null,null,null,null,null,9,null,null,null,null,null,null,5,6,null,null,null,9]
[null,null,5,null,null,1,null,null,6,null,null,null,null,null,4,null,1,8,null,7,2]
["*",null,null,1,null,null,7,2,null,3,null,null,null,7,null,null,null,2,null,null,3]
[]
[null,"NO.",141,null,null,{"$f":"COUNTA(B774:J782)","v":31},"ランク",null,"普通",null,null,null,"NO.",142,null,null,{"$f":"COUNTA(M774:U782)","v":31},"ランク",null,"普通"]
[null,8,1,2,null,4,9,7,3]
[null,null,3,null,null,null,7,null,null,null,null,null,1,null,4,null,9,2,7,null,3]
[null,null,null,null,null,null,2,null,5,null,null,null,null,9,null,8,1,null,null,null,5]
[null,null,null,3,7,null,null,null,null,8,null,null,null,null,null,null,null,null,3,null,6]
[null,4,null,null,null,5,6,null,null,null,null,null,7,null,8]
[null,null,null,5,null,null,null,6,1,null,null,null,4,null,6,1,2,5,null,7]
[null,6,null,7,9,null,8,null,4,null,null,null,null,7,9,null,8,null,null,null,4]
[null,null,null,1,2,null,null,null,7,3,null,null,5,null,null,6,3,null,null,8]
["*",null,5,null,null,null,null,9,null,null,null,null,null,2,null,null,null,7,null,null,9]
[]
[null,"NO.",143,null,null,{"$f":"COUNTA(B785:J793)","v":31},"ランク",null,"普通",null,null,null,"NO.",144,null,null,{"$f":"COUNTA(M785:U793)","v":31},"ランク",null,"普通"]
[null,null,null,null,null,2,1,3,null,null,null,null,1,6,null,7,null,null,9]
[null,9,null,1,3,null,5,6,8,null,null,null,null,null,7,null,null,8,2,3,4]
[null,null,7,null,null,null,null,null,null,null,null,null,null,3,null,2]
[null,null,4,8,null,5,null,7,6,null,null,null,null,null,4,null,3]
[null,2,null,5,8,null,null,null,null,1,null,null,null,8,null,5,1,null,null,6,3]
[null,null,null,null,null,null,3,null,null,null,null,null,null,2,null,null,null,6,null,9]
[null,null,9,null,null,8,null,null,3,null,null,null,null,null,null,8,7,null,null,2]
[null,6,null,4,null,null,null,null,null,2,null,null,null,null,1,null,null,5,8]
["*",null,null,7,null,1,6,4,null,9,null,null,null,7,5,null,null,null,null,4,9]
[]
[null,"NO.",145,null,null,{"$f":"COUNTA(B796:J804)","v":31},"ランク",null,"普通",null,null,null,"NO.",146,null,null,{"$f":"COUNTA(M796:U804)","v":31},"ランク",null,"普通"]
[null,2,null,1,9,null,4,null,3,null,null,null,null,null,null,null,null,6,null,5]
[null,3,null,null,2,null,null,null,null,9,null,null,1,8,null,2,4,null,null,3]
[null,7,null,6,null,3,null,null,null,4,null,null,null,5,null,null,7,null,null,null,1]
[null,9,null,4,null,null,5,2,null,null,null,null,4,null,2,null,9,null,8,6]
[null,null,null,null,null,null,2,null,6,null,null,null,null,null,null,null,null,8]
[null,null,1,null,3,null,null,5,null,8,null,null,null,6,null,5,null,null,7,2,3]
[null,null,6,7,8,5,null,null,9,null,null,null,null,null,null,null,null,9,4]
[null,null,null,8,null,2,null,null,null,null,null,null,null,null,9,8,null,null,null,null,2]
["*",null,null,null,null,null,null,null,7,1,null,null,7,3,1,4,null,null,null,9]
[]
[null,"NO.",147,null,null,{"$f":"COUNTA(B807:J815)","v":31},"ランク",null,"普通",null,null,null,"NO.",148,null,null,{"$f":"COUNTA(M807:U815)","v":31},"ランク",null,"普通"]
[null,null,null,3,null,null,null,null,7,null,null,null,3,1,null,null,null,null,5,2]
[null,1,2,null,9,7,null,null,6,4,null,null,null,null,null,null,null,5]
[null,null,6,null,2,null,null,3,1,null,null,null,4,5,9,null,7,2,null,null,3]
[null,null,null,6,null,null,2,null,8,null,null,null,9,null,4,null,5,null,null,null,1]
[null,4,5,null,null,9,null,null,null,null,null,null,null,null,null,null,null,null,2,null,6]
[null,8,null,null,null,5,null,null,4,6,null,null,1,null,null,null,8,7,null,4]
[null,null,1,null,null,null,null,null,9,7,null,null,null,null,7,6,null,8,3]
[null,null,null,7,5,2,8,null,null,1,null,null,8,null,6,null,null,4,null,null,9]
["*",3,null,null,null,null,null,null,null,null,null,null,null,null,null,null,null,null,8,null,2]
[]
[null,"NO.",149,null,null,{"$f":"COUNTA(B818:J826)","v":31},"ランク",null,"普通",null,null,null,"NO.",150,null,null,{"$f":"COUNTA(M818:U826)","v":31},"ランク",null,"普通"]
[null,null,7,1,null,null,4,2,null,null,null,null,2,null,null,3,9,null,5]
[null,null,null,null,null,8,null,1,null,null,null,null,null,5,null,null,2,null,7,3]
[null,8,4,null,1,null,2,3,null,null,null,null,1,null,null,6,8,null,2,null,4]
[null,4,null,6,5,null,null,null,null,null,null,null,4,null,null,2,null,9,null,5]
[null,5,null,8,null,7,3,9,6,null,null,null,null,8,null,null,5,null,null,null,6]
[null,null,1,null,null,null,null,null,5,null,null,null,null,6,null,null,null,null,null,1]
[null,null,null,7,8,null,6,null,null,9,null,null,null,7,null,null,null,null,3]
[null,null,3,null,9,null,null,5,null,7,null,null,null,null,4,null,1,8,null,7,9]
["*",2,null,null,null,null,null,null,null,null,null,null,8,null,null,null,null,6]
[]
[null,"NO.",151,null,null,{"$f":"COUNTA(B829:J837)","v":31},"ランク",null,"普通",null,null,null,"NO.",152,null,null,{"$f":"COUNTA(M829:U837)","v":31},"ランク",null,"普通"]
[null,7,1,3,null,null,null,null,null,9,null,null,1,null,null,2,null,null,null,4,3]
[null,null,null,9,1,null,7,null,8,3,null,null,3,null,5,null,7,null,null,2]
[null,null,null,null,2,null,null,null,null,null,null,null,6,9,null,1,null,null,8]
[null,2,4,null,6,null,5,null,null,null,null,null,7,null,null,5,8,null,null,6,9]
[null,null,null,6,null,2,null,1,null,null,null,null,null,null,null,null,null,null,null,5]
[null,8,null,null,null,4,null,6,2,null,null,null,null,2,4,3]
[null,3,8,null,null,null,null,9,4,null,null,null,null,null,6,8,2,null,5,9]
[null,null,null,4,5,8,null,null,null,null,null,null,null,null,7]
["*",null,7,null,9,null,null,null,5,null,null,null,2,null,1,null,4,null,null,3]
[]
[null,"NO.",153,null,null,{"$f":"COUNTA(B840:J848)","v":31},"ランク",null,"普通",null,null,null,"NO.",154,null,null,{"$f":"COUNTA(M840:U848)","v":31},"ランク",null,"普通"]
[null,1,7,null,null,3,2,null,5,null,null,null,null,null,null,null,null,7,1]
[null,5,null,4,1,null,null,3,null,null,null,null,2,1,3,9,4]
[null,9,null,null,5,null,null,8,null,null,null,null,null,null,null,6,null,null,2,3,4]
[null,7,4,null,null,5,null,1,6,null,null,null,7,null,null,null,1,null,9,null,5]
[null,null,null,null,null,8,null,null,9,null,null,null,8,null,null,null,7]
[null,2,null,null,null,null,6,null,null,null,null,null,4,null,null,null,5,9,null,null,2]
[null,null,2,7,9,null,8,null,null,null,null,null,null,null,4,null,null,null,3,2,6]
[null,null,null,3,null,2,null,null,null,9,null,null,null,null,null,5]
["*",null,null,null,6,null,null,null,4,1,null,null,1,2,6,null,null,4,5]
[]
[null,"NO.",155,null,null,{"$f":"COUNTA(B851:J859)","v":31},"ランク",null,"普通",null,null,null,"NO.",156,null,null,{"$f":"COUNTA(M851:U859)","v":31},"ランク",null,"普通"]
[null,null,1,5,null,3,null,null,9,null,null,null,null,8]
[null,null,null,8,null,2,null,5,null,null,null,null,null,1,null,7,null,null,6,3,2]
[null,2,null,null,9,null,null,null,null,3,null,null,null,null,3,9,6,2,8]
[null,3,null,6,null,4,null,7,1,2,null,null,null,null,null,5,null,8,2,9]
[null,1,4,null,null,null,6,null,null,null,null,null,null,null,4,null,1,null,7]
[null,null,7,null,null,5,null,null,null,6,null,null,null,5,1,null,null,null,null,6]
[null,null,8,7,null,null,3,9,null,5,null,null,5,null,null,3,null,null,4,7,6]
[null,null,null,1,null,null,8,null,null,null,null,null,7,4,null,8]
["*",null,null,null,2,null,null,4,null,null,null,null,null,null,null,null,2,null,null,null,9]
[]
[null,"NO.",157,null,null,{"$f":"COUNTA(B862:J870)","v":31},"ランク",null,"普通",null,null,null,"NO.",158,null,null,{"$f":"COUNTA(M862:U870)","v":31},"ランク",null,"普通"]
[null,null,1,null,null,4,8,3,null,6,null,null,null,null,9,null,null,1,null,3]
[null,null,null,null,null,3,2,5,null,null,null,null,7,1,null,null,6,null,2,null,5]
[null,2,null,6,null,null,null,8,null,null,null,null,null,null,null,2,5,null,null,null,4]
[null,4,null,null,null,null,null,2,null,3,null,null,4,null,null,null,null,null,3,2]
[null,1,null,null,2,5,null,null,6,null,null,null,null,6,null,5]
[null,6,null,null,null,7,9,null,null,null,null,null,3,null,null,9,1,4,null,null,6]
[null,null,null,4,8,null,null,9,null,null,null,null,8,null,null,null,null,6,9]
[null,null,null,null,5,null,7,null,null,4,null,null,null,7,null,null,4,8,null,6]
["*",9,6,7,null,null,null,1,null,null,null,null,null,4,null,null,null,null,8,null,7]
[]
[null,"NO.",159,null,null,{"$f":"COUNTA(B873:J881)","v":31},"ランク",null,"普通",null,null,null,"NO.",160,null,null,{"$f":"COUNTA(M873:U881)","v":31},"ランク",null,"普通"]
[null,null,6,null,8,5,null,null,null,null,null,null,null,null,null,null,null,null,null,6]
[null,7,5,1,9,null,null,null,3,2,null,null,9,7,5,null,null,null,null,4]
[null,null,null,null,null,null,2,null,null,9,null,null,null,1,null,8,7,2,3]
[null,null,4,null,3,null,7,5,null,null,null,null,8,null,null,null,null,6]
[null,null,1,null,null,null,5,null,null,6,null,null,2,5,null,null,3,null,null,null,4]
[null,6,null,null,null,null,null,7,null,null,null,null,null,4,null,null,5,null,6,null,2]
[null,null,7,3,null,1,8,2,6,4,null,null,null,null,9,null,1,7,null,null,3]
[null,null,null,null,null,null,null,null,null,null,null,null,null,null,7,null,8,null,null,5,9]
["*",null,2,null,null,null,4,9,null,8,null,null,1,null,8,9]
[]
[null,"NO.",161,null,null,{"$f":"COUNTA(B884:J892)","v":31},"ランク",null,"普通",null,null,null,"NO.",162,null,null,{"$f":"COUNTA(M884:U892)","v":31},"ランク",null,"普通"]
[null,null,null,null,7,null,9,null,null,null,null,null,1,null,null,null,2,null,null,5,4]
[null,5,null,8,null,null,null,3,2,null,null,null,null,null,null,null,null,6,2]
[null,1,9,null,null,2,5,null,6,4,null,null,null,2,7,4,null,null,3,1]
[null,null,null,null,null,null,null,null,null,5,null,null,null,null,9,null,null,null,null,6]
[null,4,null,null,1,null,7,6,null,2,null,null,null,null,null,null,7,1,9,null,8]
[null,2,6,null,null,5,null,null,null,null,null,null,null,4,6,5,null,null,null,7,3]
[null,9,1,null,null,null,3,null,null,8,null,null,null,7,2,null,3,5,null,8]
[null,null,null,7,null,null,8,2]
["*",null,null,null,4,null,null,9,3,null,null,null,4,null,null,null,8,null,null,3,9]
[]
[null,"NO.",163,null,null,{"$f":"COUNTA(B895:J903)","v":31},"ランク",null,"普通",null,null,null,"NO.",164,null,null,{"$f":"COUNTA(M895:U903)","v":31},"ランク",null,"普通"]
[null,null,null,1,null,null,null,2,null,null,null,null,null,null,null,null,3,7,null,null,1]
[null,null,null,3,2,null,4,null,null,5,null,null,null,1,null,2]
[null,null,null,2,7,5,null,null,null,3,null,null,null,8,4,null,null,null,7,5,3]
[null,null,null,null,null,null,null,null,null,null,null,null,6,null,null,8,1,null,null,7]
[null,9,4,7,5,null,null,6,3,1,null,null,null,null,null,null,null,5,6,3,2]
[null,3,null,null,null,4,9,null,null,null,null,null,9,4]
[null,8,6,null,null,1,null,7,null,null,null,null,null,null,null,null,null,9,null,null,5]
[null,7,null,4,null,null,null,null,8,null,null,null,null,null,1,5,null,null,null,6]
["*",null,1,null,8,6,null,null,9,null,null,null,7,5,null,null,8,4,null,2,9]
[]
[null,"NO.",165,null,null,{"$f":"COUNTA(B906:J914)","v":31},"ランク",null,"普通",null,null,null,"NO.",166,null,null,{"$f":"COUNTA(M906:U914)","v":31},"ランク",null,"普通"]
[null,null,4,8,null,null,null,null,9,3,null,null,null,null,null,null,3,null,null,null,1]
[null,null,null,6,2,null,null,null,8,null,null,null,3,null,1,null,null,null,null,9]
[null,1,null,2,null,9,3,null,null,null,null,null,8,null,9,1,2,null,5,3]
[null,4,null,null,null,7,null,null,6,2,null,null,4,9,null,null,null,null,3,6]
[null,null,null,null,1,null,null,null,3,null,null,null,null,null,null,7,4]
[null,6,2,3,null,5,null,null,1,null,null,null,6,7,null,5,null,null,null,null,2]
[null,null,null,1,null,null,null,null,null,9,null,null,7,null,null,null,8]
[null,7,null,4,5,null,null,null,null,8,null,null,null,null,2,null,5,null,null,null,6]
["*",null,null,null,null,8,7,null,null,5,null,null,null,null,6,null,null,4,8,5,9]
[]
[null,"NO.",167,null,null,{"$f":"COUNTA(B917:J925)","v":31},"ランク",null,"普通",null,null,null,"NO.",168,null,null,{"$f":"COUNTA(M917:U925)","v":31},"ランク",null,"普通"]
[null,9,null,7,null,8,null,null,null,1,null,null,null,5,1,null,null,2,null,6,9]
[null,8,null,null,2,null,null,null,null,3,null,null,null,null,null,null,4,5]
[null,null,1,null,4,null,null,null,null,6,null,null,null,null,2,null,null,null,null,3]
[null,5,null,3,null,7,null,6,null,null,null,null,null,null,5,2,8,null,null,null,1]
[null,4,null,null,5,null,null,9,null,null,null,null,3,null,8,null,1,4,7]
[null,null,2,8,6,3,null,null,1,null,null,null,null,2,4,5,null,null,6]
[null,null,null,null,null,null,null,null,7,null,null,null,null,null,null,null,null,3,null,null,6]
[null,null,null,4,null,5,3,2,null,9,null,null,null,null,7,8,9]
["*",2,7,null,8,null,null,null,null,null,null,null,2,1,null,null,null,null,9,null,7]
[]
[null,"NO.",169,null,null,{"$f":"COUNTA(B928:J936)","v":31},"ランク",null,"普通",null,null,null,"NO.",170,null,null,{"$f":"COUNTA(M928:U936)","v":31},"ランク",null,"普通"]
[null,7,null,null,null,null,2,1,null,null,null,null,null,7,null,null,2,null,null,4]
[null,null,null,3,null,8,null,7,null,null,null,null,null,1,null,8,9,null,null,null,3]
[null,8,null,1,null,9,6,null,5,3,null,null,null,null,6,1,null,null,5]
[null,null,null,2,4,null,null,null,null,null,null,null,7,null,4,2,null,null,null,null,5]
[null,null,null,null,2,null,7,9,6,null,null,null,null,8,null,5,null,null,6]
[null,4,null,6,null,null,5,null,3,null,null,null,2,null,5,null,8,null,null,7,9]
[null,null,null,8,null,null,null,null,null,9,null,null,null,null,null,null,1,null,4,3]
[null,5,null,null,null,null,8,3,null,1,null,null,9,null,7,null,null,8]
["*",null,null,7,null,5,4,null,null,null,null,null,null,null,3,null,6,null,9]
[]
[null,"NO.",171,null,null,{"$f":"COUNTA(B939:J947)","v":31},"ランク",null,"普通",null,null,null,"NO.",172,null,null,{"$f":"COUNTA(M939:U947)","v":31},"ランク",null,"普通"]
[null,7,null,null,null,4,null,null,5,8,null,null,null,1,2,7]
[null,null,null,3,null,null,null,null,null,null,null,null,9,null,null,null,null,null,null,2,3]
[null,6,1,null,9,2,null,null,null,3,null,null,3,null,5,2,6,null,null,null,7]
[null,1,null,null,null,null,null,6,null,null,null,null,null,4,null,null,1,null,null,3,6]
[null,9,null,6,null,8,null,5,3,null,null,null,5,null,8,null,3,null,null,9]
[null,null,null,4,7,null,5,null,null,null,null,null,1,null,null,null,5,null,null,null,8]
[null,3,9,null,8,null,null,4,null,null,null,null,null,null,7,null,null,null,8,null,9]
[null,8,null,2,null,7,null,null,null,null,null,null,null,9,null,4]
["*",null,null,7,2,null,null,9,null,1,null,null,null,6,null,5,null,8,null,4]
[]
[null,"NO.",173,null,null,{"$f":"COUNTA(B950:J958)","v":31},"ランク",null,"普通",null,null,null,"NO.",174,null,null,{"$f":"COUNTA(M950:U958)","v":31},"ランク",null,"普通"]
[null,null,2,1,8,null,null,null,null,9,null,null,9,null,7,null,null,null,null,1]
[null,null,null,null,null,null,6,1,null,7,null,null,null,6,null,null,9,null,null,null,3]
[null,null,4,null,2,null,null,null,null,3,null,null,8,3,1,2,null,5,null,null,9]
[null,null,null,null,null,2,4,null,6,5,null,null,null,4,null,null,null,2]
[null,null,null,4,5,null,3,null,7,null,null,null,null,null,3,null,5,null,4,7]
[null,2,8,null,null,7,null,null,null,null,null,null,2,null,5,null,null,null,6,null,8]
[null,null,null,6,null,null,null,null,null,null,null,null,7,null,null,null,null,4,9,null,1]
[null,3,null,9,null,6,8,null,1,4,null,null,null,5,2,null,null,7]
["*",null,7,null,null,5,null,null,9,null,null,null,4,null,null,8]
[]
[null,"NO.",175,null,null,{"$f":"COUNTA(B961:J969)","v":31},"ランク",null,"普通",null,null,null,"NO.",176,null,null,{"$f":"COUNTA(M961:U969)","v":31},"ランク",null,"普通"]
[null,null,null,null,null,2,null,null,null,4,null,null,null,1,6,null,2,null,4]
[null,null,7,null,null,null,null,5,null,3,null,null,7,4,null,null,null,null,8]
[null,1,9,null,null,null,6,8,null,null,null,null,null,null,null,4,1,null,null,3,2]
[null,9,2,3,null,null,5,null,null,6,null,null,null,null,null,6]
[null,4,null,null,6,null,2,null,null,null,null,null,9,6,null,7,null,5,null,2]
[null,null,6,1,null,null,4,null,null,null,null,null,4,null,null,null,null,3,5,9,6]
[null,3,8,null,5,null,null,null,9,null,null,null,null,null,null,2,null,8,9,7]
[null,7,1,5,4,null,null,null,null,null,null,null,8,7,3,null,null,1,null,null,5]
["*",null,null,9,null,8,null,null,null,7]
[]
[null,"NO.",177,null,null,{"$f":"COUNTA(B972:J980)","v":31},"ランク",null,"普通",null,null,null,"NO.",178,null,null,{"$f":"COUNTA(M972:U980)","v":31},"ランク",null,"普通"]
[null,7,9,null,null,null,2,null,8,null,null,null,3,5,4,null,null,1]
[null,null,1,null,null,null,null,null,null,7,null,null,1,null,null,2,null,9,null,8]
[null,null,3,null,null,5,8,null,null,6,null,null,null,null,9,null,null,null,3,null,7]
[null,null,5,null,null,null,null,null,null,4,null,null,null,null,3,5,null,2]
[null,2,null,null,null,null,null,null,3,null,null,null,4,7,null,null,6,null,1]
[null,null,4,null,5,null,1,null,2,8,null,null,null,null,null,4,null,null,6,null,2]
[null,null,7,null,null,4,null,null,6,null,null,null,null,null,null,null,null,5,null,null,4]
[null,5,null,4,null,9,null,3,null,null,null,null,null,null,null,null,9,8]
["*",null,2,null,1,8,7,9,null,null,null,null,7,8,5,null,null,6,9,null,3]
[]
[null,"NO.",179,null,null,{"$f":"COUNTA(B983:J991)","v":31},"ランク",null,"普通",null,null,null,"NO.",180,null,null,{"$f":"COUNTA(M983:U991)","v":30},"ランク",null,"普通"]
[null,null,null,6,null,null,null,null,null,3,null,null,6,null,null,null,null,1,3]
[null,null,9,1,5,2,null,4,null,null,null,null,1,3]
[null,null,7,null,3,null,6,2,null,null,null,null,null,null,null,2,8,3,6,5]
[null,null,null,null,null,null,1,5,6,null,null,null,null,2,null,null,null,null,5,6]
[null,6,null,null,7,9,null,null,null,1,null,null,4,null,null,null,null,5,9]
[null,4,null,2,null,null,5,null,null,null,null,null,null,7,null,8,9]
[null,null,8,null,null,null,3,null,null,null,null,null,2,null,null,null,7,null,4]
[null,null,null,9,null,7,8,null,3,null,null,null,null,null,7,null,null,8,1]
["*",7,null,null,null,null,4,8,9,null,null,null,null,null,1,4,6,null,8,null,9]
[]
[null,"NO.",181,null,null,{"$f":"COUNTA(B994:J1002)","v":30},"ランク",null,"普通",null,null,null,"NO.",182,null,null,{"$f":"COUNTA(M994:U1002)","v":30},"ランク",null,"普通"]
[null,9,6,null,null,3,null,8,4,null,null,null,null,1,7,null,2,null,null,3]
[null,1,null,null,8,null,null,null,3,null,null,null,null,null,null,null,9,null,null,5,8]
[null,null,null,7,null,null,2,null,null,null,null,null,9,null,null,null,null,1,null,2]
[null,null,null,4,null,null,null,null,null,null,null,null,null,4,null,null,null,5,6]
[null,null,1,null,null,5,null,null,6,null,null,null,null,null,2,null,null,null,4,null,7]
[null,null,5,null,null,6,1,7,null,9,null,null,1,null,null,4,null,6,2]
[null,null,2,null,null,8,4,9,null,null,null,null,7,null,null,6,5,8,3]
[null,7,8,6,null,null,null,2,null,null,null,null,null,null,null,7,null,null,null,null,9]
["*",null,9,null,null,null,5,null,null,3,null,null,3,8,null,null,null,null,null,7]
[]
[null,"NO.",183,null,null,{"$f":"COUNTA(B1005:J1013)","v":30},"ランク",null,"普通",null,null,null,"NO.",184,null,null,{"$f":"COUNTA(M1005:U1013)","v":30},"ランク",null,"普通"]
[null,null,1,null,null,null,null,3,2,7,null,null,null,null,1,2,4,null,null,5]
[null,null,5,8,null,null,7,null,null,null,null,null,2,9,null,null,null,null,null,8]
[null,null,null,null,6,null,2,null,8,null,null,null,null,null,null,null,null,6,3]
[null,null,4,null,null,null,5,null,null,6,null,null,6,4,null,null,null,5,null,3,7]
[null,9,null,null,1,null,3,null,4,null,null,null,3,null,null,null,null,7,null,null,5]
[null,3,null,1,null,null,8,null,9,null,null,null,null,null,null,8,null,null,null,6]
[null,null,7,null,null,8,null,9,null,null,null,null,null,7,5,null,null,8,null,9]
[null,4,null,6,3,null,null,null,5,null,null,null,1,null,8,null,null,null,null,null,2]
["*",null,null,null,null,2,null,null,null,1,null,null,9,null,null,null,7,1,null,4]
[]
[null,"NO.",185,null,null,{"$f":"COUNTA(B1016:J1024)","v":30},"ランク",null,"普通",null,null,null,"NO.",186,null,null,{"$f":"COUNTA(M1016:U1024)","v":30},"ランク",null,"普通"]
[null,null,null,8,6,null,null,null,null,1,null,null,null,null,4,8,null,null,null,null,2]
[null,null,null,1,2,null,5,9,null,4,null,null,3,1,2,4,null,9,null,8]
[null,7,4,null,1,null,null,3,null,null,null,null,null,null,7,null,null,2,null,null,3]
[null,null,2,null,null,null,null,null,null,3,null,null,null,null,null,null,1,null,null,null,6]
[null,null,null,4,null,9,3,null,5,6,null,null,7,4,null,3,null,null,5,null,1]
[null,6,null,null,5,null,null,null,null,null,null,null,9,null,null,5]
[null,null,null,null,null,null,null,null,null,null,null,null,null,6,null,null,8]
[null,8,null,7,null,4,null,1,9,null,null,null,null,7,null,9,4,null,6]
["*",4,null,null,null,2,8,null,null,7,null,null,null,5,null,null,null,null,null,7,9]
[]
[null,"NO.",187,null,null,{"$f":"COUNTA(B1027:J1035)","v":30},"ランク",null,"普通",null,null,null,"NO.",188,null,null,{"$f":"COUNTA(M1027:U1035)","v":30},"ランク",null,"普通"]
[null,7,6,null,5,null,null,9,null,null,null,null,null,1,null,4,null,null,null,3]
[null,2,3,null,null,8,null,1,null,null,null,null,8,null,null,null,3,6]
[null,null,null,1,null,6,2,3,null,null,null,null,9,null,null,2,null,null,6,null,5]
[null,4,7,null,null,3,null,null,null,null,null,null,1,null,null,null,7,null,5,2]
[null,null,null,5,null,null,9,null,null,8,null,null,null,8,null,null,5,4,1,6]
[null,null,null,null,null,5,null,null,4,6,null,null,null,4,null,null,null,null,null,null,7]
[null,null,null,7,null,4,null,null,2,9,null,null,null,null,1,null,2]
[null,5,null,3,8,null,null,null,1,null,null,null,null,null,null,null,null,null,null,9,2]
["*",null,null,null,null,null,7,null,null,null,null,null,4,7,null,null,8,9,3]
[]
[null,"NO.",189,null,null,{"$f":"COUNTA(B1038:J1046)","v":30},"ランク",null,"普通",null,null,null,"NO.",190,null,null,{"$f":"COUNTA(M1038:U1046)","v":30},"ランク",null,"普通"]
[null,null,2,6,null,4,null,null,null,1,null,null,null,null,null,2,null,null,1,null,8]
[null,5,null,null,9,2,null,3,null,null,null,null,null,5,1,null,7,null,3,9]
[null,9,1,null,null,null,null,2,null,null,null,null,null,null,9,null,6]
[null,null,null,null,null,null,5,null,1,3,null,null,null,null,8,5,null,null,6,null,7]
[null,null,null,4,null,null,7,6,null,null,null,null,null,null,null,null,2,null,null,3,4]
[null,8,5,null,6,null,null,null,null,null,null,null,3,4,null,7]
[null,null,3,2,null,7,null,null,null,8,null,null,null,null,null,null,8,7,null,null,5]
[null,null,null,null,5,null,null,null,null,null,null,null,4,null,7,null,null,1,9,2]
["*",6,7,null,null,8,null,null,4,9,null,null,null,6,null,null,9]
[]
[null,"NO.",191,null,null,{"$f":"COUNTA(B1049:J1057)","v":30},"ランク",null,"普通",null,null,null,"NO.",192,null,null,{"$f":"COUNTA(M1049:U1057)","v":30},"ランク",null,"普通"]
[null,null,2,5,null,null,9,null,null,null,null,null,null,null,1,7,4,null,3,null,2]
[null,null,9,1,2,null,null,8,3,5,null,null,5,null,null,null,3,2]
[null,null,null,4,6,null,null,null,null,null,null,null,3,null,null,null,null,null,null,7]
[null,null,6,null,null,4,null,null,null,3,null,null,4,8,null,null,null,3,null,1]
[null,4,1,2,5,null,null,6,null,7,null,null,6,null,null,5,null,7,null,8]
[null,null,null,null,null,8,null,null,null,null,null,null,null,null,null,2,null,null,6,9]
[null,null,5,null,4,null,null,null,null,null,null,null,null,null,null,6,null,8,null,null,1]
[null,null,7,3,null,null,8,null,null,null,null,null,null,null,8,null,null,null,null,null,9]
["*",null,null,null,null,1,null,7,6,9,null,null,null,4,7,null,null,9,null,5]
[]
[null,"NO.",193,null,null,{"$f":"COUNTA(B1060:J1068)","v":30},"ランク",null,"普通",null,null,null,"NO.",194,null,null,{"$f":"COUNTA(M1060:U1068)","v":30},"ランク",null,"普通"]
[null,null,2,9,null,null,null,3,4,8,null,null,1]
[null,null,null,1,null,2,null,null,null,6,null,null,null,null,null,null,null,5,3,8]
[null,null,null,null,5,null,9,null,null,null,null,null,5,3,null,1,null,2,null,null,9]
[null,null,null,null,null,5,null,null,null,null,null,null,null,6,4,null,null,null,2]
[null,6,null,4,3,null,null,null,7,null,null,null,null,8,null,5]
[null,null,8,null,null,null,4,1,6,null,null,null,7,null,null,8,null,3,1,null,6]
[null,7,null,2,null,null,null,null,null,null,null,null,6,null,null,null,null,8,9,1,7]
[null,1,6,null,null,null,8,5,9,null,null,null,null,7,2,6,9,null,null,null,4]
["*",null,5,null,6,7,null,null,3,null,null,null,null,null,null,null,null,4]
[]
[null,"NO.",195,null,null,{"$f":"COUNTA(B1071:J1079)","v":30},"ランク",null,"普通",null,null,null,"NO.",196,null,null,{"$f":"COUNTA(M1071:U1079)","v":30},"ランク",null,"普通"]
[null,7,null,null,null,9,null,null,1,null,null,null,null,9,null,2,4,null,7,3,5]
[null,null,null,1,2,null,6,null,3,8,null,null,null,null,null,6,null,null,null,2]
[null,null,6,8,null,null,null,null,7,null,null,null,2,null,1]
[null,4,null,6,null,1,null,null,null,null,null,null,4,null,null,null,null,null,null,6,3]
[null,null,null,null,null,3,null,null,5,null,null,null,null,5,null,null,8,null,4]
[null,2,null,null,null,null,5,null,9,6,null,null,3,null,null,7,5]
[null,null,null,null,8,null,4,null,null,9,null,null,7,null,null,9,null,null,null,1]
[null,null,7,2,null,null,null,null,null,null,null,null,null,1,null,8,null,null,null,null,6]
["*",null,null,4,null,6,7,5,null,3,null,null,8,null,null,null,1,7,2,null,9]
[]
[null,"NO.",197,null,null,{"$f":"COUNTA(B1082:J1090)","v":30},"ランク",null,"普通",null,null,null,"NO.",198,null,null,{"$f":"COUNTA(M1082:U1090)","v":30},"ランク",null,"普通"]
[null,1,null,null,null,null,2,7,null,null,null,null,null,1,null,null,null,2,null,3]
[null,null,6,null,null,null,7,null,null,3,null,null,6,null,null,null,null,null,null,4,9]
[null,2,null,4,null,null,3,null,5,null,null,null,null,4,null,8,5,null,7,1]
[null,null,null,null,null,8,null,null,null,2,null,null,null,3,null,null,null,null,null,null,7]
[null,null,null,3,null,2,null,null,null,4,null,null,4,null,null,6,null,null,3]
[null,null,4,2,null,5,9,6,null,null,null,null,null,null,9,null,1,5,null,6,4]
[null,null,5,null,null,1,8,null,null,null,null,null,null,2,7,5]
[null,null,null,8,2,null,null,9,null,null,null,null,null,null,null,null,8,1,2,9]
["*",null,null,7,9,null,null,null,1,6,null,null,8,null,null,null,null,null,null,7]
[]
[null,"NO.",199,null,null,{"$f":"COUNTA(B1093:J1101)","v":30},"ランク",null,"普通",null,null,null,"NO.",200,null,null,{"$f":"COUNTA(M1093:U1101)","v":30},"ランク",null,"普通"]
[null,7,null,1,null,2,null,null,3,null,null,null,1,null,null,9,null,null,null,null,2]
[null,null,null,4,null,9,null,null,null,8,null,null,null,9,7,null,null,2,null,1,3]
[null,9,null,null,null,1,null,4,null,null,null,null,null,null,null,null,6,1,8]
[null,6,null,null,1,8,null,null,null,null,null,null,6,3,null,null,8,4]
[null,null,4,2,5,null,null,null,6,1,null,null,null,null,null,null,null,5,2,3]
[null,null,null,7,3,null,null,null,null,2,null,null,null,4,5,null,null,null,null,6]
[null,3,null,null,null,null,8,7,9,null,null,null,null,5,null,null,null,8,7]
[null,null,null,null,null,6,null,5,null,null,null,null,null,7,8,null,4,6,null,9]
["*",5,7,null,null,null,4,null,null,null,null,null,null,null,null,null,null,null,null,null,5]
[]
[null,"NO.",201,null,null,{"$f":"COUNTA(B1104:J1112)","v":30},"ランク",null,"普通",null,null,null,"NO.",202,null,null,{"$f":"COUNTA(M1104:U1112)","v":30},"ランク",null,"普通"]
[null,null,null,null,null,null,null,3,null,1,null,null,5,9,null,null,null,7,3]
[null,3,4,1,2,null,null,6,null,7,null,null,null,null,null,null,null,2,1,null,5]
[null,null,6,null,1,4,null,null,null,null,null,null,null,1,8,null,null,4]
[null,null,null,null,null,null,null,null,6,8,null,null,3,5,null,null,2,9,null,8]
[null,2,7,4,5,null,8]
[null,null,null,3,null,null,9,null,null,5,null,null,4,null,null,5,1,8,null,null,2]
[null,null,null,null,9,8,null,1,null,null,null,null,1,null,7,null,null,5,null,null,9]
[null,5,null,6,null,null,2,null,null,9,null,null,null,3,null,null,8,null,7,2]
["*",7,null,null,null,null,null,2,null,null,null,null,null,null,4,9]
[]
[null,"NO.",203,null,null,{"$f":"COUNTA(B1115:J1123)","v":30},"ランク",null,"普通",null,null,null,"NO.",204,null,null,{"$f":"COUNTA(M1115:U1123)","v":30},"ランク",null,"普通"]
[null,null,null,9,null,null,6,null,null,3,null,null,6,8,null,2,3,5,null,null,1]
[null,1,5,null,null,2,null,4,null,null,null,null,null,null,null,null,null,null,3,8]
[null,3,null,null,8,null,null,9,null,null,null,null,null,1]
[null,2,null,null,7,null,null,null,null,6,null,null,null,null,5,3,null,1,4]
[null,6,null,null,null,null,5,null,9,8,null,null,8,4,null,null,5,null,6,null,7]
[null,4,null,null,null,1,null,null,null,5,null,null,null,null,2,null,null,null,1,null,9]
[null,null,null,7,5,8,null,null,null,2,null,null,7,null,4,null,null,8]
[null,null,1,null,null,null,null,null,null,9,null,null,null,2,null,null,6,null,9,null,4]
["*",null,null,3,null,7,null,null,1,4,null,null,null,null,null,null,9,null,null,7]
[]
[null,"NO.",205,null,null,{"$f":"COUNTA(B1126:J1134)","v":30},"ランク",null,"普通",null,null,null,"NO.",206,null,null,{"$f":"COUNTA(M1126:U1134)","v":30},"ランク",null,"普通"]
[null,null,null,null,null,null,4,null,null,6,null,null,null,1,5,2,3,null,null,null,4]
[null,1,null,5,null,6,8,2,3,null,null,null,2,8,null,4,6,null,3]
[null,8,null,null,null,2,null,null,7,null,null,null,null,null,null,null,null,1,null,9]
[null,null,null,null,null,null,null,null,4,null,null,null,null,null,4,9,5,null,6]
[null,4,1,null,5,null,3,null,6,9,null,null,9,null,7,null,null,null,null,5]
[null,5,null,9,null,null,null,null,8,null,null,null,null,null,null,3,null,4,null,null,2]
[null,2,null,null,4,null,null,null,9,1,null,null,null,null,null,1,2,6,null,null,9]
[null,6,null,null,8,null,null,null,null,null,null,null,8]
["*",null,null,7,null,9,null,null,5,null,null,null,6,null,null,null,null,8,7]
[]
[null,"NO.",207,null,null,{"$f":"COUNTA(B1137:J1145)","v":30},"ランク",null,"普通",null,null,null,"NO.",208,null,null,{"$f":"COUNTA(M1137:U1145)","v":30},"ランク",null,"普通"]
[null,null,null,null,null,null,null,null,null,null,null,null,null,4,null,null,null,null,null,3]
[null,8,null,null,1,6,5,3,null,9,null,null,2,null,9,1,null,null,null,6]
[null,null,5,6,null,null,2,null,null,7,null,null,8,null,1,null,7,2]
[null,null,null,null,null,2,6,4,null,null,null,null,null,9,3,null,5,null,null,null,6]
[null,7,null,3,8,null,null,null,null,null,null,null,4,null,null,null,null,3,1,null,7]
[null,null,null,4,null,5,null,null,6,8,null,null,null,5,null,null,null,null,null,2]
[null,null,2,7,null,null,null,1,null,5,null,null,null,null,8]
[null,null,null,null,null,null,null,9,2,null,null,null,null,7,null,4,9,8,5]
["*",null,9,1,null,4,8,null,null,null,null,null,null,1,4,null,null,null,null,9,3]
[]
[null,"NO.",209,null,null,{"$f":"COUNTA(B1148:J1156)","v":30},"ランク",null,"普通",null,null,null,"NO.",210,null,null,{"$f":"COUNTA(M1148:U1156)","v":30},"ランク",null,"普通"]
[null,6,null,null,null,null,7,2,null,1,null,null,4,null,2,8,null,null,5,3]
[null,null,1,null,null,null,null,null,3,null,null,null,8,1,null,2,null,null,null,6]
[null,null,null,7,1,2,null,null,6,null,null,null,null,null,null,null,null,4,null,7]
[null,5,null,null,9,null,null,null,null,4,null,null,9,8,null,7,null,null,null,5]
[null,9,4,null,null,6,null,null,5,null,null,null,null,null,4,5,null,6,null,1,7]
[null,null,null,null,8,5,null,null,null,6,null,null,null,null,null,1]
[null,7,null,null,2,null,8,null,null,null,null,null,5,null,3,9,8,null,null,null,6]
[null,null,null,null,null,null,9,3,null,null,null,null,1,null,null,null,null,null,null,9]
["*",4,null,6,null,3,null,null,9,8,null,null,7,null,null,null,null,null,null,null,3]
[]
[null,"NO.",211,null,null,{"$f":"COUNTA(B1159:J1167)","v":30},"ランク",null,"普通",null,null,null,"NO.",212,null,null,{"$f":"COUNTA(M1159:U1167)","v":29},"ランク",null,"普通"]
[null,null,null,null,5,3,null,null,1,null,null,null,null,null,null,null,2,null,8]
[null,null,null,7,null,2,null,null,8,null,null,null,6,null,1,4,9,null,null,null,5]
[null,4,null,9,null,null,8,null,null,3,null,null,null,7,null,null,null,null,null,null,3]
[null,null,null,null,null,null,2,1,9,null,null,null,4,null,null,null,5,null,null,3,7]
[null,null,2,5,null,1,3,null,6,null,null,null,null,1,null,8,null,null,null,6]
[null,null,6,8,null,5,null,null,null,4,null,null,9,6,null,null,null,2]
[null,null,7,null,null,null,null,null,null,null,null,null,7,null,null,null,null,8,null,4,1]
[null,null,null,2,null,null,null,6,null,7,null,null,null,5,3,2,null,9]
["*",6,4,null,8,null,null,9,null,null,null,null,null,null,null,7,null,null,9]
[]
[null,"NO.",213,null,null,{"$f":"COUNTA(B1170:J1178)","v":29},"ランク",null,"普通",null,null,null,"NO.",214,null,null,{"$f":"COUNTA(M1170:U1178)","v":29},"ランク",null,"普通"]
[null,null,2,null,null,null,null,null,null,5,null,null,5,null,null,null,null,null,2]
[null,null,null,null,null,3,4,null,null,8,null,null,null,3,null,7,9,2]
[null,8,1,null,5,2,null,null,6,3,null,null,null,null,1,null,null,null,7,null,3]
[null,null,null,null,null,5,null,9,null,null,null,null,1,4,6,null,null,null,null,5]
[null,5,null,null,7,null,6,null,null,null,null,null,null,8,null,null,3,5,1,6]
[null,null,4,3,null,null,null,6,null,7,null,null,null,null,null,2]
[null,1,7,null,4,null,2,8,null,9,null,null,null,null,null,6,null,3,9,null,8]
[null,null,null,null,null,null,null,null,null,null,null,null,null,7,4]
["*",null,9,null,null,null,8,null,1,null,null,null,9,null,null,1,null,8,null,null,4]
[]
[null,"NO.",215,null,null,{"$f":"COUNTA(B1181:J1189)","v":29},"ランク",null,"普通",null,null,null,"NO.",216,null,null,{"$f":"COUNTA(M1181:U1189)","v":29},"ランク",null,"普通"]
[null,2,1,null,null,null,null,3,7,null,null,null,8,null,null,null,6,null,null,9]
[null,null,null,6,2,null,null,5,null,null,null,null,null,null,1,null,null,5,3,null,7]
[null,null,null,8,7,3,null,null,null,null,null,null,3,null,null,2]
[null,8,null,null,null,5,6,1,4,null,null,null,null,1,8,5,4]
[null,1,4,null,null,9,null,6,null,null,null,null,null,null,4,6]
[null,null,null,null,null,null,null,null,null,null,null,null,null,null,null,null,null,7,4,6,1]
[null,null,5,null,null,null,null,null,3,null,null,null,null,5]
[null,9,null,null,null,null,2,null,6,null,null,null,null,2,null,8,null,null,7,null,9]
["*",7,null,null,null,8,3,4,null,9,null,null,7,null,null,3,5,9,2]
[]
[null,"NO.",217,null,null,{"$f":"COUNTA(B1192:J1200)","v":29},"ランク",null,"普通",null,null,null,"NO.",218,null,null,{"$f":"COUNTA(M1192:U1200)","v":29},"ランク",null,"普通"]
[null,5,null,1,null,null,4,null,null,3,null,null,null,2,1]
[null,null,null,null,2,null,3,null,null,null,null,null,null,null,null,5,null,9,null,null,1]
[null,8,null,null,null,null,9,2,null,4,null,null,null,5,7,null,2,null,6,null,3]
[null,1,null,9,5,null,7,6,null,2,null,null,null,null,null,null,4,null,2]
[null,null,null,null,null,null,null,null,null,null,null,null,null,null,4,9,null,null,null,5]
[null,null,4,null,null,8,1,null,3,null,null,null,7,8,null,null,5,null,1,6]
[null,7,6,null,null,null,null,null,9,null,null,null,null,null,3,null,7,null,8]
[null,null,3,null,7,null,null,1,null,null,null,null,null,7,6,3,null,null,null,4]
["*",null,null,null,null,6,8,null,null,5,null,null,null,null,null,8,null,null,9]
[]
[null,"NO.",219,null,null,{"$f":"COUNTA(B1203:J1211)","v":29},"ランク",null,"普通",null,null,null,"NO.",220,null,null,{"$f":"COUNTA(M1203:U1211)","v":29},"ランク",null,"普通"]
[null,null,null,null,null,1,null,null,null,null,null,null,null,3,null,null,4]
[null,1,null,null,null,null,2,6,5,3,null,null,null,7,9,null,2,null,null,3]
[null,4,null,7,null,null,9,null,null,null,null,null,6,1,null,null,null,9,7,null,8]
[null,8,7,null,5,2,null,9,null,null,null,null,null,5,null,null,null,1,null,4,2]
[null,null,null,null,null,null,6,null,null,2,null,null,4,null,null,null,5,3,6]
[null,9,null,4,null,null,null,null,6,null,null,null,null,9]
[null,7,null,null,null,null,5,null,1,null,null,null,null,6,8,null,null,2,null,9]
[null,null,8,null,null,3,null,null,null,null,null,null,7,null,null,null,null,null,1]
["*",null,3,5,null,8,null,null,4,9,null,null,null,null,null,6,8,null,null,5]
[]
[null,"NO.",221,null,null,{"$f":"COUNTA(B1214:J1222)","v":29},"ランク",null,"普通",null,null,null,"NO.",222,null,null,{"$f":"COUNTA(M1214:U1222)","v":29},"ランク",null,"普通"]
[null,1,null,null,6,null,null,4,3,null,null,null,null,2,null,null,null,null,null,null,3]
[null,null,4,8,9,null,null,null,null,null,null,null,null,7,null,null,8,null,1]
[null,3,null,7,null,null,2,null,1,null,null,null,1,null,null,6,2,null,null,7]
[null,8,null,null,5,null,1,null,9,6,null,null,null,null,null,null,4]
[null,2,null,4,null,null,null,null,null,null,null,null,3,null,null,null,null,5,null,null,8]
[null,null,null,null,3,null,null,7,null,null,null,null,4,null,1,null,null,9,6,5]
[null,null,3,null,2,null,null,null,null,7,null,null,6,null,null,9,5,null,null,3]
[null,7,5,null,null,8,null,9,null,null,null,null,7,null,2,null,null,null,9]
["*",null,null,null,null,null,6,5,null,null,null,null,null,null,null,8,1,2,null,4]
[]
[null,"NO.",223,null,null,{"$f":"COUNTA(B1225:J1233)","v":29},"ランク",null,"普通",null,null,null,"NO.",224,null,null,{"$f":"COUNTA(M1225:U1233)","v":29},"ランク",null,"普通"]
[null,null,null,null,null,null,null,null,9,3,null,null,null,8,1,null,2,3]
[null,null,4,null,5,8,null,1,null,null,null,null,null,null,null,null,null,null,3,7]
[null,9,1,null,null,2,6,null,null,null,null,null,5,null,null,7,null,null,4]
[null,null,2,null,null,null,5,null,null,null,null,null,null,4,6,null,5,8,null,null,9]
[null,7,null,4,null,null,1,null,8,5,null,null,null,null,9,null,null,null,6]
[null,null,null,null,4,3,null,null,6,null,null,null,null,null,null,null,null,2,null,1]
[null,null,null,2,null,5,3,null,null,9,null,null,null,null,null,2,null,null,1,null,8]
[null,null,7,6,null,null,8,null,null,null,null,null,null,6,null,null,null,null,5]
["*",null,null,null,null,null,null,null,7,4,null,null,4,1,7,8,3,null,null,9]
[]
[null,"NO.",225,null,null,{"$f":"COUNTA(B1236:J1244)","v":29},"ランク",null,"普通",null,null,null,"NO.",226,null,null,{"$f":"COUNTA(M1236:U1244)","v":29},"ランク",null,"普通"]
[null,null,1,null,7,null,null,null,null,null,null,null,4,1,null,null,null,2,null,null,3]
[null,null,null,null,null,5,2,9,null,8,null,null,null,null,null,null,null,null,8,7]
[null,2,null,6,null,4,null,null,1,3,null,null,null,null,5,null,3,7]
[null,7,null,null,null,null,null,null,null,null,null,null,null,null,2,5,null,null,null,9,1]
[null,null,null,9,8,null,5,4,2,6,null,null,null,4,null,null,null,3]
[null,null,4,null,null,3,null,null,null,null,null,null,5,null,null,2,null,null,null,null,6]
[null,null,9,7,null,1,null,null,null,5,null,null,1,null,8,null,null,null,5]
[null,null,null,null,null,null,null,3,null,null,null,null,7,null,null,6,null,9,null,1]
["*",5,null,null,null,8,6,null,null,9,null,null,null,6,null,8,null,null,9,4]
[]
[null,"NO.",227,null,null,{"$f":"COUNTA(B1247:J1255)","v":29},"ランク",null,"普通",null,null,null,"NO.",228,null,null,{"$f":"COUNTA(M1247:U1255)","v":29},"ランク",null,"普通"]
[null,null,1,null,null,null,9,null,7,null,null,null,1,null,9,null,null,null,null,4,2]
[null,null,null,4,null,null,null,null,null,null,null,null,null,null,null,null,1]
[null,null,null,9,null,1,2,6,3,4,null,null,null,null,5,7,4,2,null,null,3]
[null,null,4,5,null,null,null,null,null,null,null,null,null,null,4,null,null,5,null,null,6]
[null,null,null,null,7,5,null,null,1,6,null,null,null,7,null,null,8,null,null,3]
[null,null,null,8,null,null,3,null,null,2,null,null,null,1,null,null,null,9,2,null,7]
[null,null,2,7,5,null,null,null,4,9,null,null,null,5,null,null,null,null,null,null,8]
[null,4,6,null,null,8,null,null,null,null,null,null,null,null,1,3,null,6]
["*",null,null,null,3,null,null,8,null,null,null,null,7,null,null,8,null,null,6,9]
[]
[null,"NO.",229,null,null,{"$f":"COUNTA(B1258:J1266)","v":29},"ランク",null,"普通",null,null,null,"NO.",230,null,null,{"$f":"COUNTA(M1258:U1266)","v":29},"ランク",null,"普通"]
[null,null,null,3,null,7,null,null,null,null,null,null,null,null,9,4,7,null,3,null,5]
[null,null,4,null,8,null,null,2,3,9,null,null,null,null,3,null,2,null,null,9]
[null,1,null,null,2,null,null,8,null,4,null,null,5,1]
[null,null,null,2,6,null,null,null,null,null,null,null,null,null,4,null,null,null,6]
[null,null,null,9,5,1,null,3,null,6,null,null,7,8,1,null,null,5,null,3]
[null,null,null,4,null,null,null,null,1,null,null,null,2,6,null,null,null,9,null,1]
[null,null,null,null,null,8,5,null,null,null,null,null,null,null,null,1,null,null,9,4]
[null,null,null,8,null,6,null,null,2,7,null,null,null,4,null,null,3]
["*",7,5,null,null,null,null,null,9,null,null,null,null,null,7,6,8]
[]
[null,"NO.",231,null,null,{"$f":"COUNTA(B1269:J1277)","v":29},"ランク",null,"普通",null,null,null,"NO.",232,null,null,{"$f":"COUNTA(M1269:U1277)","v":29},"ランク",null,"普通"]
[null,null,null,null,null,2,null,null,6,null,null,null,6,null,null,7,2,null,null,4,3]
[null,null,8,null,5,null,null,4,null,null,null,null,8,null,null,null,null,5,null,null,2]
[null,1,null,null,null,9,null,null,null,2,null,null,null,null,1,4]
[null,5,null,null,8,null,9,7,null,null,null,null,null,2,null,1,null,null,null,8]
[null,null,9,3,null,null,null,null,8,null,null,null,null,null,null,null,null,null,null,6]
[null,null,7,null,null,null,null,1,null,5,null,null,4,null,7,5,6,9,3]
[null,null,6,null,null,8,3,null,null,1,null,null,5]
[null,null,null,null,null,7,null,5,null,6,null,null,null,null,9,null,null,8,1,null,6]
["*",null,3,7,null,null,5,null,4,null,null,null,7,null,null,3,4,null,null,9]
[]
[null,"NO.",233,null,null,{"$f":"COUNTA(B1280:J1288)","v":29},"ランク",null,"普通",null,null,null,"NO.",234,null,null,{"$f":"COUNTA(M1280:U1288)","v":29},"ランク",null,"普通"]
[null,null,null,null,5,null,2,null,null,null,null,null,3,null,null,2]
[null,9,null,null,null,null,null,null,3,null,null,null,2,null,null,null,null,null,null,5,3]
[null,1,null,7,null,null,3,5,null,6,null,null,null,1,5,null,6,7,4]
[null,null,8,null,null,null,1,null,null,null,null,null,null,null,null,null,2,null,null,6]
[null,null,2,null,6,9,null,8,null,1,null,null,null,null,null,null,null,4,7]
[null,null,null,4,null,null,5,null,6,9,null,null,4,6,2,5,null,null,null,9]
[null,null,null,8,null,null,null,null,9,null,null,null,null,null,null,null,1,6,null,8,9]
[null,4,null,null,null,3,8,null,7,null,null,null,null,null,null,null,null,8]
["*",null,7,null,2,null,null,4,null,null,null,null,7,9,8,null,3,null,null,1]
[]
[null,"NO.",235,null,null,{"$f":"COUNTA(B1291:J1299)","v":29},"ランク",null,"普通",null,null,null,"NO.",236,null,null,{"$f":"COUNTA(M1291:U1299)","v":29},"ランク",null,"普通"]
[null,4,7,null,5,1,null,3,null,9,null,null,null,null,null,null,6,9,null,4]
[null,null,6,null,2,null,3,4,null,null,null,null,null,1,null,2,null,null,7]
[null,null,null,1,null,null,null,null,null,null,null,null,null,2,6,null,null,null,null,3,8]
[null,null,2,null,null,null,null,null,null,6,null,null,null,null,4,null,5,null,null,null,9]
[null,null,5,null,1,null,null,8,null,3,null,null,null,7,5,null,1,null,null,6,3]
[null,null,4,null,7,null,5,null,null,null,null,null,null,null,2,null,8]
[null,null,null,6,3,null,8,9,null,4,null,null,null,null,8,null,null,null,3]
[null,null,null,8,9,null,null,2,null,null,null,null,7,null,null,null,2,1,null,null,4]
["*",7,null,null,null,null,null,null,null,null,null,null,5,null,null,null,null,8,null,9]
[]
[null,"NO.",237,null,null,{"$f":"COUNTA(B1302:J1310)","v":29},"ランク",null,"普通",null,null,null,"NO.",238,null,null,{"$f":"COUNTA(M1302:U1310)","v":29},"ランク",null,"普通"]
[null,null,8,null,null,null,null,null,null,9,null,null,null,1,null,null,9,4,null,null,3]
[null,null,1,null,null,9,2,3,null,null,null,null,null,6,null,null,null,null,null,null,5]
[null,5,3,null,6,null,null,null,2,null,null,null,7,null,null,2,null,null,null,1]
[null,null,null,null,null,null,null,null,6,null,null,null,null,4,null,3,null,null,null,null,6]
[null,4,5,null,null,null,3,null,null,null,null,null,9,null,3,5,6,1,8]
[null,1,null,null,null,8,5,7,null,4,null,null,null,null,null,null,null,null,1,null,7]
[null,null,null,null,8,4,null,null,null,null,null,null,null,null,null,null,2,8,null,5,9]
[null,null,7,1,2,null,null,9,null,null,null,null,null,null,7]
["*",null,4,null,3,null,null,6,null,7,null,null,2,null,8,4,null,null,3]
[]
[null,"NO.",239,null,null,{"$f":"COUNTA(B1313:J1321)","v":28},"ランク",null,"普通",null,null,null,"NO.",240,null,null,{"$f":"COUNTA(M1313:U1321)","v":28},"ランク",null,"普通"]
[null,null,null,1,2,null,null,null,null,null,null,null,7,null,null,null,8]
[null,null,null,null,1,null,null,6,5,3,null,null,null,1,4,2,null,null,3,null,9]
[null,4,9,null,null,null,8,null,null,null,null,null,null,null,null,null,9,null,null,null,2]
[null,null,null,5,null,null,null,null,null,2,null,null,null,4,5,null,null,null,null,6]
[null,3,null,4,5,9,6,7,null,null,null,null,null,null,null,5,2,3,4]
[null,null,null,null,7,null,null,null,6,null,null,null,null,7,null,null,null,6,null,1]
[null,null,null,null,9,1,null,null,3,null,null,null,null,null,7,null,null,null,6,8]
[null,null,null,7,8,null,null,4,null,null,null,null,null,3,null,6,null,null,9]
["*",8,null,2,null,null,null,9,null,null,null,null,null,5,null,8,1]
[]
[null,"NO.",241,null,null,{"$f":"COUNTA(B1324:J1332)","v":28},"ランク",null,"普通",null,null,null,"NO.",242,null,null,{"$f":"COUNTA(M1324:U1332)","v":28},"ランク",null,"普通"]
[null,null,null,null,null,null,null,1,null,null,null,null,null,1,null,null,null,6,9,null,4]
[null,null,6,8,4,7,null,null,3,null,null,null,5,null,null,2]
[null,null,null,1,3,2,null,null,6,null,null,null,8,null,null,null,1,null,3]
[null,null,null,3,null,null,7,8,null,null,null,null,4,null,null,null,8,5,null,1]
[null,null,4,null,null,null,null,6]
[null,1,null,null,2,5,null,9,null,null,null,null,null,2,7,3,null,null,null,5,6]
[null,4,null,null,9,null,5,null,null,null,null,null,2,null,1,9,null,null,null,null,7]
[null,null,3,null,null,null,null,2,5,9,null,null,null,6,null,null,null,8,null,4]
["*",7,null,null,null,8,null,null,null,null,null,null,7,null,null,null,3,null,null,null,9]
[]
[null,"NO.",243,null,null,{"$f":"COUNTA(B1335:J1343)","v":28},"ランク",null,"普通",null,null,null,"NO.",244,null,null,{"$f":"COUNTA(M1335:U1343)","v":28},"ランク",null,"普通"]
[null,null,null,4,null,null,6,null,null,7,null,null,null,1,6,null,null,null,9]
[null,null,null,1,null,3,2,6,5,null,null,null,null,null,8,null,null,9,3,null,2]
[null,9,null,null,null,null,null,null,3,null,null,null,null,null,null,2,null,7]
[null,2,null,null,null,null,5,null,null,6,null,null,6]
[null,null,null,8,null,null,null,null,null,5,null,null,null,null,4,1,null,null,null,2]
[null,null,4,null,null,9,1,7,null,null,null,null,8,null,1,null,5,4,6,null,3]
[null,null,7,null,3,null,null,null,null,4,null,null,5,null,null,null,3,null,null,null,7]
[null,null,null,null,null,null,null,null,8,null,null,null,null,null,7,null,null,8,null,null,9]
["*",1,5,null,2,8,null,9,null,null,null,null,4,null,null,6,null,null,null,5]
[]
[null,"NO.",245,null,null,{"$f":"COUNTA(B1346:J1354)","v":28},"ランク",null,"普通",null,null,null,"NO.",246,null,null,{"$f":"COUNTA(M1346:U1354)","v":28},"ランク",null,"普通"]
[null,null,null,null,null,8,1,5,null,9,null,null,null,8,1,null,null,null,2]
[null,8,6,null,null,null,null,3,null,null,null,null,null,5,null,null,2,9,null,4]
[null,null,1,null,2,null,null,null,null,null,null,null,null,null,4,null,6,null,null,3]
[null,null,4,null,null,1,null,6,null,null,null,null,9,2,null,null,4,null,7]
[null,null,3,7,null,2,null,null,null,null,null,null,null,4,null,5]
[null,null,null,null,null,null,5,4,7,null,null,null,null,null,null,null,3,null,1,6]
[null,3,null,null,null,6,null,null,null,null,null,null,null,1,null,3]
[null,null,null,null,null,null,4,9,null,5,null,null,7,null,8,null,null,null,9]
["*",null,7,9,1,null,8,2,null,null,null,null,null,null,null,8,null,5,6,null,7]
[]
[null,"NO.",247,null,null,{"$f":"COUNTA(B1357:J1365)","v":28},"ランク",null,"普通",null,null,null,"NO.",248,null,null,{"$f":"COUNTA(M1357:U1365)","v":28},"ランク",null,"普通"]
[null,null,null,9,null,null,1,7,null,null,null,null,9,null,4,null,2,null,null,null,1]
[null,1,6,null,2,8,null,null,null,null,null,null,5,null,null,null,7,null,null,4]
[null,null,null,2,4,null,null,6,null,null,null,null,2,null,null,null,null,3]
[null,null,4,null,null,null,3,null,null,null,null,null,null,null,null,null,5,9,8]
[null,null,9,null,5,null,null,null,6,4,null,null,1,null,null,null,null,null,null,null,6]
[null,null,null,null,null,7,null,null,8,null,null,null,null,9,5,8,null,4,7,null,2]
[null,null,null,7,null,null,null,5,null,3,null,null,null,null,null,null,null,7,null,6,3]
[null,3,2,null,null,4,9,null,null,null,null,null,null,7,null,null,8,null,null,null,9]
["*",null,1,null,null,null,8,9,null,null,null,null,3,null,null,null,null,null,1]
[]
[null,"NO.",249,null,null,{"$f":"COUNTA(B1368:J1376)","v":28},"ランク",null,"普通",null,null,null,"NO.",250,null,null,{"$f":"COUNTA(M1368:U1376)","v":28},"ランク",null,"普通"]
[null,6,null,9,2,5,1,null,null,3,null,null,4,null,null,9,null,null,3,null,1]
[null,null,null,null,null,null,8,5,null,null,null,null,8,null,null,null,null,3,null,null,5]
[null,1,null,null,null,null,null,null,8,2,null,null,1,null,null,2,null,null,null,9]
[null,null,null,3,9,null,null,null,null,7,null,null,null,2,3,7,null,null,6]
[null,null,2,null,null,1,null,null,null,4,null,null,null,null,4,null,6,null,null,1]
[null,null,4,null,8,null,null,6,null,null,null,null,null,null,null,5,null,null,8]
[null,null,null,null,null,null,5,null,7,9,null,null,null,null,7]
[null,null,null,7,null,null,4,null,null,null,null,null,6,null,null,null,2,null,5]
["*",null,null,4,3,null,null,null,6,null,null,null,null,null,1,8,null,4,9,7]
[]
[null,"NO.",251,null,null,{"$f":"COUNTA(B1379:J1387)","v":28},"ランク",null,"普通",null,null,null,"NO.",252,null,null,{"$f":"COUNTA(M1379:U1387)","v":28},"ランク",null,"普通"]
[null,null,1,null,null,null,5,8,null,2,null,null,8,null,null,null,6,null,5]
[null,null,null,6,null,null,2,3,null,null,null,null,null,null,null,2,null,null,null,1]
[null,null,4,null,1,null,8,null,null,null,null,null,7,null,1,4,null,null,null,null,3]
[null,4,null,5,9,null,null,null,null,null,null,null,9,null,null,7,null,null,null,null,6]
[null,null,null,null,null,5,null,null,null,4,null,null,4,null,null,null,1,null,9]
[null,null,null,9,null,null,7,5,null,6,null,null,null,3,null,null,5,null,7,4]
[null,null,2,null,null,null,6,null,null,3,null,null,null,null,null,6,null,null,null,9]
[null,null,null,null,null,1,null,null,7,null,null,null,null,2,7,null,null,8,3,5]
["*",3,7,null,null,8,null,null,9,null,null,null,null,8,null,null,2]
[]
[null,"NO.",253,null,null,{"$f":"COUNTA(B1390:J1398)","v":28},"ランク",null,"普通",null,null,null,"NO.",254,null,null,{"$f":"COUNTA(M1390:U1398)","v":27},"ランク",null,"普通"]
[null,null,null,5,null,null,null,6,null,null,null,null,null,null,null,2,null,4,null,null,3]
[null,null,null,7,null,8,1,null,null,2,null,null,1,6,null,9]
[null,1,6,null,2,null,null,null,null,3,null,null,null,null,3,null,null,null,null,7,6]
[null,null,null,null,null,null,null,null,2,null,null,null,null,8,null,null,1,null,null,null,7]
[null,null,null,null,null,4,null,null,null,6,null,null,null,null,4,null,5,null,2]
[null,6,4,3,9,5,null,8,null,null,null,null,5,null,null,null,null,3,6]
[null,null,5,null,null,null,8,null,null,9,null,null,null,null,null,8,null,1]
[null,7,null,9,1,null,null,null,4,null,null,null,null,null,null,null,null,null,null,9,4]
["*",null,null,null,null,7,null,3,null,null,null,null,2,7,9,5,null,null,8]
[]
[null,"NO.",255,null,null,{"$f":"COUNTA(B1401:J1409)","v":27},"ランク",null,"普通",null,null,null,"NO.",256,null,null,{"$f":"COUNTA(M1401:U1409)","v":26},"ランク",null,"普通"]
[null,null,null,null,null,null,null,null,null,9,null,null,null,1,null,8]
[null,null,5,3,4,null,null,7,null,null,null,null,null,null,null,2,4,null,null,9,3]
[null,null,null,1,null,6,2,null,null,3,null,null,null,3,null,null,null,null,null,5]
[null,8,null,null,null,null,null,6,null,null,null,null,3,null,null,5]
[null,null,4,null,3,5,null,8,null,null,null,null,null,null,5,null,null,9,1,3,6]
[null,1,null,null,7,null,null,4,null,null,null,null,2,null,null,1,6]
[null,null,7,null,1,null,5,9,6,null,null,null,null,null,null,null,8,null,9,7]
[null,null,2,9,null,null,8,null,null,null,null,null,null,8,6,null,null,null,null,2]
["*",null,null,null,null,null,null,null,null,2,null,null,null,4,7]
[]
[null,"NO.",257,null,null,{"$f":"COUNTA(B1412:J1420)","v":26},"ランク",null,"普通",null,null,null,"NO.",258,null,null,{"$f":"COUNTA(M1412:U1420)","v":25},"ランク",null,"普通"]
[null,4,null,null,null,null,null,7,3,null,null,null,null,null,null,5]
[null,3,null,null,2,6,null,null,null,5,null,null,5,null,null,null,null,null,null,null,2]
[null,9,null,null,null,null,null,4,null,null,null,null,8,6,null,null,null,null,null,3]
[null,null,null,null,null,null,null,null,null,1,null,null,1,null,9,null,null,null,8,7]
[null,null,null,4,5,null,8,null,7,6]
[null,null,6,2,null,null,7,null,5,null,null,null,6,null,2,1,4,null,null,null,9]
[null,null,null,1,null,null,null,2,null,null,null,null,null,5,null,8,7,null,null,6]
[null,null,8,7,1,null,null,null,null,null,null,null,null,7,null,null,null,3,null,8]
["*",null,null,null,8,null,3,null,null,null,null,null,null,null,null,null,2,null,null,9,5]
[]
[null,"NO.",259,null,null,{"$f":"COUNTA(B1423:J1431)","v":25},"ランク",null,"普通",null,null,null,"NO.",260,null,null,{"$f":"COUNTA(M1423:U1431)","v":33},"ランク",null,"難問"]
[null,6,null,null,null,null,null,5,null,null,null,null,null,1,null,2,7,null,null,9,8]
[null,null,null,null,2,null,4,null,3,null,null,null,null,null,2,null,null,null,6,3]
[null,null,7,1,null,null,null,2,null,null,null,null,3,null,8,5,null,null,null,7,2]
[null,null,8,null,null,null,3,null,5,null,null,null,null,null,1,null,5,null,null,4,6]
[null,1,4,null,null,null,5,null,7,null,null,null,null,null,null,null,null,1,2]
[null,null,null,null,null,2,null,null,null,6,null,null,4,null,5,null,6,null,7]
[null,null,5,null,3,null,null,null,4,null,null,null,1,null,null,null,8,null,3]
[null,4,null,null,null,null,8,null,null,null,null,null,null,null,7,3,null,5,null,null,9]
["*",null,null,7,null,1,null,null,8,null,null,null,5,null,null,null,null,null,8,null,4]
[]
[null,"NO.",261,null,null,{"$f":"COUNTA(B1434:J1442)","v":32},"ランク",null,"難問",null,null,null,"NO.",262,null,null,{"$f":"COUNTA(M1434:U1442)","v":32},"ランク",null,"難問"]
[null,null,null,1,null,null,null,null,null,7,null,null,4,null,null,null,5,null,null,null,7]
[null,3,null,5,null,null,8,null,null,null,null,null,null,9,null,null,4,null,6,5]
[null,7,6,8,1,2,null,null,4,3,null,null,null,null,7,null,2,null,9]
[null,null,null,4,null,3,9,null,null,5,null,null,null,7,null,2,null,4,null,1]
[null,2,7,null,5,null,null,null,null,9,null,null,8,1,null,null,9,null,null,4,3]
[null,null,null,null,null,null,null,null,null,6,null,null,null,5,null,8,null,7,null,9]
[null,null,null,2,6,5,null,null,3,null,null,null,null,null,9,null,6,null,4]
[null,null,1,null,null,8,3,null,9,4,null,null,null,3,null,null,8,null,null,6]
["*",null,null,7,null,null,4,null,null,null,null,null,6,null,null,null,7,null,null,null,9]
[]
[null,"NO.",263,null,null,{"$f":"COUNTA(B1445:J1453)","v":32},"ランク",null,"難問",null,null,null,"NO.",264,null,null,{"$f":"COUNTA(M1445:U1453)","v":32},"ランク",null,"難問"]
[null,null,7,null,null,null,null,5,null,null,null,null,null,8,null,null,2,null,null,null,9]
[null,null,null,1,2,7,5,null,null,3,null,null,null,null,5,8,null,null,1,7]
[null,null,4,null,1,null,null,null,2,7,null,null,7,null,2,5,9]
[null,null,null,null,null,null,null,null,null,null,null,null,null,null,null,null,null,8,3,4]
[null,null,8,7,6,5,null,3,null,null,null,null,1,null,6,4,null,null,null,null,7]
[null,9,null,4,7,1,null,6,null,2,null,null,null,3,null,null,1,null,6]
[null,7,null,8,null,null,6,null,null,null,null,null,null,null,3,9,null,null,null,null,4]
[null,4,null,null,8,null,null,9,null,6,null,null,null,4,null,null,7,null,null,3]
["*",null,2,null,9,null,null,null,3,null,null,null,5,2,null,null,null,4,9,1]
[]
[null,"NO.",265,null,null,{"$f":"COUNTA(B1456:J1464)","v":31},"ランク",null,"難問",null,null,null,"NO.",266,null,null,{"$f":"COUNTA(M1456:U1464)","v":31},"ランク",null,"難問"]
[null,null,null,5,null,8,2,4,3,null,null,null,5,4,null,7,null,null,3,null,9]
[null,2,null,null,4,null,5,null,9,null,null,null,null,null,1,null,2,null,null,4]
[null,null,1,4,null,null,6,null,null,null,null,null,null,null,2,null,null,8,1]
[null,3,null,9,null,null,null,null,null,6,null,null,4,null,null,null,6,null,null,null,2]
[null,null,4,null,null,6,null,9,null,null,null,null,2,null,null,null,4,null,6]
[null,null,null,6,null,5,4,3,null,null,null,null,null,8,6,null,null,5,null,7,3]
[null,4,null,8,6,1,null,2,null,null,null,null,8,null,null,null,null,3,5,9,1]
[null,null,null,1,null,null,8,null,null,9,null,null,null,null,3]
["*",null,null,7,null,null,null,null,null,null,null,null,7,null,null,9,8]
[]
[null,"NO.",267,null,null,{"$f":"COUNTA(B1467:J1475)","v":31},"ランク",null,"難問",null,null,null,"NO.",268,null,null,{"$f":"COUNTA(M1467:U1475)","v":31},"ランク",null,"難問"]
[null,null,null,null,null,null,1,null,4,null,null,null,null,null,4,5,null,null,9]
[null,null,null,8,null,null,2,null,null,6,null,null,8,null,6,2,null,1,3,null,7]
[null,5,7,null,null,9,null,null,null,3,null,null,null,null,null,null,3,null,null,null,6]
[null,null,2,6,7,1,null,null,null,null,null,null,null,4,9,6]
[null,null,null,null,3,null,4,null,null,2,null,null,1,null,8,null,null,5,null,6]
[null,4,null,null,null,null,null,null,6,null,null,null,null,null,null,1,2,4,8]
[null,7,8,null,null,4,3,null,1,9,null,null,null,null,7,9,null,null,null,2]
[null,2,null,null,6,8,null,null,7,5,null,null,null,3,2,null,null,8,7,9]
["*",null,3,9,null,null,null,null,null,null,null,null,null,null,5]
[]
[null,"NO.",269,null,null,{"$f":"COUNTA(B1478:J1486)","v":30},"ランク",null,"難問",null,null,null,"NO.",270,null,null,{"$f":"COUNTA(M1478:U1486)","v":30},"ランク",null,"難問"]
[null,7,2,null,3,null,null,8,5,null,null,null,null,null,7,1]
[null,1,null,3,null,2,null,9,null,null,null,null,3,null,null,null,4,null,null,7]
[null,4,null,6,null,null,5,null,null,3,null,null,9,1,null,null,5,null,2,4]
[null,null,null,null,1,8,null,null,4,null,null,null,4,null,null,null,null,8,null,3]
[null,null,4,null,5,null,9,null,null,1,null,null,5,null,null,null,null,null,6,null,1]
[null,null,null,1,null,null,null,null,6,null,null,null,null,null,null,5,6,null,null,9]
[null,5,null,2,8,6,null,null,null,null,null,null,2,null,null,null,9,null,null,null,7]
[null,3,null,7,9,null,null,null,null,null,null,null,7,null,null,null,null,null,9,1]
["*",null,null,null,null,null,null,null,9,null,null,null,null,null,4,6,8,null,3,2]
[]
[null,"NO.",271,null,null,{"$f":"COUNTA(B1489:J1497)","v":30},"ランク",null,"難問",null,null,null,"NO.",272,null,null,{"$f":"COUNTA(M1489:U1497)","v":30},"ランク",null,"難問"]
[null,1,null,null,2,null,null,null,3,null,null,null,null,null,4,null,null,null,null,5]
[null,null,9,null,null,null,1,null,null,8,null,null,1,3,null,8,null,2,null,null,4]
[null,5,2,null,null,6,null,null,null,7,null,null,5,null,null,6,null,null,null,null,3]
[null,null,6,4,null,9,null,null,null,5,null,null,null,4,null,5,7,null,null,3,1]
[null,2,null,null,null,null,null,null,null,1,null,null,7,5,null,null,9,null,null,null,6]
[null,null,null,null,5,3,2,null,6,null,null,null,null,null,1]
[null,8,null,null,4,null,null,7,null,null,null,null,null,null,null,null,8,null,null,null,9]
[null,4,null,null,null,null,7,null,null,9,null,null,3,7,null,null,6,1,2]
["*",null,7,null,8,2,null,null,null,3,null,null,null,9,2,null,null,null,null,null,8]
[]
[null,"NO.",273,null,null,{"$f":"COUNTA(B1500:J1508)","v":30},"ランク",null,"難問",null,null,null,"NO.",274,null,null,{"$f":"COUNTA(M1500:U1508)","v":30},"ランク",null,"難問"]
[null,8,4,null,null,null,7,3,null,null,null,null,1,null,null,2,null,null,4,7]
[null,2,null,null,8,null,null,null,null,null,null,null,null,null,7,null,null,null,null,null,3]
[null,1,null,null,2,3,null,6,null,4,null,null,null,2,null,null,null,7,5,null,6]
[null,4,null,null,null,7,null,null,5,null,null,null,null,4,1,5,null,2,6]
[null,7,8,null,null,5,null,4,null,null,null,null,null,null,5,null,7,1]
[null,null,5,null,null,null,9,null,null,6,null,null,6,null,null,null,null,null,1,5]
[null,9,1,null,6,null,null,null,null,null,null,null,null,9,null,null,null,4]
[null,null,7,null,null,null,3,2,null,1,null,null,null,null,null,null,8,null,9,3]
["*",null,null,null,null,null,8,9,null,null,null,null,7,null,null,3,null,null,8,null,4]
[]
[null,"NO.",275,null,null,{"$f":"COUNTA(B1511:J1519)","v":29},"ランク",null,"難問",null,null,null,"NO.",276,null,null,{"$f":"COUNTA(M1511:U1519)","v":29},"ランク",null,"難問"]
[null,6,1,null,null,null,null,null,3,null,null,null,4,null,1,null,null,5,3,null,8]
[null,null,null,null,null,4,3,null,null,1,null,null,null,8,null,2,null,null,null,null,1]
[null,null,null,8,2,null,null,7,null,null,null,null,null,9,null,null,6,null,null,2]
[null,4,null,null,null,null,null,null,5,6,null,null,null,null,null,6]
[null,null,null,3,5,2,4,9,null,null,null,null,null,6,null,7,4,null,null,null,5]
[null,null,7,null,1,null,null,null,null,null,null,null,2,null,4,5,9,null,6,7]
[null,7,null,null,null,9,null,null,null,null,null,null,null,null,null,null,8,null,null,1,9]
[null,null,8,null,null,null,null,null,null,9,null,null,9,3,null,null,2,null,null,null,6]
["*",null,4,1,null,8,6,5,2]
[]
[null,"NO.",277,null,null,{"$f":"COUNTA(B1522:J1530)","v":29},"ランク",null,"難問",null,null,null,"NO.",278,null,null,{"$f":"COUNTA(M1522:U1530)","v":29},"ランク",null,"難問"]
[null,3,null,null,null,2,null,9,5,8,null,null,null,null,1,null,null,4,8]
[null,5,null,null,null,6,null,null,3,null,null,null,6,5,null,null,null,1]
[null,1,null,2,null,null,3,null,null,null,null,null,null,4,9,null,2,null,3,7]
[null,4,1,null,null,null,2,null,6,null,null,null,null,6,4,2]
[null,null,null,null,null,null,null,8,null,null,null,null,null,3,null,null,null,5,6]
[null,7,null,null,null,5,6,3,null,null,null,null,null,null,null,null,1,null,null,8,3]
[null,null,null,null,null,null,4,7,null,null,null,null,7,null,null,null,9,8,5,2]
[null,null,5,1,null,null,9,null,4,null,null,null,null,null,5,null,null,null,null,null,9]
["*",null,null,7,null,8,null,null,null,9,null,null,null,9,null,null,null,7]
[]
[null,"NO.",279,null,null,{"$f":"COUNTA(B1533:J1541)","v":29},"ランク",null,"難問",null,null,null,"NO.",280,null,null,{"$f":"COUNTA(M1533:U1541)","v":29},"ランク",null,"難問"]
[null,null,1,2,null,null,4,null,null,5]
[null,null,null,4,null,null,5,null,null,6,null,null,6,null,null,2,1,8,5,9,4]
[null,null,null,null,null,null,2,9,null,3,null,null,8,null,1,null,null,null,null,3]
[null,null,5,null,6,null,null,null,9,null,null,null,null,null,null,null,9,null,null,6]
[null,null,4,null,null,null,3,null,null,null,null,null,4,null,9,7,null,5,3]
[null,3,null,null,null,5,null,7,6,null,null,null,7,5,null,null,null,null,null,4]
[null,null,null,null,null,8,null,null,2,null,null,null,null,null,null,null,8,6,2,null,7]
[null,8,7,null,null,2,1,null,null,9,null,null,null,2,7,null,3]
["*",null,null,1,null,null,null,null,8,7,null,null,1,null,null,null,null,null,9]
[]
[null,"NO.",281,null,null,{"$f":"COUNTA(B1544:J1552)","v":29},"ランク",null,"難問",null,null,null,"NO.",282,null,null,{"$f":"COUNTA(M1544:U1552)","v":29},"ランク",null,"難問"]
[null,7,9,1,5,null,null,null,null,3,null,null,1,4,null,null,2]
[null,null,null,null,2,null,null,1,7,null,null,null,3,null,null,null,null,null,null,4]
[null,6,null,null,null,null,9,null,null,null,null,null,null,null,5,null,null,null,9,2,3]
[null,null,1,null,null,null,null,null,null,null,null,null,2,null,9,3,null,5,null,6,7]
[null,4,5,null,null,9,null,null,6,2,null,null,null,null,null,null,4]
[null,2,null,null,null,8,5,4,null,null,null,null,null,null,4,null,null,null,null,8]
[null,null,null,null,8,null,null,3,9,null,null,null,null,null,3,null,6,7,null,9]
[null,null,4,7,null,null,null,null,null,8,null,null,null,null,null,5,3,8]
["*",null,6,null,3,null,1,null,null,null,null,null,7,null,8,null,null,1,null,null,2]
[]
[null,"NO.",283,null,null,{"$f":"COUNTA(B1555:J1563)","v":29},"ランク",null,"難問",null,null,null,"NO.",284,null,null,{"$f":"COUNTA(M1555:U1563)","v":29},"ランク",null,"難問"]
[null,8,null,null,null,1,null,3,null,null,null,null,null,9,null,8,null,null,6]
[null,null,3,9,null,null,null,null,7,null,null,null,8,null,null,4,6,null,null,5,3]
[null,null,1,null,4,null,null,9,8,null,null,null,null,null,5,null,null,null,null,null,4]
[null,null,null,null,null,null,null,null,6,null,null,null,null,1,null,2,null,null,null,null,7]
[null,null,7,null,6,null,1,null,null,3,null,null,null,null,9,null,4,null,null,2]
[null,2,null,null,null,4,5,null,null,null,null,null,5,null,null,null,null,9,null,1]
[null,null,null,5,null,6,null,null,2,9,null,null,null,7,null,null,8,null,null,null,2]
[null,null,null,null,8,null,null,1,null,null,null,null,2,null,null,null,null,3,7]
["*",null,4,7,5,null,2,6,null,null,null,null,null,5,3,6,null,null,null,4]
[]
[null,"NO.",285,null,null,{"$f":"COUNTA(B1566:J1574)","v":29},"ランク",null,"難問",null,null,null,"NO.",286,null,null,{"$f":"COUNTA(M1566:U1574)","v":29},"ランク",null,"難問"]
[null,null,null,null,null,null,null,null,1,3,null,null,null,6,null,null,null,1,3]
[null,null,6,null,null,null,null,null,null,null,null,null,8,null,3,9,null,2,null,null,5]
[null,1,null,null,null,null,6,8,2,null,null,null,4,null,null,6,null,null,null,null,8]
[null,5,null,null,2,7,null,null,6,null,null,null,3,null,4,null,null,null,null,9]
[null,7,1,null,null,null,5,null,4,null,null,null,null,null,8,null,null,7,5,null,1]
[null,null,null,4,3,null,null,null,9,null,null,null,null,null,null,2,null,5,null,null,6]
[null,8,null,null,null,null,2,null,3,7,null,null,9,null,2]
[null,3,null,5,null,1,null,null,null,null,null,null,null,null,null,null,null,null,null,null,4]
["*",null,7,null,null,8,null,9,5,null,null,null,7,null,6,3,null,8,null,1]
[]
[null,"NO.",287,null,null,{"$f":"COUNTA(B1577:J1585)","v":29},"ランク",null,"難問",null,null,null,"NO.",288,null,null,{"$f":"COUNTA(M1577:U1585)","v":29},"ランク",null,"難問"]
[null,null,null,1,9,7,null,null,8,null,null,null,null,null,3,null,null,null,null,5]
[null,null,null,2,null,null,null,3,null,4,null,null,null,null,1,2,7,null,null,null,9]
[null,null,8,null,null,null,2,1,null,null,null,null,null,null,null,null,null,9,6,null,4]
[null,5,null,null,null,null,null,null,6,null,null,null,1,null,null,5,null,null,null,null,3]
[null,null,null,null,6,3,null,null,null,9,null,null,8,4,null,null,null,1,2]
[null,null,6,4,5,null,null,null,1,3,null,null,null,null,null,8,null,null,null,7,6]
[null,null,7,5,null,9,null,4,null,null,null,null,6,9,null,null,1,null,5]
[null,null,null,null,2,null,null,null,null,null,null,null,null,3,null,null,2,8,9]
["*",null,4,null,null,8,null,9,7,null,null,null,7,null,null,null,null,null,3]
[]
[null,"NO.",289,null,null,{"$f":"COUNTA(B1588:J1596)","v":29},"ランク",null,"難問",null,null,null,"NO.",290,null,null,{"$f":"COUNTA(M1588:U1596)","v":28},"ランク",null,"難問"]
[null,1,null,null,null,null,7,null,null,null,null,null,null,null,6,null,4,2,1,null,3]
[null,null,null,null,2,null,null,null,5,null,null,null,null,null,null,9]
[null,null,null,8,null,4,1,3,null,9,null,null,null,1,7,null,null,3]
[null,null,null,null,null,null,null,null,null,6,null,null,null,3,4,null,null,5]
[null,8,4,7,null,6,null,null,2,null,null,null,null,null,null,null,7,9]
[null,null,3,null,null,2,5,null,8,null,null,null,null,null,1,null,null,null,8,5,6]
[null,5,null,null,null,7,null,null,null,null,null,null,null,null,null,null,null,7,null,null,4]
[null,null,null,null,null,null,3,null,9,null,null,null,6,2,null,null,null,8,null,null,9]
["*",4,7,3,9,null,8,6,null,null,null,null,4,7,null,null,2,null,null,3]
[]
[null,"NO.",291,null,null,{"$f":"COUNTA(B1599:J1607)","v":28},"ランク",null,"難問",null,null,null,"NO.",292,null,null,{"$f":"COUNTA(M1599:U1607)","v":28},"ランク",null,"難問"]
[null,null,null,null,null,2,null,6,null,null,null,null,null,null,null,null,null,6,3]
[null,null,9,null,5,null,null,null,3,null,null,null,null,7,null,4,null,null,null,null,2]
[null,4,null,1,null,7,null,null,null,2,null,null,1,null,5,null,2,null,null,null,6]
[null,3,null,null,null,null,5,null,2,null,null,null,null,null,null,null,null,null,9]
[null,null,6,null,null,null,null,7,null,null,null,null,null,9,null,5,7,3,6,null,4]
[null,null,null,4,8,1,null,null,6,null,null,null,4,null,8,null,null,2]
[null,8,null,null,null,null,9,null,null,null,null,null,null,null,null,null,8,5]
[null,null,5,7,1,null,null,null,9,4,null,null,null,null,null,null,null,null,1,null,9]
["*",null,null,null,2,null,8,3,null,null,null,null,7,2,3,1,null,null,8]
[]
[null,"NO.",293,null,null,{"$f":"COUNTA(B1610:J1618)","v":28},"ランク",null,"難問",null,null,null,"NO.",294,null,null,{"$f":"COUNTA(M1610:U1618)","v":28},"ランク",null,"難問"]
[null,null,7,2,null,null,9,5,4,3,null,null,null,null,null,7,null,null,1,null,2]
[null,null,null,null,null,null,2,null,null,null,null,null,null,null,null,null,null,null,null,null,3]
[null,1,null,null,null,3,null,null,null,9,null,null,null,1,8,null,3,2,null,5]
[null,8,null,5,null,null,null,null,7,null,null,null,4,null,5,null,null,null,null,1]
[null,null,null,null,6,null,null,null,null,null,null,null,null,7,null,null,6,null,9]
[null,4,null,null,null,8,5,null,1,6,null,null,null,9,null,8,5,null,null,6,4]
[null,null,null,3,1,null,8,null,null,null,null,null,null,null,3]
[null,2,null,null,null,6,null,null,null,4,null,null,null,null,7,5,null,null,null,2]
["*",7,null,null,null,null,null,9,5,null,null,null,null,2,null,null,4,8,null,null,9]
[]
[null,"NO.",295,null,null,{"$f":"COUNTA(B1621:J1629)","v":28},"ランク",null,"難問",null,null,null,"NO.",296,null,null,{"$f":"COUNTA(M1621:U1629)","v":28},"ランク",null,"難問"]
[null,null,null,3,9,4,null,null,null,null,null,null,6,null,null,null,null,9,3,5]
[null,null,1,null,null,7,null,null,6,null,null,null,null,null,null,6,null,2,null,8]
[null,5,null,7,6,null,null,1,null,3,null,null,9,null,null,5,null,null,null,2]
[null,null,null,4,null,null,9,null,null,null,null,null,null,null,null,null,5,null,null,null,1]
[null,null,8,null,null,null,7,4,9,null,null,null,null,1,null,null,null,null,4,6]
[null,2,null,null,8,null,null,null,null,null,null,null,7,4,null,null,6]
[null,null,4,null,null,null,5,3,null,6,null,null,3,null,null,null,null,null,null,4]
[null,null,2,null,null,null,6,null,1,null,null,null,1,8,null,null,2,null,null,3]
["*",9,null,null,null,null,null,8,null,null,null,null,null,2,null,8,null,null,6,null,9]
[]
[null,"NO.",297,null,null,{"$f":"COUNTA(B1632:J1640)","v":28},"ランク",null,"難問",null,null,null,"NO.",298,null,null,{"$f":"COUNTA(M1632:U1640)","v":28},"ランク",null,"難問"]
[null,6,null,null,null,8,null,null,null,3,null,null,null,null,1,7,null,9]
[null,null,null,1,2,null,null,null,null,6,null,null,null,null,null,2,null,null,null,7,9]
[null,3,5,null,9,null,1,null,7,null,null,null,null,null,null,null,3,null,null,5]
[null,1,4,null,null,null,null,null,null,null,null,null,6,null,null,8,null,null,null,null,2]
[null,null,null,null,null,null,8,6,null,null,null,null,7,null,8,null,4,null,null,6,1]
[null,8,null,9,3,null,5,7,null,null,null,null,null,4]
[null,2,null,null,null,4,null,null,null,null,null,null,9,null,7,6,2]
[null,null,null,null,null,7,null,null,null,1,null,null,1,null,3,null,null,8,null,4]
["*",null,null,4,5,null,null,9,null,8,null,null,null,null,6,null,null,null,9,null,8]
[]
[null,"NO.",299,null,null,{"$f":"COUNTA(B1643:J1651)","v":28},"ランク",null,"難問",null,null,null,"NO.",300,null,null,{"$f":"COUNTA(M1643:U1651)","v":28},"ランク",null,"難問"]
[null,2,null,null,4,null,8,null,null,3,null,null,null,7,null,null,null,5]
[null,null,null,null,null,null,null,5,null,null,null,null,null,null,3,2,null,4,null,7]
[null,6,null,null,null,9,7,null,null,4,null,null,null,null,1,null,null,null,2,3]
[null,null,null,null,null,6,null,null,null,null,null,null,null,6,null,null,5,null,null,null,9]
[null,null,5,null,null,null,null,7,null,8,null,null,null,4,null,null,null,null,null,1]
[null,8,4,3,null,null,5,2,null,6,null,null,null,null,5,9,null,null,null,6,3]
[null,null,8,2,null,null,null,4,null,9,null,null,null,8,null,4,null,null,1]
[null,null,null,null,9,null,4,3,null,null,null,null,null,null,4,null,null,7,null,9]
["*",null,7,null,null,8,null,null,null,null,null,null,null,null,2,null,9,8,6]
[]
[null,"NO.",301,null,null,{"$f":"COUNTA(B1654:J1662)","v":27},"ランク",null,"難問",null,null,null,"NO.",302,null,null,{"$f":"COUNTA(M1654:U1662)","v":27},"ランク",null,"難問"]
[null,null,null,null,9,null,null,null,null,null,null,null,null,null,5,null,null,null,3]
[null,null,1,8,null,null,null,6,2,null,null,null,8,null,null,3,null,6,null,9]
[null,null,null,null,null,null,1,4,null,null,null,null,null,1,null,null,null,8,null,null,2]
[null,7,8,null,null,5,null,null,6,4,null,null,5,null,2,4,null,null,7,null,1]
[null,2,null,null,7,null,null,null,null,3,null,null,null,7,null,null,3,null,null,4]
[null,5,null,null,6,null,null,null,8,null,null,null,9,null,null,8,null,null,6]
[null,null,null,7,8,null,null,9,null,null,null,null,1,null,null,null,null,7]
[null,null,3,null,null,9,null,5,null,null,null,null,null,9]
["*",4,null,6,null,null,2,null,null,null,null,null,null,null,null,2,null,4,null,5,6]
[]
[null,"NO.",303,null,null,{"$f":"COUNTA(B1665:J1673)","v":27},"ランク",null,"難問",null,null,null,"NO.",304,null,null,{"$f":"COUNTA(M1665:U1673)","v":27},"ランク",null,"難問"]
[null,null,null,5,8,null,7,null,null,null,null,null,null,null,9,4]
[null,null,2,null,null,null,null,null,9,null,null,null,null,null,null,null,null,null,null,1]
[null,null,null,null,null,null,5,1,null,7,null,null,2,null,8,null,3,6,null,null,7]
[null,null,null,null,null,null,4,5,6,null,null,null,null,null,null,6,null,4]
[null,null,1,null,null,8,null,null,7,null,null,null,5,null,null,null,null,null,null,null,4]
[null,4,null,6,2,null,null,null,null,null,null,null,3,null,1,5,8,null,null,9]
[null,null,null,1,7,null,null,9,null,2,null,null,null,8,null,null,null,null,null,2]
[null,3,9,null,null,4,null,null,null,null,null,null,7,1,null,2]
["*",null,null,7,null,null,null,3,5,null,null,null,null,null,null,8,7,3,null,5,6]
[]
[null,"NO.",305,null,null,{"$f":"COUNTA(B1676:J1684)","v":27},"ランク",null,"難問",null,null,null,"NO.",306,null,null,{"$f":"COUNTA(M1676:U1684)","v":27},"ランク",null,"難問"]
[null,null,null,8,null,6,null,3]
[null,null,null,null,4,null,null,1,null,null,null,null,6,null,null,null,7,1,null,null,9]
[null,1,6,null,null,2,null,4,null,null,null,null,7,4,null,null,6,2,null,null,3]
[null,null,null,7,null,5,9,8,null,6,null,null,null,null,5,null,null,4,null,3]
[null,6,null,null,null,3,null,null,2,null,null,null,null,null,3,null,9,null,null,4,6]
[null,null,4,null,null,null,null,null,1,null,null,null,2,6,null,null,null,null,null,null,5]
[null,null,9,1,3,null,null,2,5,null,null,null,null,null,null,1,null,7,null,9]
[null,null,7,null,9,null,null,null,null,null,null,null,null,null,1,null,null,null,null,2,8]
["*",null,null,null,5,null,null,null,null,null,null,null,null,5,null,8]
[]
[null,"NO.",307,null,null,{"$f":"COUNTA(B1687:J1695)","v":27},"ランク",null,"難問",null,null,null,"NO.",308,null,null,{"$f":"COUNTA(M1687:U1695)","v":27},"ランク",null,"難問"]
[null,null,null,null,null,null,3,null,null,5,null,null,null,6]
[null,2,null,null,null,6,1,8,3,null,null,null,null,null,7,null,null,null,3,4]
[null,1,null,null,null,null,null,null,null,null,null,null,8,1,null,null,null,9,null,null,5]
[null,null,6,null,null,5,null,7,8,null,null,null,null,9,2,null,null,null,5,6]
[null,null,null,4,null,null,null,null,null,null,null,null,null,4,null,null,2,null,null,null,3]
[null,7,null,2,null,null,null,9,null,null,null,null,null,null,8,6,4]
[null,5,1,null,null,null,8,4,null,null,null,null,null,null,null,8,5,null,null,9,1]
[null,null,null,7,4,null,null,2,9,null,null,null,null,null,null,2,null,null,7]
["*",null,null,3,null,9,null,null,6,null,null,null,1,7,9]
[]
[null,"NO.",309,null,null,{"$f":"COUNTA(B1698:J1706)","v":27},"ランク",null,"難問",null,null,null,"NO.",310,null,null,{"$f":"COUNTA(M1698:U1706)","v":27},"ランク",null,"難問"]
[null,null,null,9,5,7,null,null,2,null,null,null,null,4,null,null,2,null,null,null,5]
[null,null,1,null,null,null,3,null,7,null,null,null,5,null,null,null,9,null,3]
[null,null,null,4,null,null,null,1,3,null,null,null,2,null,null,null,null,null,null,null,1]
[null,9,4,null,null,null,5,null,null,6,null,null,null,null,null,null,3,8,null,6]
[null,null,2,null,null,8,null,null,null,null,null,null,null,8,null,4,null,null,2]
[null,null,null,null,4,null,null,null,null,null,null,null,null,null,4,5,null,null,7,null,9]
[null,6,7,null,null,null,8,5,null,3,null,null,null,null,null,null,8,6,1,3]
[null,null,null,8,1,null,null,2,null,9,null,null,null,3,9,null,null,7,6]
["*",null,null,null,6,null,null,null,null,null,null,null,7]
[]
[null,"NO.",311,null,null,{"$f":"COUNTA(B1709:J1717)","v":26},"ランク",null,"難問",null,null,null,"NO.",312,null,null,{"$f":"COUNTA(M1709:U1717)","v":26},"ランク",null,"難問"]
[null,null,null,5,3,null,null,null,null,null,null,null,6,null,null,null,null,null,2]
[null,null,null,null,null,null,null,null,null,null,null,null,null,null,4,null,null,7]
[null,1,7,null,null,2,null,null,8,null,null,null,1,null,8,6,null,null,3,null,4]
[null,null,null,8,null,null,5,null,6,null,null,null,null,null,null,null,null,null,null,null,3]
[null,null,null,null,null,null,9,null,null,4,null,null,null,null,null,3,5,4,null,7]
[null,null,4,null,null,7,6,9,null,2,null,null,null,null,null,null,null,null,null,9,5]
[null,null,null,null,null,8,null,null,2,null,null,null,4,null,null,8,null,null,null,null,6]
[null,null,8,6,1,null,null,null,null,9,null,null,null,null,9,null,1,null,5]
["*",2,null,null,null,5,null,4,3,null,null,null,3,null,1,7,null,null,null,null,9]
[]
[null,"NO.",313,null,null,{"$f":"COUNTA(B1720:J1728)","v":26},"ランク",null,"難問",null,null,null,"NO.",314,null,null,{"$f":"COUNTA(M1720:U1728)","v":26},"ランク",null,"難問"]
[null,null,1,null,null,2,null,7,null,null,null,null,null,null,null,5,null,2,3]
[null,4,null,null,null,6,null,null,null,null,null,null,null,7,null,null,3]
[null,null,null,6,3,null,8,null,4,null,null,null,null,null,2,null,9]
[null,null,5,2,null,3,null,6,null,null,null,null,null,9,null,null,null,5,null,4]
[null,null,null,null,9,null,null,null,5,null,null,null,null,null,1,3,2,null,null,6]
[null,8,null,null,null,null,1,null,3,null,null,null,4,null,null,null,null,null,null,8]
[null,6,null,1,null,null,null,2,null,5,null,null,null,null,7,null,null,null,null,1,4]
[null,2,4,null,null,null,null,9,null,null,null,null,null,null,null,null,1,9]
["*",null,null,9,null,null,null,null,null,null,null,null,null,5,null,8,null,7,6,9]
[]
[null,"NO.",315,null,null,{"$f":"COUNTA(B1731:J1739)","v":26},"ランク",null,"難問",null,null,null,"NO.",316,null,null,{"$f":"COUNTA(M1731:U1739)","v":26},"ランク",null,"難問"]
[null,9,5,null,null,8,null,7,null,1,null,null,null,6,null,null,4]
[null,6,null,null,null,null,null,null,null,null,null,null,null,null,null,null,null,null,null,1]
[null,null,null,null,2,null,4,null,null,null,null,null,null,null,1,7,2,8,null,3]
[null,null,null,null,null,null,null,null,5,null,null,null,null,8,null,5,null,null,null,6]
[null,4,null,3,null,null,null,null,null,8,null,null,null,null,7,null,null,4,null,5]
[null,5,null,null,null,1,7,null,null,null,null,null,4,3,null,null,null,7,2]
[null,null,3,null,null,null,null,9,6,null,null,null,null,7,null,3,8]
[null,7,9,null,null,null,8,2,null,null,null,null,9,null,null,1]
["*",null,null,6,3,4,null,8,null,null,null,null,null,null,3,null,null,null,9,null,6]
[]
[null,"NO.",317,null,null,{"$f":"COUNTA(B1742:J1750)","v":26},"ランク",null,"難問",null,null,null,"NO.",318,null,null,{"$f":"COUNTA(M1742:U1750)","v":26},"ランク",null,"難問"]
[null,2,null,null,3,null,null,null,null,null,null,null,null,null,null,null,4]
[null,null,7,1,null,null,9,6,3,null,null,null,9,null,null,7,null,5,null,null,3]
[null,null,null,null,null,8,null,1,null,null,null,null,null,null,null,null,8,null,null,null,9]
[null,3,null,null,5,9,null,null,null,null,null,null,null,null,null,null,null,2,6,7]
[null,null,null,null,null,4,null,null,6,1,null,null,null,null,4,null,null,null,8]
[null,null,6,null,null,null,null,4,null,null,null,null,null,3,null,8,5,null,null,null,2]
[null,null,null,null,null,5,4,7,8,null,null,null,4,9,null,null,7]
[null,null,2,7,null,null,8,null,9,null,null,null,3,null,8,null,1,4]
["*",null,9,null,null,null,null,null,null,null,null,null,null,1,null,null,null,null,9,5]
[]
[null,"NO.",319,null,null,{"$f":"COUNTA(B1753:J1761)","v":26},"ランク",null,"難問",null,null,null,"NO.",320,null,null,{"$f":"COUNTA(M1753:U1761)","v":26},"ランク",null,"難問"]
[null,null,5,null,null,3,null,null,null,null,null,null,9,null,null,null,null,null,4]
[null,null,null,null,null,null,9,4,null,3,null,null,null,null,null,8,1,6]
[null,2,null,8,4,null,null,null,null,null,null,null,null,7,2,5]
[null,null,null,null,null,null,null,null,6,2,null,null,null,9,null,null,null,null,null,null,6]
[null,4,7,null,1,null,3,null,9,null,null,null,2,null,4,null,null,3,9]
[null,null,1,null,null,6,5,null,null,null,null,null,null,6,null,null,5,null,2,1]
[null,1,null,7,null,null,6,null,null,9,null,null,null,null,null,null,3,null,1,9]
[null,null,null,null,null,null,2,null,4,null,null,null,null,null,3,null,8,7]
["*",null,null,null,8,7,null,null,null,null,null,null,null,4,null,null,null,null,null,8]
[]
[null,"NO.",321,null,null,{"$f":"COUNTA(B1764:J1772)","v":26},"ランク",null,"難問",null,null,null,"NO.",322,null,null,{"$f":"COUNTA(M1764:U1772)","v":26},"ランク",null,"難問"]
[null,null,2,null,null,null,8,3,null,null,null,null,null,null,null,9]
[null,null,null,null,null,3,null,null,1,null,null,null,null,1,null,null,null,null,6]
[null,null,null,null,2,9,null,null,5,4,null,null,null,null,9,2,1,null,4,null,3]
[null,null,null,5,1,2,null,4,null,3,null,null,null,4,null,1,null,null,null,null,5]
[null,null,1,null,null,null,null,7,null,null,null,null,null,null,null,8,2,null,null,6]
[null,null,null,null,null,null,null,null,null,5,null,null,null,7,null,null,null,5,2]
[null,null,null,2,null,7,null,null,null,null,null,null,3,null,null,null,null,null,null,7]
[null,4,null,null,null,null,null,6,null,8,null,null,null,5,8,null,null,null,null,null,9]
["*",null,6,null,3,8,null,null,9,null,null,null,null,null,7,null,8,9,null,3]
[]
[null,"NO.",323,null,null,{"$f":"COUNTA(B1775:J1783)","v":26},"ランク",null,"難問",null,null,null,"NO.",324,null,null,{"$f":"COUNTA(M1775:U1783)","v":26},"ランク",null,"難問"]
[null,2,6,null,null,8,null,null,null,3,null,null,null,null,null,1,null,null,null,3]
[null,null,null,null,null,null,1,null,5,null,null,null,null,1,null,6,null,9,null,7]
[null,null,null,null,2,null,4,9,null,null,null,null,3,null,null,null,null,4]
[null,6,7,null,null,null,null,null,null,5,null,null,null,null,6,null,null,5,null,2]
[null,null,8,null,1,null,null,3,null,6,null,null,null,null,null,9,null,3,7]
[null,null,null,null,5,null,null,null,null,null,null,null,null,2,null,null,4,null,8]
[null,4,null,null,8,null,5,null,1,9,null,null,null,null,2,null,5,null,9]
[null,7,2,null,null,null,null,null,null,null,null,null,null,null,7,null,null,null,null,5,8]
["*",null,null,null,3,null,null,null,7,null,null,null,4,null,null,null,null,8,null,1]
[]
[null,"NO.",325,null,null,{"$f":"COUNTA(B1786:J1794)","v":26},"ランク",null,"難問",null,null,null,"NO.",326,null,null,{"$f":"COUNTA(M1786:U1794)","v":26},"ランク",null,"難問"]
[null,1,null,null,null,null,null,3,4,null,null,null,null,null,6,null,null,null,4,null,8]
[null,null,null,null,null,null,1,null,null,5,null,null,null,null,null,null,6,null,null,null,3]
[null,null,3,null,null,null,2,null,null,null,null,null,3,null,9,1]
[null,6,null,4,null,8,5,null,null,2,null,null,5,null,null,null,7,null,8]
[null,null,null,null,null,4,null,null,null,null,null,null,null,null,null,null,5,null,null,4]
[null,5,8,null,null,null,6,null,9,null,null,null,null,null,4,null,null,null,null,6]
[null,7,null,6,null,2,null,9,null,null,null,null,9,7,2,null,null,4,6]
[null,null,null,null,8,null,null,1,null,null,null,null,null,null,null,8,null,null,9,null,1]
["*",4,5,null,null,null,9,null,null,null,null,null,null,1,null,null,null,5,3]
[]
[null,"NO.",327,null,null,{"$f":"COUNTA(B1797:J1805)","v":26},"ランク",null,"難問",null,null,null,"NO.",328,null,null,{"$f":"COUNTA(M1797:U1805)","v":26},"ランク",null,"難問"]
[null,null,null,null,5,3,null,null,null,null,null,null,6,1,null,null,9,null,null,null,8]
[null,1,9,null,null,null,null,null,6,null,null,null,null,4,null,2]
[null,4,null,5,null,1,null,null,8,3,null,null,null,null,8,null,null,null,2,null,3]
[null,null,null,null,null,5,null,7,null,null,null,null,null,null,null,null,null,null,5]
[null,null,null,null,null,null,8,null,null,null,null,null,null,9,4,8,null,5,null,1]
[null,null,null,9,null,null,3,null,4,6,null,null,null,null,null,1,null,7]
[null,null,null,null,8,6,null,3,null,null,null,null,null,7,6]
[null,7,null,null,null,null,null,null,2,null,null,null,null,null,null,4,null,null,6]
["*",null,1,4,null,7,null,9,null,null,null,null,5,null,null,null,8,2,7,null,9]
[]
[null,"NO.",329,null,null,{"$f":"COUNTA(B1808:J1816)","v":26},"ランク",null,"難問",null,null,null,"NO.",330,null,null,{"$f":"COUNTA(M1808:U1816)","v":26},"ランク",null,"難問"]
[null,5,null,null,2,null,null,3,null,null,null,null,null,2,null,null,8,null,6]
[null,null,null,null,null,null,9,null,null,8,null,null,null,1,null,9]
[null,null,null,1,null,null,null,7,null,4,null,null,null,null,6,2,null,4,null,3,1]
[null,null,null,4,null,5,null,null,6,null,null,null,5,null,7,null,null,null,null,4]
[null,null,null,2,null,null,null,null,8,3,null,null,2,null,null,null,9,null,null,null,6]
[null,6,3,null,null,null,null,null,null,null,null,null,9,null,null,null,null,2]
[null,null,null,null,null,2,null,null,null,7,null,null,4,null,5,null,null,3,null,9]
[null,null,null,null,null,4,null,8,null,5,null,null,null,7]
["*",7,6,3,null,null,8,null,null,9,null,null,null,null,null,null,1,null,3,8]
[]
[null,"NO.",331,null,null,{"$f":"COUNTA(B1819:J1827)","v":26},"ランク",null,"難問",null,null,null,"NO.",332,null,null,{"$f":"COUNTA(M1819:U1827)","v":25},"ランク",null,"難問"]
[null,null,2,null,null,9,null,3,null,null,null,null,null,null,null,null,2,null,null,9,1]
[null,null,null,null,7,null,null,4,2,1,null,null,null,8,null,null,null,5,null,null,3]
[null,1,null,null,6,null,null,null,5,null,null,null,1,null,7]
[null,null,3,null,null,null,6,null,null,8,null,null,5,4,null,null,null,null,null,1]
[null,null,null,9,null,null,null,6,null,null,null,null,null,null,null,null,4,null,6,null,2]
[null,null,null,null,null,null,7,null,null,4,null,null,null,null,null,6,null,null,null,null,5]
[null,null,null,null,4,null,null,null,3,null,null,null,null,null,null,null,null,4,null,3,9]
[null,null,6,null,null,null,3,null,null,null,null,null,null,7,null,null,6,3,2]
["*",7,null,null,null,8,1,9,null,2,null,null,9,null,null,null,null,null,null,null,8]
[]
[null,"NO.",333,null,null,{"$f":"COUNTA(B1830:J1838)","v":25},"ランク",null,"難問",null,null,null,"NO.",334,null,null,{"$f":"COUNTA(M1830:U1838)","v":25},"ランク",null,"難問"]
[null,null,8,null,null,null,null,null,null,3,null,null,null,1,null,null,4,null,8]
[null,1,null,7,null,null,2,null,null,4,null,null,null,null,null,1,null,null,null,null,3]
[null,null,null,null,4,9,null,null,null,null,null,null,null,4,5,null,9]
[null,null,null,4,2,null,null,null,6,7]
[null,null,7,null,6,5,null,null,null,null,null,null,null,null,null,null,7,5,9,null,6]
[null,null,null,9,null,null,null,8,null,null,null,null,6,null,null,null,3,null,7,null,2]
[null,null,null,null,null,null,null,null,1,6,null,null,null,null,6,8]
[null,null,null,null,8,null,null,5,null,null,null,null,1,null,null,null,2,null,null,null,7]
["*",null,5,null,7,null,3,9,null,null,null,null,null,8,9,null,null,null,3,2]
[]
[null,"NO.",335,null,null,{"$f":"COUNTA(B1841:J1849)","v":25},"ランク",null,"難問",null,null,null,"NO.",336,null,null,{"$f":"COUNTA(M1841:U1849)","v":25},"ランク",null,"難問"]
[null,8,null,6,null,null,7,null,3,2,null,null,null,null,null,null,2,null,7,9]
[null,null,null,null,null,null,null,null,null,null,null,null,null,null,null,null,null,null,5]
[null,null,null,1,null,null,9,8,null,null,null,null,null,2,1,null,4,9,null,8]
[null,4,null,3,2,null,null,6,8,null,null,null,null,9]
[null,5,null,7,null,null,null,null,null,3,null,null,null,5,null,null,8,2,6]
[null,null,null,null,4,null,5,null,null,null,null,null,null,3,4,7,null,null,1]
[null,null,1,null,null,null,null,null,9,null,null,null,null,1]
[null,null,null,null,null,8,2,5,7,null,null,null,null,null,8,6,7]
["*",null,null,4,null,null,null,null,null,null,null,null,5,null,null,4,null,null,null,3]
[]
[null,"NO.",337,null,null,{"$f":"COUNTA(B1852:J1860)","v":25},"ランク",null,"難問",null,null,null,"NO.",338,null,null,{"$f":"COUNTA(M1852:U1860)","v":25},"ランク",null,"難問"]
[null,7,4,null,2,5,null,null,null,6,null,null,null,null,null,null,2,null,6]
[null,1,null,null,7,null,null,null,2,null,null,null,null,null,7,null,null,1,4,null,3]
[null,null,null,null,null,null,null,null,3,null,null,null,null,1,null,8]
[null,null,null,null,5,6,null,4,null,null,null,null,null,null,null,null,null,3,7]
[null,null,9,null,null,null,null,null,null,1,null,null,null,9,null,1,null,null,null,null,4]
[null,null,3,null,null,null,8,null,null,null,null,null,4,null,null,null,null,5,null,9]
[null,3,2,null,8,null,null,null,null,null,null,null,3,8,null,null,5,7,null,null,9]
[null,null,null,4,null,null,null,null,9,null,null,null,null,7,null,null,null,8]
["*",null,5,7,6,null,null,null,null,8,null,null,null,5,6]
[]
[null,"NO.",339,null,null,{"$f":"COUNTA(B1863:J1871)","v":25},"ランク",null,"難問",null,null,null,"NO.",340,null,null,{"$f":"COUNTA(M1863:U1871)","v":25},"ランク",null,"難問"]
[null,null,9,null,null,null,null,8,null,3,null,null,2,null,null,null,null,8,null,5,3]
[null,null,null,1,null,2,null,null,null,6,null,null,4,null,1,null,2]
[null,null,2,5,4,null,null,null,null,null,null,null,8,null,null,null,null,null,6,1]
[null,1,4,null,null,null,5,null,null,null,null,null,null,4,null,null,6]
[null,null,7,null,6,8,null,1,null,null,null,null,null,null,null,null,null,1,5,9]
[null,null,null,null,null,null,null,2,6,null,null,null,null,null,null,null,5,null,null,2,6]
[null,null,null,null,null,null,null,null,8,9,null,null,null,null,null,null,null,4,null,7,9]
[null,null,null,null,null,5,7,null,null,null,null,null,null,3,5,null,null,9]
["*",null,null,7,null,6,8,null,null,null,null,null,null,7]
[]
[null,"NO.",341,null,null,{"$f":"COUNTA(B1874:J1882)","v":25},"ランク",null,"難問",null,null,null,"NO.",342,null,null,{"$f":"COUNTA(M1874:U1882)","v":25},"ランク",null,"難問"]
[null,5,null,4,null,null,1,3,null,null,null,null,1,4,null,2,null,null,3]
[null,6,1,null,null,null,null,null,null,2,null,null,null,null,5,9,null,null,null,null,6]
[null,null,null,null,null,null,null,null,null,null,null,null,null,3,null,1,null,5,null,null,7]
[null,null,9,null,2,5,null,null,4,null,null,null,null,null,null,null,null,1,8,6]
[null,4,null,7,8,1,null,9,6,null,null,null,null,null,null,5]
[null,null,null,null,null,null,null,null,null,null,null,null,4,null,null,null,null,8]
[null,3,null,null,4,null,null,null,null,9,null,null,9,null,null,null,null,null,null,null,8]
[null,null,null,null,null,null,null,7,null,null,null,null,null,null,7,null,null,2,5,null,9]
["*",null,7,null,6,null,8,null,3,null,null,null,6,null,null,7]
[]
[null,"NO.",343,null,null,{"$f":"COUNTA(B1885:J1893)","v":25},"ランク",null,"難問",null,null,null,"NO.",344,null,null,{"$f":"COUNTA(M1885:U1893)","v":25},"ランク",null,"難問"]
[null,null,null,1,null,null,6,7,null,null,null,null,null,7,null,null,null,null,null,null,3]
[null,null,9,null,4,null,null,null,1,null,null,null,1,null,null,null,null,2,null,null,5]
[null,7,null,null,null,2,null,null,null,3,null,null,null,5,3,null,null,8,null,null,7]
[null,null,6,4,null,null,null,null,null,null,null,null,null,6,null,null,null,9]
[null,null,null,null,1,null,null,null,6,8,null,null,2,null,null,4]
[null,8,null,null,9,null,null,null,null,null,null,null,null,null,8,null,7,5,null,null,2]
[null,null,null,null,8,null,5,null,7,null,null,null,null,4]
[null,3,null,null,6,null,null,null,2,null,null,null,9,null,7,null,4,null,null,6]
["*",null,7,null,null,null,null,null,3,9,null,null,null,null,null,8,null,null,null,4,9]
[]
[null,"NO.",345,null,null,{"$f":"COUNTA(B1896:J1904)","v":24},"ランク",null,"難問",null,null,null,"NO.",346,null,null,{"$f":"COUNTA(M1896:U1904)","v":24},"ランク",null,"難問"]
[null,2,null,null,null,null,1,null,null,null,null,null,null,null,null,null,null,3,4]
[null,null,null,null,2,null,null,null,null,3,null,null,null,null,null,null,2,null,null,null,6]
[null,6,null,null,null,null,null,null,null,9,null,null,null,2,null,null,null,null,3,null,9]
[null,null,3,8,6,null,null,null,null,null,null,null,null,null,3,null,1]
[null,null,null,null,null,9,null,7,null,5,null,null,null,null,4,null,null,null,null,5]
[null,5,4,null,null,null,2,null,null,null,null,null,1,null,null,null,null,8,null,4]
[null,null,null,null,1,null,6,null,null,7,null,null,7,null,null,null,6]
[null,null,null,4,null,5,null,6,null,null,null,null,null,null,8,9,null,5,null,null,7]
["*",null,7,null,8,null,null,null,9,null,null,null,4,null,5,1,null,null,9]
[]
[null,"NO.",347,null,null,{"$f":"COUNTA(B1907:J1915)","v":24},"ランク",null,"難問",null,null,null,"NO.",348,null,null,{"$f":"COUNTA(M1907:U1915)","v":24},"ランク",null,"難問"]
[null,null,1,null,4,null,null,null,7,null,null,null,null,null,9,null,8,4,null,1,3]
[null,null,null,null,2,null,1,null,null,8,null,null,5,4,null,1,null,null,null,null,2]
[null,7,null,8,null,null,9,null,null,5,null,null,null,null,null,null,null,null,null,null,8]
[null,6,null,5,null,null,null,null,2,null,null,null,null,null,null,null,null,null,null,3]
[null,null,null,null,null,2,null,null,null,null,null,null,4,null,null,null,6,2]
[null,null,null,null,null,null,8,6,null,null,null,null,1,5,null,9,null,null,null,null,7]
[null,null,null,null,5,null,null,2,null,3,null,null,null,2,3,null,null,null,7]
[null,9,null,null,null,null,3,null,null,null,null,null,null,null,null,null,null,null,null,null,9]
["*",null,null,1,8,null,null,null,null,9,null,null,null,null,null,8,4]
[]
[null,"NO.",349,null,null,{"$f":"COUNTA(B1918:J1926)","v":24},"ランク",null,"難問",null,null,null,"NO.",350,null,null,{"$f":"COUNTA(M1918:U1926)","v":24},"ランク",null,"難問"]
[null,5,null,1,2,null,null,null,null,3]
[null,null,8,null,null,null,null,null,null,null,null,null,null,null,1,null,null,null,null,9,5]
[null,null,null,null,null,6,null,null,2,null,null,null,2,4,8,null,null,1]
[null,null,null,null,7,null,null,null,null,null,null,null,null,9,null,null,7,5,null,null,6]
[null,null,1,4,5,null,8,null,6]
[null,null,3,9,4,null,null,null,null,null,null,null,null,null,6,9,4,null,2]
[null,null,null,null,null,null,5,9,null,null,null,null,null,5,4,null,8,null,null,7]
[null,null,6,null,null,null,3,7,null,null,null,null,null,null,null,null,null,6,null,4,1]
["*",null,null,2,9,null,null,4,null,null,null,null,null,8,null,null,null,2]
[]
[null,"NO.",351,null,null,{"$f":"COUNTA(B1929:J1937)","v":24},"ランク",null,"難問",null,null,null,"NO.",352,null,null,{"$f":"COUNTA(M1929:U1937)","v":24},"ランク",null,"難問"]
[null,null,null,null,null,null,7,null,5]
[null,null,9,1,null,2,null,null,null,8,null,null,null,null,7,2,4]
[null,null,null,7,4,null,null,null,null,null,null,null,1,null,3,6,null,null,null,5]
[null,null,4,null,null,null,null,null,null,7,null,null,null,null,1,null,8,null,6]
[null,null,null,2,5,8,null,null,1,null,null,null,3,null,null,7,5,null,null,2]
[null,null,1,null,null,null,null,8,null,null,null,null,null,9,null,null,null,null,4]
[null,9,null,null,null,null,null,null,null,null,null,null,null,null,8,null,1]
[null,3,null,null,8,null,4,5,null,null,null,null,null,5,null,null,null,8,null,9]
["*",null,null,5,null,null,2,9,null,null,null,null,7,null,null,9,6]
[]
[null,"NO.",353,null,null,{"$f":"COUNTA(B1940:J1948)","v":24},"ランク",null,"難問",null,null,null,"NO.",354,null,null,{"$f":"COUNTA(M1940:U1948)","v":24},"ランク",null,"難問"]
[null,4,null,5,null,null,7,null,null,9,null,null,6,1,null,5,4]
[null,null,null,null,null,null,null,null,null,2]
[null,null,null,1,null,null,9,null,7,3,null,null,8,null,5,2,null,null,3,null,7]
[null,null,4,null,8,null,null,null,5,null,null,null,5,null,8,1,null,null,6]
[null,3,null,null,null,2,1,null,null,null,null,null,null,4,null,null,null,2,null,3]
[null,null,null,null,null,3,null,null,null,4,null,null,7,null,null,null,8]
[null,null,null,null,null,1,null,null,9,null,null,null,null,null,2,null,null,null,4]
[null,9,null,8,null,null,null,null,null,null,null,null,null,null,null,null,null,8,5]
["*",7,null,null,null,6,8,null,null,null,null,null,null,null,null,null,6,3]
[]
[null,"NO.",355,null,null,{"$f":"COUNTA(B1951:J1959)","v":24},"ランク",null,"難問",null,null,null,"NO.",356,null,null,{"$f":"COUNTA(M1951:U1959)","v":24},"ランク",null,"難問"]
[null,null,null,null,null,7,null,null,3,null,null,null,null,null,null,null,null,null,null,3]
[null,7,2,null,1,null,5,null,null,null,null,null,null,9,5,null,4,null,8,1]
[null,null,6,null,null,null,3,1,null,null,null,null,null,1,null,null,null,null,null,null,9]
[null,null,null,5,null,null,null,null,8,3,null,null,null,2,null,null,null,null,6]
[null,6,3,null,null,null,null,null,null,null,null,null,null,null,null,3,null,6]
[null,null,null,1,null,null,null,null,9,null,null,null,3,null,4,5,9]
[null,8,null,null,null,6,null,null,null,null,null,null,2,7,null,null,null,null,null,6]
[null,null,null,null,9,null,1,5,null,7,null,null,null,null,null,null,1,9,null,5]
["*",2,null,null,null,3,null,null,null,null,null,null,null,null,null,null,null,null,9,null,7]
[]
[null,"NO.",357,null,null,{"$f":"COUNTA(B1962:J1970)","v":24},"ランク",null,"難問",null,null,null,"NO.",358,null,null,{"$f":"COUNTA(M1962:U1970)","v":23},"ランク",null,"難問"]
[null,null,null,null,null,4,null,1,null,null,null,null,null,null,null,null,null,null,null,null,8]
[null,null,6,null,9,null,2,null,5,null,null,null,3,null,null,null,9,2]
[null,1,null,null,null,null,null,3,null,null,null,null,null,null,1,5,null,null,null,null,7]
[null,null,null,null,null,null,null,null,null,null,null,null,null,7,null,null,null,null,null,8,2]
[null,4,null,null,null,null,null,null,null,8,null,null,null,null,null,null,null,1,null,6]
[null,9,null,null,1,8,null,2,4,null,null,null,4,9,6]
[null,null,null,7,null,null,8,9,3,null,null,null,2,4,null,null,null,8]
[null,null,3,null,null,null,null,null,2,null,null,null,null,null,null,null,null,null,9]
["*",null,5,null,2,null,6,null,null,null,null,null,6,null,null,4,null,null,null,1,3]
[]
[null,"NO.",359,null,null,{"$f":"COUNTA(B1973:J1981)","v":23},"ランク",null,"難問",null,null,null,"NO.",360,null,null,{"$f":"COUNTA(M1973:U1981)","v":23},"ランク",null,"難問"]
[null,8,null,null,9,null,null,null,3,null,null,null,null,9,null,6]
[null,null,6,null,null,null,null,null,null,4,null,null,null,null,null,2,null,null,null,null,1]
[null,null,1,7,null,null,null,null,null,5,null,null,3,null,null,null,null,null,5]
[null,null,null,8,null,null,5,null,null,null,null,null,null,null,null,7,null,null,null,6]
[null,2,null,null,8,null,4,null,null,null,null,null,null,null,2,null,3]
[null,4,null,null,null,null,9,null,6,null,null,null,6,null,null,null,null,8,null,1,4]
[null,null,7,null,null,null,null,6,8,null,null,null,9,null,null,null,null,null,7]
[null,null,null,null,null,null,1,null,null,null,null,null,null,null,7,4]
["*",3,null,null,null,2,null,null,9,null,null,null,null,1,4,8,null,null,9,null,5]
[]
[null,"NO.",361,null,null,{"$f":"COUNTA(B1984:J1992)","v":23},"ランク",null,"難問",null,null,null,"NO.",362,null,null,{"$f":"COUNTA(M1984:U1992)","v":23},"ランク",null,"難問"]
[null,null,1,null,null,6,null,null,3,null,null,null,2,null,6,null,null,null,1]
[null,null,null,null,3,null,9,null,null,null,null,null,8,1,null,4,null,null,null,9]
[null,8,null,5,null,null,null,null,null,null,null,null,null,null,null,null,null,null,null,4,3]
[null,null,null,null,null,null,null,null,null,null,null,null,null,null,null,null,4,5]
[null,4,null,2,null,5,null,6,1,null,null,null,null,3,null,null,null,null,9,7]
[null,null,null,null,6,8,null,9,null,null,null,null,null,null,null,null,3]
[null,null,null,null,8,null,2,null,null,null,null,null,5,null,null,null,null,null,null,8]
[null,null,null,4,null,null,null,null,5,9,null,null,null,null,null,null,null,7,6,1]
["*",null,null,3,4,null,null,null,8,null,null,null,null,null,7,5,null,6]
[]
[null,"NO.",363,null,null,{"$f":"COUNTA(B1995:J2003)","v":23},"ランク",null,"難問",null,null,null,"NO.",364,null,null,{"$f":"COUNTA(M1995:U2003)","v":22},"ランク",null,"難問"]
[null,4,9,null,6,null,7,null,null,3,null,null,5,6,1,null,null,2]
[null,null,null,6,null,null,null,null,null,8,null,null,null,null,7,null,null,null,3]
[null,null,null,null,null,null,2,null,null,null,null,null,null,null,null,8,null,null,null,null,7]
[null,null,null,null,null,null,5,1,null,null,null,null,null,null,null,null,5,3]
[null,3,null,7,null,null,6,null,null,4,null,null,null,4,null,null,null,null,null,9,6]
[null,null,null,null,1,null,null,6,null,null,null,null,6,null,null,7,null,null,null,5]
[null,null,7,null,null,8,null,9,null,null,null,null,7,2]
[null,5,6,null,null,null,null,null,null,null,null,null,null,null,null,null,9,null,1]
["*",null,null,null,3,null,null,5,null,null,null,null,null,null,null,null,null,null,null,6,4]
[]
[null,"NO.",365,null,null,{"$f":"COUNTA(B2006:J2014)","v":36},"ランク",null,"超難問",null,null,null,"NO.",366,null,null,{"$f":"COUNTA(M2006:U2014)","v":35},"ランク",null,"超難問"]
[null,null,3,null,2,null,null,null,null,null,null,null,4,null,9,null,6,3,null,7]
[null,null,null,null,1,null,4,2,8,3,null,null,7,null,null,null,2,8,1]
[null,null,null,1,null,null,3,9,4,null,null,null,1,2,null,null,4,7,null,3]
[null,4,8,null,null,null,null,5,null,null,null,null,5,null,4,8,3,null,null,6]
[null,null,5,7,8,2,null,4,null,6,null,null,null,9,null,null,null,null,4,null,5]
[null,null,6,9,4,null,5,null,null,null,null,null,6,null,null,null,5]
[null,null,7,null,9,null,null,null,null,2,null,null,null,4,7,null,1,null,9,8]
[null,9,null,8,null,3,2,null,null,null,null,null,2,null,5]
["*",2,null,null,null,null,8,3,1,9,null,null,null,6,1,3,8]
[]
[null,"NO.",367,null,null,{"$f":"COUNTA(B2017:J2025)","v":31},"ランク",null,"超難問",null,null,null,"NO.",368,null,null,{"$f":"COUNTA(M2017:U2025)","v":31},"ランク",null,"超難問"]
[null,3,null,null,null,8,7,null,2,5,null,null,null,null,1,7,3,null,null,null,9]
[null,null,7,2,9,null,5,8,1,3,null,null,null,null,9,null,1,null,7,3]
[null,null,1,null,null,null,null,null,null,null,null,null,null,null,null,null,null,2]
[null,7,null,1,null,null,6,null,null,null,null,null,null,4,2,5,9,null,null,7]
[null,null,null,null,null,null,null,null,null,4,null,null,null,null,null,null,8,6,5,2]
[null,null,8,null,null,9,null,null,null,6,null,null,5,null,null,null,null,7,null,4,6]
[null,null,3,8,null,null,9,null,6,null,null,null,1,null,null,null,null,5,8,9]
[null,null,null,7,null,5,null,9,null,null,null,null,3,null,null,8,null,null,4]
["*",2,null,null,8,6,null,null,4,null,null,null,7,null,null,null,4]
[]
[null,"NO.",369,null,null,{"$f":"COUNTA(B2028:J2036)","v":31},"ランク",null,"超難問",null,null,null,"NO.",370,null,null,{"$f":"COUNTA(M2028:U2036)","v":30},"ランク",null,"超難問"]
[null,null,1,null,null,null,6,null,null,9,null,null,null,null,null,null,null,null,null,4]
[null,null,6,null,null,2,1,3,null,8,null,null,6,null,1,null,4,7,null,9]
[null,null,null,5,7,null,3,1,null,6,null,null,null,5,3,2,null,null,6,7]
[null,8,null,null,null,null,9,4,null,null,null,null,null,null,4,7,null,8]
[null,null,null,null,null,6,null,null,null,null,null,null,null,null,null,null,3]
[null,null,9,7,1,5,null,null,null,null,null,null,7,null,null,null,null,5,null,2,6]
[null,null,7,3,8,null,2,null,null,null,null,null,1,7,null,5,null,3,9,6]
[null,null,null,1,null,null,7,9,8,null,null,null,8,null,null,null,null,4,null,null,2]
["*",null,null,null,null,1,null,null,2,null,null,null,null,null,5,null,null,2]
[]
[null,"NO.",371,null,null,{"$f":"COUNTA(B2039:J2047)","v":30},"ランク",null,"超難問",null,null,null,"NO.",372,null,null,{"$f":"COUNTA(M2039:U2047)","v":29},"ランク",null,"超難問"]
[null,5,4,null,null,null,null,null,null,null,null,null,9,null,null,6,null,5,null,null,3]
[null,null,8,null,6,2,null,null,4,3,null,null,null,3,null,null,null,null,2,5]
[null,null,null,6,null,3,1,null,null,null,null,null,null,null,7,null,null,8,null,null,9]
[null,null,null,null,null,8,null,null,6,null,null,null,null,null,1,null,null,6,null,null,8]
[null,4,1,null,null,null,null,5,null,null,null,null,7,null,null,9,5,null,null,4]
[null,null,6,null,null,5,9,4,3,7,null,null,4,null,null,null,null,3]
[null,null,null,null,9,null,2,6,null,null,null,null,null,7,null,null,null,null,null,2,6]
[null,null,null,null,8,4,null,null,null,2,null,null,1,null,null,null,7,4,9,3]
["*",7,null,8,null,null,null,null,9,null,null,null,null,null,9,null,null,null,1]
[]
[null,"NO.",373,null,null,{"$f":"COUNTA(B2050:J2058)","v":29},"ランク",null,"超難問",null,null,null,"NO.",374,null,null,{"$f":"COUNTA(M2050:U2058)","v":29},"ランク",null,"超難問"]
[null,4,null,null,null,null,null,2,null,1,null,null,2,null,null,null,9]
[null,null,9,8,2,null,null,null,3,null,null,null,null,null,9,null,null,2,null,1]
[null,3,null,null,null,null,6,null,null,8,null,null,null,1,null,null,4,6,null,7]
[null,null,8,null,7,null,1,null,6,null,null,null,null,null,null,null,null,3]
[null,1,null,null,null,2,null,8,null,null,null,null,7,5,null,8,null,null,null,6,3]
[null,null,null,null,null,8,null,null,null,7,null,null,null,9,6,null,null,null,8]
[null,6,7,null,null,null,9,1,null,null,null,null,1,null,7,null,3,8,5,9]
[null,null,null,null,5,null,2,null,8,3,null,null,null,null,5,null,null,null,4]
["*",8,null,3,null,null,null,null,null,null,null,null,null,2,null,null,7,null,null,8]
[]
[null,"NO.",375,null,null,{"$f":"COUNTA(B2061:J2069)","v":29},"ランク",null,"超難問",null,null,null,"NO.",376,null,null,{"$f":"COUNTA(M2061:U2069)","v":28},"ランク",null,"超難問"]
[null,null,null,null,null,3,1,9,null,null,null,null,3,null,null,null,8]
[null,null,null,1,null,null,null,5,null,null,null,null,null,null,4,null,6,2,null,3]
[null,null,5,3,null,null,2,null,null,null,null,null,null,null,1,null,null,3,null,7,4]
[null,3,null,null,null,8,5,7,2,null,null,null,null,4,null,2,5,null,3]
[null,7,null,null,null,6,null,null,null,1,null,null,7,null,null,null,null,8,null,1,6]
[null,null,8,9,null,null,null,6,null,null,null,null,9]
[null,null,null,7,8,2,6,null,9,null,null,null,null,null,null,6,null,null,null,9]
[null,null,1,null,null,5,null,null,null,null,null,null,null,null,7,null,null,null,5]
["*",null,null,null,null,null,7,8,null,5,null,null,5,null,9,8,null,1,null,2]
[]
[null,"NO.",377,null,null,{"$f":"COUNTA(B2072:J2080)","v":28},"ランク",null,"超難問",null,null,null,"NO.",378,null,null,{"$f":"COUNTA(M2072:U2080)","v":28},"ランク",null,"超難問"]
[null,null,9,null,null,1,4,null,null,null,null,null,7,null,null,null,8,null,null,null,4]
[null,null,null,8,7,null,null,null,1,5,null,null,null,null,null,null,1,null,null,null,3]
[null,4,null,null,null,null,null,null,null,3,null,null,null,null,2,6,null,3,7]
[null,1,null,null,null,8,null,null,5,null,null,null,null,null,1,null,2,null,null,6,9]
[null,null,8,2,null,3,null,1,null,null,null,null,9,4]
[null,null,5,null,2,null,null,null,null,7,null,null,null,null,6,null,5,null,1,4]
[null,null,1,null,6,4,null,null,7,null,null,null,3,null,null,8,null,null,null,null,1]
[null,null,null,null,null,null,9,6,null,null,null,null,null,null,null,5,null,2,null,7]
["*",9,null,null,null,null,null,null,2,4,null,null,null,null,7,null,null,null,3,9]
[]
[null,"NO.",379,null,null,{"$f":"COUNTA(B2083:J2091)","v":28},"ランク",null,"超難問",null,null,null,"NO.",380,null,null,{"$f":"COUNTA(M2083:U2091)","v":28},"ランク",null,"超難問"]
[null,null,null,null,null,1,null,6,null,null,null,null,5,null,null,7,null,null,null,2,9]
[null,1,null,null,4,null,null,null,null,null,null,null,6,null,null,null,2,null,5]
[null,null,5,null,null,null,7,null,2,null,null,null,null,8,null,null,null,1,4]
[null,null,3,null,5,null,8,null,null,9,null,null,null,null,2]
[null,null,4,null,null,3,null,2,null,null,null,null,null,7,null,null,null,null,null,3]
[null,8,null,2,9,null,null,5,3,null,null,null,8,null,6,null,null,null,7,null,2]
[null,null,null,8,null,null,6,9,null,null,null,null,null,null,3,null,7,null,6,null,8]
[null,4,null,null,8,null,null,7,null,1,null,null,null,4,null,6,null,null,null,9]
["*",null,6,null,null,7,null,null,null,null,null,null,9,null,null,null,1,4,null,null,7]
[]
[null,"NO.",381,null,null,{"$f":"COUNTA(B2094:J2102)","v":28},"ランク",null,"超難問",null,null,null,"NO.",382,null,null,{"$f":"COUNTA(M2094:U2102)","v":28},"ランク",null,"超難問"]
[null,null,null,7,5,null,1,null,null,null,null,null,9,null,8,null,null,2,null,5,3]
[null,null,null,1,null,6,null,2,null,null,null,null,1,null,null,null,6]
[null,6,null,5,null,null,2,null,null,null,null,null,null,null,3,null,1,8]
[null,null,8,null,4,null,null,null,null,7,null,null,null,null,null,2,null,null,4,8]
[null,5,null,null,null,7,null,null,null,3,null,null,5,4,null,null,null,1]
[null,null,null,3,1,null,9,5,null,null,null,null,null,null,null,null,5,null,null,1,9]
[null,null,null,null,null,null,6,null,4,null,null,null,null,null,null,8,null,null,null,9,4]
[null,4,9,null,null,5,null,8,null,null,null,null,4,3,7,5,9,6]
["*",null,7,null,8,null,null,null,9]
[]
[null,"NO.",383,null,null,{"$f":"COUNTA(B2105:J2113)","v":28},"ランク",null,"超難問",null,null,null,"NO.",384,null,null,{"$f":"COUNTA(M2105:U2113)","v":28},"ランク",null,"超難問"]
[null,null,1,3,8,4,2,null,5,null,null,null,null,1,null,5,null,9,null,7]
[null,null,null,null,null,6,null,null,3,null,null,null,2,null,8,null,7,null,null,null,4]
[null,6,2,null,null,null,null,null,1,null,null,null,9,null,null,null,null,8,3]
[null,null,null,null,null,null,null,1,6,null,null,null,null,null,7,null,3]
[null,null,null,6,5,2,null,null,9,8,null,null,1,null,4,null,null,6]
[null,4,null,8,null,null,null,null,null,null,null,null,null,null,null,7,null,null,4,null,6]
[null,null,null,4,null,8,5,null,null,null,null,null,7,null,2,null,5,null,9,null,1]
[null,3,null,null,null,null,6,9,null,null,null,null,null,null,null,null,null,null,5,3]
["*",5,null,null,null,9,null,null,null,null,null,null,null,null,null,8,9]
[]
[null,"NO.",385,null,null,{"$f":"COUNTA(B2116:J2124)","v":28},"ランク",null,"超難問",null,null,null,"NO.",386,null,null,{"$f":"COUNTA(M2116:U2124)","v":28},"ランク",null,"超難問"]
[null,null,1,null,null,6,null,null,3,null,null,null,null,null,1,6,5,null,null,null,3]
[null,null,null,4,3,null,null,null,null,7,null,null,7,null,null,null,null,4,null,1]
[null,null,null,8,9,null,2,6,1,null,null,null,null,null,null,null,null,null,null,null,7]
[null,null,null,null,null,null,null,null,null,null,null,null,8,null,9,null,6]
[null,null,null,null,null,7,null,8,null,2,null,null,5,null,null,3,null,null,9,null,6]
[null,4,null,5,null,null,null,3,null,6,null,null,null,null,null,null,9,5,null,4]
[null,null,null,6,null,null,4,null,8,1,null,null,null,2,null,null,3,1,null,null,9]
[null,7,null,null,8,null,null,null,9,null,null,null,null,7,null,null,null,null,null,8,1]
["*",null,3,null,2,null,null,null,null,4,null,null,null,null,6,8,null,null,3]
[]
[null,"NO.",387,null,null,{"$f":"COUNTA(B2127:J2135)","v":28},"ランク",null,"超難問",null,null,null,"NO.",388,null,null,{"$f":"COUNTA(M2127:U2135)","v":27},"ランク",null,"超難問"]
[null,null,2,null,4,null,null,null,3,null,null,null,2,1,null,null,3,null,null,null,8]
[null,null,8,null,2,null,null,7,null,null,null,null,null,null,null,6,null,null,2]
[null,null,null,4,null,8,null,6,null,null,null,null,null,5,null,8,1,null,null,3]
[null,null,5,null,3,9,null,null,1,null,null,null,null,null,null,null,null,null,7]
[null,null,null,null,null,null,null,null,null,null,null,null,9,null,null,null,5,null,null,null,6]
[null,4,null,null,null,null,5,null,8,2,null,null,null,7,null,1,null,null,null,5]
[null,2,null,5,null,null,8,null,6,null,null,null,null,null,7,null,6,null,3,null,9]
[null,7,null,null,null,4,null,null,null,9,null,null,4,null,null,null,8,null,null,2]
["*",9,null,null,5,null,null,null,7,3,null,null,null,9,1,null,null,4]
[]
[null,"NO.",389,null,null,{"$f":"COUNTA(B2138:J2146)","v":27},"ランク",null,"超難問",null,null,null,"NO.",390,null,null,{"$f":"COUNTA(M2138:U2146)","v":27},"ランク",null,"超難問"]
[null,null,8,5,3,null,4,null,null,null,null,null,2,1,null,null,null,8]
[null,null,null,null,null,null,null,null,8,null,null,null,null,5,null,4,null,6]
[null,null,9,4,null,2,null,3,1,null,null,null,null,null,8]
[null,1,null,null,4,6,null,null,null,null,null,null,null,null,null,null,null,7,4]
[null,4,7,null,null,null,9,null,3,6,null,null,4,null,null,5,8,null,2,9]
[null,null,null,null,5,null,null,null,2,null,null,null,1,3,null,null,null,2,null,6]
[null,null,null,7,null,3,null,null,6,null,null,null,9,null,6,8,null,null,null,2]
[null,null,null,null,2,null,null,8,null,null,null,null,null,null,null,null,3,null,9,null,6]
["*",null,null,null,null,null,6,9,null,null,null,null,null,null,null,null,null,null,null,7,5]
[]
[null,"NO.",391,null,null,{"$f":"COUNTA(B2149:J2157)","v":27},"ランク",null,"超難問",null,null,null,"NO.",392,null,null,{"$f":"COUNTA(M2149:U2157)","v":27},"ランク",null,"超難問"]
[null,8,1,5,7,null,null,2,null,4,null,null,null,null,null,null,5,null,6,9]
[null,null,null,null,null,null,1,9,null,null,null,null,5,null,null,3,null,null,null,4]
[null,null,3,7,null,null,null,null,8,null,null,null,1,null,2,null,null,null,null,null,3]
[null,null,null,null,null,null,2,1,null,null,null,null,null,5]
[null,6,null,null,5,null,null,null,null,2,null,null,2,null,6,null,null,4]
[null,null,null,null,null,null,6,null,5,null,null,null,null,null,1,5,null,3,null,2,4]
[null,3,null,null,null,5,null,null,9,null,null,null,null,null,null,null,9,7,8]
[null,null,null,null,8,null,null,null,null,3,null,null,null,null,null,null,null,null,7]
["*",4,7,null,null,9,null,5,null,null,null,null,7,null,8,2,1,null,null,null,9]
[]
[null,"NO.",393,null,null,{"$f":"COUNTA(B2160:J2168)","v":27},"ランク",null,"超難問",null,null,null,"NO.",394,null,null,{"$f":"COUNTA(M2160:U2168)","v":27},"ランク",null,"超難問"]
[null,7,5,null,null,3,null,null,8,null,null,null,null,null,null,null,2,3,7]
[null,null,null,1,null,null,2,null,3,null,null,null,6,null,null,null,8,null,null,3]
[null,null,9,null,null,8,null,null,null,null,null,null,1,null,2,null,null,null,9,null,8]
[null,null,null,4,null,7,1,null,6,null,null,null,null,5,null,null,null,4,null,null,6]
[null,null,null,8,3,null,null,null,null,null,null,null,9,4,null,null,7,null,5]
[null,3,null,null,null,5,null,1,null,2,null,null,null,null,null,null,9]
[null,null,null,null,7,null,null,4,2,null,null,null,3,6,null,1,null,null,null,null,9]
[null,1,null,7,null,null,8,null,9,null,null,null,null,null,1]
["*",null,null,null,null,null,null,null,null,6,null,null,7,null,null,6,null,8,null,5]
[]
[null,"NO.",395,null,null,{"$f":"COUNTA(B2171:J2179)","v":27},"ランク",null,"超難問",null,null,null,"NO.",396,null,null,{"$f":"COUNTA(M2171:U2179)","v":27},"ランク",null,"超難問"]
[null,6,null,null,4,2,null,7,null,3,null,null,7,1,null,null,6,2,5]
[null,null,null,null,null,null,null,null,null,null,null,null,null,null,5,null,null,null,null,null,3]
[null,null,null,null,5,6,null,null,9,null,null,null,null,8,null,null,null,null,2]
[null,3,null,7,null,null,5,null,null,null,null,null,1,null,4,null,2]
[null,8,null,4,null,3,null,6,null,null,null,null,5,null,null,null,4,null,null,9]
[null,null,5,null,7,null,null,null,null,null,null,null,null,3,8,null,null,null,null,null,6]
[null,null,null,9,null,null,2,null,null,1,null,null,null,null,2,5,null,7,3]
[null,null,1,null,8,null,4,null,6,9,null,null,null,7]
["*",7,null,6,null,null,null,null,null,null,null,null,6,null,null,null,8,null,9,null,4]
[]
[null,"NO.",397,null,null,{"$f":"COUNTA(B2182:J2190)","v":27},"ランク",null,"超難問",null,null,null,"NO.",398,null,null,{"$f":"COUNTA(M2182:U2190)","v":27},"ランク",null,"超難問"]
[null,null,6,null,3,null,null,null,null,4,null,null,9,null,null,8,null,6]
[null,8,null,null,null,null,1,null,9,null,null,null,null,7,5,null,null,null,null,null,3]
[null,null,null,9,null,4,null,2,null,null,null,null,6,null,null,null,3,null,9,null,8]
[null,null,null,8,null,null,null,null,2,null,null,null,null,null,null,null,null,null,8,1]
[null,null,null,null,7,null,6,null,null,3,null,null,5,null,7,null,1,null,null,4]
[null,null,7,1,null,9,null,5,4,null,null,null,null,4,null,null,null,2]
[null,null,null,null,null,null,null,8,null,1,null,null,7,null,9,null,2]
[null,null,null,null,5,null,7,null,null,null,null,null,2,null,null,null,null,null,4,null,7]
["*",9,null,6,null,3,null,null,7,null,null,null,null,6,null,1,null,5]
[]
[null,"NO.",399,null,null,{"$f":"COUNTA(B2193:J2201)","v":27},"ランク",null,"超難問",null,null,null,"NO.",400,null,null,{"$f":"COUNTA(M2193:U2201)","v":27},"ランク",null,"超難問"]
[null,null,null,6,null,null,null,9,null,4,null,null,null,null,9,null,null,3,null,null,7]
[null,null,4,null,null,3,8,null,null,null,null,null,null,4,null,null,1,null,8,null,5]
[null,null,8,null,null,1,null,null,6,null,null,null,5,null,7,null,2]
[null,5,null,3,null,null,4,6,null,null,null,null,null,null,2,7,null,null,null,8]
[null,null,7,null,null,5,null,null,1,null,null,null,null,null,null,null,null,5,4,null,3]
[null,null,null,9,null,null,null,null,null,2,null,null,6,null,null,null,null,4]
[null,null,null,1,2,null,null,8,null,null,null,null,null,null,8,null,null,null,6]
[null,null,5,null,null,6,null,7,null,null,null,null,1,9,null,null,6,2]
["*",2,null,7,null,null,null,null,3,null,null,null,null,null,null,4,null,null,3,null,1]
[]
[null,"NO.",401,null,null,{"$f":"COUNTA(B2204:J2212)","v":27},"ランク",null,"超難問",null,null,null,"NO.",402,null,null,{"$f":"COUNTA(M2204:U2212)","v":27},"ランク",null,"超難問"]
[null,null,null,8,4,null,5,null,null,null,null,null,null,null,1,null,null,4,null,6]
[null,6,null,null,2,9,null,null,7,null,null,null,null,2,null,null,3,null,null,1]
[null,null,null,null,null,null,null,null,null,1,null,null,6,null,null,9,null,null,7]
[null,null,2,null,null,null,7,null,null,null,null,null,null,null,6,null,null,8,2]
[null,null,5,7,null,null,4,6,null,null,null,null,null,5,null,null,6,null,null,7]
[null,9,null,null,null,1,null,null,null,5,null,null,null,null,null,null,null,null,null,null,4]
[null,null,9,null,null,6,null,4,null,null,null,null,null,null,2,7,null,5,null,9]
[null,null,8,null,3,null,2,1,null,6,null,null,9,1,null,null,8,null,null,5]
["*",3,null,null,null,null,null,null,null,2,null,null,8,null,null,3,null,null,4]
[]
[null,"NO.",403,null,null,{"$f":"COUNTA(B2215:J2223)","v":27},"ランク",null,"超難問",null,null,null,"NO.",404,null,null,{"$f":"COUNTA(M2215:U2223)","v":27},"ランク",null,"超難問"]
[null,9,null,null,null,6,4,5,null,null,null,null,null,7,null,null,2,null,null,null,3]
[null,2,null,8,null,null,null,1,null,null,null,null,2,1,4,6,3,null,null,null,5]
[null,null,1,null,null,2,null,null,null,6]
[null,1,null,null,7,null,null,null,3,null,null,null,null,null,1,null,4,9,null,5]
[null,null,null,null,null,null,null,4,null,null,null,null,null,null,null,null,null,null,2]
[null,7,null,3,null,5,6,null,null,null,null,null,4,9,null,null,null,5,null,3,6]
[null,null,null,null,null,9,null,8,null,null,null,null,null,null,8,null,null,null,null,9]
[null,6,null,null,2,null,1,null,9,null,null,null,9,null,null,null,null,6,7]
["*",3,null,2,null,null,null,null,null,4,null,null,null,null,7,8,null,null,null,null,1]
[]
[null,"NO.",405,null,null,{"$f":"COUNTA(B2226:J2234)","v":27},"ランク",null,"超難問",null,null,null,"NO.",406,null,null,{"$f":"COUNTA(M2226:U2234)","v":27},"ランク",null,"超難問"]
[null,5,null,null,null,null,null,null,9,4,null,null,5,6,8,null,null,null,null,null,1]
[null,null,2,null,null,null,5,null,1,null,null,null,null,null,null,null,null,null,null,9]
[null,null,null,1,2,null,null,null,null,null,null,null,null,null,null,null,null,7,null,null,3]
[null,4,null,null,null,7,8,null,3,null,null,null,null,null,7,null,2,1,null,null,8]
[null,null,7,2,null,3,null,null,6,1,null,null,null,null,4,null,5,null,6]
[null,null,5,null,null,null,4,null,null,null,null,null,null,2,3,null,8,null,null,5]
[null,null,9,null,null,8,null,6,null,3,null,null,null,9,null,null,null,null,1]
[null,7,null,null,null,null,null,null,null,9,null,null,7,3,null,null,null,4,null,null,6]
["*",6,null,8,null,null,null,null,null,null,null,null,null,null,null,6,null,2,null,null,9]
[]
[null,"NO.",407,null,null,{"$f":"COUNTA(B2237:J2245)","v":27},"ランク",null,"超難問",null,null,null,"NO.",408,null,null,{"$f":"COUNTA(M2237:U2245)","v":27},"ランク",null,"超難問"]
[null,7,null,null,8,null,null,2,null,null,null,null,1,null,null,null,null,null,null,null,9]
[null,null,null,8,null,4,9,3,null,null,null,null,7,null,null,2,null,6,8]
[null,1,null,null,null,null,null,7,null,null,null,null,null,null,null,null,null,null,null,6,3]
[null,9,null,null,null,null,null,null,null,null,null,null,4,null,null,null,null,null,null,null,1]
[null,4,null,null,9,6,null,null,null,1,null,null,9,null,3,null,null,7]
[null,null,null,6,null,null,4,null,null,2,null,null,null,null,8,1,null,null,null,null,5]
[null,3,null,7,null,5,2,null,null,9,null,null,null,null,4,null,3,null,null,null,2]
[null,null,null,1,3,null,8,null,null,6,null,null,8,7,null,9,2,null,3]
["*",null,6,null,null,null,null,null,null,null,null,null,null,null,null,8,null,null,4,null,7]
[]
[null,"NO.",409,null,null,{"$f":"COUNTA(B2248:J2256)","v":27},"ランク",null,"超難問",null,null,null,"NO.",410,null,null,{"$f":"COUNTA(M2248:U2256)","v":27},"ランク",null,"超難問"]
[null,null,null,null,null,null,2,null,9,3,null,null,1,null,null,null,6,2]
[null,null,1,9,null,null,3,null,null,null,null,null,3]
[null,null,null,null,null,1,null,null,null,null,null,null,null,null,null,null,9,null,2,3,6]
[null,null,null,2,5,null,null,6,null,null,null,null,null,null,null,5,7]
[null,null,null,1,8,null,null,null,4,null,null,null,null,null,null,null,null,3,9,7]
[null,4,null,3,null,null,7,null,null,5,null,null,4,null,3,9,null,null,null,5]
[null,null,null,6,7,9,4,null,5,null,null,null,null,null,4]
[null,null,2,null,null,null,5,null,null,6,null,null,null,null,1,null,4,null,7,6,8]
["*",null,7,null,null,null,null,null,null,9,null,null,null,null,6,null,1,8,null,9]
[]
[null,"NO.",411,null,null,{"$f":"COUNTA(B2259:J2267)","v":27},"ランク",null,"超難問",null,null,null,"NO.",412,null,null,{"$f":"COUNTA(M2259:U2267)","v":27},"ランク",null,"超難問"]
[null,null,null,6,null,null,null,5,null,null,null,null,null,3,null,null,2,7]
[null,null,null,2,null,8,null,null,1,null,null,null,1,null,9,null,null,null,null,null,4]
[null,null,3,null,4,null,null,null,null,8,null,null,7,null,null,9,1,null,5]
[null,null,null,8,null,null,5,null,7,3,null,null,null,null,null,null,6]
[null,1,null,4,null,3,null,null,null,5,null,null,null,null,null,5,null,null,null,2]
[null,3,null,null,9,null,null,null,6,null,null,null,null,null,5,null,3,null,6,1]
[null,null,null,null,null,null,8,2,null,null,null,null,null,null,null,null,null,6,2,null,9]
[null,null,2,7,null,null,null,null,8,null,null,null,9,null,null,null,null,5,null,4,6]
["*",null,null,null,null,6,1,7,null,null,null,null,3,4,null,null,8]
[]
[null,"NO.",413,null,null,{"$f":"COUNTA(B2270:J2278)","v":26},"ランク",null,"超難問",null,null,null,"NO.",414,null,null,{"$f":"COUNTA(M2270:U2278)","v":26},"ランク",null,"超難問"]
[null,null,4,null,null,null,null,null,8,null,null,null,9,7,null,null,6,null,null,1]
[null,null,null,1,null,null,2,3,null,null,null,null,null,null,4,3,null,null,9]
[null,null,6,null,null,7,8,null,null,1,null,null,null,null,null,null,5,null,null,2]
[null,null,null,8,null,6,5,9,null,null,null,null,null,1,null,null,null,null,7]
[null,4,null,null,null,null,null,5,null,null,null,null,7,null,3,null,null,null,null,9]
[null,null,1,null,null,3,null,null,6,2,null,null,null,6,null,null,null,null,4,null,8]
[null,null,null,9,null,null,null,null,null,7,null,null,5,null,1,null,9,7,null,4]
[null,null,3,null,null,1,null,null,4,null,null,null,null,null,null,5,null,null,null,6]
["*",null,null,null,2,null,null,null,null,9,null,null,null,2,null,null,null,4]
[]
[null,"NO.",415,null,null,{"$f":"COUNTA(B2281:J2289)","v":26},"ランク",null,"超難問",null,null,null,"NO.",416,null,null,{"$f":"COUNTA(M2281:U2289)","v":26},"ランク",null,"超難問"]
[null,null,5,1,null,null,null,null,null,null,null,null,null,null,5,null,null,null,6,null,4]
[null,null,null,null,3,null,null,null,null,null,null,null,9,null,null,2,3,null,null,null,1]
[null,6,null,null,2,5,null,null,null,7,null,null,null,null,null,null,null,7]
[null,null,null,null,null,null,8,4,2,null,null,null,6,5,null,9,1]
[null,4,null,null,null,null,null,null,6,null,null,null,null,null,null,null,null,null,8]
[null,null,null,2,5,null,7,null,null,null,null,null,null,4,null,5,null,null,9,null,6]
[null,1,null,7,8,null,null,6,null,9,null,null,null,null,7,4,2]
[null,null,null,9,null,null,null,null,null,null,null,null,1,null,null,null,null,null,null,2,9]
["*",3,8,null,7,1,null,null,null,4,null,null,3,null,null,null,8,null,null,null,7]
[]
[null,"NO.",417,null,null,{"$f":"COUNTA(B2292:J2300)","v":26},"ランク",null,"超難問",null,null,null,"NO.",418,null,null,{"$f":"COUNTA(M2292:U2300)","v":26},"ランク",null,"超難問"]
[null,null,null,8,null,null,null,null,2,null,null,null,null,null,8,null,null,6,9]
[null,null,4,null,null,null,2,1,3,null,null,null,5,null,null,null,1,null,null,3]
[null,null,null,1,null,6,null,5,null,null,null,null,1,null,null,null,null,2,7]
[null,null,5,null,null,null,null,null,null,null,null,null,6,4,null,null,null,null,1]
[null,8,null,6,1,null,null,null,null,5,null,null,null,null,null,7,null,5]
[null,null,3,null,null,null,null,6,null,9,null,null,null,null,null,null,3,null,null,6,8]
[null,null,null,7,null,9,null,null,null,null,null,null,null,null,4,null,null,8,null,null,2]
[null,4,null,null,null,null,8,null,9,7,null,null,7,null,null,null,null,3,6]
["*",null,null,3,null,1,null,4,null,null,null,null,null,null,9,5,null,null,null,4]
[]
[null,"NO.",419,null,null,{"$f":"COUNTA(B2303:J2311)","v":26},"ランク",null,"超難問",null,null,null,"NO.",420,null,null,{"$f":"COUNTA(M2303:U2311)","v":26},"ランク",null,"超難問"]
[null,null,null,1,null,7,8,null,4,2,null,null,null,null,9,null,null,3,null,7]
[null,null,2,null,null,3,null,null,null,null,null,null,null,2,null,null,1]
[null,8,null,null,null,null,5,6,null,null,null,null,null,null,1,6,null,4,2,null,9]
[null,null,9,null,null,null,null,5,null,null,null,null,6,null,null,null,9,5]
[null,null,null,null,null,null,4,null,3,null,null,null,null,3,null,null,null,null,null,null,6]
[null,1,5,null,null,null,null,null,null,8,null,null,null,4,null,null,null,null,null,5]
[null,9,null,null,7,null,1,null,null,3,null,null,null,null,null,5,null,6,null,null,8]
[null,null,4,null,null,8,null,null,6,null,null,null,2,null,8,null,null,null,1]
["*",null,null,null,6,null,null,null,7,null,null,null,null,9,null,7,null,null,null,null,4]
[]
[null,"NO.",421,null,null,{"$f":"COUNTA(B2314:J2322)","v":26},"ランク",null,"超難問",null,null,null,"NO.",422,null,null,{"$f":"COUNTA(M2314:U2322)","v":26},"ランク",null,"超難問"]
[null,null,null,8,null,7,null,4,null,null,null,null,3,7,null,null,null,null,null,1,4]
[null,5,null,null,9,null,null,null,8,null,null,null,null,null,6,7,null,null,2]
[null,null,4,null,null,5,null,null,null,6,null,null,2,null,null,null,9]
[null,null,null,null,null,null,6,7,null,null,null,null,null,4,null,null,null,null,null,9]
[null,null,1,null,null,null,null,5,null,3,null,null,null,5,null,8,null,null,null,null,1]
[null,2,null,null,4,null,null,null,null,null,null,null,6,null,null,null,null,1,null,7]
[null,null,7,1,null,null,null,2,9,null,null,null,8,null,2,null,3,6]
[null,6,null,null,null,9,null,null,null,null,null,null,5,null,null,null,null,null,3,4]
["*",4,null,null,8,3,null,null,7,null,null,null,null,null,null,9,null,null,null,null,8]
[]
[null,"NO.",423,null,null,{"$f":"COUNTA(B2325:J2333)","v":26},"ランク",null,"超難問",null,null,null,"NO.",424,null,null,{"$f":"COUNTA(M2325:U2333)","v":26},"ランク",null,"超難問"]
[null,null,1,null,8,null,3,null,9,null,null,null,null,6,null,null,null,8,null,5]
[null,null,null,null,4,null,6,3,null,null,null,null,null,null,null,null,2,null,8,null,1]
[null,null,7,null,2,null,null,null,null,5,null,null,null,5,null,null,null,null,6]
[null,9,null,null,null,null,null,7,null,1,null,null,null,null,null,null,null,2,null,null,6]
[null,3,5,null,9,null,null,null,null,6,null,null,null,4,null,null,null,9,3]
[null,null,null,null,5,null,null,null,null,null,null,null,8,null,null,null,3,null,null,7]
[null,8,null,1,3,4,null,null,null,null,null,null,null,7,null,null,null,null,4,2]
[null,null,2,null,null,null,null,null,null,null,null,null,5,null,4,null,null,null,null,null,9]
["*",null,null,4,null,null,8,null,null,9,null,null,9,null,null,null,7,6,null,1]
[]
[null,"NO.",425,null,null,{"$f":"COUNTA(B2336:J2344)","v":26},"ランク",null,"超難問",null,null,null,"NO.",426,null,null,{"$f":"COUNTA(M2336:U2344)","v":26},"ランク",null,"超難問"]
[null,7,3,9,null,null,2,null,5,null,null,null,4,6,null,7,null,null,null,9]
[null,null,null,null,1,null,null,null,9,null,null,null,null,null,null,null,null,3,6,5]
[null,1,null,null,null,null,null,3,6,null,null,null,null,null,null,null,2,null,null,7]
[null,null,null,null,null,5,6,8,null,4,null,null,1,null,4,null,null,null,2,null,8]
[null,null,null,4,null,null,null,7,null,6,null,null,null,null,2,null,null,4]
[null,null,2,null,null,null,null,null,null,null,null,null,6,null,null,null,5,1]
[null,null,8,3,7,null,null,9,null,null,null,null,null,null,null,null,null,null,9]
[null,null,null,5,8,null,null,null,null,null,null,null,5,null,null,8,null,null,1]
["*",9,null,null,null,null,1,null,null,null,null,null,null,9,8,null,3,7]
[]
[null,"NO.",427,null,null,{"$f":"COUNTA(B2347:J2355)","v":26},"ランク",null,"超難問",null,null,null,"NO.",428,null,null,{"$f":"COUNTA(M2347:U2355)","v":26},"ランク",null,"超難問"]
[null,null,2,null,9,null,null,null,7,null,null,null,null,null,null,null,null,null,8]
[null,null,null,7,null,5,null,null,null,null,null,null,7,6,null,null,null,2]
[null,6,null,4,null,null,null,1,null,3,null,null,null,null,9,null,null,null,2,6,1]
[null,2,1,null,null,null,null,null,null,6,null,null,null,null,null,null,5,null,null,null,4]
[null,4,null,null,7,null,null,null,null,null,null,null,5,8,4,2,null,null,null,null,6]
[null,null,null,3,null,null,null,null,null,4,null,null,null,null,2,null,null,null,7]
[null,null,7,null,5,9,null,4,null,null,null,null,null,null,null,null,8,9]
[null,5,null,null,null,null,8,null,6,null,null,null,null,null,7,5,1,3]
["*",9,8,null,null,null,6,null,null,null,null,null,4,null,1,null,null,null,null,9]
[]
[null,"NO.",429,null,null,{"$f":"COUNTA(B2358:J2366)","v":26},"ランク",null,"超難問",null,null,null,"NO.",430,null,null,{"$f":"COUNTA(M2358:U2366)","v":26},"ランク",null,"超難問"]
[null,null,null,null,4,null,3,null,null,7,null,null,null,null,2,null,null,5,null,3]
[null,null,2,null,null,null,null,4,null,null,null,null,null,null,8,1,null,null,null,null,6]
[null,null,null,null,null,2,5,null,9,null,null,null,null,6,null,null,null,null,7,null,5]
[null,null,null,3,null,7,null,null,null,4,null,null,3,null,null,null,null,null,null,4]
[null,null,5,null,null,null,8,2,null,null,null,null,null,null,1]
[null,1,6,null,null,null,null,null,null,null,null,null,7,2,null,null,null,null,9]
[null,9,null,null,null,8,7,null,null,null,null,null,null,4,null,null,null,7,null,2]
[null,7,null,6,1,3,null,null,null,null,null,null,2,null,9,null,5,null,6,null,1]
["*",null,8,null,9,null,null,1,null,null,null,null,null,null,null,3,9,null,4]
[]
[null,"NO.",431,null,null,{"$f":"COUNTA(B2369:J2377)","v":26},"ランク",null,"超難問",null,null,null,"NO.",432,null,null,{"$f":"COUNTA(M2369:U2377)","v":26},"ランク",null,"超難問"]
[null,null,3,1,null,null,6,8,9,null,null,null,null,7,4]
[null,null,4,8,null,null,null,null,5,1,null,null,null,5,1,null,null,4,null,6]
[null,null,null,null,null,null,9,null,null,null,null,null,null,null,null,null,1,2,null,null,3]
[null,3,null,null,1,null,null,5,null,null,null,null,null,null,null,1,null,null,null,9]
[null,null,8,null,null,null,4,null,null,6,null,null,null,null,3,null,null,null,null,8]
[null,1,7,null,null,5,null,null,null,null,null,null,null,null,5,2,7,9,null,null,6]
[null,null,null,null,7,null,2,null,3,null,null,null,null,null,null,9,3,null,null,5]
[null,null,null,7,6,null,null,9,null,null,null,null,null,null,7,null,null,null,null,2,9]
["*",null,2,null,null,null,null,null,null,null,null,null,6,null,null,null,null,null,4]
[]
[null,"NO.",433,null,null,{"$f":"COUNTA(B2380:J2388)","v":26},"ランク",null,"超難問",null,null,null,"NO.",434,null,null,{"$f":"COUNTA(M2380:U2388)","v":26},"ランク",null,"超難問"]
[null,3,null,6,null,null,5,null,null,null,null,null,null,null,null,null,8,3]
[null,null,7,null,null,null,null,null,2,null,null,null,null,4,null,5,null,null,null,null,1]
[null,1,null,null,6,9,null,null,null,7,null,null,9,null,null,null,null,1,3,6]
[null,8,null,null,9,null,null,null,null,5,null,null,null,null,9,7,3,null,null,1]
[null,null,1,9,null,null,null,6,null,null,null,null,null,7,8,null,null,null,null,9]
[null,2,null,null,null,8,null,null,null,null,null,null,2,null,null,null,null,5,4]
[null,null,null,null,5,null,3,null,1,null,null,null,7,2,5,null,null,8,null,null,9]
[null,null,2,null,null,null,null,null,null,null,null,null,null,null,null,null,2,null,null,null,6]
["*",null,null,null,8,7,null,3,5,9]
[]
[null,"NO.",435,null,null,{"$f":"COUNTA(B2391:J2399)","v":26},"ランク",null,"超難問",null,null,null,"NO.",436,null,null,{"$f":"COUNTA(M2391:U2399)","v":26},"ランク",null,"超難問"]
[null,null,null,null,2,null,7,null,null,3,null,null,1,null,null,null,3,null,null,8]
[null,null,8,1,null,null,null,null,null,6,null,null,null,null,6,2,null,9,null,null,3]
[null,3,null,null,null,4,null,null,null,9,null,null,null,4,7,8,null,null,null,null,9]
[null,null,4,null,null,null,null,null,9,null,null,null,null,null,null,null,null,null,null,null,6]
[null,2,7,null,null,null,5,null,3,null,null,null,7,null,null,null,null,3,null,null,2]
[null,null,null,null,null,null,8,null,6,null,null,null,null,null,null,4,5,null,3]
[null,4,5,null,null,null,6,null,null,null,null,null,null,null,null,null,null,null,9]
[null,null,null,7,null,3,null,null,null,2,null,null,null,null,null,7,null,1,4,null,8]
["*",null,null,null,null,8,null,9,7,null,null,null,6,1,null,null,null,8]
[]
[null,"NO.",437,null,null,{"$f":"COUNTA(B2402:J2410)","v":26},"ランク",null,"超難問",null,null,null,"NO.",438,null,null,{"$f":"COUNTA(M2402:U2410)","v":26},"ランク",null,"超難問"]
[null,null,null,null,6,null,null,null,null,null,null,null,null,null,1,null,2,null,null,null,3]
[null,null,4,8,1,null,null,null,5,null,null,null,null,null,null,null,3,null,9,7,6]
[null,null,null,1,null,2,8,3,null,null,null,null,null,null,null,null,null,5]
[null,null,null,null,null,null,2,null,6,null,null,null,2,null,null,null,null,9,null,3,1]
[null,4,null,null,null,5,9,null,1,null,null,null,4,8,null,null,null,null,null,6,9]
[null,3,null,null,null,7,null,null,8,null,null,null,null,null,null,5]
[null,7,null,null,null,null,null,null,null,null,null,null,null,3,4,null,null,null,null,1]
[null,null,null,5,7,null,null,1,null,6,null,null,6,5,null,3]
["*",null,3,null,2,null,null,null,null,9,null,null,null,null,null,2,null,8,null,4]
[]
[null,"NO.",439,null,null,{"$f":"COUNTA(B2413:J2421)","v":25},"ランク",null,"超難問",null,null,null,"NO.",440,null,null,{"$f":"COUNTA(M2413:U2421)","v":25},"ランク",null,"超難問"]
[null,null,null,8,null,null,null,null,null,null,null,null,null,8,null,null,null,null,null,null,4]
[null,5,null,null,8,6,null,null,null,null,null,null,null,null,null,null,2,null,null,null,7]
[null,null,2,null,null,3,null,5,null,6,null,null,2,null,1,5]
[null,null,null,null,6,4,null,2,7,null,null,null,3,null,6,null,1,null,null,null,9]
[null,9,null,4,null,null,null,null,6,null,null,null,null,null,2,3,null,null,6]
[null,null,null,null,null,null,5,null,null,1,null,null,null,null,null,null,5]
[null,null,null,7,null,null,2,null,null,null,null,null,null,6,null,null,null,null,null,9]
[null,null,1,null,null,null,null,null,3,null,null,null,null,1,8,null,9,null,4]
["*",null,8,null,null,1,null,7,9,null,null,null,7,null,null,1,null,8,5]
[]
[null,"NO.",441,null,null,{"$f":"COUNTA(B2424:J2432)","v":25},"ランク",null,"超難問",null,null,null,"NO.",442,null,null,{"$f":"COUNTA(M2424:U2432)","v":25},"ランク",null,"超難問"]
[null,null,null,null,2,null,9,null,null,null,null,null,null,null,9]
[null,null,null,4,null,null,null,9,3,6,null,null,null,null,1,null,5,null,null,2,3]
[null,null,null,1,null,null,null,null,null,null,null,null,7,null,null,3,null,1,null,null,4]
[null,4,null,null,1,null,8,null,null,null,null,null,null,null,null,null,null,8,3]
[null,null,null,null,null,5,null,null,6,null,null,null,null,null,5,1,null,null,4]
[null,null,2,3,null,null,null,5,null,null,null,null,null,2,null,5,null,null,null,6]
[null,null,null,6,null,null,null,null,null,5,null,null,null,null,null,null,9,4]
[null,null,7,null,null,1,null,null,8,3,null,null,9,null,null,null,6,3]
["*",1,null,null,8,7,null,null,9,null,null,null,null,8,7,null,null,null,null,null,9]
[]
[null,"NO.",443,null,null,{"$f":"COUNTA(B2435:J2443)","v":25},"ランク",null,"超難問",null,null,null,"NO.",444,null,null,{"$f":"COUNTA(M2435:U2443)","v":25},"ランク",null,"超難問"]
[null,null,null,8,5,null,null,null,null,4,null,null,null,null,null,null,1,2]
[null,3,null,null,1,null,2,7,null,null,null,null,1,null,6,4,null,null,null,null,9]
[null,null,null,null,6,null,null,null,null,null,null,null,null,null,5,null,null,null,3]
[null,null,null,null,null,null,null,2,9,null,null,null,null,6,null,null,null,null,null,null,1]
[null,null,7,4,null,2,null,null,5,null,null,null,5,null,null,null,null,null,null,2]
[null,null,5,9,null,null,null,1,null,null,null,null,null,null,4,null,null,6,8,7]
[null,null,null,null,7,null,null,null,null,null,null,null,null,null,1,null,4,null,null,null,7]
[null,null,null,null,null,8,null,null,3,9,null,null,null,null,null,null,null,8]
["*",6,null,null,null,null,4,8,null,1,null,null,2,4,null,null,3,7,null,9]
[]
[null,"NO.",445,null,null,{"$f":"COUNTA(B2446:J2454)","v":25},"ランク",null,"超難問",null,null,null,"NO.",446,null,null,{"$f":"COUNTA(M2446:U2454)","v":25},"ランク",null,"超難問"]
[null,null,7,null,5,null,null,null,null,2,null,null,9,null,null,null,null,null,null,null,3]
[null,3,null,null,null,8,null,5,null,null,null,null,null,8,null,5,null,6,9]
[null,4,null,null,1,null,null,null,3,null,null,null,null,1,null,null,7,null,null,null,8]
[null,5,null,null,null,null,null,7,null,null,null,null,null,null,null,null,1,null,null,9]
[null,null,null,null,null,null,6,null,null,8,null,null,4,null,6,7,null,null,null,null,5]
[null,null,4,null,2,9,null,6,null,null,null,null,null,null,null,null,null,null,null,2]
[null,null,null,1,6,4,null,2,null,null,null,null,null,null,3,null,5,null,4]
[null,null,2,7,null,null,8,null,9,null,null,null,8,null,null,4,null,null,null,7]
["*",null,null,null,null,null,null,null,null,null,null,null,null,9,null,null,null,1,null,null,2]
[]
[null,"NO.",447,null,null,{"$f":"COUNTA(B2457:J2465)","v":25},"ランク",null,"超難問",null,null,null,"NO.",448,null,null,{"$f":"COUNTA(M2457:U2465)","v":25},"ランク",null,"超難問"]
[null,null,3,null,2,null,null,null,4,null,null,null,7,null,null,null,4,8,5]
[null,9,null,5,null,7,null,1,null,null,null,null,null,6,null,5,null,null,null,3]
[null,null,null,null,null,5,4,null,null,null,null,null,null,8,null,null,null,null,null,2]
[null,null,7,null,null,null,null,3,9,null,null,null,null,null,null,null,3,null,1]
[null,1,null,null,null,null,null,null,null,null,null,null,6,2,null,null,null,null,9]
[null,null,6,null,null,null,null,8,null,7,null,null,9,null,null,null,6,null,null,null,7]
[null,null,8,6,null,9,null,null,null,null,null,null,null,1,null,9,null,null,null,null,5]
[null,null,null,null,5,null,null,null,null,8,null,null,null,null,null,8,null,null,4]
["*",null,null,2,null,1,6,null,null,5,null,null,4,null,7,null,null,null,null,null,1]
[]
[null,"NO.",449,null,null,{"$f":"COUNTA(B2468:J2476)","v":25},"ランク",null,"超難問",null,null,null,"NO.",450,null,null,{"$f":"COUNTA(M2468:U2476)","v":25},"ランク",null,"超難問"]
[null,4,null,null,null,null,null,null,null,null,null,null,7,9,null,6,null,null,5,null,1]
[null,null,null,5,null,3,null,null,4,null,null,null,null,null,1,null,7,null,9,4]
[null,null,null,null,8,null,null,null,null,1,null,null,null,null,null,5]
[null,7,4,null,null,null,null,null,2,9,null,null,4,null,null,null,null,null,2,6]
[null,null,null,null,null,9,null,null,null,null,null,null,null,null,null,null,2,8,null,null,9]
[null,null,null,2,null,null,7,4,null,6,null,null,null,null,5,7]
[null,null,3,6,null,null,9,7,null,null,null,null,null,null,null,null,8,null,4]
[null,null,2,null,1,null,null,null,5,null,null,null,null,null,3,null,9,null,null,null,6]
["*",8,null,null,3,null,null,6,null,null,null,null,5,null,null,null,null,6]
[]
[null,"NO.",451,null,null,{"$f":"COUNTA(B2479:J2487)","v":25},"ランク",null,"超難問",null,null,null,"NO.",452,null,null,{"$f":"COUNTA(M2479:U2487)","v":25},"ランク",null,"超難問"]
[null,null,9,null,null,null,5,null,null,null,null,null,null,8,null,null,null,null,3]
[null,null,null,7,2,null,null,null,4,null,null,null,3,null,null,null,2,null,4,null,8]
[null,2,null,3,null,6,null,null,null,null,null,null,null,null,null,null,null,6,null,1]
[null,null,1,null,null,null,null,9,null,6,null,null,null,null,1,6,null,5,9]
[null,null,4,null,null,5,null,null,null,null,null,null,5,null,null,null,7]
[null,3,null,null,6,8,null,null,7,null,null,null,null,null,4,null,null,2,null,7]
[null,1,null,null,9,null,null,null,null,3,null,null,7,null,null,8,null,null,null,null,9]
[null,8,7,null,null,null,null,4,null,null,null,null,null,9,null,5,4,null,null,null,1]
["*",null,null,null,8,null,null,null,9,null,null,null,null,null,null,null,null,null,null,3]
[]
[null,"NO.",453,null,null,{"$f":"COUNTA(B2490:J2498)","v":25},"ランク",null,"超難問",null,null,null,"NO.",454,null,null,{"$f":"COUNTA(M2490:U2498)","v":25},"ランク",null,"超難問"]
[null,null,1,4,null,null,null,null,null,null,null,null,1,null,null,null,null,3,null,2]
[null,3,null,null,null,5,null,4,9,null,null,null,null,2,null,4,null,null,6]
[null,null,null,null,9,2,null,null,null,3,null,null,null,null,null,5,null,7,9]
[null,null,6,null,null,1,null,5,null,null,null,null,null,null,8,null,4,5,3]
[null,1,null,7,5,null,null,null,6,8,null,null,null,null,null,null,null,null,null,9,6]
[null,null,8,null,null,null,null,null,null,null,null,null,3,null,null,null,8]
[null,null,9,null,null,null,8,6,7,null,null,null,null,null,null,7,null,4]
[null,null,null,null,null,null,2,null,null,null,null,null,null,8,5,6,null,null,null,null,2]
["*",null,null,2,null,null,null,null,4,null,null,null,4,7]
[]
[null,"NO.",455,null,null,{"$f":"COUNTA(B2501:J2509)","v":25},"ランク",null,"超難問",null,null,null,"NO.",456,null,null,{"$f":"COUNTA(M2501:U2509)","v":25},"ランク",null,"超難問"]
[null,6,null,5,null,null,3,null,null,null,null,null,null,null,null,null,null,null,null,9,6]
[null,null,null,null,null,null,7,null,8,null,null,null,null,null,1,null,null,null,null,7]
[null,1,4,null,null,8,null,null,9,null,null,null,null,null,5,null,8,2,null,null,1]
[null,null,9,null,null,null,4,5,6,null,null,null,7,3,null,null,4,null,9]
[null,null,null,3,null,null,null,null,null,null,null,null,null,null,null,null,null,null,null,2]
[null,null,null,null,7,1,null,4,null,null,null,null,null,8,4,null,2]
[null,null,7,null,5,null,null,null,null,9,null,null,null,null,7,3,null,6]
[null,null,null,null,null,6,null,null,null,7,null,null,8,null,null,null,7,4,5]
["*",null,null,8,3,null,1,null,null,null,null,null,6,5]
[]
[null,"NO.",457,null,null,{"$f":"COUNTA(B2512:J2520)","v":25},"ランク",null,"超難問",null,null,null,"NO.",458,null,null,{"$f":"COUNTA(M2512:U2520)","v":25},"ランク",null,"超難問"]
[null,6,null,null,7,null,8]
[null,3,9,null,null,null,null,4,null,null,null,null,4,null,null,2,1,6,5,9]
[null,null,null,null,4,1,null,null,null,3,null,null,1,3,null,null,null,4,null,null,8]
[null,null,null,null,null,5,null,8,null,null,null,null,null,null,8,null,null,5,null,6]
[null,null,8,null,null,6,7,null,5,null,null,null,null,null,null,null,null,null,null,3]
[null,4,null,null,1,null,null,null,null,null,null,null,null,null,5,null,null,null,4,2]
[null,null,null,9,null,null,5,null,3,null,null,null,null,2,6,null,8,null,null,null,7]
[null,null,7,null,8,null,null,null,9,null,null,null,null,1,3,null,7]
["*",null,6,null,null,null,null,null,null,2,null,null,null,null,null,null,null,null,9]
[]
[null,"NO.",459,null,null,{"$f":"COUNTA(B2523:J2531)","v":25},"ランク",null,"超難問",null,null,null,"NO.",460,null,null,{"$f":"COUNTA(M2523:U2531)","v":25},"ランク",null,"超難問"]
[null,5,null,null,null,null,null,3]
[null,null,null,2,null,null,5,1,8,null,null,null,4,1,7,null,9,null,2]
[null,8,6,null,null,3,null,null,null,null,null,null,3,null,null,null,null,7,4,null,8]
[null,null,null,null,null,8,null,null,null,null,null,null,null,7,9]
[null,null,4,null,3,null,null,6,9,null,null,null,null,null,null,null,null,5,null,3]
[null,null,null,null,5,null,null,null,null,4,null,null,null,null,4,1,null,null,8]
[null,null,null,6,4,null,9,null,null,null,null,null,null,null,null,null,null,null,null,null,6]
[null,null,null,null,null,null,8,null,2,null,null,null,null,6,2,4,1,null,null,null,7]
["*",2,7,null,6,null,null,9,null,null,null,null,null,null,null,8,null,2,9]
[]
[null,"NO.",461,null,null,{"$f":"COUNTA(B2534:J2542)","v":25},"ランク",null,"超難問",null,null,null,"NO.",462,null,null,{"$f":"COUNTA(M2534:U2542)","v":25},"ランク",null,"超難問"]
[null,7,1,null,null,null,null,5,6,null,null,null,null,null,4,2,9]
[null,null,null,null,null,null,8,null,null,null,null,null,1,null,8,null,null,null,2,null,3]
[null,null,null,null,9,null,1,7,null,null,null,null,null,7,null,null,null,null,6]
[null,null,null,null,4,null,null,null,null,null,null,null,4,null,null,1]
[null,2,null,4,null,null,null,null,null,5,null,null,null,6,null,null,null,null,null,4]
[null,9,null,null,2,null,null,null,null,6,null,null,3,null,null,5,null,null,7,null,2]
[null,null,null,3,null,5,null,null,null,7,null,null,7,null,null,null,null,null,null,null,9]
[null,6,null,null,null,8,null,null,null,2,null,null,null,3,null,null,null,6,1]
["*",null,null,7,null,4,null,null,8,9,null,null,null,null,5,9,null,2]
[]
[null,"NO.",463,null,null,{"$f":"COUNTA(B2545:J2553)","v":25},"ランク",null,"超難問",null,null,null,"NO.",464,null,null,{"$f":"COUNTA(M2545:U2553)","v":25},"ランク",null,"超難問"]
[null,null,null,7,null,null,null,null,5,3,null,null,null,null,5]
[null,4,1,null,null,null,null,7,null,null,null,null,null,1,7,null,null,null,4,3]
[null,null,null,3,2,9,null,8,null,null,null,null,null,null,null,null,null,6,null,2]
[null,null,4,null,5,null,null,null,null,null,null,null,null,null,4,null,2]
[null,null,3,9,7,null,null,null,null,null,null,null,6]
[null,2,null,null,8,null,null,4,null,null,null,null,9,2,null,5,null,4,null,8,1]
[null,null,null,null,1,5,2,null,null,null,null,null,null,7,null,null,1,null,null,6,9]
[null,null,null,null,null,null,null,9,1,null,null,null,null,null,null,7,null,8,null,null,3]
["*",null,7,null,null,8,null,null,null,null,null,null,3,null,null,null,null,5]
[]
[null,"NO.",465,null,null,{"$f":"COUNTA(B2556:J2564)","v":25},"ランク",null,"超難問",null,null,null,"NO.",466,null,null,{"$f":"COUNTA(M2556:U2564)","v":25},"ランク",null,"超難問"]
[null,6,null,null,null,null,7,null,null,null,null,null,2,null,null,6,5,4]
[null,5,7,null,9,null,null,1,3,null,null,null,null,3,9,null,null,2]
[null,4,null,null,null,2,null,6,null,7]
[null,null,null,null,null,null,null,4,1,5,null,null,1,null,null,null,null,null,null,null,8]
[null,null,null,null,null,null,8,null,null,null,null,null,null,5,null,null,null,1,null,null,4]
[null,null,null,9,null,5,null,null,null,6,null,null,4,null,6,null,9,3,5,null,7]
[null,null,null,2,7,null,null,null,null,9,null,null,3,8,null,null,null,null,null,null,9]
[null,7,null,null,null,null,null,null,null,null,null,null,null,null,7,null,8,6]
["*",null,1,null,null,null,2,8,null,null,null,null,null,null,null,null,null,null,null,7]
[]
[null,"NO.",467,null,null,{"$f":"COUNTA(B2567:J2575)","v":25},"ランク",null,"超難問",null,null,null,"NO.",468,null,null,{"$f":"COUNTA(M2567:U2575)","v":25},"ランク",null,"超難問"]
[null,null,null,5,2,null,null,null,7,null,null,null,9,5,null,7,null,2,null,8]
[null,1,null,null,null,4,null,null,3,9,null,null,1,null,null,null,null,4,3,null,7]
[null,9,null,null,1,null,null,null,null,null,null,null,2,null,null,null,1]
[null,null,null,4,null,3,null,null,null,6,null,null,5,null,null,2,null,null,null,4]
[null,null,null,null,7]
[null,7,null,3,5,null,null,null,2,null,null,null,null,4,null,null,null,9,6,1]
[null,null,null,null,null,null,null,null,null,null,null,null,null,7,null,null,null,null,2]
[null,2,null,6,null,null,null,null,9,3,null,null,null,null,null,6,4,null,null,3]
["*",null,null,null,9,5,null,1,null,4,null,null,null,null,null,null,null,null,4,9]
[]
[null,"NO.",469,null,null,{"$f":"COUNTA(B2578:J2586)","v":25},"ランク",null,"超難問",null,null,null,"NO.",470,null,null,{"$f":"COUNTA(M2578:U2586)","v":25},"ランク",null,"超難問"]
[null,null,null,null,null,null,null,null,3,null,null,null,4,null,null,null,9,1,5]
[null,1,null,null,null,9,null,2,null,null,null,null,1,null,null,null,null,null,2]
[null,null,7,null,3,null,2,null,null,null,null,null,null,7,null,null,2,null,3]
[null,null,null,3,null,6,null,null,null,null,null,null,null,null,4,7,5,null,6]
[null,null,1,4,8,null,null,null,6,7,null,null,3]
[null,null,null,null,null,5,null,4,null,null,null,null,null,8,null,null,null,null,null,null,4]
[null,9,2,null,null,null,6,5,8,null,null,null,null,null,null,null,null,5]
[null,null,null,null,null,4,null,null,null,null,null,null,null,1,5,2,null,null,7]
["*",null,null,7,null,8,null,null,null,9,null,null,6,4,null,null,null,3,null,null,9]
[]
[null,"NO.",471,null,null,{"$f":"COUNTA(B2589:J2597)","v":25},"ランク",null,"超難問",null,null,null,"NO.",472,null,null,{"$f":"COUNTA(M2589:U2597)","v":25},"ランク",null,"超難問"]
[null,7,null,null,null,1,2,4,null,null,null,null,null,6,null,null,9,2,null,null,4]
[null,3,8,null,4,null,null,null,null,2,null,null,null,3,null,null,null,null,null,2,9]
[null,null,9,null,6,null,null,3,null,null,null,null,null,7]
[null,null,null,null,null,null,8,null,null,4,null,null,null,4,null,null,6,1,null,9]
[null,null,null,null,null,7,null,5,6,null,null,null,null,1,null,null,5,7]
[null,null,null,null,5,null,null,null,null,null,null,null,null,null,null,null,null,null,6,3]
[null,null,3,null,null,null,null,null,null,9,null,null,null,null,null,5,8,null,null,1]
[null,6,null,9,null,null,null,7,null,null,null,null,null,null,3,1,null,null,4,6]
["*",2,null,null,8,null,5,null,null,null,null,null,null,null,7]
[]
[null,"NO.",473,null,null,{"$f":"COUNTA(B2600:J2608)","v":25},"ランク",null,"超難問",null,null,null,"NO.",474,null,null,{"$f":"COUNTA(M2600:U2608)","v":25},"ランク",null,"超難問"]
[null,null,3,null,null,4,null,5,6,null,null,null,null,8,null,null,9,null,null,2]
[null,null,null,null,2,null,null,null,null,null,null,null,null,null,null,3,null,8]
[null,null,null,null,9,null,8,null,3,null,null,null,null,1,9,null,null,null,4]
[null,null,8,null,7,null,2,null,5,null,null,null,7]
[null,null,null,4,3,null,null,7,null,2,null,null,3,2,null,null,null,null,6,9]
[null,null,9,null,5,null,null,6,null,null,null,null,null,null,4,null,null,null,null,1,2]
[null,6,null,null,null,null,null,null,null,null,null,null,null,7,null,null,8,5]
[null,7,4,null,null,null,null,9,null,null,null,null,6,null,null,null,null,null,null,7,1]
["*",8,null,null,null,null,null,null,1,null,null,null,null,3,null,null,6,null,null,null,4]
[]
[null,"NO.",475,null,null,{"$f":"COUNTA(B2611:J2619)","v":24},"ランク",null,"超難問",null,null,null,"NO.",476,null,null,{"$f":"COUNTA(M2611:U2619)","v":24},"ランク",null,"超難問"]
[null,null,null,null,null,6,null,null,3,null,null,null,null,null,null,9,null,null,null,7]
[null,3,null,1,7,null,2,null,null,null,null,null,null,3,null,null,null,2,null,1,6]
[null,null,null,8,null,null,5,null,null,null,null,null,null,1,null,6,8]
[null,null,1,null,null,null,null,null,5,null,null,null,null,null,null,null,null,3]
[null,null,null,null,null,null,7,null,null,null,null,null,4,null,null,7,null,null,9]
[null,null,4,null,3,5,null,null,null,6,null,null,null,null,5,null,null,null,null,8,4]
[null,9,7,null,null,null,6,1,null,null,null,null,null,null,null,5,null,4,null,2]
[null,null,null,3,2,null,8,4,null,null,null,null,null,5,null,null,null,8,null,null,7]
["*",null,null,null,null,null,null,null,9,null,null,null,3,null,2]
[]
[null,"NO.",477,null,null,{"$f":"COUNTA(B2622:J2630)","v":24},"ランク",null,"超難問",null,null,null,"NO.",478,null,null,{"$f":"COUNTA(M2622:U2630)","v":24},"ランク",null,"超難問"]
[null,null,9,null,null,2,null,null,null,3,null,null,null,8,5]
[null,null,null,null,8,1,null,null,9,null,null,null,null,null,1,null,2,null,9,7]
[null,null,null,null,9,null,null,2,4,null,null,null,4,null,null,3]
[null,1,null,9,null,null,null,null,null,null,null,null,9,4,3,null,null,null,null,8]
[null,null,2,null,null,null,4,null,3,null,null,null,null,null,null,null,6,8,1]
[null,null,4,null,null,5,2,6,null,null,null,null,null,null,null,5]
[null,null,3,4,null,null,6,null,null,null,null,null,null,null,null,2,null,null,7,null,6]
[null,null,null,5,null,null,null,null,null,null,null,null,3,7]
["*",null,null,null,7,null,null,9,null,null,null,null,null,6,null,null,1,null,null,5]
[]
[null,"NO.",479,null,null,{"$f":"COUNTA(B2633:J2641)","v":24},"ランク",null,"超難問",null,null,null,"NO.",480,null,null,{"$f":"COUNTA(M2633:U2641)","v":24},"ランク",null,"超難問"]
[null,8,null,null,6,null,9,5,null,null,null,null,null,null,8,4,null,null,null,3]
[null,2,7,null,null,null,null,null,null,null,null,null,null,null,null,null,null,null,8,5]
[null,null,null,null,null,null,8,null,null,9,null,null,null,null,1,2,null,7]
[null,null,1,null,3,null,null,null,null,5,null,null,null,4,3,null,null,null,null,null,8]
[null,null,6,null,null,null,null,4,null,null,null,null,null,null,null,null,null,2,null,1]
[null,null,null,7,null,null,null,null,2,1,null,null,null,null,null,1,null,null,3,null,6]
[null,6,null,null,null,9,null,null,null,4,null,null,null,5,null,null,null,4,null,null,9]
[null,null,null,4,null,3,null,8,null,null,null,null,null,1,null,null,null,null,null,7]
["*",null,null,null,null,null,7,2,null,null,null,null,9,null,6,null,null,8]
[]
[null,"NO.",481,null,null,{"$f":"COUNTA(B2644:J2652)","v":24},"ランク",null,"超難問",null,null,null,"NO.",482,null,null,{"$f":"COUNTA(M2644:U2652)","v":24},"ランク",null,"超難問"]
[null,null,4,null,null,null,null,2,null,null,null,null,4,null,1,null,null,null,null,7]
[null,null,null,3,7,null,1,null,null,9,null,null,9,null,null,6,null,null,8]
[null,null,null,5,null,3,null,null,null,1,null,null,null,null,3,null,8]
[null,null,null,4,null,5,null,3,null,null,null,null,null,null,null,null,null,null,3]
[null,null,null,null,null,4,null,null,6,null,null,null,null,null,null,9,5,null,6]
[null,null,null,6,1,null,null,null,8,null,null,null,3,null,null,null,6,null,null,1,4]
[null,null,null,null,2,null,null,null,null,null,null,null,null,null,null,8,null,7,null,4]
[null,6,null,null,null,null,null,null,9,8,null,null,null,5,null,null,null,null,1]
["*",7,null,null,8,null,null,null,5,null,null,null,null,null,7,null,null,5,9]
[]
[null,"NO.",483,null,null,{"$f":"COUNTA(B2655:J2663)","v":24},"ランク",null,"超難問",null,null,null,"NO.",484,null,null,{"$f":"COUNTA(M2655:U2663)","v":24},"ランク",null,"超難問"]
[null,2,null,null,null,5,null,null,null,null,null,null,3,null,null,null,9,null,6]
[null,1,null,null,null,null,2,9,null,3,null,null,null,7,null,null,2]
[null,9,null,null,6,null,null,null,null,null,null,null,1,5,null,null,null,3]
[null,null,null,null,null,1,5,null,null,7,null,null,null,null,null,5,null,null,2]
[null,null,null,null,3,6,null,4,null,null,null,null,null,4,3,8]
[null,null,1,null,null,null,null,null,null,6,null,null,2,null,null,null,null,7,4,1]
[null,null,null,7,8,null,3,null,null,null,null,null,null,null,null,null,null,8,null,9]
[null,null,null,null,null,7,null,null,null,5,null,null,null,8,null,4,null,null,5]
["*",null,4,3,null,null,null,2,null,null,null,null,7,null,4]
[]
[null,"NO.",485,null,null,{"$f":"COUNTA(B2666:J2674)","v":24},"ランク",null,"超難問",null,null,null,"NO.",486,null,null,{"$f":"COUNTA(M2666:U2674)","v":24},"ランク",null,"超難問"]
[null,null,null,6,2,9,null,null,4,3,null,null,null,1,null,6]
[null,3,null,null,null,null,null,null,null,5,null,null,null,null,3,8,null,null,null,7]
[null,null,7,1,null,null,null,null,null,null,null,null,null,4,null,2,9,null,null,null,3]
[null,null,null,2,null,null,null,null,null,7,null,null,null,null,null,1,4,null,2]
[null,null,1,null,null,null,4,5,null,null,null,null,null,3,4,null,null,null,7,null,5]
[null,null,8,null,null,5,9,3,null,null,null,null,null,null,null,null,null,null,8]
[null,null,null,null,null,null,null,null,null,null,null,null,null,2,null,null,null,6]
[null,7,null,null,null,1,null,null,null,2,null,null,null,null,null,5,null,null,9,null,8]
["*",null,null,null,6,null,null,null,8,4,null,null,null,null,7,null,null,null,null,6]
[]
[null,"NO.",487,null,null,{"$f":"COUNTA(B2677:J2685)","v":24},"ランク",null,"超難問",null,null,null,"NO.",488,null,null,{"$f":"COUNTA(M2677:U2685)","v":24},"ランク",null,"超難問"]
[null,1,null,null,null,null,5,null,2,null,null,null,null,null,null,4,null,null,3]
[null,null,null,9,3,null,null,5,null,null,null,null,3,null,2,null,6]
[null,null,null,7,1,null,null,4,null,null,null,null,null,null,null,null,null,null,null,5,1]
[null,null,4,null,null,null,null,8,null,null,null,null,null,null,null,null,7,null,null,6]
[null,null,null,5,null,null,null,3,9,4,null,null,null,3,5,null,null,null,null,9,7]
[null,null,null,null,null,8,null,null,null,null,null,null,null,9,null,2,null,null,null,1]
[null,2,null,null,null,null,null,null,null,6,null,null,2,5,null,null,null,null,null,null,8]
[null,9,null,1,8,null,null,null,3,null,null,null,null,null,null,8,null,7,4]
["*",null,null,null,null,2,null,null,5,null,null,null,4,null,null,null,null,null,null,3]
[]
[null,"NO.",489,null,null,{"$f":"COUNTA(B2688:J2696)","v":24},"ランク",null,"超難問",null,null,null,"NO.",490,null,null,{"$f":"COUNTA(M2688:U2696)","v":24},"ランク",null,"超難問"]
[null,1,null,2,null,null,null,null,null,null,null,null,null,null,9,2]
[null,null,8,null,4,null,null,null,6,null,null,null,null,null,null,null,null,8,6,7]
[null,null,9,null,null,null,null,null,2,null,null,null,null,null,null,null,null,9]
[null,null,null,null,5,null,null,null,9,null,null,null,null,null,1,null,null,null,null,null,3]
[null,null,4,null,1,null,null,6,null,3,null,null,6,4,null,null,null,5,1]
[null,7,null,null,null,null,4,null,null,null,null,null,null,3,null,null,4,null,null,2]
[null,null,null,null,3,null,null,null,null,null,null,null,null,7,6,null,5,null,null,9,8]
[null,null,7,6,null,8,null,9,null,5,null,null,5,null,null,1,null,2]
["*",9,null,null,null,7,null,3,null,null,null,null,null,null,null,null,null,null,7]
[]
[null,"NO.",491,null,null,{"$f":"COUNTA(B2699:J2707)","v":24},"ランク",null,"超難問",null,null,null,"NO.",492,null,null,{"$f":"COUNTA(M2699:U2707)","v":24},"ランク",null,"超難問"]
[null,null,6,null,2,8,null,null,null,null,null,null,1,null,null,6,null,null,null,3]
[null,null,null,null,null,5,null,null,null,null,null,null,null,8,null,1,null,null,5]
[null,1,9,null,null,null,null,8,4,null,null,null,null,9,null,null,null,5,null,null,2]
[null,null,8,7,null,6,null,null,null,null,null,null,null,null,null,null,null,1,6]
[null,4,2,null,null,1,null,3,null,6,null,null,null,3,null,2]
[null,null,null,null,null,null,null,null,null,9,null,null,null,null,4,7,5,null,null,null,9]
[null,null,null,null,null,null,null,1,null,5,null,null,7,null,null,null,8,9,null,null,4]
[null,null,null,2,8,null,null,null,7,null,null,null,null,null,2,null,6]
["*",null,7,4,null,null,null,null,null,null,null,null,null,5]
[]
[null,"NO.",493,null,null,{"$f":"COUNTA(B2710:J2718)","v":24},"ランク",null,"超難問",null,null,null,"NO.",494,null,null,{"$f":"COUNTA(M2710:U2718)","v":24},"ランク",null,"超難問"]
[null,null,null,null,null,2,null,null,null,null,null,null,null,1,null,null,4,null,5,null,3]
[null,9,null,null,null,5,1,null,null,null,null,null,null,null,null,null,null,2]
[null,null,null,3,null,null,null,null,9,4,null,null,null,null,null,9,null,3]
[null,null,4,null,null,null,null,null,null,null,null,null,null,null,null,5,null,null,null,6]
[null,null,7,null,6,null,null,1,2,null,null,null,null,9,2,null,null,null,null,1]
[null,null,null,null,null,null,5,null,6,7,null,null,4,3,null,6,null,null,2]
[null,null,null,null,null,null,8,9,null,null,null,null,null,4,null,null,1]
[null,null,null,6,1,9,null,null,null,null,null,null,7,null,null,null,null,8]
["*",7,2,null,null,null,3,null,4,null,null,null,3,null,null,null,6,null,4,null,9]
[]
[null,"NO.",495,null,null,{"$f":"COUNTA(B2721:J2729)","v":24},"ランク",null,"超難問",null,null,null,"NO.",496,null,null,{"$f":"COUNTA(M2721:U2729)","v":23},"ランク",null,"超難問"]
[null,null,null,7,null,null,null,6,4,null,null,null,null,6,null,2]
[null,null,null,5,4,null,null,null,null,null,null,null,4,8,null,null,1,null,null,null,5]
[null,null,1,null,null,9,null,null,null,3,null,null,null,1,null,null,null,9,null,3]
[null,null,9,null,null,null,null,null,null,null,null,null,null,null,null,9,null,4]
[null,4,null,null,null,8,null,null,2,null,null,null,5,null,4,null,null,null,2,null,6]
[null,null,null,null,5,null,1,null,null,6]
[null,7,null,8,null,1,null,null,null,null,null,null,null,7,null,8]
[null,null,6,null,7,3,null,5,null,null,null,null,null,null,null,null,null,6,4]
["*",null,null,null,null,null,null,null,9,8,null,null,1,null,null,3,null,null,9,7]
[]
[null,"NO.",497,null,null,{"$f":"COUNTA(B2732:J2740)","v":23},"ランク",null,"超難問",null,null,null,"NO.",498,null,null,{"$f":"COUNTA(M2732:U2740)","v":23},"ランク",null,"超難問"]
[null,null,null,null,null,null,null,null,null,null,null,null,null,6,3,7,null,null,null,2]
[null,null,7,6,null,2,9,null,null,3,null,null,null,null,null,null,null,null,null,null,3]
[null,null,1,null,null,7,5,8,null,null,null,null,7,null,8,null,2]
[null,null,null,3,null,null,null,null,6,null,null,null,null,null,null,null,null,9,null,null,6]
[null,4,9,null,null,null,null,null,1,null,null,null,null,null,null,null,1,null,8,5]
[null,null,null,null,4,null,null,5,null,null,null,null,null,4]
[null,null,6,7,null,null,null,null,null,null,null,null,null,null,null,null,null,null,null,4]
[null,null,null,null,2,null,null,null,5,9,null,null,5,null,6,null,9,8,null,3]
["*",1,null,null,null,null,null,3,null,null,null,null,null,null,null,null,null,1,9,null,2]
[]
[null,"NO.",499,null,null,{"$f":"COUNTA(B2743:J2751)","v":23},"ランク",null,"超難問",null,null,null,"NO.",500,null,null,{"$f":"COUNTA(M2743:U2751)","v":22},"ランク",null,"超難問"]
[null,null,null,null,1,null,null,3,null,null,null,null,6]
[null,null,null,null,null,6,null,2,null,null,null,null,8,null,null,null,2,null,null,4]
[null,null,4,7,null,null,null,null,null,1,null,null,null,null,null,1,null,null,6]
[null,null,null,null,7,null,null,null,null,6,null,null,null,null,null,null,null,null,null,3]
[null,null,2,null,null,null,null,null,null,null,null,null,null,null,null,5,1,null,9]
[null,null,9,null,3,null,5,null,4,null,null,null,null,5,4,null,null,null,null,6]
[null,null,null,null,null,null,3,null,null,null,null,null,4,null,7,null,6,null,null,2]
[null,null,null,6,5,null,null,null,7,null,null,null,null,null,8]
["*",null,3,1,null,null,4,8,null,5,null,null,null,3,null,8,null,7,null,null,5]
[]
[null,"NO.",501,null,null,{"$f":"COUNTA(B2754:J2762)","v":0},"ランク",null,null,null,null,null,"NO.",502,null,null,{"$f":"COUNTA(M2754:U2762)","v":0},"ランク"]
[]
[]
[]
[]
[]
[]
[]
[]
["*"]
[]
[null,"NO.",503,null,null,{"$f":"COUNTA(B2765:J2773)","v":0},"ランク",null,null,null,null,null,"NO.",504,null,null,{"$f":"COUNTA(M2765:U2773)","v":0},"ランク"]
[]
[]
[]
[]
[]
[]
[]
[]
["*"]
[]
[null,"NO.",505,null,null,{"$f":"COUNTA(B2776:J2784)","v":0},"ランク",null,null,null,null,null,"NO.",506,null,null,{"$f":"COUNTA(M2776:U2784)","v":0},"ランク"]
[]
[]
[]
[]
[]
[]
[]
[]
["*"]
[]
[null,"NO.",507,null,null,{"$f":"COUNTA(B2787:J2795)","v":0},"ランク",null,null,null,null,null,"NO.",508,null,null,{"$f":"COUNTA(M2787:U2795)","v":0},"ランク"]
[]
[]
[]
[]
[]
[]
[]
[]
["*"]
[]
[null,"NO.",509,null,null,{"$f":"COUNTA(B2798:J2806)","v":0},"ランク",null,null,null,null,null,"NO.",510,null,null,{"$f":"COUNTA(M2798:U2806)","v":0},"ランク"]
[]
[]
[]
[]
[]
[]
[]
[]
["*"]
[]
[null,"NO.",511,null,null,{"$f":"COUNTA(B2809:J2817)","v":0},"ランク",null,null,null,null,null,"NO.",512,null,null,{"$f":"COUNTA(M2809:U2817)","v":0},"ランク"]
[]
[]
[]
[]
[]
[]
[]
[]
["*"]
[]
[null,"NO.",513,null,null,{"$f":"COUNTA(B2820:J2828)","v":0},"ランク",null,null,null,null,null,"NO.",514,null,null,{"$f":"COUNTA(M2820:U2828)","v":0},"ランク"]
[]
[]
[]
[]
[]
[]
[]
[]
["*"]
[]
[null,"NO.",515,null,null,{"$f":"COUNTA(B2831:J2839)","v":0},"ランク",null,null,null,null,null,"NO.",516,null,null,{"$f":"COUNTA(M2831:U2839)","v":0},"ランク"]
[]
[]
[]
[]
[]
[]
[]
[]
["*"]
[]
[null,"NO.",517,null,null,{"$f":"COUNTA(B2842:J2850)","v":0},"ランク",null,null,null,null,null,"NO.",518,null,null,{"$f":"COUNTA(M2842:U2850)","v":0},"ランク"]
[]
[]
[]
[]
[]
[]
[]
[]
["*"]
[]
[null,"NO.",519,null,null,{"$f":"COUNTA(B2853:J2861)","v":0},"ランク",null,null,null,null,null,"NO.",520,null,null,{"$f":"COUNTA(M2853:U2861)","v":0},"ランク"]
[]
[]
[]
[]
[]
[]
[]
[]
["*"]
[]
[null,"NO.",521,null,null,{"$f":"COUNTA(B2864:J2872)","v":0},"ランク",null,null,null,null,null,"NO.",522,null,null,{"$f":"COUNTA(M2864:U2872)","v":0},"ランク"]
[]
[]
[]
[]
[]
[]
[]
[]
["*"]
[]
[null,"NO.",523,null,null,{"$f":"COUNTA(B2875:J2883)","v":0},"ランク",null,null,null,null,null,"NO.",524,null,null,{"$f":"COUNTA(M2875:U2883)","v":0},"ランク"]
[]
[]
[]
[]
[]
[]
[]
[]
["*"]
[]
[null,"NO.",525,null,null,{"$f":"COUNTA(B2886:J2894)","v":0},"ランク",null,null,null,null,null,"NO.",526,null,null,{"$f":"COUNTA(M2886:U2894)","v":0},"ランク"]
[]
[]
[]
[]
[]
[]
[]
[]
["*"]
[]
[null,"NO.",527,null,null,{"$f":"COUNTA(B2897:J2905)","v":0},"ランク",null,null,null,null,null,"NO.",528,null,null,{"$f":"COUNTA(M2897:U2905)","v":0},"ランク"]
[]
[]
[]
[]
[]
[]
[]
[]
["*"]
[]
[null,"NO.",529,null,null,{"$f":"COUNTA(B2908:J2916)","v":0},"ランク",null,null,null,null,null,"NO.",530,null,null,{"$f":"COUNTA(M2908:U2916)","v":0},"ランク"]
[]
[]
[]
[]
[]
[]
[]
[]
["*"]
[]
[null,"NO.",531,null,null,{"$f":"COUNTA(B2919:J2927)","v":0},"ランク",null,null,null,null,null,"NO.",532,null,null,{"$f":"COUNTA(M2919:U2927)","v":0},"ランク"]
[]
[]
[]
[]
[]
[]
[]
[]
["*"]
[]
[null,"NO.",533,null,null,{"$f":"COUNTA(B2930:J2938)","v":0},"ランク",null,null,null,null,null,"NO.",534,null,null,{"$f":"COUNTA(M2930:U2938)","v":0},"ランク"]
[]
[]
[]
[]
[]
[]
[]
[]
["*"]
[]
[null,"NO.",535,null,null,{"$f":"COUNTA(B2941:J2949)","v":0},"ランク",null,null,null,null,null,"NO.",536,null,null,{"$f":"COUNTA(M2941:U2949)","v":0},"ランク"]
[]
[]
[]
[]
[]
[]
[]
[]
["*"]
[]
[null,"NO.",537,null,null,{"$f":"COUNTA(B2952:J2960)","v":0},"ランク",null,null,null,null,null,"NO.",538,null,null,{"$f":"COUNTA(M2952:U2960)","v":0},"ランク"]
[]
[]
[]
[]
[]
[]
[]
[]
["*"]
[]
[null,"NO.",539,null,null,{"$f":"COUNTA(B2963:J2971)","v":0},"ランク",null,null,null,null,null,"NO.",540,null,null,{"$f":"COUNTA(M2963:U2971)","v":0},"ランク"]
[]
[]
[]
[]
[]
[]
[]
[]
["*"]
[]
[null,"NO.",541,null,null,{"$f":"COUNTA(B2974:J2982)","v":0},"ランク",null,null,null,null,null,"NO.",542,null,null,{"$f":"COUNTA(M2974:U2982)","v":0},"ランク"]
[]
[]
[]
[]
[]
[]
[]
[]
["*"]
[]
[null,"NO.",543,null,null,{"$f":"COUNTA(B2985:J2993)","v":0},"ランク",null,null,null,null,null,"NO.",544,null,null,{"$f":"COUNTA(M2985:U2993)","v":0},"ランク"]
[]
[]
[]
[]
[]
[]
[]
[]
["*"]
[]
[null,"NO.",545,null,null,{"$f":"COUNTA(B2996:J3004)","v":0},"ランク",null,null,null,null,null,"NO.",546,null,null,{"$f":"COUNTA(M2996:U3004)","v":0},"ランク"]
[]
[]
[]
[]
[]
[]
[]
[]
["*"]
[]
[null,"NO.",547,null,null,{"$f":"COUNTA(B3007:J3015)","v":0},"ランク",null,null,null,null,null,"NO.",548,null,null,{"$f":"COUNTA(M3007:U3015)","v":0},"ランク"]
[]
[]
[]
[]
[]
[]
[]
[]
["*"]
[]
[null,"NO.",549,null,null,{"$f":"COUNTA(B3018:J3026)","v":0},"ランク",null,null,null,null,null,"NO.",550,null,null,{"$f":"COUNTA(M3018:U3026)","v":0},"ランク"]
[]
[]
[]
[]
[]
[]
[]
[]
["*"]

{"sheet":"日付け管理","index":7,"n_rows":377,"n_cols":16,"rows_kept":377,"cut":false,"hidden":true,"merged":[[1,1,1,6],[3,10,14,10],[15,10,26,10],[1,14,1,15]]}
[]
[null,"暦",null,null,null,null,null,null,null,null,null,null,null,null,"誕生石"]
[]
[null,"今日の日付","曜日","祝日","今日の行事","花言葉","花言葉の意味",null,null,null,"十二支",2008,"子（ね）",null,1,"柘榴石（ガーネット）"]
[null,{"$f":"TODAY()","v":"2018-07-03"},{"$f":"IF(WEEKDAY(B5)=1,\"日\",IF(WEEKDAY(B5)=2,\"月\",IF(WEEKDAY(B5)=3,\"火\",IF(WEEKDAY(B5)=4,\"水\",IF(WEEKDAY(B5)=5,\"木\",IF(WEEKDAY(B5)=6,\"金\",IF(WEEKDAY(B5)=7,\"土\",)))))))&\"\"","v":"火"},{"$f":"VLOOKUP(B5,B12:E377,3)","v":0},{"$f":"VLOOKUP(B5,B12:E377,4)","v":"大晦日・大はらい・年越し・男鹿なまはげ・出羽三山松例祭"},{"$f":"VLOOKUP(B5,B12:F377,5)","v":"アオキ"},{"$f":"VLOOKUP(B5,B12:G377,6)","v":"若く美しく"},null,null,null,null,2009,"丑（うし）",null,2,"紫水晶（アメシスト）"]
[null,"現在の年",null,null,"干支",null,null,null,null,null,null,2010,"寅（とら）",null,3,"血石（ブラッドストーン）"]
[null,{"$f":"YEAR(B5)","v":2018},null,null,{"$f":"VLOOKUP(B7,L4:N27,2)","v":"戌（いぬ）"},null,null,null,null,null,null,2011,"卯（う）",null,4,"金剛石（ダイアモンド）"]
[null,"変更対象年",null,"現在の月","誕生石",null,null,null,null,null,null,2012,"辰（たつ）",null,5,"緑玉（エメラルド）"]
[null,{"$f":"YEAR(B12)","v":2008},null,{"$f":"MONTH(B5)","v":7},{"$f":"VLOOKUP(D9,O4:P15,2)","v":"紅玉（ルビー）"},null,null,null,null,null,null,2013,"巳（み）",null,6,"真珠（パール）"]
[null,null,null,null,null,null,null,null,null,null,null,2014,"午（うま）",null,7,"紅玉（ルビー）"]
[null,"年、月、日","曜日",null,"行事","花言葉","花言葉の意味",null,null,null,null,2015,"未（ひつじ）",null,8,"紅縞瑪璅（サードニックス）"]
[null,"2008-01-01",{"$f":"IF(WEEKDAY(B12)=1,\"日\",IF(WEEKDAY(B12)=2,\"月\",IF(WEEKDAY(B12)=3,\"火\",IF(WEEKDAY(B12)=4,\"水\",IF(WEEKDAY(B12)=5,\"木\",IF(WEEKDAY(B12)=6,\"金\",IF(WEEKDAY(B12)=7,\"土\",)))))))&\"\"","v":"火"},"元旦","年賀・初詣・三重八代ゲーター祭り","マツ","不老長寿・向上心",null,null,null,null,2016,"申（さる）",null,9,"青玉（サファイア）"]
[null,"2008-01-02",{"$f":"IF(WEEKDAY(B13)=1,\"日\",IF(WEEKDAY(B13)=2,\"月\",IF(WEEKDAY(B13)=3,\"火\",IF(WEEKDAY(B13)=4,\"水\",IF(WEEKDAY(B13)=5,\"木\",IF(WEEKDAY(B13)=6,\"金\",IF(WEEKDAY(B13)=7,\"土\",)))))))&\"\"","v":"水"},null,"初荷・初夢・書初め・皇居一般参賀","オモト","母の愛・長寿",null,null,null,null,2017,"酉（とり）",null,10,"蛋白石（オパール）"]
[null,"2008-01-03","木",null,"出雲大社吉兆さん・福岡筥崎宮玉せせり","スノードロップ","初恋のため息",null,null,null,null,2018,"戌（いぬ）",null,11,"黄玉（トパーズ）"]
[null,"2008-01-04","金",null,null,"オトメコザクラ","少年時代の希望・初恋",null,null,null,null,2019,"亥（い）",null,12,"トルコ石（ターコイズ）"]
[null,"2008-01-05","土",null,"小寒・官庁御用始め・初水天宮","ウメ","澄んだ心",null,null,null,"十二支",2020,"子（ね）"]
[null,"2008-01-06","日",null,"キリスト教公現祭・東京消防出初式・高崎少林山だるま市","筥","秘められた恋",null,null,null,null,2021,"丑（うし）"]
[null,"2008-01-07","月",null,"七草・福岡玉垂宮鬼夜・福岡太宰府天満宮うそ替え・鬼すべ","ハコベ","追想",null,null,null,null,2022,"寅（とら）"]
[null,"2008-01-08","火",null,"初薬師・東京鳥越神社とんど焼き","デンドロビウム","華やかな魅力",null,null,null,null,2023,"卯（う）"]
[null,"2008-01-09","水",null,"前橋初市まつり","カンツバキ","紅一点",null,null,null,null,2024,"辰（たつ）"]
[null,"2008-01-10","木",null,"十日えびす・初金毘羅・１１０番の日","トキワコザクラ","富貴・神秘な心",null,null,null,null,2025,"巳（み）"]
[null,"2008-01-11","金",null,"鏡開き・蔵開き・奈良若草山焼き","コチョウラン","幸福が飛んでくる",null,null,null,null,2026,"午（うま）"]
[null,"2008-01-12","土","成人の日",null,"カンザクラ","気まぐれ",null,null,null,null,2027,"未（ひつじ）"]
[null,"2008-01-13","日",null,null,"クリンコザクラ","美の秘密",null,null,null,null,2028,"申（さる）"]
[null,"2008-01-14","月",null,"仙台どんと祭・大阪四天王寺どやどや","ツバキ","気取らない優美さ",null,null,null,null,2029,"酉（とり）"]
[null,"2008-01-15","火",null,"小正月","セントウソウ","繊細な美しさ",null,null,null,null,2030,"戌（いぬ）"]
[null,"2008-01-16","水",null,"やぶ入り・えんま詣り","カニサボテン","恋の年頃",null,null,null,null,2031,"亥（い）"]
[null,"2008-01-17","木",null,"冬土用・防災とボランティアの日・秋田三吉神社梵天祭","フキノトウ","待望"]
[null,"2008-01-18","金",null,"初観音・土用","パフイオペジラム","優雅な装い"]
[null,"2008-01-19","土",null,null,"クンシラン","貴い・望みを得る"]
[null,"2008-01-20","日",null,"大寒・二十日正月・岩手毛越寺延年の舞","ストック","不変の愛・逆境に堅実"]
[null,"2008-01-21","月",null,"初大師・大寒","オンシジウム","可憐"]
[null,"2008-01-22","火",null,null,"シンビジウム","深窓の麗人"]
[null,"2008-01-23","水",null,null,"フクジュソウ","幸福を招く・長寿"]
[null,"2008-01-24","木",null,"初地蔵・東京巣鴨とげぬき地蔵尊大祭・東京亀戸天神うそ替え","エリカ","幸運"]
[null,"2008-01-25","金",null,"初天神","フウキギク","快活・常に輝かしく"]
[null,"2008-01-26","土",null,"旧元旦・文化財防火デー","ミスミソウ","内緒・優雅"]
[null,"2008-01-27","日",null,"小田原道了尊大祭","キンカン","思い出"]
[null,"2008-01-28","月",null,"初不動","エンドウ","未来の喜び"]
[null,"2008-01-29","火",null,null,"ハナアナナス","たくわえる"]
[null,"2008-01-30","水",null,null,"カルセオラリア","助けあい"]
[null,"2008-01-31","木",null,null,"ギョリュウバイ","蜜月"]
[null,"2008-02-01","金",null,"生活習慣病予防週間・山形黒川王祗祭・尾鷲ヤーヤ祭り・松山椿まつり","ハナナ","初初しい"]
[null,"2008-02-02","土",null,null,"セツブンソウ","光輝"]
[null,"2008-02-03","日",null,"節分・豆まき・奈良春日大社節分万灯籠","ナズナ","すべてを君に捧げる"]
[null,"2008-02-04","月",null,"立春","フキタンポポ","公平な裁き"]
[null,"2008-02-05","火",null,null,"ネコヤナギ","自由・思いのまま"]
[null,"2008-02-06","水",null,"初午・京都伏見稲荷初午祭・和歌山新宮神倉神社お灯まつり","ヒメオドリコソウ","愛敬"]
[null,"2008-02-07","木",null,"北方領土の日・愛知国府宮はだか祭り","タンポポ","愛の信託"]
[null,"2008-02-08","金",null,"針供養・こと始め","サンガイグサ","調和"]
[null,"2008-02-09","土",null,null,"カンボケ","熱情"]
[null,"2008-02-10","日",null,"福島信夫三山暁まいり・加賀菅生石部竹割り祭り","アザレア","愛の楽しみ・節制"]
[null,"2008-02-11","月","建国記念の日","奈良橿原神宮紀元祭","マンサク","神秘・直感"]
[null,"2008-02-12","火",null,null,"アセビ","二人で旅をしよう"]
[null,"2008-02-13","水",null,"東京板橋赤塚の田遊び祭","キンセンカ","慈愛"]
[null,"2008-02-14","木",null,"バレンタインデー・奈良長谷寺だだ押し","サンシュユ","持続・耐久"]
[null,"2008-02-15","金",null,"横手かまくら","ニオイスミレ","秘密の恋・高尚"]
[null,"2008-02-16","土",null,null,"レンテンローズ","丈夫"]
[null,"2008-02-17","日",null,"八戸えんぶり・伊勢神宮祈年祭","アキタブキ","包容力"]
[null,"2008-02-18","月",null,"雨水・二の午","ジンチョウゲ","不滅"]
[null,"2008-02-19","火",null,null,"アネモネ","信じて従う"]
[null,"2008-02-20","水",null,"水戸梅まつり","ウグイスカグラ","未来を見つめる"]
[null,"2008-02-21","木",null,"岡山西大寺会陽はだか祭り","ミツマタ","壮健"]
[null,"2008-02-22","金",null,null,"カンシロギク","清純"]
[null,"2008-02-23","土",null,"京都醍醐寺五大力尊仁王会","オウバイ","恩恵"]
[null,"2008-02-24","日",null,null,"オウレン","変身"]
[null,"2008-02-25","月",null,"京都北野天満宮梅花祭","カンヒザクラ","あでやか"]
[null,"2008-02-26","火",null,null,"アズマイチゲ","温和"]
[null,"2008-02-27","水",null,null,"クロッカス","青春の喜び・堅実"]
[null,"2008-02-28","木",null,"鹿児島霧島神宮御田植祭","フリージア","無邪気・潔白"]
[null,"2008-02-29","金",null,null,"スギ","雄大"]
[null,"2008-03-01","土",null,"春の全国火災予防運動・岐阜美江寺まつり","ハハコグサ","いつも思う・優しい人"]
[null,"2008-03-02","日",null,"若狭小浜お水送り","タチツボスミレ","つつましい幸福"]
[null,"2008-03-03","月",null,"ひな祭り・耳の日・新潟浦佐はだか押合祭り","モモ","気立てのよさ"]
[null,"2008-03-04","火",null,null,"ムラサキケマン","あなたの助けになる"]
[null,"2008-03-05","水",null,"啓蟄","キブシ","出会い"]
[null,"2008-03-06",{"$f":"IF(WEEKDAY(B77)=1,\"日\",IF(WEEKDAY(B77)=2,\"月\",IF(WEEKDAY(B77)=3,\"火\",IF(WEEKDAY(B77)=4,\"水\",IF(WEEKDAY(B77)=5,\"木\",IF(WEEKDAY(B77)=6,\"金\",IF(WEEKDAY(B77)=7,\"土\",)))))))&\"\"","v":"木"},null,null,"ショウジョウバカマ","希望"]
[null,"2008-03-07","金",null,"消防記念日","パンジー","物思い・私のことを忘れないで"]
[null,"2008-03-08","土",null,"国際女性デー","コブシ","友情・歓迎"]
[null,"2008-03-09","日",null,"茨城鹿島神宮祭頭祭","シバザクラ","合意・一致"]
[null,"2008-03-10","月",null,"宮城塩竈神社帆手祭り","シュンラン","飾らない心"]
[null,"2008-03-11","火",null,null,"キランソウ","あなたを待っています"]
[null,"2008-03-12","水",null,"東大寺二月堂修二会お水取り","デージー","無邪気・幸福"]
[null,"2008-03-13","木",null,"奈良春日祭","ユキヤナギ","殊勝・可憐"]
[null,"2008-03-14","金",null,"ホワイトデー・近江八幡左義長まつり","ムラサキハナナ","知恵の泉"]
[null,"2008-03-15","土",null,"長野善光寺春のお会式・京都嵯峨釈迦堂お松明式","ラッパスイセン","尊敬"]
[null,"2008-03-16","日",null,"西宮広田神社祭","ハルリンドウ","高貴"]
[null,"2008-03-17","月",null,"彼岸入り","クサボケ","一目ぼれ"]
[null,"2008-03-18","火",null,"石川気多大社おいで祭り","イワウチワ","春の使者"]
[null,"2008-03-19","水",null,null,"シダレザクラ","優美"]
[null,"2008-03-20","木","春分の日","春分・東京上野動物園開園記念日","スミレ","誠実・真実の愛"]
[null,"2008-03-21","金",null,null,"ハナノキ","信仰"]
[null,"2008-03-22","土",null,"放送記念日・奈良法隆寺会式","バイモ","才能"]
[null,"2008-03-23","日",null,"彼岸明け・世界気象デー","ミツバツツジ","節制"]
[null,"2008-03-24","月",null,"社日","ムスカリ","夢にかける思い"]
[null,"2008-03-25","火",null,"電気記念日","レンギョウ","達せられた希望・情け深い"]
[null,"2008-03-26","水",null,null,"チューリップ","愛の宣告・魅惑"]
[null,"2008-03-27","木",null,null,"ヒヤシンス","控えめな愛"]
[null,"2008-03-28","金",null,"福岡阿蘇神社泥打ち祭り","ソメイヨシノ","優れた美人"]
[null,"2008-03-29","土",null,"旧ひな祭り・鳥取用瀬流しびな","カタクリ","初恋"]
[null,"2008-03-30","日",null,"奈良薬師寺花会式","ダイコン","適応力"]
[null,"2008-03-31","月",null,null,"アマナ","運が向いてくる"]
[null,"2008-04-01","火",null,"新学年・新財政年度・エイプリルフール","カブ","慈愛"]
[null,"2008-04-02","水",null,"日光輪王寺強飯式","エイザンスミレ","茶目っ気"]
[null,"2008-04-03","木",null,null,"ヒトリシズカ","隠された美"]
[null,"2008-04-04","金",null,"秩父神社御田植祭・佐原香取神宮御田植祭・岐阜まつり","ニリンソウ","かわいらしい"]
[null,"2008-04-05","土",null,"清明","キジムシロ","明るく輝いて"]
[null,"2008-04-06","日",null,"春の全国交通安全運動","イカリソウ","あなたを離さない"]
[null,"2008-04-07","月",null,"世界保健デー","オドリコソウ","快活・陽気"]
[null,"2008-04-08","火",null,"花まつり","レンゲソウ","私の苦しみを和らげる・感化"]
[null,"2008-04-09","水",null,"茨城笠間稲荷祭","オキナグサ","華麗・告げられぬ恋"]
[null,"2008-04-10","木",null,"新潟糸魚川けんか祭り・京都平野神社桜祭り","ヤマザクラ","あなたにほほえみ"]
[null,"2008-04-11","金",null,"メートル法公布記念日","ミヤコワスレ","忘れ得ぬ人"]
[null,"2008-04-12","土",null,"世界宇宙飛行の日・大津日吉大社山王祭・復活祭（イースター）","シャガ","私を認めて・反抗"]
[null,"2008-04-13","日",null,"科学技術週間・日光二荒山神社弥生祭・京都嵐山虚空蔵十三まいり・熊野本宮祭","モクレン","自然への愛・恩恵"]
[null,"2008-04-14","月",null,"春の高山祭り・長浜曳山まつり","マーガレット","恋占い・真実の愛"]
[null,"2008-04-15","火",null,null,"ぺラルゴニウム","決心・篤い信仰"]
[null,"2008-04-16","水",null,null,"ヤマブキソウ","すがすがしい明るさ"]
[null,"2008-04-17","木",null,"春土用","ハナビシソウ","希望"]
[null,"2008-04-18","金",null,"発明の日","キリシマツツジ","燃え上がる愛"]
[null,"2008-04-19","土",null,"岐阜古川の起し太鼓・京都伏見稲荷神幸祭","ヤグルマギク","教育"]
[null,"2008-04-20","日",null,"穀雨・郵政記念日","ヤマブキ","気品・待ちかねる"]
[null,"2008-04-21","月",null,"京都壬生狂言","サクラソウ","少年時代の希望・青春"]
[null,"2008-04-22","火",null,"東京靖国神社春祭り","ヤマツツジ","燃える思い"]
[null,"2008-04-23","水",null,"サンニジョルデイの日","オダマキ","勝利の誓い"]
[null,"2008-04-24","木",null,null,"ワスレナグサ","私を忘れないで・誠の愛"]
[null,"2008-04-25","金",null,"奈良興福寺文殊会","ライラック","思い出を大切に"]
[null,"2008-04-26","土",null,"京都松尾大社神幸祭","ケマンソウ","あなたについていく"]
[null,"2008-04-27","日",null,"和歌山道成寺会式","フジ","恋に酔う・懐かしい思い出"]
[null,"2008-04-28","月",null,null,"スイートピー","私を覚えてください・喜び"]
[null,"2008-04-29","火","昭和の日","水沢日高火防祭り・米沢上杉まつり・佐賀有田陶器市","コデマリ","努力する"]
[null,"2008-04-30","水",null,null,"ボタン","風格"]
[null,"2008-05-01","木",null,"八十八夜・メーデー・岩手平泉藤原まつり・富山高岡御車山祭り","スズラン","純愛・希望"]
[null,"2008-05-02","金",null,"東大寺聖式祭","ムシトリナデシコ","青春の愛"]
[null,"2008-05-03","土","憲法記念日","博多どんたく・横浜みなと祭り・浜松まつり・下関赤間神宮先帝祭","ミズバショウ","変わらぬ美しさ"]
[null,"2008-05-04","日","みどりの日","石川七尾青柏祭・豊川稲荷春季祭","ハナミズキ","公平にする"]
[null,"2008-05-05","月","こどもの日","立夏・端午・児童福祉週間・東京府中くらやみ祭り","ショウブ","心意気"]
[null,"2008-05-06","火","振り替え休日",null,"シャクナゲ","威厳"]
[null,"2008-05-07","水",null,null,"クリンソウ","物思い"]
[null,"2008-05-08","木",null,"世界赤十字デー","ゼラニュム","篤い信仰・決心"]
[null,"2008-05-09",{"$f":"IF(WEEKDAY(B141)=1,\"日\",IF(WEEKDAY(B141)=2,\"月\",IF(WEEKDAY(B141)=3,\"火\",IF(WEEKDAY(B141)=4,\"水\",IF(WEEKDAY(B141)=5,\"木\",IF(WEEKDAY(B141)=6,\"金\",IF(WEEKDAY(B141)=7,\"土\",)))))))&\"\"","v":"金"},null,null,"キリ","高尚"]
[null,"2008-05-10","土",null,"愛鳥週間・大垣まつり","カーネーション","あなたを熱愛する"]
[null,"2008-05-11","日",null,"母の日・岐阜長良川鵜飼開き・奈良興福寺薪能","カキツバタ","幸福が来る"]
[null,"2008-05-12","月",null,"看護の日","カザグルマ","心の美しさ・高潔"]
[null,"2008-05-13","火",null,null,"ドイツアヤメ","虹の使者・すばらしい出会い"]
[null,"2008-05-14","水",null,"奈良当麻寺二十五菩薩来迎会・出雲大社祭","シラン","互いに忘れない"]
[null,"2008-05-15","木",null,"沖縄本土復帰記念日・石川小松お旅まつり・京都葵祭り","シキザキベコニア","幸福な日々"]
[null,"2008-05-16","金",null,"東京浅草三社祭り・伊豆下田黒船祭・大津三井寺千団子祭り","バラ","愛"]
[null,"2008-05-17","土",null,"仙台青葉まつり・日光東照宮春祭り","ジャガイモ","情け深い・恩恵"]
[null,"2008-05-18","日",null,null,"アヤメ","神秘な人・よき便り"]
[null,"2008-05-19","月",null,"奈良唐招提寺うちわまき","ヒナゲシ","慰め"]
[null,"2008-05-20","火",null,"酒田まつり・福井三国祭り","シラネアオイ","優美"]
[null,"2008-05-21","水",null,"小満","セキチク","女性の美"]
[null,"2008-05-22","木",null,null,"ミカン","親愛"]
[null,"2008-05-23","金",null,null,"アマドコロ","心の痛みのわかる人"]
[null,"2008-05-24","土",null,null,"シャクヤク","はじらい・はにかみ"]
[null,"2008-05-25","日",null,"山形鶴岡天神祭り・神戸湊川神社楠公祭","カスミソウ","清い心・思えば思われる"]
[null,"2008-05-26","月",null,null,"キンギョウソウ","清純な心"]
[null,"2008-05-27","火",null,null,"エビネ","謙虚な恋"]
[null,"2008-05-28","水",null,"小田原曽我の傘焼まつり","アマリリス","誇り・おしゃべり"]
[null,"2008-05-29","木",null,null,"セッコク","あなたは私を元気つ”ける"]
[null,"2008-05-30","金",null,"消費者の日","フタリシズカ","いつまでも一緒に"]
[null,"2008-05-31","土",null,"世界禁煙デー","タニウツギ","豊麗"]
[null,"2008-06-01","日",null,"気象記念日・電波の日・写真の日","サツキツツジ","協力が得られる"]
[null,"2008-06-02","月",null,"横浜開港記念日","ウツギ","秘密"]
[null,"2008-06-03","火",null,null,"ツリガネソウ","感謝"]
[null,"2008-06-04","水",null,"歯の衛生週間","スイレン","清純な心・信仰"]
[null,"2008-06-05","木",null,"芭種・環境の日・名古屋熱田まつり","ハマナス","照り映える容色"]
[null,"2008-06-06","金",null,"広島円隆寺とうかさん祭り","ネジバナ","思慕"]
[null,"2008-06-07","土",null,"金沢加賀百万石まつり・沖縄糸満ハーレー","イワカガミ","忠実"]
[null,"2008-06-08","日",null,"旧端午","ノイバラ","素朴なかわいらしさ"]
[null,"2008-06-09","月",null,"東京鳥越神社祭","ガーベラ","神秘・一家団らん"]
[null,"2008-06-10","火",null,"入梅・時の記念日・大津近江神宮漏刻祭","ユキノシタ","切実な愛情・博愛"]
[null,"2008-06-11","水",null,null,"スイカズラ","愛の絆・友愛"]
[null,"2008-06-12","木",null,null,"ヤマボウシ","友情"]
[null,"2008-06-13","金",null,null,"マイズルソウ","清純な少女の面影"]
[null,"2008-06-14","土",null,"北海道神宮祭・岩手チャグチャグ馬コ・大阪住吉御田植神事","センダン","意見の相違"]
[null,"2008-06-15","日",null,"父の日・東京日枝神社山王祭り","アジサイ","移り気・乙女の愛"]
[null,"2008-06-16","月",null,null,"ウツボグサ","協調性"]
[null,"2008-06-17","火",null,"伊勢神宮月次祭・奈良率川神社三枝祭り","タイサンボク","威厳・自然の愛情"]
[null,"2008-06-18","水",null,"海外移住の日","オオマツヨイクサ","ほのかな恋"]
[null,"2008-06-19","木",null,null,"ノアザミ","私をもっと知ってください"]
[null,"2008-06-20","金",null,"国連難民の日・京都鞍馬寺竹伐り会式","ハナショウブ","優しい心・あなたを信じる"]
[null,"2008-06-21","土",null,"夏至・新潟月湯まつり","テッポウユリ","純愛・淑女"]
[null,"2008-06-22","日",null,null,"シモツケ","いつかわかる真価"]
[null,"2008-06-23","月",null,"沖縄慰霊の日・オリンピックデー・東京芝愛宕千日詣り","ヒメサユリ","飾らぬ美"]
[null,"2008-06-24","火",null,null,"レンゲツツジ","情熱"]
[null,"2008-06-25","水",null,null,"オカトラノオ","優しい風情"]
[null,"2008-06-26","木",null,"国連憲章調印記念日","ザクロ","円熟した優美"]
[null,"2008-06-27","金",null,null,"ホタルブクロ","正義"]
[null,"2008-06-28","土",null,"貿易記念日","ササユリ","稀少価値"]
[null,"2008-06-29","日",null,null,"クチナシ","私は幸福すぎる"]
[null,"2008-06-30","月",null,"大はらい・夏越祭","カンナ","情熱・尊敬"]
[null,"2008-07-01","火",null,"半夏生・山開き・海開き・全国安全週間","ハンゲショウ","内に秘めた情熱"]
[null,"2008-07-02","水",null,null,"タチアオイ","灼熱の愛"]
[null,"2008-07-03","木",null,null,"アガパンサス","恋の訪れ・愛の便り"]
[null,"2008-07-04","金",null,"独立記念日（アメリカ）・石川あばれ祭り","ノカンゾウ","苦しみからの解放"]
[null,"2008-07-05","土",null,null,"ベニバナ","化粧"]
[null,"2008-07-06","日",null,"東京入谷朝顔市","イワタバコ","涼しげ"]
[null,"2008-07-07","月",null,"小暑・七夕・奈良吉野蔵王堂蛙飛び","ヒルガオ","優しい情愛"]
[null,"2008-07-08","火",null,null,"グラジオラス","堅固・用心"]
[null,"2008-07-09","水",null,"浅草観音四万六千日・ほうずき市","ギボウシ","静かな人・沈静"]
[null,"2008-07-10","木",null,null,"シモツケソウ","ひそかな恋・自由"]
[null,"2008-07-11","金",null,"千葉佐原祗園祭り・大阪生国魂神社夏祭り","ブッソウゲ","常に新しい美"]
[null,"2008-07-12",{"$f":"IF(WEEKDAY(B205)=1,\"日\",IF(WEEKDAY(B205)=2,\"月\",IF(WEEKDAY(B205)=3,\"火\",IF(WEEKDAY(B205)=4,\"水\",IF(WEEKDAY(B205)=5,\"木\",IF(WEEKDAY(B205)=6,\"金\",IF(WEEKDAY(B205)=7,\"土\",)))))))&\"\"","v":"土"},null,"草市・会津伊佐須美神社御田植祭","ヤグルマソウ","優雅・幸福"]
[null,"2008-07-13","日",null,"ぼん迎え火・東京靖国神社みたま祭り","カライトソウ","深い思い"]
[null,"2008-07-14","月",null,"革命記念日（フランス）・熊野那智の火祭り","チダケサシ","まっすぐな性格"]
[null,"2008-07-15","火",null,"ぼん・山形出羽三山花祭り・博多祗園山笠","ネムノキ","歓喜・胸のときめき"]
[null,"2008-07-16","水",null,"ぼん送り火・やぶ入り・えんま詣り","トキソウ","献身"]
[null,"2008-07-17","木",null,"京都八坂神社祗園祭り","ハマオモト","どこか遠くへ・汚れがない"]
[null,"2008-07-18","金",null,"小倉祗園太鼓","スカシユリ","注目をあびる"]
[null,"2008-07-19","土",null,"夏土用・勤労青少年の日・広島宮島厳島神社管絃祭","コバイケイソウ","遠くから見守っています"]
[null,"2008-07-20","日",null,"青森恐山大祭・山口祗園祭り","ノウゼンカズラ","名誉"]
[null,"2008-07-21","月","海の日","宮城塩竈みなと祭り・神奈川寒川神社浜降祭","ヤマユリ","荘厳"]
[null,"2008-07-22","火",null,"大暑・熊谷うちわ祭り・敦賀気比総参祭・宇和島牛鬼まつり・和霊大祭","ペチュニア","あなたとなら心が和らぐ"]
[null,"2008-07-23","水",null,"福島相馬野馬追","ハス","清らかな心"]
[null,"2008-07-24","木",null,"土用の丑・地蔵ぼん・大阪天満天神祭り","ニッコウキスゲ","日々あらたに・心安らぐ人"]
[null,"2008-07-25","金",null,"徳島天神祭り","ヒマワリ","あなたはすばらしい・崇拝"]
[null,"2008-07-26","土",null,"長崎港まつり","ムクゲ","デリケートな美・柔和"]
[null,"2008-07-27","日",null,null,"マツバボタン","無邪気・可憐"]
[null,"2008-07-28","月",null,null,"コマクサ","高嶺の花"]
[null,"2008-07-29","火",null,null,"チングルマ","可憐"]
[null,"2008-07-30","水",null,"大阪住吉祭り","ハマボウ","楽しい思い出"]
[null,"2008-07-31","木",null,"箱根芦ノ湖湖水まつり・京都愛宕神社千日詣り","フシグロセンノウ","転機"]
[null,"2008-08-01","金",null,"八朔・弘前ねぶた祭り・八戸三社祭り・大宮氷川神社祭り・諏訪御舟祭り","アサガオ","愛情の絆"]
[null,"2008-08-02","土",null,"青森ねぶた祭り・盛岡さんさ踊り","サギソウ","心の強さ"]
[null,"2008-08-03","日",null,"秋田竿灯まつり・桑名石取祭り・久留米まつり","ニチニチソウ","楽しい思い出・友情"]
[null,"2008-08-04","月",null,null,"サルスベリ","雄弁・潔白"]
[null,"2008-08-05","火",null,"二の丑・山形花笠まつり","クサキョウチクトウ","同意"]
[null,"2008-08-06","水",null,"広島原爆の日・仙台七夕まつり","コウホネ","崇高"]
[null,"2008-08-07","木",null,"立秋・旧七夕・鼻の日・木曾御嶽山御神火祭・下関忌宮教方庭祭","カノコユリ","富と誇り・威厳"]
[null,"2008-08-08","金",null,null,"トロロアオイ","知られぬ恋"]
[null,"2008-08-09","土",null,"長崎原爆の日・京都清水寺千日詣り・宝塚中山寺星下り会式","ユウスゲ","麗しき姿"]
[null,"2008-08-10","日",null,"高知よさこい祭り","ヘチマ","悠々自適"]
[null,"2008-08-11","月",null,null,"オモダカ","秘めたる慕情・高潔"]
[null,"2008-08-12","火",null,"徳島阿波おどり","オニユリ","荘厳"]
[null,"2008-08-13","水",null,"月遅れぼん迎え火・岐阜郡上おどり","ミソハギ","切ないほどの愛"]
[null,"2008-08-14","木",null,"奈良春日大社中元万灯籠・岡山笠岡白石踊り","ホオズキ","自然美"]
[null,"2008-08-15","金",null,"月遅れぼん・旧ぼん・終戦の日・東京深川富岡八幡宮祭・大分姫島盆踊り","ヒオウギ","誠意"]
[null,"2008-08-16","土",null,"月遅れぼん送り火・箱根大文字焼・京都五山大文字送り火・千葉だらだら祭り","ヤナギラン","集中する"]
[null,"2008-08-17","日",null,"宮城松島灯籠流し・滋賀建部船幸祭","ノコギリソウ","忠実"]
[null,"2008-08-18","月",null,"長崎平戸ジャンガラ","ヒヤクニチソウ","友への思い"]
[null,"2008-08-19","火",null,"秋田花輪ばやし・鎌倉宮祭","ナス","つつましい幸福"]
[null,"2008-08-20","水",null,null,"センにチソウ","変わらぬ愛情・不朽"]
[null,"2008-08-21","木",null,null,"ノリウツギ","臨機応変"]
[null,"2008-08-22","金",null,"沖縄全島エイサーまつり","ナツズイセン","快い楽しさ"]
[null,"2008-08-23","土",null,"処暑","ナデシコ","純愛・才能"]
[null,"2008-08-24","日",null,"京都地蔵ぼん","カラスウリ","よき便り"]
[null,"2008-08-25","月",null,"東京亀戸天神祭","シシウド","健康美"]
[null,"2008-08-26","火",null,"富士吉田の火祭り・愛知一色大提堤灯祭り","ケイトウ","永遠の愛・おしゃれ"]
[null,"2008-08-27","水",null,"神奈川大山阿夫利神社秋祭り","ユウガオ","魅惑の人"]
[null,"2008-08-28","木",null,null,"ヤマハハコ","純情"]
[null,"2008-08-29","金",null,null,"ミズアオイ","前途洋々"]
[null,"2008-08-30","土",null,null,"キツネノカミソリ","妖艶"]
[null,"2008-08-31","日",null,"二百十日・旧八朔","ホウセンカ","快活"]
[null,"2008-09-01","月",null,"防災の日・茨城鹿島神宮神幸祭・富山八尾おわら風の盆","オシロイバナ","内気・柔和"]
[null,"2008-09-02","火",null,"敦賀まつり","ミヨウガ","忍耐"]
[null,"2008-09-03","水",null,null,"ツルボ","風情のある"]
[null,"2008-09-04","木",null,null,"レンゲショウマ","伝統美"]
[null,"2008-09-05","金",null,"石炭の日","オニバス","神秘的"]
[null,"2008-09-06","土",null,null,"ヨルガオ","妖艶"]
[null,"2008-09-07","日",null,"白露","コルチカム","回願・努力"]
[null,"2008-09-08","月",null,null,"タマスダレ","潔白な愛"]
[null,"2008-09-09","火",null,"重陽・救急の日","ハナシュクシャ","あなたを信頼します"]
[null,"2008-09-10","水",null,"二百二十日","クズ","治癒"]
[null,"2008-09-11","木",null,null,"ソバ","あなたを救う"]
[null,"2008-09-12","金",null,"福岡筥崎宮放生会","ツリフネソウ","安楽"]
[null,"2008-09-13","土",null,null,"キキョウ","変わらぬ愛・気品"]
[null,"2008-09-14",{"$f":"IF(WEEKDAY(B269)=1,\"日\",IF(WEEKDAY(B269)=2,\"月\",IF(WEEKDAY(B269)=3,\"火\",IF(WEEKDAY(B269)=4,\"水\",IF(WEEKDAY(B269)=5,\"木\",IF(WEEKDAY(B269)=6,\"金\",IF(WEEKDAY(B269)=7,\"土\",)))))))&\"\"","v":"日"},null,"十五夜・大阪岸和田だんじり祭り","フヨウ","繊細な美・しとやか"]
[null,"2008-09-15","月","敬老の日","老人週間・京都石清水八幡宮祭","ススキ","活力"]
[null,"2008-09-16","火",null,"東京芝大神宮だらだら祭り・鎌倉鶴岡八幡宮やぶさめ","アキノタムラソウ","自然のままのあなたが好き"]
[null,"2008-09-17","水",null,null,"ツユクサ","尊敬・懐かしい関係"]
[null,"2008-09-18","木",null,null,"ゲンノショウコ","心の強さ"]
[null,"2008-09-19","金",null,"神奈川寒川神社祭","オミナエシ","はかない恋・親切"]
[null,"2008-09-20","土",null,"彼岸入り・空の日・動物愛護週間","ヤブラン","忍耐"]
[null,"2008-09-21","日",null,"秋の全国交通安全運動","ノハラアザミ","心の成長"]
[null,"2008-09-22","月",null,"会津秋まつり","ナンバンギセル","物思い"]
[null,"2008-09-23","火","秋分の日","秋分・千葉大原はだか祭り","ヒガンバナ","再会"]
[null,"2008-09-24","水",null,"結核予防週間","シラヤマギク","丈夫"]
[null,"2008-09-25","木",null,"社日","オトコエシ","野性味"]
[null,"2008-09-26","金",null,"彼岸明け・和歌山日前神宮・国懸神宮祭","ベンケイソウ","静穏・信じて従う"]
[null,"2008-09-27","土",null,null,"ハギ","思い・清楚"]
[null,"2008-09-28","日",null,null,"トレニア","愛敬"]
[null,"2008-09-29","月",null,null,"ゲッカビジン","ただ一度だけ会いたくて"]
[null,"2008-09-30","火",null,null,"サワギキョウ","高貴"]
[null,"2008-10-01","水",null,"共同募金運動・国慶節（中国）・法の日・労働衛生週間・京都北野天満宮ずいき祭り","マツムシソウ","風情・健気"]
[null,"2008-10-02","木",null,"亥の子祭・炉開き","キンモクセイ","謙遜・初恋"]
[null,"2008-10-03","金",null,null,"アシタバ","旺盛な活動力"]
[null,"2008-10-04","土",null,"福島二本松提灯祭り","ワレモコウ","愛情・変化"]
[null,"2008-10-05","日",null,"長野南木曽花馬祭り","イタドリ","回復"]
[null,"2008-10-06","月",null,"国際協力の日・国際文通週間","ハゲイトウ","不老不死"]
[null,"2008-10-07","火",null,"旧重陽・長崎くんち","コスモス","調和・乙女の真心"]
[null,"2008-10-08","水",null,"寒露・阿寒湖まりも祭り","サラシナショウマ","雰囲気のよい人"]
[null,"2008-10-09","木",null,"世界郵便デー・秋の高山祭り","シュウカイドウ","片思い・繊細"]
[null,"2008-10-10","金",null,"目の愛護デー・千葉佐原諏訪神社秋祭り・香川金刀比羅宮祭","ハマギク","友愛"]
[null,"2008-10-11","土",null,"十三夜・滋賀大津祭り","ダリア","栄華・優美"]
[null,"2008-10-12","日",null,"東京池上本門寺お会式・神戸海神社秋祭り","シュウメイギク","忍耐"]
[null,"2008-10-13","月","体育の日","和歌山釜山神社祭","サルビア","燃える思い・知恵"]
[null,"2008-10-14","火",null,"鉄道の日・兵庫灘けんか祭り・愛媛西条まつり","ユウゼンギク","恋の思い出"]
[null,"2008-10-15","水",null,"新聞週間・長野善光寺秋のお会式・和歌山新宮熊野速玉大社祭","シオン","追憶・遠くの人を思う"]
[null,"2008-10-16","木",null,"愛媛新居浜太鼓祭り","ヒヨドリバナ","清楚"]
[null,"2008-10-17","金",null,"貯蓄の日・釜石まつり・日光東照宮秋祭り・伊勢神宮神嘗祭","フジバカマ","あの日のことを思い出す"]
[null,"2008-10-18","土",null,"統計の日・埼玉川越まつり・東京靖国神社秋祭り・浅草観音菊供養","ホトトギス","永遠にあなたのもの"]
[null,"2008-10-19","日",null,"東京日本橋べったら市・京都建勳神社船岡祭","オオケタデ","思いやり"]
[null,"2008-10-20","月",null,"秋土用・えびす講","アキノキリンソウ","安心"]
[null,"2008-10-21","火",null,null,"オヤマリンドウ","正義"]
[null,"2008-10-22","水",null,"京都時代祭り・京都鞍馬の火祭り","アキチョウジ","秘めやかな思い"]
[null,"2008-10-23","木",null,"霧降・電信電話記念日・三重上野天神秋祭り","シコンノボタン","平静"]
[null,"2008-10-24","金",null,"国連デー","カッコウアザミ","信頼"]
[null,"2008-10-25","土",null,"宇都宮二荒山神社菊水祭","ダンギク","忘れ得ぬ思い"]
[null,"2008-10-26","日",null,"原子力の日","モヨウビユ","燃え上がった情熱"]
[null,"2008-10-27","月",null,"文字活字文化の日・読書週間","ヨメナ","隠れた美しさ"]
[null,"2008-10-28","火",null,"速記記念日","センブリ","はつらつとした美しさ"]
[null,"2008-10-29","水",null,null,"ウメモドキ","明朗"]
[null,"2008-10-30","木",null,null,"ナギナタコウジュ","匂いたつ魅力"]
[null,"2008-10-31","金",null,"ハロウイン","オケラ","親しみやすい"]
[null,"2008-11-01","土",null,"新米穀年度・計量記念日・灯台記念日・教育文化週間・宮崎神宮祭","サクラタデ","愛くるしい"]
[null,"2008-11-02","日",null,null,"アマゾンリリー","気品・清らかな心"]
[null,"2008-11-03","月","文化の日","明治神宮祭・箱根大名行列・唐津くんち・鹿児島弥五郎どん祭り","キク","わたしは愛する"]
[null,"2008-11-04","火",null,null,"イヌタデ","あなたのために役立ちたい"]
[null,"2008-11-05","水",null,"一の酉","マリーゴールド","友情・生きる"]
[null,"2008-11-06","木",null,null,"ノコンギク","指導"]
[null,"2008-11-07","金",null,"立冬・旧亥の子祭・炉開き","シラタマホシグサ","純粋な心"]
[null,"2008-11-08","土",null,"ふいご祭り・世界都市計画の日・京都伏見稲荷火焚祭り","ダイモンジソウ","自由"]
[null,"2008-11-09","日",null,"秋の全国火災予防運動・太陽暦採用記念日・京都嵐山もみじ祭り","コウヤボウキ","働き者"]
[null,"2008-11-10","月",null,"技能の日・静岡音無神社尻つみ祭り","ガマ","救護"]
[null,"2008-11-11","火",null,"世界平和記念日・京都松尾大社上卯祭","ミズヒキ","慶事"]
[null,"2008-11-12","水",null,"千葉誕生寺御会式・出雲大社神在祭","ヤクシソウ","にぎやか"]
[null,"2008-11-13","木",null,null,"ヒマラヤスギ","あなたのために生きる"]
[null,"2008-11-14","金",null,null,"ダルマギク","打たれ強い"]
[null,"2008-11-15","土",null,"七五三・市川中山法華経寺御会式","ミゾソバ","純情"]
[null,"2008-11-16","日",null,null,"ミセバヤ","静穏"]
[null,"2008-11-17",{"$f":"IF(WEEKDAY(B333)=1,\"日\",IF(WEEKDAY(B333)=2,\"月\",IF(WEEKDAY(B333)=3,\"火\",IF(WEEKDAY(B333)=4,\"水\",IF(WEEKDAY(B333)=5,\"木\",IF(WEEKDAY(B333)=6,\"金\",IF(WEEKDAY(B333)=7,\"土\",)))))))&\"\"","v":"月"},null,"二の酉・奈良談山神社祭","イソギク","清楚な美しさ"]
[null,"2008-11-18","火",null,null,"ウメバチソウ","いじらしい"]
[null,"2008-11-19","水",null,null,"ムラサキシキブ","聡明"]
[null,"2008-11-20","木",null,null,"イワレンゲ","よき家庭を築く"]
[null,"2008-11-21","金",null,"京都東本願寺報恩講","リュウノウギク","無常の美"]
[null,"2008-11-22","土",null,"小雪・豊川稲荷秋季祭・大阪神農祭・宮崎高千穂神社夜神楽祭","リンドウ","正義"]
[null,"2008-11-23","日","勤労感謝の日","熊本八代妙見祭","ピラカンサ","慈悲"]
[null,"2008-11-24","月","振り替え休日",null,"ネリネ","幸せな思い出"]
[null,"2008-11-25","火",null,null,"カエデ","遠慮"]
[null,"2008-11-26","水",null,null,"サフラン","愛への誘い"]
[null,"2008-11-27","木",null,"感謝祭（アメリカ）・京都品川千躰荒神祭","アゼトウナ","変わらぬ愛"]
[null,"2008-11-28","金",null,"税関記念日","キチジョウソウ","祝福"]
[null,"2008-11-29","土",null,"三の酉","イチョウ","長寿"]
[null,"2008-11-30","日",null,null,"ハナカタバミ","決してあなたを捨てない"]
[null,"2008-12-01","月",null,"歳末助け合い運動・映画の日・世界エイズデー","エラチオールベコニア","高貴"]
[null,"2008-12-02","火",null,null,"マルバノキ","早熟"]
[null,"2008-12-03","水",null,"秩父夜祭り・島根美保神社諸手船神事","ハボタン","祝福・愛を包む"]
[null,"2008-12-04","木",null,"人権週間","サザンカ","謙譲・理想の恋"]
[null,"2008-12-05","金",null,"納めの水天宮","ツワブキ","困難に負けない"]
[null,"2008-12-06","土",null,null,"ヒイラギ","用心・歓迎"]
[null,"2008-12-07","日",null,"大雪・京都千本釈迦堂大根焚き","セントポーリア","小さな愛"]
[null,"2008-12-08","月",null,"針供養・こと納め・納めの薬師","チャ","追憶"]
[null,"2008-12-09","火",null,"障害者の日・京都了徳寺大根焚き","スイセン","自己愛・崇高"]
[null,"2008-12-10","水",null,"納めの金毘羅・世界人権デー・大宮氷川神社大湯祭","フユサンゴ","神秘的"]
[null,"2008-12-11","木",null,null,"ヤドリギ","困難に打ち勝つ"]
[null,"2008-12-12","金",null,null,"マンリョウ","寿ぎ"]
[null,"2008-12-13","土",null,"正月こと始め・すす払い・岡山最上稲荷お火焚き","ヤツデ","分別"]
[null,"2008-12-14","日",null,"東京高輪泉岳寺義士祭","フユザクラ","冷静"]
[null,"2008-12-15","月",null,"年賀郵便特別扱い始め・東京世田谷ボロ市・静岡秋葉の火祭り","センリョウ","富・可憐"]
[null,"2008-12-16","火",null,null,"カンギク","繊細"]
[null,"2008-12-17","水",null,"東京浅草羽子板市・伊勢神宮月次祭・奈良春日若宮おん祭り","ビワ","ひそかな告白・温和"]
[null,"2008-12-18","木",null,"納めの観音","フタバアオイ","細やかな愛情"]
[null,"2008-12-19","金",null,null,"シクラメン","内気なはにかみ・理解"]
[null,"2008-12-20","土",null,null,"アロエ","復活"]
[null,"2008-12-21","日",null,"冬至・ゆず湯・納めの大師","ケヤキ","重厚"]
[null,"2008-12-22","月",null,null,"ポインセチア","博愛・祝福"]
[null,"2008-12-23","火","天皇誕生日",null,"ユズ","健康美"]
[null,"2008-12-24","水",null,"納めの地蔵","シャコサボテン","美しい眺め"]
[null,"2008-12-25","木",null,"クリスマス・終い天神","クリスマスローズ","追憶"]
[null,"2008-12-26","金",null,"官庁御用納め","フユベコニア","愛の告白"]
[null,"2008-12-27","土",null,null,"ナンテン","福をなす・よき家庭"]
[null,"2008-12-28","日",null,"納めの不動","ロウバイ","慈愛心・思いやり"]
[null,"2008-12-29","月",null,null,"カトレア","優雅な人"]
[null,"2008-12-30","火",null,null,"ベニベンケイ","幸福を告げる"]
[null,"2008-12-31","水",null,"大晦日・大はらい・年越し・男鹿なまはげ・出羽三山松例祭","アオキ","若く美しく"]

{"sheet":"数独作品集並べ替え","index":8,"n_rows":500,"n_cols":6,"rows_kept":500,"cut":false,"hidden":true,"merged":[]}
[null,1,null,"普通",1,38]
[null,2,null,"普通",1,38]
[null,3,null,"普通",1,38]
[null,4,null,"普通",1,37]
[null,5,null,"普通",1,37]
[null,6,null,"普通",1,37]
[null,7,null,"普通",1,37]
[null,8,null,"普通",1,37]
[null,9,null,"普通",1,37]
[null,10,null,"普通",1,37]
[null,11,null,"普通",1,37]
[null,12,null,"普通",1,37]
[null,13,null,"普通",1,36]
[null,14,null,"普通",1,36]
[null,15,null,"普通",1,36]
[null,16,null,"普通",1,36]
[null,17,null,"普通",1,36]
[null,18,null,"普通",1,36]
[null,19,null,"普通",1,36]
[null,20,null,"普通",1,36]
[null,21,null,"普通",1,36]
[null,22,null,"普通",1,36]
[null,23,null,"普通",1,36]
[null,24,null,"普通",1,36]
[null,25,null,"普通",1,36]
[null,26,null,"普通",1,36]
[null,27,null,"普通",1,36]
[null,28,null,"普通",1,36]
[null,29,null,"普通",1,36]
[null,30,null,"普通",1,36]
[null,242,null,"普通",1,36]
[null,31,null,"普通",1,35]
[null,32,null,"普通",1,35]
[null,33,null,"普通",1,35]
[null,34,null,"普通",1,35]
[null,35,null,"普通",1,35]
[null,36,null,"普通",1,35]
[null,37,null,"普通",1,35]
[null,38,null,"普通",1,35]
[null,39,null,"普通",1,35]
[null,40,null,"普通",1,35]
[null,41,null,"普通",1,35]
[null,42,null,"普通",1,35]
[null,43,null,"普通",1,35]
[null,243,null,"普通",1,35]
[null,44,null,"普通",1,34]
[null,45,null,"普通",1,34]
[null,46,null,"普通",1,34]
[null,47,null,"普通",1,34]
[null,48,null,"普通",1,34]
[null,49,null,"普通",1,34]
[null,50,null,"普通",1,34]
[null,51,null,"普通",1,34]
[null,52,null,"普通",1,34]
[null,53,null,"普通",1,34]
[null,54,null,"普通",1,34]
[null,55,null,"普通",1,34]
[null,56,null,"普通",1,34]
[null,57,null,"普通",1,34]
[null,58,null,"普通",1,34]
[null,59,null,"普通",1,34]
[null,60,null,"普通",1,34]
[null,61,null,"普通",1,34]
[null,62,null,"普通",1,34]
[null,244,null,"普通",1,34]
[null,245,null,"普通",1,34]
[null,63,null,"普通",1,33]
[null,64,null,"普通",1,33]
[null,65,null,"普通",1,33]
[null,66,null,"普通",1,33]
[null,67,null,"普通",1,33]
[null,68,null,"普通",1,33]
[null,69,null,"普通",1,33]
[null,70,null,"普通",1,33]
[null,71,null,"普通",1,33]
[null,72,null,"普通",1,33]
[null,73,null,"普通",1,33]
[null,74,null,"普通",1,33]
[null,75,null,"普通",1,33]
[null,76,null,"普通",1,33]
[null,77,null,"普通",1,33]
[null,78,null,"普通",1,33]
[null,79,null,"普通",1,33]
[null,80,null,"普通",1,33]
[null,81,null,"普通",1,33]
[null,82,null,"普通",1,33]
[null,83,null,"普通",1,33]
[null,84,null,"普通",1,33]
[null,85,null,"普通",1,33]
[null,86,null,"普通",1,33]
[null,87,null,"普通",1,33]
[null,88,null,"普通",1,33]
[null,89,null,"普通",1,33]
[null,90,null,"普通",1,33]
[null,91,null,"普通",1,33]
[null,92,null,"普通",1,33]
[null,93,null,"普通",1,32]
[null,94,null,"普通",1,32]
[null,95,null,"普通",1,32]
[null,96,null,"普通",1,32]
[null,97,null,"普通",1,32]
[null,98,null,"普通",1,32]
[null,99,null,"普通",1,32]
[null,100,null,"普通",1,32]
[null,101,null,"普通",1,32]
[null,102,null,"普通",1,32]
[null,103,null,"普通",1,32]
[null,104,null,"普通",1,32]
[null,105,null,"普通",1,32]
[null,106,null,"普通",1,32]
[null,107,null,"普通",1,32]
[null,108,null,"普通",1,32]
[null,109,null,"普通",1,32]
[null,110,null,"普通",1,32]
[null,111,null,"普通",1,32]
[null,112,null,"普通",1,32]
[null,113,null,"普通",1,32]
[null,114,null,"普通",1,32]
[null,115,null,"普通",1,32]
[null,116,null,"普通",1,32]
[null,117,null,"普通",1,32]
[null,118,null,"普通",1,32]
[null,119,null,"普通",1,32]
[null,120,null,"普通",1,32]
[null,121,null,"普通",1,32]
[null,122,null,"普通",1,32]
[null,123,null,"普通",1,32]
[null,124,null,"普通",1,32]
[null,125,null,"普通",1,32]
[null,126,null,"普通",1,32]
[null,127,null,"普通",1,32]
[null,128,null,"普通",1,32]
[null,129,null,"普通",1,32]
[null,130,null,"普通",1,32]
[null,131,null,"普通",1,32]
[null,132,null,"普通",1,32]
[null,250,null,"普通",1,32]
[null,251,null,"普通",1,32]
[null,252,null,"普通",1,32]
[null,133,null,"普通",1,31]
[null,134,null,"普通",1,31]
[null,135,null,"普通",1,31]
[null,136,null,"普通",1,31]
[null,137,null,"普通",1,31]
[null,138,null,"普通",1,31]
[null,139,null,"普通",1,31]
[null,140,null,"普通",1,31]
[null,141,null,"普通",1,31]
[null,142,null,"普通",1,31]
[null,143,null,"普通",1,31]
[null,144,null,"普通",1,31]
[null,145,null,"普通",1,31]
[null,146,null,"普通",1,31]
[null,147,null,"普通",1,31]
[null,148,null,"普通",1,31]
[null,149,null,"普通",1,31]
[null,150,null,"普通",1,31]
[null,151,null,"普通",1,31]
[null,152,null,"普通",1,31]
[null,153,null,"普通",1,31]
[null,154,null,"普通",1,31]
[null,155,null,"普通",1,31]
[null,156,null,"普通",1,31]
[null,157,null,"普通",1,31]
[null,158,null,"普通",1,31]
[null,159,null,"普通",1,31]
[null,160,null,"普通",1,31]
[null,161,null,"普通",1,31]
[null,162,null,"普通",1,31]
[null,163,null,"普通",1,31]
[null,164,null,"普通",1,31]
[null,165,null,"普通",1,31]
[null,167,null,"普通",1,31]
[null,168,null,"普通",1,31]
[null,169,null,"普通",1,31]
[null,170,null,"普通",1,31]
[null,171,null,"普通",1,31]
[null,172,null,"普通",1,31]
[null,254,null,"普通",1,31]
[null,173,null,"普通",1,30]
[null,174,null,"普通",1,30]
[null,175,null,"普通",1,30]
[null,176,null,"普通",1,30]
[null,177,null,"普通",1,30]
[null,178,null,"普通",1,30]
[null,179,null,"普通",1,30]
[null,180,null,"普通",1,30]
[null,181,null,"普通",1,30]
[null,182,null,"普通",1,30]
[null,183,null,"普通",1,30]
[null,184,null,"普通",1,30]
[null,185,null,"普通",1,30]
[null,186,null,"普通",1,30]
[null,187,null,"普通",1,30]
[null,188,null,"普通",1,30]
[null,189,null,"普通",1,30]
[null,190,null,"普通",1,30]
[null,191,null,"普通",1,30]
[null,192,null,"普通",1,30]
[null,193,null,"普通",1,30]
[null,194,null,"普通",1,30]
[null,195,null,"普通",1,30]
[null,197,null,"普通",1,30]
[null,198,null,"普通",1,30]
[null,199,null,"普通",1,30]
[null,200,null,"普通",1,30]
[null,201,null,"普通",1,30]
[null,202,null,"普通",1,30]
[null,261,null,"普通",1,30]
[null,262,null,"普通",1,30]
[null,263,null,"普通",1,30]
[null,203,null,"普通",1,29]
[null,204,null,"普通",1,29]
[null,205,null,"普通",1,29]
[null,206,null,"普通",1,29]
[null,207,null,"普通",1,29]
[null,208,null,"普通",1,29]
[null,209,null,"普通",1,29]
[null,210,null,"普通",1,29]
[null,211,null,"普通",1,29]
[null,212,null,"普通",1,29]
[null,213,null,"普通",1,29]
[null,214,null,"普通",1,29]
[null,215,null,"普通",1,29]
[null,216,null,"普通",1,29]
[null,217,null,"普通",1,29]
[null,218,null,"普通",1,29]
[null,219,null,"普通",1,29]
[null,220,null,"普通",1,29]
[null,221,null,"普通",1,29]
[null,222,null,"普通",1,29]
[null,223,null,"普通",1,29]
[null,265,null,"普通",1,29]
[null,267,null,"普通",1,29]
[null,268,null,"普通",1,29]
[null,269,null,"普通",1,29]
[null,271,null,"普通",1,29]
[null,272,null,"普通",1,29]
[null,224,null,"普通",1,28]
[null,225,null,"普通",1,28]
[null,226,null,"普通",1,28]
[null,227,null,"普通",1,28]
[null,228,null,"普通",1,28]
[null,229,null,"普通",1,28]
[null,230,null,"普通",1,28]
[null,231,null,"普通",1,28]
[null,232,null,"普通",1,28]
[null,233,null,"普通",1,28]
[null,234,null,"普通",1,28]
[null,288,null,"普通",1,28]
[null,290,null,"普通",1,28]
[null,291,null,"普通",1,28]
[null,293,null,"普通",1,28]
[null,235,null,"普通",1,27]
[null,236,null,"普通",1,27]
[null,237,null,"普通",1,26]
[null,461,null,"普通",1,26]
[null,239,null,"普通",1,25]
[null,240,null,"普通",1,25]
[null,246,null,"難問",2,33]
[null,247,null,"難問",2,32]
[null,248,null,"難問",2,32]
[null,249,null,"難問",2,32]
[null,253,null,"難問",2,32]
[null,166,null,"難問",2,31]
[null,255,null,"難問",2,31]
[null,256,null,"難問",2,31]
[null,363,null,"難問",2,31]
[null,196,null,"難問",2,30]
[null,257,null,"難問",2,30]
[null,258,null,"難問",2,30]
[null,259,null,"難問",2,30]
[null,260,null,"難問",2,30]
[null,264,null,"難問",2,30]
[null,266,null,"難問",2,29]
[null,270,null,"難問",2,29]
[null,273,null,"難問",2,29]
[null,274,null,"難問",2,29]
[null,275,null,"難問",2,29]
[null,276,null,"難問",2,29]
[null,277,null,"難問",2,29]
[null,278,null,"難問",2,29]
[null,279,null,"難問",2,29]
[null,280,null,"難問",2,29]
[null,281,null,"難問",2,29]
[null,282,null,"難問",2,29]
[null,283,null,"難問",2,29]
[null,284,null,"難問",2,29]
[null,285,null,"難問",2,29]
[null,286,null,"難問",2,28]
[null,287,null,"難問",2,28]
[null,289,null,"難問",2,28]
[null,292,null,"難問",2,28]
[null,294,null,"難問",2,28]
[null,295,null,"難問",2,28]
[null,296,null,"難問",2,28]
[null,297,null,"難問",2,28]
[null,298,null,"難問",2,28]
[null,299,null,"難問",2,28]
[null,300,null,"難問",2,28]
[null,241,null,"難問",2,27]
[null,301,null,"難問",2,27]
[null,302,null,"難問",2,27]
[null,303,null,"難問",2,27]
[null,304,null,"難問",2,27]
[null,305,null,"難問",2,27]
[null,306,null,"難問",2,27]
[null,307,null,"難問",2,27]
[null,308,null,"難問",2,27]
[null,309,null,"難問",2,27]
[null,310,null,"難問",2,26]
[null,311,null,"難問",2,26]
[null,312,null,"難問",2,26]
[null,313,null,"難問",2,26]
[null,314,null,"難問",2,26]
[null,315,null,"難問",2,26]
[null,316,null,"難問",2,26]
[null,317,null,"難問",2,26]
[null,318,null,"難問",2,26]
[null,319,null,"難問",2,26]
[null,320,null,"難問",2,26]
[null,321,null,"難問",2,26]
[null,322,null,"難問",2,26]
[null,323,null,"難問",2,26]
[null,324,null,"難問",2,26]
[null,325,null,"難問",2,26]
[null,326,null,"難問",2,26]
[null,327,null,"難問",2,26]
[null,328,null,"難問",2,26]
[null,329,null,"難問",2,26]
[null,330,null,"難問",2,26]
[null,238,null,"難問",2,25]
[null,331,null,"難問",2,25]
[null,332,null,"難問",2,25]
[null,333,null,"難問",2,25]
[null,334,null,"難問",2,25]
[null,335,null,"難問",2,25]
[null,336,null,"難問",2,25]
[null,337,null,"難問",2,25]
[null,338,null,"難問",2,25]
[null,339,null,"難問",2,25]
[null,340,null,"難問",2,25]
[null,341,null,"難問",2,25]
[null,342,null,"難問",2,25]
[null,343,null,"難問",2,24]
[null,344,null,"難問",2,24]
[null,345,null,"難問",2,24]
[null,346,null,"難問",2,24]
[null,347,null,"難問",2,24]
[null,348,null,"難問",2,24]
[null,349,null,"難問",2,24]
[null,350,null,"難問",2,24]
[null,351,null,"難問",2,24]
[null,352,null,"難問",2,24]
[null,353,null,"難問",2,24]
[null,354,null,"難問",2,24]
[null,355,null,"難問",2,24]
[null,356,null,"難問",2,23]
[null,357,null,"難問",2,23]
[null,358,null,"難問",2,23]
[null,359,null,"難問",2,23]
[null,360,null,"難問",2,23]
[null,361,null,"難問",2,23]
[null,362,null,"難問",2,22]
[null,364,null,"超難問",3,36]
[null,365,null,"超難問",3,35]
[null,366,null,"超難問",3,31]
[null,367,null,"超難問",3,31]
[null,368,null,"超難問",3,31]
[null,369,null,"超難問",3,30]
[null,370,null,"超難問",3,30]
[null,371,null,"超難問",3,29]
[null,372,null,"超難問",3,29]
[null,373,null,"超難問",3,29]
[null,374,null,"超難問",3,29]
[null,375,null,"超難問",3,28]
[null,376,null,"超難問",3,28]
[null,377,null,"超難問",3,28]
[null,378,null,"超難問",3,28]
[null,379,null,"超難問",3,28]
[null,380,null,"超難問",3,28]
[null,381,null,"超難問",3,28]
[null,382,null,"超難問",3,28]
[null,383,null,"超難問",3,28]
[null,384,null,"超難問",3,28]
[null,385,null,"超難問",3,28]
[null,386,null,"超難問",3,28]
[null,387,null,"超難問",3,27]
[null,388,null,"超難問",3,27]
[null,389,null,"超難問",3,27]
[null,390,null,"超難問",3,27]
[null,391,null,"超難問",3,27]
[null,392,null,"超難問",3,27]
[null,393,null,"超難問",3,27]
[null,394,null,"超難問",3,27]
[null,395,null,"超難問",3,27]
[null,396,null,"超難問",3,27]
[null,397,null,"超難問",3,27]
[null,398,null,"超難問",3,27]
[null,399,null,"超難問",3,27]
[null,400,null,"超難問",3,27]
[null,401,null,"超難問",3,27]
[null,402,null,"超難問",3,27]
[null,403,null,"超難問",3,27]
[null,404,null,"超難問",3,27]
[null,405,null,"超難問",3,27]
[null,406,null,"超難問",3,27]
[null,407,null,"超難問",3,27]
[null,408,null,"超難問",3,27]
[null,409,null,"超難問",3,27]
[null,410,null,"超難問",3,27]
[null,411,null,"超難問",3,27]
[null,412,null,"超難問",3,26]
[null,413,null,"超難問",3,26]
[null,414,null,"超難問",3,26]
[null,415,null,"超難問",3,26]
[null,416,null,"超難問",3,26]
[null,417,null,"超難問",3,26]
[null,418,null,"超難問",3,26]
[null,419,null,"超難問",3,26]
[null,420,null,"超難問",3,26]
[null,421,null,"超難問",3,26]
[null,422,null,"超難問",3,26]
[null,423,null,"超難問",3,26]
[null,424,null,"超難問",3,26]
[null,425,null,"超難問",3,26]
[null,426,null,"超難問",3,26]
[null,427,null,"超難問",3,26]
[null,428,null,"超難問",3,26]
[null,429,null,"超難問",3,26]
[null,430,null,"超難問",3,26]
[null,431,null,"超難問",3,26]
[null,432,null,"超難問",3,26]
[null,433,null,"超難問",3,26]
[null,434,null,"超難問",3,26]
[null,435,null,"超難問",3,26]
[null,436,null,"超難問",3,26]
[null,437,null,"超難問",3,26]
[null,438,null,"超難問",3,25]
[null,439,null,"超難問",3,25]
[null,440,null,"超難問",3,25]
[null,441,null,"超難問",3,25]
[null,442,null,"超難問",3,25]
[null,443,null,"超難問",3,25]
[null,444,null,"超難問",3,25]
[null,445,null,"超難問",3,25]
[null,446,null,"超難問",3,25]
[null,447,null,"超難問",3,25]
[null,448,null,"超難問",3,25]
[null,449,null,"超難問",3,25]
[null,450,null,"超難問",3,25]
[null,451,null,"超難問",3,25]
[null,452,null,"超難問",3,25]
[null,453,null,"超難問",3,25]
[null,454,null,"超難問",3,25]
[null,455,null,"超難問",3,25]
[null,456,null,"超難問",3,25]
[null,457,null,"超難問",3,25]
[null,458,null,"超難問",3,25]
[null,459,null,"超難問",3,25]
[null,460,null,"超難問",3,25]
[null,462,null,"超難問",3,25]
[null,463,null,"超難問",3,25]
[null,464,null,"超難問",3,25]
[null,465,null,"超難問",3,25]
[null,466,null,"超難問",3,25]
[null,467,null,"超難問",3,25]
[null,468,null,"超難問",3,25]
[null,469,null,"超難問",3,25]
[null,470,null,"超難問",3,25]
[null,471,null,"超難問",3,25]
[null,472,null,"超難問",3,25]
[null,473,null,"超難問",3,25]
[null,474,null,"超難問",3,25]
[null,475,null,"超難問",3,24]
[null,476,null,"超難問",3,24]
[null,477,null,"超難問",3,24]
[null,478,null,"超難問",3,24]
[null,479,null,"超難問",3,24]
[null,480,null,"超難問",3,24]
[null,481,null,"超難問",3,24]
[null,482,null,"超難問",3,24]
[null,483,null,"超難問",3,24]
[null,484,null,"超難問",3,24]
[null,485,null,"超難問",3,24]
[null,486,null,"超難問",3,24]
[null,487,null,"超難問",3,24]
[null,488,null,"超難問",3,24]
[null,489,null,"超難問",3,24]
[null,490,null,"超難問",3,24]
[null,491,null,"超難問",3,24]
[null,492,null,"超難問",3,24]
[null,493,null,"超難問",3,24]
[null,494,null,"超難問",3,24]
[null,495,null,"超難問",3,24]
[null,496,null,"超難問",3,23]
[null,497,null,"超難問",3,23]
[null,498,null,"超難問",3,23]
[null,499,null,"超難問",3,23]
[null,500,null,"超難問",3,22]

{"sheet":"数独作品集並べ替え済","index":9,"n_rows":2751,"n_cols":21,"rows_kept":2751,"cut":false,"hidden":true,"merged":[[1905,17,1905,18],[1905,19,1905,20],[1916,2,1916,3],[1916,6,1916,7],[1916,8,1916,9],[1916,13,1916,14],[1905,2,1905,3],[1905,6,1905,7],[1905,8,1905,9],[1905,13,1905,14],[1883,2,1883,3],[1883,6,1883,7],[1894,2,1894,3],[1894,6,1894,7],[1894,8,1894,9],[1894,13,1894,14],[1883,8,1883,9],[1883,13,1883,14],[1861,17,1861,18],[1861,19,1861,20],[1872,17,1872,18],[1872,19,1872,20],[1894,17,1894,18],[1894,19,1894,20],[1861,2,1861,3],[1861,6,1861,7],[1861,8,1861,9],[1861,13,1861,14],[1883,17,1883,18],[1883,19,1883,20],[1872,2,1872,3],[1872,6,1872,7],[1872,8,1872,9],[1872,13,1872,14],[1839,2,1839,3],[1839,6,1839,7],[1850,2,1850,3],[1850,6,1850,7],[1850,8,1850,9],[1850,13,1850,14],[1839,8,1839,9],[1839,13,1839,14],[1817,17,1817,18],[1817,19,1817,20],[1828,17,1828,18],[1828,19,1828,20],[1850,17,1850,18],[1850,19,1850,20],[1817,2,1817,3],[1817,6,1817,7],[1817,8,1817,9],[1817,13,1817,14],[1839,17,1839,18],[1839,19,1839,20],[1828,2,1828,3],[1828,6,1828,7],[1828,8,1828,9],[1828,13,1828,14],[1795,2,1795,3],[1795,6,1795,7],[1806,2,1806,3],[1806,6,1806,7],[1806,8,1806,9],[1806,13,1806,14],[1795,8,1795,9],[1795,13,1795,14],[1773,17,1773,18],[1773,19,1773,20],[1784,17,1784,18],[1784,19,1784,20],[1806,17,1806,18],[1806,19,1806,20],[1773,2,1773,3],[1773,6,1773,7],[1773,8,1773,9],[1773,13,1773,14],[1795,17,1795,18],[1795,19,1795,20],[1784,2,1784,3],[1784,6,1784,7],[1784,8,1784,9],[1784,13,1784,14],[1751,2,1751,3],[1751,6,1751,7],[1762,2,1762,3],[1762,6,1762,7],[1762,8,1762,9],[1762,13,1762,14],[1751,8,1751,9],[1751,13,1751,14],[1729,17,1729,18],[1729,19,1729,20],[1740,17,1740,18],[1740,19,1740,20],[1762,17,1762,18],[1762,19,1762,20],[1729,2,1729,3],[1729,6,1729,7],[1729,8,1729,9],[1729,13,1729,14],[1751,17,1751,18],[1751,19,1751,20],[1740,2,1740,3],[1740,6,1740,7],[1740,8,1740,9],[1740,13,1740,14],[1707,2,1707,3],[1707,6,1707,7],[1718,2,1718,3],[1718,6,1718,7],[1718,8,1718,9],[1718,13,1718,14],[1707,8,1707,9],[1707,13,1707,14],[1685,17,1685,18],[1685,19,1685,20],[1696,17,1696,18],[1696,19,1696,20],[1718,17,1718,18],[1718,19,1718,20],[1685,2,1685,3],[1685,6,1685,7],[1685,8,1685,9],[1685,13,1685,14],[1707,17,1707,18],[1707,19,1707,20],[1696,2,1696,3],[1696,6,1696,7],[1696,8,1696,9],[1696,13,1696,14],[1663,2,1663,3],[1663,6,1663,7],[1674,2,1674,3],[1674,6,1674,7],[1674,8,1674,9],[1674,13,1674,14],[1663,8,1663,9],[1663,13,1663,14],[1641,17,1641,18],[1641,19,1641,20],[1652,17,1652,18],[1652,19,1652,20],[1674,17,1674,18],[1674,19,1674,20],[1641,2,1641,3],[1641,6,1641,7],[1641,8,1641,9],[1641,13,1641,14],[1663,17,1663,18],[1663,19,1663,20],[1652,2,1652,3],[1652,6,1652,7],[1652,8,1652,9],[1652,13,1652,14],[1619,2,1619,3],[1619,6,1619,7],[1630,2,1630,3],[1630,6,1630,7],[1630,8,1630,9],[1630,13,1630,14],[1619,8,1619,9],[1619,13,1619,14],[1597,17,1597,18],[1597,19,1597,20],[1608,17,1608,18],[1608,19,1608,20],[1630,17,1630,18],[1630,19,1630,20],[1597,2,1597,3],[1597,6,1597,7],[1597,8,1597,9],[1597,13,1597,14],[1619,17,1619,18],[1619,19,1619,20],[1608,2,1608,3],[1608,6,1608,7],[1608,8,1608,9],[1608,13,1608,14],[1575,2,1575,3],[1575,6,1575,7],[1586,2,1586,3],[1586,6,1586,7],[1586,8,1586,9],[1586,13,1586,14],[1575,8,1575,9],[1575,13,1575,14],[1553,17,1553,18],[1553,19,1553,20],[1564,17,1564,18],[1564,19,1564,20],[1586,17,1586,18],[1586,19,1586,20],[1553,2,1553,3],[1553,6,1553,7],[1553,8,1553,9],[1553,13,1553,14],[1575,17,1575,18],[1575,19,1575,20],[1564,2,1564,3],[1564,6,1564,7],[1564,8,1564,9],[1564,13,1564,14],[1531,2,1531,3],[1531,6,1531,7],[1542,2,1542,3],[1542,6,1542,7],[1542,8,1542,9],[1542,13,1542,14],[1531,8,1531,9],[1531,13,1531,14],[1509,17,1509,18],[1509,19,1509,20],[1520,17,1520,18],[1520,19,1520,20],[1542,17,1542,18],[1542,19,1542,20],[1509,2,1509,3],[1509,6,1509,7],[1509,8,1509,9],[1509,13,1509,14],[1531,17,1531,18],[1531,19,1531,20],[1520,2,1520,3],[1520,6,1520,7],[1520,8,1520,9],[1520,13,1520,14],[1487,2,1487,3],[1487,6,1487,7],[1498,2,1498,3],[1498,6,1498,7],[1498,8,1498,9],[1498,13,1498,14],[1487,8,1487,9],[1487,13,1487,14],[1465,17,1465,18],[1465,19,1465,20],[1476,17,1476,18],[1476,19,1476,20],[1498,17,1498,18],[1498,19,1498,20],[1465,2,1465,3],[1465,6,1465,7],[1465,8,1465,9],[1465,13,1465,14],[1487,17,1487,18],[1487,19,1487,20],[1476,2,1476,3],[1476,6,1476,7],[1476,8,1476,9],[1476,13,1476,14],[1443,2,1443,3],[1443,6,1443,7],[1454,2,1454,3],[1454,6,1454,7],[1454,8,1454,9],[1454,13,1454,14],[1443,8,1443,9],[1443,13,1443,14],[1421,17,1421,18],[1421,19,1421,20],[1432,17,1432,18],[1432,19,1432,20],[1454,17,1454,18],[1454,19,1454,20],[1421,2,1421,3],[1421,6,1421,7],[1421,8,1421,9],[1421,13,1421,14],[1443,17,1443,18],[1443,19,1443,20],[1432,2,1432,3],[1432,6,1432,7],[1432,8,1432,9],[1432,13,1432,14],[1399,2,1399,3],[1399,6,1399,7],[1410,2,1410,3],[1410,6,1410,7],[1410,8,1410,9],[1410,13,1410,14],[1399,8,1399,9],[1399,13,1399,14],[1377,17,1377,18],[1377,19,1377,20],[1388,17,1388,18],[1388,19,1388,20],[1410,17,1410,18],[1410,19,1410,20],[1377,2,1377,3],[1377,6,1377,7],[1377,8,1377,9],[1377,13,1377,14],[1399,17,1399,18],[1399,19,1399,20],[1388,2,1388,3],[1388,6,1388,7],[1388,8,1388,9],[1388,13,1388,14],[1355,2,1355,3],[1355,6,1355,7],[1366,2,1366,3],[1366,6,1366,7],[1366,8,1366,9],[1366,13,1366,14],[1355,8,1355,9],[1355,13,1355,14],[1333,17,1333,18],[1333,19,1333,20],[1344,17,1344,18],[1344,19,1344,20],[1366,17,1366,18],[1366,19,1366,20],[1333,2,1333,3],[1333,6,1333,7],[1333,8,1333,9],[1333,13,1333,14],[1355,17,1355,18],[1355,19,1355,20],[1344,2,1344,3],[1344,6,1344,7],[1344,8,1344,9],[1344,13,1344,14],[1311,2,1311,3],[1311,6,1311,7],[1322,2,1322,3],[1322,6,1322,7],[1322,8,1322,9],[1322,13,1322,14],[1311,8,1311,9],[1311,13,1311,14],[1289,17,1289,18],[1289,19,1289,20],[1300,17,1300,18],[1300,19,1300,20],[1322,17,1322,18],[1322,19,1322,20],[1289,2,1289,3],[1289,6,1289,7],[1289,8,1289,9],[1289,13,1289,14],[1311,17,1311,18],[1311,19,1311,20],[1300,2,1300,3],[1300,6,1300,7],[1300,8,1300,9],[1300,13,1300,14],[1267,2,1267,3],[1267,6,1267,7],[1278,2,1278,3],[1278,6,1278,7],[1278,8,1278,9],[1278,13,1278,14],[1267,8,1267,9],[1267,13,1267,14],[1245,17,1245,18],[1245,19,1245,20],[1256,17,1256,18],[1256,19,1256,20],[1278,17,1278,18],[1278,19,1278,20],[1245,2,1245,3],[1245,6,1245,7],[1245,8,1245,9],[1245,13,1245,14],[1267,17,1267,18],[1267,19,1267,20],[1256,2,1256,3],[1256,6,1256,7],[1256,8,1256,9],[1256,13,1256,14],[1223,2,1223,3],[1223,6,1223,7],[1234,2,1234,3],[1234,6,1234,7],[1234,8,1234,9],[1234,13,1234,14],[1223,8,1223,9],[1223,13,1223,14],[1201,17,1201,18],[1201,19,1201,20],[1212,17,1212,18],[1212,19,1212,20],[1234,17,1234,18],[1234,19,1234,20],[1201,2,1201,3],[1201,6,1201,7],[1201,8,1201,9],[1201,13,1201,14],[1223,17,1223,18],[1223,19,1223,20],[1212,2,1212,3],[1212,6,1212,7],[1212,8,1212,9],[1212,13,1212,14],[1179,2,1179,3],[1179,6,1179,7],[1190,2,1190,3],[1190,6,1190,7],[1190,8,1190,9],[1190,13,1190,14],[1179,8,1179,9],[1179,13,1179,14],[1157,17,1157,18],[1157,19,1157,20],[1168,17,1168,18],[1168,19,1168,20],[1190,17,1190,18],[1190,19,1190,20],[1157,2,1157,3],[1157,6,1157,7],[1157,8,1157,9],[1157,13,1157,14],[1179,17,1179,18],[1179,19,1179,20],[1168,2,1168,3],[1168,6,1168,7],[1168,8,1168,9],[1168,13,1168,14],[1135,2,1135,3],[1135,6,1135,7],[1146,2,1146,3],[1146,6,1146,7],[1146,8,1146,9],[1146,13,1146,14],[1135,8,1135,9],[1135,13,1135,14],[1113,17,1113,18],[1113,19,1113,20],[1124,17,1124,18],[1124,19,1124,20],[1146,17,1146,18],[1146,19,1146,20],[1113,2,1113,3],[1113,6,1113,7],[1113,8,1113,9],[1113,13,1113,14],[1135,17,1135,18],[1135,19,1135,20],[1124,2,1124,3],[1124,6,1124,7],[1124,8,1124,9],[1124,13,1124,14],[1091,2,1091,3],[1091,6,1091,7],[1102,2,1102,3],[1102,6,1102,7],[1102,8,1102,9],[1102,13,1102,14],[1091,8,1091,9],[1091,13,1091,14],[1069,17,1069,18],[1069,19,1069,20],[1080,17,1080,18],[1080,19,1080,20],[1102,17,1102,18],[1102,19,1102,20],[1069,2,1069,3],[1069,6,1069,7],[1069,8,1069,9],[1069,13,1069,14],[1091,17,1091,18],[1091,19,1091,20],[1080,2,1080,3],[1080,6,1080,7],[1080,8,1080,9],[1080,13,1080,14],[1047,2,1047,3],[1047,6,1047,7],[1058,2,1058,3],[1058,6,1058,7],[1058,8,1058,9],[1058,13,1058,14],[1047,8,1047,9],[1047,13,1047,14],[1025,17,1025,18],[1025,19,1025,20],[1036,17,1036,18],[1036,19,1036,20],[1058,17,1058,18],[1058,19,1058,20],[1025,2,1025,3],[1025,6,1025,7],[1025,8,1025,9],[1025,13,1025,14],[1047,17,1047,18],[1047,19,1047,20],[1036,2,1036,3],[1036,6,1036,7],[1036,8,1036,9],[1036,13,1036,14],[1003,2,1003,3],[1003,6,1003,7],[1014,2,1014,3],[1014,6,1014,7],[1014,8,1014,9],[1014,13,1014,14],[1003,8,1003,9],[1003,13,1003,14],[981,17,981,18],[981,19,981,20],[992,17,992,18],[992,19,992,20],[1014,17,1014,18],[1014,19,1014,20],[981,2,981,3],[981,6,981,7],[981,8,981,9],[981,13,981,14],[1003,17,1003,18],[1003,19,1003,20],[992,2,992,3],[992,6,992,7],[992,8,992,9],[992,13,992,14],[959,2,959,3],[959,6,959,7],[970,2,970,3],[970,6,970,7],[970,8,970,9],[970,13,970,14],[959,8,959,9],[959,13,959,14],[937,17,937,18],[937,19,937,20],[948,17,948,18],[948,19,948,20],[970,17,970,18],[970,19,970,20],[937,2,937,3],[937,6,937,7],[937,8,937,9],[937,13,937,14],[959,17,959,18],[959,19,959,20],[948,2,948,3],[948,6,948,7],[948,8,948,9],[948,13,948,14],[915,2,915,3],[915,6,915,7],[926,2,926,3],[926,6,926,7],[926,8,926,9],[926,13,926,14],[915,8,915,9],[915,13,915,14],[893,17,893,18],[893,19,893,20],[904,17,904,18],[904,19,904,20],[926,17,926,18],[926,19,926,20],[893,2,893,3],[893,6,893,7],[893,8,893,9],[893,13,893,14],[915,17,915,18],[915,19,915,20],[904,2,904,3],[904,6,904,7],[904,8,904,9],[904,13,904,14],[871,2,871,3],[871,6,871,7],[882,2,882,3],[882,6,882,7],[882,8,882,9],[882,13,882,14],[871,8,871,9],[871,13,871,14],[849,17,849,18],[849,19,849,20],[860,17,860,18],[860,19,860,20],[882,17,882,18],[882,19,882,20],[849,2,849,3],[849,6,849,7],[849,8,849,9],[849,13,849,14],[871,17,871,18],[871,19,871,20],[860,2,860,3],[860,6,860,7],[860,8,860,9],[860,13,860,14],[827,2,827,3],[827,6,827,7],[838,2,838,3],[838,6,838,7],[838,8,838,9],[838,13,838,14],[827,8,827,9],[827,13,827,14],[805,17,805,18],[805,19,805,20],[816,17,816,18],[816,19,816,20],[838,17,838,18],[838,19,838,20],[805,2,805,3],[805,6,805,7],[805,8,805,9],[805,13,805,14],[827,17,827,18],[827,19,827,20],[816,2,816,3],[816,6,816,7],[816,8,816,9],[816,13,816,14],[783,2,783,3],[783,6,783,7],[794,2,794,3],[794,6,794,7],[794,8,794,9],[794,13,794,14],[783,8,783,9],[783,13,783,14],[761,17,761,18],[761,19,761,20],[772,17,772,18],[772,19,772,20],[794,17,794,18],[794,19,794,20],[761,2,761,3],[761,6,761,7],[761,8,761,9],[761,13,761,14],[783,17,783,18],[783,19,783,20],[772,2,772,3],[772,6,772,7],[772,8,772,9],[772,13,772,14],[739,2,739,3],[739,6,739,7],[750,2,750,3],[750,6,750,7],[750,8,750,9],[750,13,750,14],[739,8,739,9],[739,13,739,14],[717,17,717,18],[717,19,717,20],[728,17,728,18],[728,19,728,20],[750,17,750,18],[750,19,750,20],[717,2,717,3],[717,6,717,7],[717,8,717,9],[717,13,717,14],[739,17,739,18],[739,19,739,20],[728,2,728,3],[728,6,728,7],[728,8,728,9],[728,13,728,14],[695,2,695,3],[695,6,695,7],[706,2,706,3],[706,6,706,7],[706,8,706,9],[706,13,706,14],[695,8,695,9],[695,13,695,14],[673,17,673,18],[673,19,673,20],[684,17,684,18],[684,19,684,20],[706,17,706,18],[706,19,706,20],[673,2,673,3],[673,6,673,7],[673,8,673,9],[673,13,673,14],[695,17,695,18],[695,19,695,20],[684,2,684,3],[684,6,684,7],[684,8,684,9],[684,13,684,14],[651,2,651,3],[651,6,651,7],[662,2,662,3],[662,6,662,7],[662,8,662,9],[662,13,662,14],[651,8,651,9],[651,13,651,14],[629,17,629,18],[629,19,629,20],[640,17,640,18],[640,19,640,20],[662,17,662,18],[662,19,662,20],[629,2,629,3],[629,6,629,7],[629,8,629,9],[629,13,629,14],[651,17,651,18],[651,19,651,20],[640,2,640,3],[640,6,640,7],[640,8,640,9],[640,13,640,14],[607,2,607,3],[607,6,607,7],[618,2,618,3],[618,6,618,7],[618,8,618,9],[618,13,618,14],[607,8,607,9],[607,13,607,14],[585,17,585,18],[585,19,585,20],[596,17,596,18],[596,19,596,20],[618,17,618,18],[618,19,618,20],[585,2,585,3],[585,6,585,7],[585,8,585,9],[585,13,585,14],[607,17,607,18],[607,19,607,20],[596,2,596,3],[596,6,596,7],[596,8,596,9],[596,13,596,14],[563,2,563,3],[563,6,563,7],[574,2,574,3],[574,6,574,7],[574,8,574,9],[574,13,574,14],[563,8,563,9],[563,13,563,14],[541,17,541,18],[541,19,541,20],[552,17,552,18],[552,19,552,20],[574,17,574,18],[574,19,574,20],[541,2,541,3],[541,6,541,7],[541,8,541,9],[541,13,541,14],[563,17,563,18],[563,19,563,20],[552,2,552,3],[552,6,552,7],[552,8,552,9],[552,13,552,14],[519,2,519,3],[519,6,519,7],[530,2,530,3],[530,6,530,7],[530,8,530,9],[530,13,530,14],[519,8,519,9],[519,13,519,14],[497,17,497,18],[497,19,497,20],[508,17,508,18],[508,19,508,20],[530,17,530,18],[530,19,530,20],[497,2,497,3],[497,6,497,7],[497,8,497,9],[497,13,497,14],[519,17,519,18],[519,19,519,20],[508,2,508,3],[508,6,508,7],[508,8,508,9],[508,13,508,14],[475,2,475,3],[475,6,475,7],[486,2,486,3],[486,6,486,7],[486,8,486,9],[486,13,486,14],[475,8,475,9],[475,13,475,14],[453,17,453,18],[453,19,453,20],[464,17,464,18],[464,19,464,20],[486,17,486,18],[486,19,486,20],[453,2,453,3],[453,6,453,7],[453,8,453,9],[453,13,453,14],[475,17,475,18],[475,19,475,20],[464,2,464,3],[464,6,464,7],[464,8,464,9],[464,13,464,14],[431,2,431,3],[431,6,431,7],[442,2,442,3],[442,6,442,7],[442,8,442,9],[442,13,442,14],[431,8,431,9],[431,13,431,14],[409,17,409,18],[409,19,409,20],[420,17,420,18],[420,19,420,20],[442,17,442,18],[442,19,442,20],[409,2,409,3],[409,6,409,7],[409,8,409,9],[409,13,409,14],[431,17,431,18],[431,19,431,20],[420,2,420,3],[420,6,420,7],[420,8,420,9],[420,13,420,14],[387,2,387,3],[387,6,387,7],[398,2,398,3],[398,6,398,7],[398,8,398,9],[398,13,398,14],[387,8,387,9],[387,13,387,14],[365,17,365,18],[365,19,365,20],[376,17,376,18],[376,19,376,20],[398,17,398,18],[398,19,398,20],[365,2,365,3],[365,6,365,7],[365,8,365,9],[365,13,365,14],[387,17,387,18],[387,19,387,20],[376,2,376,3],[376,6,376,7],[376,8,376,9],[376,13,376,14],[343,2,343,3],[343,6,343,7],[354,2,354,3],[354,6,354,7],[354,8,354,9],[354,13,354,14],[343,8,343,9],[343,13,343,14],[321,17,321,18],[321,19,321,20],[332,17,332,18],[332,19,332,20],[354,17,354,18],[354,19,354,20],[321,2,321,3],[321,6,321,7],[321,8,321,9],[321,13,321,14],[343,17,343,18],[343,19,343,20],[332,2,332,3],[332,6,332,7],[332,8,332,9],[332,13,332,14],[299,2,299,3],[299,6,299,7],[310,2,310,3],[310,6,310,7],[310,8,310,9],[310,13,310,14],[299,8,299,9],[299,13,299,14],[277,17,277,18],[277,19,277,20],[288,17,288,18],[288,19,288,20],[310,17,310,18],[310,19,310,20],[277,2,277,3],[277,6,277,7],[277,8,277,9],[277,13,277,14],[299,17,299,18],[299,19,299,20],[288,2,288,3],[288,6,288,7],[288,8,288,9],[288,13,288,14],[255,2,255,3],[255,6,255,7],[266,2,266,3],[266,6,266,7],[266,8,266,9],[266,13,266,14],[255,8,255,9],[255,13,255,14],[233,17,233,18],[233,19,233,20],[244,17,244,18],[244,19,244,20],[266,17,266,18],[266,19,266,20],[233,2,233,3],[233,6,233,7],[233,8,233,9],[233,13,233,14],[255,17,255,18],[255,19,255,20],[244,2,244,3],[244,6,244,7],[244,8,244,9],[244,13,244,14],[211,2,211,3],[211,6,211,7],[222,2,222,3],[222,6,222,7],[222,8,222,9],[222,13,222,14],[211,8,211,9],[211,13,211,14],[189,17,189,18],[189,19,189,20],[200,17,200,18],[200,19,200,20],[222,17,222,18],[222,19,222,20],[189,2,189,3],[189,6,189,7],[189,8,189,9],[189,13,189,14],[211,17,211,18],[211,19,211,20],[200,2,200,3],[200,6,200,7],[200,8,200,9],[200,13,200,14],[167,2,167,3],[167,6,167,7],[178,2,178,3],[178,6,178,7],[178,8,178,9],[178,13,178,14],[167,8,167,9],[167,13,167,14],[145,17,145,18],[145,19,145,20],[156,17,156,18],[156,19,156,20],[178,17,178,18],[178,19,178,20],[145,2,145,3],[145,6,145,7],[145,8,145,9],[145,13,145,14],[167,17,167,18],[167,19,167,20],[156,2,156,3],[156,6,156,7],[156,8,156,9],[156,13,156,14],[134,17,134,18],[134,19,134,20],[57,2,57,3],[57,6,57,7],[57,8,57,9],[57,13,57,14],[68,2,68,3],[68,6,68,7],[68,8,68,9],[68,13,68,14],[123,2,123,3],[123,6,123,7],[134,2,134,3],[134,6,134,7],[134,8,134,9],[134,13,134,14],[123,8,123,9],[123,13,123,14],[123,19,123,20],[112,2,112,3],[112,6,112,7],[112,8,112,9],[112,13,112,14],[101,17,101,18],[101,19,101,20],[112,17,112,18],[112,19,112,20],[24,2,24,3],[24,6,24,7],[24,8,24,9]],"merged_total":1651,"flags":["merged_cut"]}
[]
[]
[null,"NO.",1,null,null,{"$f":"COUNTA(B4:J12)","v":38},"ランク",null,"普通",null,null,null,"NO.",2,null,null,{"$f":"COUNTA(M4:U12)","v":38},"ランク",null,"普通"]
[null,null,2,null,6,null,5,3,4,null,null,null,null,3,5,null,7,null,9]
[null,null,3,null,1,null,2,null,null,null,null,null,null,null,1,null,9]
[null,8,1,6,null,null,null,2,9,5,null,null,null,4,9,5,2,1,3,8,6]
[null,null,7,null,null,4,null,6,null,null,null,null,2,5,null,3,null,null,null,6,8]
[null,null,null,null,null,null,6,9,null,null,null,null,4,null,3,6,null,null,null,null,9]
[null,null,4,1,2,5,9,null,null,8,null,null,null,null,8,null,5,null,null,7,3]
[null,1,null,3,null,null,7,4,null,9,null,null,null,7,4,2,null,8,null,9]
[null,7,6,null,null,null,4,null,8,null,null,null,1,null,null,7,null,null,8,2]
[null,null,null,5,null,2,8,null,7,null,null,null,null,null,null,null,null,4,null,null,7]
[]
[null,"NO.",3,null,null,{"$f":"COUNTA(B15:J23)","v":38},"ランク",null,"普通",null,null,null,"NO.",4,null,null,{"$f":"COUNTA(M15:U23)","v":37},"ランク",null,"普通"]
[null,null,null,2,null,null,null,null,9,7,null,null,null,1,7,null,5,6,3,9,2]
[null,null,1,null,null,2,3,null,8,null,null,null,null,null,8,null,2]
[null,6,5,8,null,9,4,1,null,3,null,null,null,null,null,null,1,null,7]
[null,5,4,1,2,3,null,null,null,8,null,null,null,null,null,null,9]
[null,null,9,7,null,null,5,null,6,4,null,null,3,9,4,1,8,null,6,5]
[null,3,null,null,null,null,null,null,null,null,null,null,8,null,null,3,4,5,1,2]
[null,8,null,null,null,null,1,7,null,9,null,null,null,null,3,null,7,4,null,6]
[null,null,6,null,null,null,null,null,null,null,null,null,null,4,1,null,null,8,2]
[null,null,7,5,4,8,2,6,null,1,null,null,7,null,null,5,null,null,9,null,8]
[]
[null,"NO.",5,null,null,{"$f":"COUNTA(B26:J34)","v":37},"ランク",null,"普通",null,null,null,"NO.",6,null,null,{"$f":"COUNTA(M26:U34)","v":37},"ランク",null,"普通"]
[null,null,null,4,9,null,5,null,null,6,null,null,null,null,6,8,null,4,9]
[null,7,8,null,null,1,null,null,5,null,null,null,3,2,4,null,null,null,8,5,6]
[null,3,null,5,null,null,null,7,null,4,null,null,null,null,null,6,null,3,null,2]
[null,null,null,9,3,null,null,null,null,5,null,null,7,4,2,null,null,8,null,null,9]
[null,null,6,null,null,2,null,null,3,null,null,null,null,null,null,7,9,2]
[null,5,null,1,8,null,7,6,null,2,null,null,null,5,null,3,null,null,2,7,8]
[null,9,7,null,1,null,null,5,null,8,null,null,null,3,null,2,null,null,null,null,1]
[null,null,5,null,null,9,null,null,2,null,null,null,null,6,null,null,7,null,null,8]
[null,4,null,3,2,null,8,null,null,7,null,null,null,1,8,null,null,5,6,null,7]
[]
[null,"NO.",7,null,null,{"$f":"COUNTA(B37:J45)","v":37},"ランク",null,"普通",null,null,null,"NO.",8,null,null,{"$f":"COUNTA(M37:U45)","v":37},"ランク",null,"普通"]
[null,9,3,null,2,1,null,6,null,null,null,null,7,null,8,9,null,4,2,null,5]
[null,1,null,null,null,null,9,null,3]
[null,null,4,null,8,3,null,9,2,null,null,null,3,null,4,6,null,5,9,null,1]
[null,5,null,4,1,null,null,null,8,3,null,null,6,null,3,5,null,2,4,null,8]
[null,2,null,null,5,null,null,7,6,null,null,null,null,null,null,null,1]
[null,null,8,3,null,null,2,null,1,null,null,null,1,null,9,3,null,6,7,null,2]
[null,8,null,1,4,null,null,null,9,null,null,null,5,null,7,1,null,8,3,null,6]
[null,4,null,null,null,null,null,null,7]
[null,null,7,2,null,5,8,null,null,6,null,null,2,null,6,7,null,3,1,null,4]
[]
[null,"NO.",9,null,null,{"$f":"COUNTA(B48:J56)","v":37},"ランク",null,"普通",null,null,null,"NO.",10,null,null,{"$f":"COUNTA(M48:U56)","v":37},"ランク",null,"普通"]
[null,7,null,3,null,6,9,null,null,1,null,null,null,null,null,null,3,7,null,2,8]
[null,8,6,null,null,null,2,4,9,3,null,null,3,4,null,null,null,8,7,6]
[null,2,1,null,4,null,null,6,null,null,null,null,1,7,null,null,2,9,null,null,3]
[null,null,null,8,null,4,null,null,null,null,null,null,null,2,null,null,4,6]
[null,null,2,null,null,3,null,9,null,null,null,null,8,null,null,2,null,null,null,4,6]
[null,4,null,1,null,5,null,null,8,6,null,null,9,null,4,3,null,5,null,null,2]
[null,9,null,null,6,null,null,7,3,null,null,null,4,null,6,null,5,3,null,8]
[null,null,3,null,8,7,5,null,null,9,null,null,null,null,3,null,null,null,9]
[null,null,5,7,null,null,null,null,null,8,null,null,7,1,5,null,8]
[]
[null,"NO.",11,null,null,{"$f":"COUNTA(B59:J67)","v":37},"ランク",null,"普通",null,null,null,"NO.",12,null,null,{"$f":"COUNTA(M59:U67)","v":37},"ランク",null,"普通"]
[null,null,null,8,null,null,4,3,null,null,null,null,null,null,null,null,6,9,5,null,7]
[null,null,null,1,5,null,8,6,null,null,null,null,8,null,7,1,5,2,6,null,3]
[null,4,null,6,null,null,2,null,null,9,null,null,1,null,null,null,null,3,null,null,9]
[null,8,null,null,1,null,5,9,3,4,null,null,4,7,null,6,9,5,null,3,1]
[null,2,4,5,8,null,null,null,null,6,null,null,null,null,null,null,null,4]
[null,null,null,null,null,null,7,5,2,null,null,null,3,null,1,null,null,null,null,6]
[null,null,7,null,null,8,null,null,9,null,null,null,null,2,4,null,8]
[null,3,null,9,null,null,1,2,6,null,null,null,null,3,8,2,null,null,null,9,6]
[null,5,1,null,null,7,null,null,8,null,null,null,7,1,null,5,3]
[]
[null,"NO.",13,null,null,{"$f":"COUNTA(B70:J78)","v":36},"ランク",null,"普通",null,null,null,"NO.",14,null,null,{"$f":"COUNTA(M70:U78)","v":36},"ランク",null,"普通"]
[null,8,null,null,null,null,null,2,4,null,null,null,null,7,null,null,1,null,5]
[null,null,null,7,1,4,null,null,null,8,null,null,null,3,1,null,5,9,2]
[null,1,4,6,null,2,null,7,3,null,null,null,4,null,8,7,6,2,3,9]
[null,null,1,null,3,null,null,null,null,6,null,null,8,6,null,null,null,null,4]
[null,3,6,4,2,5,null,null,null,null,null,null,null,null,null,null,8,null,1]
[null,null,null,2,null,1,null,8,null,3,null,null,null,1,4,5,9,7,6,8]
[null,4,null,null,null,9,null,null,null,5,null,null,null,null,null,3,null,8,9,6,4]
[null,null,5,null,7,8,null,9,null,2,null,null,7,null,null,null,2]
[null,2,7,9,null,null,null,null,null,null,null,null,9,null,6]
[]
[null,"NO.",15,null,null,{"$f":"COUNTA(B81:J89)","v":36},"ランク",null,"普通",null,null,null,"NO.",16,null,null,{"$f":"COUNTA(M81:U89)","v":36},"ランク",null,"普通"]
[null,null,2,1,null,null,3,null,null,7,null,null,9,1,null,2,null,null,8,3]
[null,9,8,null,2,null,1,3,null,5,null,null,7,null,null,null,3,5,null,null,2]
[null,5,null,3,null,7,8,null,null,null,null,null,5,null,null,9,null,6]
[null,1,null,null,null,null,4,null,null,6,null,null,4,null,null,6,null,null,null,7]
[null,4,5,null,null,null,7,9,1,2,null,null,null,7,1,null,5,null,9,4,6]
[null,2,null,null,5,null,9,null,null,4,null,null,null,6,5,null,4,null,null,8,1]
[null,null,6,null,3,null,null,null,null,9,null,null,null,null,7,8,2,null,null,null,9]
[null,7,9,null,null,8,null,4,null,null,null,null,null,null,4,5,null,null,3]
[null,null,null,null,null,null,5,null,6,null,null,null,null,3,9,null,null,null,null,null,8]
[]
[null,"NO.",17,null,null,{"$f":"COUNTA(B92:J100)","v":36},"ランク",null,"普通",null,null,null,"NO.",18,null,null,{"$f":"COUNTA(M92:U100)","v":36},"ランク",null,"普通"]
[null,null,7,null,null,1,9,null,2,null,null,null,null,null,2,null,null,4,null,null,9]
[null,null,5,6,null,8,4,9,3,null,null,null,null,1,null,5,7,null,2]
[null,null,1,null,null,2,null,null,null,7,null,null,4,null,8,1,2,null,null,3,7]
[null,null,3,null,4,null,2,null,null,null,null,null,5,null,null,6,9,null,null,null,2]
[null,8,null,4,null,null,null,3,5,2,null,null,2,null,9,null,null,null,3,5]
[null,7,null,null,null,5,null,null,null,6,null,null,8,4,null,null,5,2,null,null,6]
[null,9,null,null,null,7,5,null,1,null,null,null,null,null,7,null,8,5,6,null,3]
[null,5,8,7,null,null,null,null,6,null,null,null,1,null,null,9,null,null,null,null,8]
[null,null,null,1,null,3,8,null,null,9,null,null,null,null,4,null,null,null,9]
[]
[null,"NO.",19,null,null,{"$f":"COUNTA(B103:J111)","v":36},"ランク",null,"普通",null,null,null,"NO.",20,null,null,{"$f":"COUNTA(M103:U111)","v":36},"ランク",null,"普通"]
[null,1,null,null,5,6,null,null,null,4,null,null,null,null,3]
[null,null,6,null,null,3,2,null,null,null,null,null,1,null,2,null,3,4,null,6]
[null,null,9,null,null,null,1,null,3,5,null,null,null,7,6,null,2,9,3,1]
[null,3,null,null,null,null,4,2,8,null,null,null,null,null,7,null,null,5,null,null,6]
[null,null,null,8,null,1,5,null,null,6,null,null,null,null,4,1,8,7,9,2]
[null,9,4,1,6,null,8,null,5,7,null,null,5,9,null,6]
[null,null,3,2,null,8,7,null,null,9,null,null,3,null,null,null,null,8,null,null,4]
[null,null,null,null,2,null,null,8,null,null,null,null,2,null,8,4,null,1,5,9]
[null,null,7,null,9,null,null,null,6,null,null,null,7,null,null,9,null,3]
[]
[null,"NO.",21,null,null,{"$f":"COUNTA(B114:J122)","v":36},"ランク",null,"普通",null,null,null,"NO.",22,null,null,{"$f":"COUNTA(M114:U122)","v":36},"ランク",null,"普通"]
[null,null,null,1,null,null,null,null,null,null,null,null,4,null,null,1,null,null,null,5,3]
[null,5,null,6,null,9,8,3,null,2,null,null,1,7,null,null,3,null,null,8]
[null,8,7,null,1,null,2,null,9,4,null,null,3,8,5,null,null,2,null,4,1]
[null,null,3,null,null,null,null,4,6,7]
[null,4,null,null,null,null,5,null,null,null,null,null,null,1,8,6,9,7,null,null,2]
[null,7,null,2,4,6,null,null,5,null,null,null,7,4,2,null,5,null,8,9,6]
[null,null,null,null,null,null,null,null,null,null,null,null,null,5,7,8,null,null,3,2]
[null,null,1,9,5,4,3,2,null,null,null,null,8,null,null,5,null,null,9]
[null,3,null,7,8,null,6,9,null,1,null,null,null,null,null,null,6]
[]
[null,"NO.",23,null,null,{"$f":"COUNTA(B125:J133)","v":36},"ランク",null,"普通",null,null,null,"NO.",24,null,null,{"$f":"COUNTA(M125:U133)","v":36},"ランク",null,"普通"]
[null,8,null,null,1,null,4,null,3,null,null,null,null,null,2,9,null,null,null,null,7]
[null,1,null,4,null,null,null,2,null,null,null,null,null,1,8,null,3,5,6,2]
[null,null,7,9,8,2,null,4,null,1,null,null,null,7,null,2,null,4,3,8,9]
[null,null,null,8,7,null,null,null,6,null,null,null,2]
[null,4,null,null,null,null,5,null,null,7,null,null,4,3,null,null,5,null,2,null,6]
[null,null,5,null,6,null,9,3,null,2,null,null,6,5,null,1,7,null,null,4,3]
[null,3,null,6,null,5,null,null,7,9,null,null,7,null,null,null,null,8,null,null,1]
[null,null,8,null,null,null,6,null,null,null,null,null,null,null,null,null,6,null,9]
[null,5,null,7,9,null,8,6,null,null,null,null,8,6,null,4,null,null,null,5]
[]
[null,"NO.",25,null,null,{"$f":"COUNTA(B136:J144)","v":36},"ランク",null,"普通",null,null,null,"NO.",26,null,null,{"$f":"COUNTA(M136:U144)","v":36},"ランク",null,"普通"]
[null,7,null,null,8,null,6,3,2,null,null,null,null,null,3,null,9,1,2,6]
[null,null,8,2,null,5,null,null,null,null,null,null,9,null,null,null,null,null,null,4,1]
[null,null,3,1,null,4,2,null,null,8,null,null,null,1,4,6,null,2,null,3]
[null,3,2,null,null,null,8,null,null,6,null,null,null,null,7,null,8,5,null,2,3]
[null,1,7,null,6,3,5,2,9,null,null,null,null,3,8,null,7,4,6]
[null,4,9,null,2,null,null,null,null,null,null,null,4,null,5]
[null,null,null,7,null,8,null,9,null,null,null,null,3,null,6,8,null,7,9]
[null,8,null,null,5,null,null,null,4,null,null,null,null,4,null,null,null,3]
[null,null,4,null,null,6,null,7,null,null,null,null,null,7,null,null,null,6,null,5,4]
[]
[null,"NO.",27,null,null,{"$f":"COUNTA(B147:J155)","v":36},"ランク",null,"普通",null,null,null,"NO.",28,null,null,{"$f":"COUNTA(M147:U155)","v":36},"ランク",null,"普通"]
[null,null,1,3,9,2,null,null,null,8,null,null,4,8,3,null,2,1,6]
[null,8,5,null,null,7,6,9,3,null,null,null,2,null,1,9,null,4,5,null,3]
[null,null,null,null,null,null,null,null,null,5]
[null,9,8,null,3,null,null,null,2,null,null,null,7,null,4,8,5,null,null,null,6]
[null,1,3,null,5,null,2,null,9,6,null,null,null,null,null,4,null,2]
[null,null,null,4,6,null,null,null,null,null,null,null,null,9,null,6,null,null,2,null,4]
[null,null,4,null,1,8,null,7,null,null,null,null,3,1,7,null,6,5,null,null,9]
[null,null,null,1,null,5,null,4,null,9,null,null,6,4,null,null,null,8,1]
[null,7,null,8,null,6,4,null,null,null,null,null,8,null,null,null,null,3,7]
[]
[null,"NO.",29,null,null,{"$f":"COUNTA(B158:J166)","v":36},"ランク",null,"普通",null,null,null,"NO.",30,null,null,{"$f":"COUNTA(M158:U166)","v":36},"ランク",null,"普通"]
[null,2,null,null,null,null,null,3,null,null,null,null,null,null,8,4,null,null,9]
[null,1,7,null,null,3,2,null,null,9,null,null,null,1,6,null,7,3,4]
[null,null,null,null,9,7,5,8,2,1,null,null,5,null,9,null,2,null,7,3]
[null,5,null,null,null,null,null,null,null,null,null,null,4,null,null,null,null,1,6]
[null,null,null,null,7,5,3,6,null,null,null,null,3,null,null,2,5,6,1]
[null,6,4,7,1,9,null,null,5,3,null,null,9,null,null,8,3,null,5]
[null,null,null,9,null,6,null,null,null,8,null,null,null,null,null,null,null,2,null,7]
[null,7,5,null,null,8,null,null,4,null,null,null,6,2,5,null,4,null,null,null,9]
[null,8,null,3,null,null,4,null,9,null,null,null,1,7,null,null,8,null,null,null,6]
[]
[null,"NO.",242,null,null,{"$f":"COUNTA(B169:J177)","v":36},"ランク",null,"普通",null,null,null,"NO.",31,null,null,{"$f":"COUNTA(M169:U177)","v":35},"ランク",null,"普通"]
[null,null,null,null,null,null,null,null,4,null,null,null,1,9,4,5,2,null,null,7,6]
[null,4,null,1,3,9,null,null,null,null,null,null,8,6,7,1,null,null,null,3]
[null,null,7,5,null,null,2,1,null,3,null,null,2,null,null,6,null,null,4]
[null,null,null,4,null,null,5,6,null,1,null,null,6,null,8,4,5,1,2]
[null,null,5,null,null,6,null,4,8,null,null,null,null,4,null,null,null,null,6,null,5]
[null,null,6,3,null,8,null,7,null,null,null,null,null,null,9]
[null,9,3,null,7,null,null,8,2,null,null,null,null,7,null,8,6,null,9]
[null,2,null,7,null,null,8,9,1,null,null,null,null,null,6,null,null,7,3]
[null,null,null,null,null,2,9,3,null,7,null,null,null,null,2,null,3,null,null,null,8]
[]
[null,"NO.",32,null,null,{"$f":"COUNTA(B180:J188)","v":35},"ランク",null,"普通",null,null,null,"NO.",33,null,null,{"$f":"COUNTA(M180:U188)","v":35},"ランク",null,"普通"]
[null,null,null,null,null,null,2,null,7,3,null,null,9,1,null,5,2,null,3]
[null,1,null,null,6,7,3,null,4,2,null,null,3,null,null,null,7,6,1,null,9]
[null,null,2,3,8,4,null,6,null,null,null,null,null,null,2]
[null,null,null,null,null,null,5,null,6,9,null,null,null,6,null,4,null,null,null,9,3]
[null,null,5,null,2,6,null,null,8,4,null,null,null,null,null,9,5,7,8,6]
[null,4,6,null,9,null,null,null,null,1,null,null,4,8,null,6]
[null,null,null,7,null,8,null,1,9,null,null,null,7,4,null,null,null,null,9,null,1]
[null,5,null,null,null,2,null,null,null,8,null,null,1,null,null,null,null,8,5,null,2]
[null,null,null,4,null,null,1,null,null,null,null,null,null,null,5,3,1,null,null,null,7]
[]
[null,"NO.",34,null,null,{"$f":"COUNTA(B191:J199)","v":35},"ランク",null,"普通",null,null,null,"NO.",35,null,null,{"$f":"COUNTA(M191:U199)","v":35},"ランク",null,"普通"]
[null,2,4,null,null,null,5,6,7,null,null,null,null,null,4,9,null,5,null,null,6]
[null,null,6,null,null,9,null,null,3,null,null,null,7,null,null,null,1,null,null,5]
[null,null,null,9,8,null,7,null,null,2,null,null,3,null,5,null,null,null,7,null,4]
[null,null,null,2,6,null,1,null,null,7,null,null,null,null,9,3,null,null,null,null,5]
[null,null,5,null,null,3,null,null,8,null,null,null,null,6,null,null,2,null,null,3]
[null,6,null,null,9,null,8,5,null,4,null,null,5,null,1,8,null,7,6,null,2]
[null,8,null,null,null,null,3,9,null,null,null,null,null,7,null,1,null,null,5,null,8]
[null,null,1,4,null,8,null,null,6,null,null,null,null,5,null,null,9,null,null,2]
[null,null,null,5,1,null,6,null,null,3,null,null,4,null,3,2,null,8,null,null,7]
[]
[null,"NO.",36,null,null,{"$f":"COUNTA(B202:J210)","v":35},"ランク",null,"普通",null,null,null,"NO.",37,null,null,{"$f":"COUNTA(M202:U210)","v":35},"ランク",null,"普通"]
[null,null,1,null,6,3,null,null,4,8,null,null,null,9,null,null,3,1,null,4,8]
[null,9,null,4,null,2,null,null,null,null,null,null,4,1,3,2,null,null,5]
[null,7,null,null,null,null,4,null,3,null,null,null,8,null,null,4,5,null,7,null,3]
[null,8,null,null,1,null,null,5,null,null,null,null,null,null,null,null,null,null,null,null,5]
[null,null,5,9,7,null,null,8,6,2,null,null,7,null,4,8,2,null,null,null,6]
[null,4,null,null,null,null,5,3,9,null,null,null,9,2,null,5,null,null,8,3]
[null,6,null,null,null,5,1,9,null,null,null,null,6,null,null,1]
[null,null,null,7,null,null,null,null,1,null,null,null,null,7,null,null,null,null,9]
[null,null,9,null,null,null,8,6,2,3,null,null,3,null,null,null,8,2,6,7]
[]
[null,"NO.",38,null,null,{"$f":"COUNTA(B213:J221)","v":35},"ランク",null,"普通",null,null,null,"NO.",39,null,null,{"$f":"COUNTA(M213:U221)","v":35},"ランク",null,"普通"]
[null,2,null,1,null,8,null,null,null,9,null,null,null,null,null,3,null,null,2]
[null,null,null,3,null,5,null,null,1,null,null,null,null,2,null,null,null,8,null,1]
[null,null,5,null,1,null,2,null,7,3,null,null,5,8,1,4,null,2,null,7,3]
[null,null,null,null,null,null,7,null,6,null,null,null,7,5,null,9,null,4,null,null,6]
[null,6,4,null,8,2,null,1,null,null,null,null,6,4,null,5,null,3]
[null,null,1,null,3,null,5,9,null,2,null,null,null,null,2,7,null,6,null,5]
[null,null,null,null,null,null,null,null,null,4,null,null,8,1,null,null,null,null,null,null,7]
[null,7,3,2,9,null,null,null,null,null,null,null,null,null,null,null,null,null,null,3]
[null,null,6,4,null,3,8,7,9,null,null,null,2,7,null,8,3,null,1,9]
[]
[null,"NO.",40,null,null,{"$f":"COUNTA(B224:J232)","v":35},"ランク",null,"普通",null,null,null,"NO.",41,null,null,{"$f":"COUNTA(M224:U232)","v":35},"ランク",null,"普通"]
[null,null,1,7,6,null,null,3,null,null,null,null,2,null,7,null,null,null,null,3]
[null,8,null,4,2,null,null,null,null,5,null,null,null,5,null,2,null,null,null,null,4]
[null,null,null,null,8,null,null,4,1,null,null,null,null,1,null,6,9,null,8]
[null,4,null,null,null,2,8,null,null,null,null,null,null,null,1,7,5,null,null,6]
[null,1,5,3,null,null,6,null,null,7,null,null,null,null,null,4,null,null,1,8,9]
[null,2,null,8,null,5,null,6,9,null,null,null,6,4,9,null,3,null,5,2]
[null,null,4,9,null,6,null,null,7,2,null,null,7,3,4,1,null,5,6,9]
[null,7,2,null,null,8,null,9,null,null,null,null,1,null,null,null,7]
[null,null,null,null,9,7,null,null,null,null,null,null,null,null,null,null,null,8,3]
[]
[null,"NO.",42,null,null,{"$f":"COUNTA(B235:J243)","v":35},"ランク",null,"普通",null,null,null,"NO.",43,null,null,{"$f":"COUNTA(M235:U243)","v":35},"ランク",null,"普通"]
[null,null,1,null,5,2,null,null,6,3,null,null,null,3,1,2,null,4,null,null,6]
[null,null,null,null,3,null,null,1,null,9,null,null,null,8,2,6,null,null,null,3]
[null,null,null,6,null,9,null,7,null,null,null,null,null,null,null,null,null,8,9]
[null,null,5,3,null,null,6,null,null,2,null,null,8,null,null,null,4,6]
[null,null,null,4,null,null,null,null,null,null,null,null,null,1,7,null,null,9,4]
[null,8,2,7,9,5,3,6,null,null,null,null,3,null,4,5,2,7,8,6]
[null,null,null,2,null,null,null,null,null,null,null,null,null,5,3,null,null,1,7,9]
[null,4,7,null,null,8,null,null,9,6,null,null,7,null,null,null,null,null,null,1]
[null,9,null,8,7,null,4,2,null,1,null,null,null,null,null,null,8,3,null,null,5]
[]
[null,"NO.",243,null,null,{"$f":"COUNTA(B246:J254)","v":35},"ランク",null,"普通",null,null,null,"NO.",44,null,null,{"$f":"COUNTA(M246:U254)","v":34},"ランク",null,"普通"]
[null,4,7,null,3,null,null,6,null,null,null,null,null,8,2,null,null,4,9,null,7]
[null,null,5,9,null,2,null,null,null,1,null,null,1,null,9,8,6,null,5,null,3]
[null,8,1,null,null,4,null,2,3,9,null,null,null,null,null,null,9,2,6]
[null,null,null,4,null,null,6,null,null,3,null,null,null,1,null,null,5,null,4]
[null,1,null,null,5,null,null,null,6,2,null,null,8,null,4,7,null,null,null,null,5]
[null,null,null,null,2,null,3,null,8,null,null,null,null,null,7,null,4,null,null,3,6]
[null,null,6,7,8,null,null,1,4,null,null,null,null,null,null,null,8,9]
[null,null,null,null,null,5,7,null,9,null,null,null,null,2,1,null,null,null,3,null,9]
[null,5,8,null,null,6,null,null,null,null,null,null,7,null,null,3,null,null,null,6]
[]
[null,"NO.",45,null,null,{"$f":"COUNTA(B257:J265)","v":34},"ランク",null,"普通",null,null,null,"NO.",46,null,null,{"$f":"COUNTA(M257:U265)","v":34},"ランク",null,"普通"]
[null,null,1,null,6,null,null,null,null,2,null,null,null,1,5,2,9,null,4,3]
[null,8,null,5,1,null,2,3,6,9,null,null,null,3,6,null,7,null,null,8,9]
[null,null,null,null,null,8,9,5,null,4]
[null,null,4,null,5,null,null,6,null,null,null,null,null,4,3,null,1,null,5]
[null,1,6,null,9,7,null,null,3,null,null,null,null,8,null,null,4,null,3,1]
[null,null,null,2,null,null,null,null,4,null,null,null,null,2,null,3,5,null,null,null,6]
[null,null,null,7,null,null,1,9,null,null,null,null,null,9,1,null,2,7,null,6]
[null,null,null,9,null,null,7,null,null,6,null,null,3,null,null,8,null,null,9]
[null,6,null,null,8,null,5,null,null,3,null,null,7,6,null,null,null,null,null,null,1]
[]
[null,"NO.",47,null,null,{"$f":"COUNTA(B268:J276)","v":34},"ランク",null,"普通",null,null,null,"NO.",48,null,null,{"$f":"COUNTA(M268:U276)","v":34},"ランク",null,"普通"]
[null,9,8,null,null,1,null,3,null,7,null,null,null,4,null,7,null,1,null,null,5]
[null,5,null,null,7,2,null,null,4,null,null,null,null,null,null,null,3]
[null,null,null,4,null,null,null,9,null,null,null,null,6,null,9,null,null,null,3,null,7]
[null,6,null,null,9,null,1,null,3,null,null,null,null,2,null,null,null,9,8,null,6]
[null,null,5,null,null,8,null,6,1,null,null,null,null,5,7,null,8,null,4]
[null,null,9,null,6,null,4,null,null,2,null,null,3,null,null,null,null,4,null,5,9]
[null,null,null,null,3,null,7,5,null,null,null,null,1,3,null,9,2,null,5,null,8]
[null,8,7,null,null,null,2,null,9,3,null,null,null,null,2,null,5,null,null,null,1]
[null,null,null,1,null,9,null,null,null,6,null,null,7,9,null,null,null,8,null,4]
[]
[null,"NO.",49,null,null,{"$f":"COUNTA(B279:J287)","v":34},"ランク",null,"普通",null,null,null,"NO.",50,null,null,{"$f":"COUNTA(M279:U287)","v":34},"ランク",null,"普通"]
[null,null,null,null,9,null,null,7,null,5,null,null,null,7,null,null,null,9,null,6,3]
[null,null,null,7,null,2,null,1,null,null,null,null,3,null,null,null,2]
[null,null,1,4,8,null,null,null,3,2,null,null,1,null,null,8,6,null,2]
[null,null,5,null,null,null,2,null,null,null,null,null,null,null,null,null,5,1,4,9]
[null,null,4,1,null,9,null,5,2,6,null,null,8,null,2,null,null,4,6]
[null,6,9,null,5,4,7,null,null,null,null,null,5,4,null,null,8]
[null,null,null,null,null,null,null,null,9,null,null,null,null,3,7,null,1,null,9]
[null,null,6,null,null,1,3,8,null,null,null,null,9,null,8,null,7,2]
[null,4,7,null,6,8,null,null,null,3,null,null,null,2,null,null,3,8,5,null,4]
[]
[null,"NO.",51,null,null,{"$f":"COUNTA(B290:J298)","v":34},"ランク",null,"普通",null,null,null,"NO.",52,null,null,{"$f":"COUNTA(M290:U298)","v":34},"ランク",null,"普通"]
[null,9,null,null,8,null,2,3,1,null,null,null,6,null,null,2,null,null,3,null,4]
[null,null,null,8,null,null,null,null,null,null,null,null,null,null,null,8]
[null,2,1,null,null,null,4,null,6,null,null,null,2,1,3,9,null,7,null,5]
[null,7,5,null,null,null,null,1,null,null,null,null,4,null,null,null,null,5]
[null,4,null,null,3,null,null,6,null,null,null,null,null,null,6,1,null,null,2]
[null,null,6,null,4,5,7,null,null,9,null,null,null,7,1,4,null,8,6,null,9]
[null,null,null,6,null,4,8,null,2,null,null,null,null,null,7,null,8]
[null,null,null,7,null,3,9,8,null,null,null,null,null,null,9,3,null,null,null,2,7]
[null,null,3,null,6,2,5,null,9,null,null,null,3,4,5,7,null,null,9,null,8]
[]
[null,"NO.",53,null,null,{"$f":"COUNTA(B301:J309)","v":34},"ランク",null,"普通",null,null,null,"NO.",54,null,null,{"$f":"COUNTA(M301:U309)","v":34},"ランク",null,"普通"]
[null,4,2,null,null,null,null,null,null,6,null,null,4,null,null,3,6]
[null,null,3,6,null,null,null,null,null,2,null,null,null,2,null,4,null,null,3,5]
[null,7,1,5,6,4,2,3,null,null,null,null,null,1,null,null,7,2,6]
[null,null,null,null,5,null,null,null,null,null,null,null,9,4,8,6,2,null,1]
[null,null,7,2,null,1,null,null,9,4,null,null,null,null,7,1,4,null,null,2]
[null,null,9,4,null,null,8,6,null,null,null,null,null,null,null,null,null,5,null,null,6]
[null,null,null,7,1,null,null,null,null,5,null,null,2,7,1,8,null,null,9,3]
[null,2,8,null,null,3,null,9,null,7,null,null,null,8,null,9,3,null,5]
[null,null,5,null,8,null,null,1,null,null,null,null,null,9]
[]
[null,"NO.",55,null,null,{"$f":"COUNTA(B312:J320)","v":34},"ランク",null,"普通",null,null,null,"NO.",56,null,null,{"$f":"COUNTA(M312:U320)","v":34},"ランク",null,"普通"]
[null,null,null,4,null,null,null,2,null,3,null,null,2,null,null,null,null,null,null,9,3]
[null,1,5,null,null,2,6,null,8,4,null,null,9,null,null,null,3,8,null,null,2]
[null,null,2,9,8,null,null,null,null,1,null,null,null,1,3,2,null,null,8]
[null,null,null,6,null,null,null,null,2,null,null,null,null,null,6,null,5,1,null,null,8]
[null,4,9,null,null,null,null,5,1,null,null,null,7,5,4,null,2,null,null,6,1]
[null,null,null,null,4,5,9,6,3,null,null,null,1,null,null,null,null,null,5]
[null,null,null,8,null,null,1,3,null,null,null,null,null,7,null,null,null,4]
[null,null,null,5,null,8,null,null,null,6,null,null,6,null,null,null,7,9,null,null,4]
[null,7,3,null,null,6,null,null,9,null,null,null,null,4,null,6,8,null,null,7,9]
[]
[null,"NO.",57,null,null,{"$f":"COUNTA(B323:J331)","v":34},"ランク",null,"普通",null,null,null,"NO.",58,null,null,{"$f":"COUNTA(M323:U331)","v":34},"ランク",null,"普通"]
[null,8,null,3,null,null,null,2,7,null,null,null,7,4,null,null,9,null,null,3]
[null,null,null,9,null,null,null,null,null,8,null,null,6,null,1,7,2,5,null,null,8]
[null,5,1,7,8,null,2,null,3,null,null,null,2,5,null,null,null,null,6]
[null,2,3,4,6,1,9,null,5,null,null,null,4,null,null,5,7,null,1,null,6]
[null,null,null,5,null,3,null,4,6,null,null,null,null,1,null,null,null,2]
[null,null,null,null,null,5,4,null,null,null,null,null,null,null,null,null,null,9,null,null,4]
[null,null,7,2,null,8,null,null,null,null,null,null,null,null,7,null,null,8,null,null,9]
[null,null,null,8,null,null,6,null,9,null,null,null,8,9,null,2,1,null,4,null,3]
[null,null,5,null,null,null,null,7,null,3,null,null,3,null,null,null,null,null,8,null,7]
[]
[null,"NO.",59,null,null,{"$f":"COUNTA(B334:J342)","v":34},"ランク",null,"普通",null,null,null,"NO.",60,null,null,{"$f":"COUNTA(M334:U342)","v":34},"ランク",null,"普通"]
[null,null,null,1,null,null,6,null,null,3,null,null,3,6,null,7,null,null,2,8]
[null,3,4,2,7,null,9,6,null,null,null,null,null,1,null,null,null,4,5,null,3]
[null,6,5,null,8,2,null,null,null,1,null,null,null,5,null,null,2,null,4,9]
[null,9,null,null,null,null,5,null,1,4,null,null,null,null,null,2,4,null,3]
[null,null,2,null,null,4,null,null,null,null,null,null,1,4,null,null,5,3,8,6]
[null,null,null,4,2,9,null,null,null,6,null,null,5,3,null,6]
[null,null,null,3,null,7,8,null,null,null,null,null,null,null,null,null,null,9,null,2,7]
[null,4,6,7,null,3,null,null,8,null,null,null,4,null,null,null,null,null,9]
[null,null,null,null,null,null,null,null,9,7,null,null,null,7,1,null,8,2]
[]
[null,"NO.",61,null,null,{"$f":"COUNTA(B345:J353)","v":34},"ランク",null,"普通",null,null,null,"NO.",62,null,null,{"$f":"COUNTA(M345:U353)","v":34},"ランク",null,"普通"]
[null,1,8,null,null,6,null,2,7,null,null,null,9,null,7,2,3,null,4]
[null,null,null,5,null,null,2,null,null,1,null,null,1,null,null,5,null,4,3,null,9]
[null,4,null,null,null,9,null,null,3,5,null,null,null,null,3]
[null,8,4,7,3,null,5,1,6,null,null,null,3,7,4,null,null,null,6,1]
[null,null,null,1,null,8,null,null,null,3,null,null,6,5,null,null,1,7,null,null,3]
[null,null,null,null,4,null,null,null,null,null,null,null,8,null,null,6,5,null,9]
[null,null,9,4,2,null,7,3,null,null,null,null,7,null,1,null,2,8]
[null,7,1,null,8,null,null,null,null,6,null,null,null,null,null,null,null,null,8,9]
[null,2,null,null,null,null,null,9,null,null,null,null,null,6,null,null,4,5]
[]
[null,"NO.",244,null,null,{"$f":"COUNTA(B356:J364)","v":34},"ランク",null,"普通",null,null,null,"NO.",245,null,null,{"$f":"COUNTA(M356:U364)","v":34},"ランク",null,"普通"]
[null,1,null,3,6,null,7,null,8,null,null,null,1,null,null,null,6,3,null,8,5]
[null,null,7,9,2,null,3,6,null,null,null,null,8,2,null,9,null,5,null,3]
[null,4,null,6,1,null,null,null,null,3,null,null,null,null,5,2,8,null,null,7]
[null,null,1,null,null,null,5,4,null,null,null,null,null,null,8,null,null,2,null,5]
[null,null,4,5,7,1,null,8,null,6,null,null,null,7,4,5]
[null,null,null,null,null,null,null,null,null,null,null,null,null,null,3,8,null,null,null,6]
[null,2,null,null,null,null,null,null,null,null,null,null,3,null,null,null,9]
[null,null,9,null,5,null,4,2,null,null,null,null,4,5,1,null,null,8,null,9,6]
[null,7,null,4,8,null,null,3,9,1,null,null,7,null,2,6]
[]
[null,"NO.",63,null,null,{"$f":"COUNTA(B367:J375)","v":33},"ランク",null,"普通",null,null,null,"NO.",64,null,null,{"$f":"COUNTA(M367:U375)","v":33},"ランク",null,"普通"]
[null,null,null,1,null,5,null,null,null,null,null,null,9,null,null,8]
[null,null,7,null,8,null,null,null,1,9,null,null,6,7,null,1,null,null,2,5,3]
[null,8,4,9,7,2,null,null,null,3,null,null,null,1,null,null,2,6]
[null,null,null,4,null,null,5,null,null,1,null,null,5,null,null,null,null,7,1,8]
[null,null,2,null,null,4,null,3,null,null,null,null,7,4,null,6,8,2]
[null,3,null,5,null,7,2,null,null,6,null,null,null,3,null,null,null,5,null,null,6]
[null,null,null,6,null,8,null,null,5,null,null,null,null,9,null,null,7,1,null,null,4]
[null,7,null,null,null,null,3,null,4,null,null,null,null,null,null,null,null,4]
[null,null,null,8,null,1,6,9,null,null,null,null,4,null,7,null,null,8,3,null,9]
[]
[null,"NO.",65,null,null,{"$f":"COUNTA(B378:J386)","v":33},"ランク",null,"普通",null,null,null,"NO.",66,null,null,{"$f":"COUNTA(M378:U386)","v":33},"ランク",null,"普通"]
[null,null,null,null,8,null,6,3,null,9,null,null,8,null,1,6,null,null,7]
[null,null,null,1,null,null,2,null,null,null,null,null,null,null,2,null,4,null,null,null,1]
[null,9,2,null,null,7,null,null,null,1,null,null,5,null,7,null,2,null,3]
[null,5,null,3,null,4,null,null,9,6,null,null,null,null,null,4,5,3,6]
[null,7,9,null,1,null,5,null,null,4,null,null,null,null,4,null,null,null,5,null,3]
[null,null,null,4,null,null,3,null,null,5,null,null,null,6,5,null,7,1]
[null,null,7,null,6,null,null,null,null,2,null,null,7,null,9,8,null,2,4]
[null,2,null,null,null,null,null,null,8,null,null,null,null,8,6,null,null,null,9,null,2]
[null,null,4,6,7,null,8,9,null,null,null,null,4,null,null,null,null,9]
[]
[null,"NO.",67,null,null,{"$f":"COUNTA(B389:J397)","v":33},"ランク",null,"普通",null,null,null,"NO.",68,null,null,{"$f":"COUNTA(M389:U397)","v":33},"ランク",null,"普通"]
[null,null,null,null,4,6,9,3,1,null,null,null,null,9,null,null,null,4,null,2,5]
[null,null,1,2,null,null,null,null,null,8,null,null,2,4,null,null,null,7,3,1]
[null,null,3,4,2,null,null,null,7,null,null,null,1,null,null,2]
[null,null,null,7,5,null,2,9,null,6,null,null,null,null,null,null,7,9,null,6]
[null,null,6,9,1,null,null,null,3,null,null,null,null,7,4,6,null,5,null,8,3]
[null,4,null,null,null,null,6,null,null,null,null,null,5,6]
[null,7,null,1,null,5,null,null,8,3,null,null,null,null,9,null,8,3,6]
[null,5,null,null,null,2,null,null,9,null,null,null,7,null,5,null,null,1,9]
[null,null,null,null,8,null,7,null,null,null,null,null,null,3,null,9,null,null,null,null,8]
[]
[null,"NO.",69,null,null,{"$f":"COUNTA(B400:J408)","v":33},"ランク",null,"普通",null,null,null,"NO.",70,null,null,{"$f":"COUNTA(M400:U408)","v":33},"ランク",null,"普通"]
[null,null,4,7,3,null,null,null,null,null,null,null,null,5,null,2,1,null,9]
[null,null,9,1,7,null,2,null,5,3,null,null,null,1,null,null,null,5,null,null,3]
[null,null,3,null,null,8,null,1,null,9,null,null,3,4,null,6,null,null,null,1,2]
[null,4,null,null,null,null,3,null,null,6,null,null,null,null,4,5,null,8,null,null,6]
[null,null,2,null,null,7,6,null,null,null,null,null,8,null,null,null,null,1,4]
[null,null,null,8,null,null,5,3,1,null,null,null,5,null,null,7,null,null,null,null,1]
[null,null,1,null,null,5,7,2,null,null,null,null,null,7,null,3,null,null,null,6,9]
[null,null,6,null,null,null,8,null,9,null,null,null,4,3,9,8,6]
[null,7,null,5,null,null,null,null,4,null,null,null,null,null,null,null,7,null,null,2]
[]
[null,"NO.",71,null,null,{"$f":"COUNTA(B411:J419)","v":33},"ランク",null,"普通",null,null,null,"NO.",72,null,null,{"$f":"COUNTA(M411:U419)","v":33},"ランク",null,"普通"]
[null,null,7,null,null,null,null,null,null,4,null,null,null,null,6,null,8,null,null,1]
[null,5,null,4,null,2,null,null,1,null,null,null,1,4,null,3,null,5,null,9]
[null,1,null,null,null,5,8,3,null,null,null,null,null,null,null,null,7,2,4,3]
[null,9,null,null,5,null,null,null,6,null,null,null,5,null,1,7,null,null,6]
[null,null,4,null,null,7,3,null,9,5,null,null,null,null,7,null,null,null,null,4,5]
[null,7,null,null,8,null,null,null,2,null,null,null,4,null,null,5,2]
[null,null,null,7,1,3,null,9,null,6,null,null,null,7,4,null,1,8,null,null,9]
[null,null,3,null,null,null,9,8,null,null,null,null,2,8,null,9,null,null,null,6,1]
[null,null,6,9,null,8,null,2,null,null,null,null,null,null,null,null,3]
[]
[null,"NO.",73,null,null,{"$f":"COUNTA(B422:J430)","v":33},"ランク",null,"普通",null,null,null,"NO.",74,null,null,{"$f":"COUNTA(M422:U430)","v":33},"ランク",null,"普通"]
[null,null,1,null,7,null,null,null,null,2,null,null,7,2,null,null,6]
[null,7,null,null,null,null,2,null,3,1,null,null,9,null,3,7,null,null,null,null,5]
[null,2,null,null,4,5,null,null,7,null,null,null,null,null,1,4,2,null,8,null,3]
[null,3,null,null,5,null,null,null,9,null,null,null,null,null,null,6,null,2,null,4,9]
[null,null,4,null,null,null,7,6,null,8,null,null,null,1]
[null,null,null,1,6,9,null,2,5,null,null,null,null,9,4,5,3,null,6]
[null,6,null,7,8,4,null,null,null,null,null,null,null,null,null,2,null,null,7]
[null,5,null,null,null,null,null,null,8,7,null,null,null,3,7,8,null,6,1,2]
[null,null,null,null,3,null,null,9,4,null,null,null,null,8,null,null,5,null,9]
[]
[null,"NO.",75,null,null,{"$f":"COUNTA(B433:J441)","v":33},"ランク",null,"普通",null,null,null,"NO.",76,null,null,{"$f":"COUNTA(M433:U441)","v":33},"ランク",null,"普通"]
[null,5,null,null,4,null,2,7,3,null,null,null,9,null,7,1,null,2,4,null,3]
[null,2,null,4,8,5,null,null,null,6,null,null,null,5,null,null,null,null,null,2]
[null,null,null,1,9,null,null,4,null,null,null,null,null,1,null,null,6,null,null,null,5]
[null,1,null,null,null,null,5,null,4,7,null,null,6,null,null,null,7,5,null,1]
[null,null,2,null,null,null,4,6,null,null,null,null,4,2]
[null,4,null,null,null,8,9,null,null,null,null,null,null,null,null,4,2,null,9,null,6]
[null,null,1,null,null,9,null,null,null,null,null,null,3,null,6,null,null,1,null,7,8]
[null,null,null,9,null,null,null,null,6,3,null,null,null,8,null,null,3,7]
[null,null,4,7,3,null,8,null,null,9,null,null,null,7,null,5,8,null,null,null,9]
[]
[null,"NO.",77,null,null,{"$f":"COUNTA(B444:J452)","v":33},"ランク",null,"普通",null,null,null,"NO.",78,null,null,{"$f":"COUNTA(M444:U452)","v":33},"ランク",null,"普通"]
[null,4,null,5,null,null,8,null,2,null,null,null,7,null,null,null,2,6,null,null,9]
[null,null,6,null,null,3,null,null,null,9,null,null,null,null,null,null,4,null,6,3]
[null,3,null,null,null,5,null,1,null,null,null,null,1,null,5,null,null,null,2]
[null,7,null,3,5,null,1,null,null,4,null,null,null,1,null,null,8,null,null,6]
[null,null,null,null,null,7,null,null,8,1,null,null,null,4,7,null,6]
[null,null,null,4,8,null,9,6,null,null,null,null,null,2,6,3,5,null,null,7,1]
[null,8,null,null,null,null,6,null,4,null,null,null,null,5,8,null,9,3]
[null,6,3,null,7,null,null,null,null,2,null,null,null,null,null,null,null,null,null,4,8]
[null,5,null,null,null,null,2,9,7,null,null,null,null,7,null,4,null,8,9,2]
[]
[null,"NO.",79,null,null,{"$f":"COUNTA(B455:J463)","v":33},"ランク",null,"普通",null,null,null,"NO.",80,null,null,{"$f":"COUNTA(M455:U463)","v":33},"ランク",null,"普通"]
[null,null,5,null,1,4,null,null,6,8,null,null,null,1,6,2,null,null,3]
[null,null,4,null,null,null,3,1,5,null,null,null,3,2,null,null,null,null,8]
[null,null,8,1,2,null,null,3,null,null,null,null,null,null,null,7,null,6,5]
[null,6,2,null,5,null,null,null,7,null,null,null,null,null,null,4,1,null,9,7,6]
[null,5,null,4,7,null,null,6,9,null,null,null,null,null,4,5,null,7]
[null,null,null,null,null,null,9,null,null,5,null,null,1,null,2]
[null,2,null,null,4,8,null,7,null,null,null,null,null,4,9,null,null,5,null,null,8]
[null,null,null,3,6,null,null,null,null,9,null,null,2,null,null,8,7,4,null,9,3]
[null,null,null,7,null,null,null,2,null,null,null,null,null,3,7,9]
[]
[null,"NO.",81,null,null,{"$f":"COUNTA(B466:J474)","v":33},"ランク",null,"普通",null,null,null,"NO.",82,null,null,{"$f":"COUNTA(M466:U474)","v":33},"ランク",null,"普通"]
[null,null,1,5,null,null,null,null,3,4,null,null,5,null,4,8,2,null,1,null,3]
[null,3,null,4,null,1,null,2,null,9,null,null,null,1,6,9,5,7,null,2]
[null,null,null,null,2,null,3,null,null,null,null,null,null,null,null,null,null,null,5]
[null,null,4,null,null,7,6,null,null,1,null,null,null,null,3,1]
[null,null,7,null,null,2,null,null,null,null,null,null,9,null,null,null,null,8,null,4,6]
[null,null,9,null,null,null,5,null,2,6,null,null,4,null,null,null,7,5,null,9]
[null,null,5,7,null,6,null,null,8,null,null,null,1,null,null,7,8,null,null,3]
[null,8,2,6,null,5,null,9,4,7,null,null,null,7,null,null,null,1,null,null,2]
[null,null,null,null,null,8,null,null,null,null,null,null,null,null,8,null,6,null,9]
[]
[null,"NO.",83,null,null,{"$f":"COUNTA(B477:J485)","v":33},"ランク",null,"普通",null,null,null,"NO.",84,null,null,{"$f":"COUNTA(M477:U485)","v":33},"ランク",null,"普通"]
[null,9,2,null,4,null,8,3,null,null,null,null,6,null,null,8,null,null,3,2,5]
[null,4,null,null,3,1,null,9,null,null,null,null,null,1,7,null,3,2]
[null,null,null,1,2,null,null,null,null,6,null,null,null,null,null,9,null,null,null,null,7]
[null,null,null,null,1,null,2,7,4,null,null,null,3,null,5]
[null,null,null,4,null,null,null,null,9,null,null,null,4,null,null,2,null,3]
[null,null,3,8,null,5,null,null,6,null,null,null,null,null,null,5,null,9,4,6,3]
[null,null,null,null,5,2,null,null,null,9,null,null,null,null,4,null,null,5,null,1]
[null,1,5,null,6,null,3,null,null,7,null,null,7,6,null,1,null,8]
[null,null,7,null,8,null,null,5,null,null,null,null,null,null,null,7,6,4,8,9]
[]
[null,"NO.",85,null,null,{"$f":"COUNTA(B488:J496)","v":33},"ランク",null,"普通",null,null,null,"NO.",86,null,null,{"$f":"COUNTA(M488:U496)","v":33},"ランク",null,"普通"]
[null,null,2,null,9,null,null,null,4,null,null,null,9,null,null,null,1,null,null,null,3]
[null,6,9,null,null,5,2,3,1,null,null,null,6,null,2,null,5,null,null,null,7]
[null,7,null,1,null,6,null,null,2,null,null,null,1,8,5,2,null,null,null,null,4]
[null,null,null,null,null,null,5,2,null,3,null,null,5,null,4,null,null,null,3]
[null,2,4,null,null,9,null,7,null,6,null,null,null,null,9,null,2,5,6,7]
[null,5,null,null,null,null,8,null,null,null,null,null,7,null,null,null,null,1,null,4]
[null,null,null,null,8,null,null,1,null,null,null,null,null,7,null,null,8,6,null,9]
[null,4,null,3,null,1,null,8,null,null,null,null,null,null,6,null,null,9,null,3]
[null,null,null,7,null,null,6,9,null,5,null,null,null,null,null,null,3,null,8,null,6]
[]
[null,"NO.",87,null,null,{"$f":"COUNTA(B499:J507)","v":33},"ランク",null,"普通",null,null,null,"NO.",88,null,null,{"$f":"COUNTA(M499:U507)","v":33},"ランク",null,"普通"]
[null,8,9,null,2,null,null,null,null,6,null,null,9,4,null,null,null,null,2,6,3]
[null,null,1,null,null,null,null,4,2,null,null,null,null,2,null,null,4,5]
[null,null,2,6,5,null,null,3,null,null,null,null,3,1,null,null,2,null,5]
[null,null,null,2,6,4,null,null,null,null,null,null,5,null,8,null,null,4,6,9]
[null,5,null,4,1,8,null,null,6,null,null,null,null,6,null,5,null,null,null,null,7]
[null,null,null,null,null,5,2,8,null,9,null,null,4,null,null,null,null,6,null,8]
[null,null,7,null,null,null,null,9,null,3,null,null,6,null,1,null,null,7,9,3]
[null,3,null,null,7,null,8,null,null,null,null,null,null,null,null,null,9]
[null,null,null,null,9,null,3,6,7,null,null,null,7,9,null,8,null,null,1]
[]
[null,"NO.",89,null,null,{"$f":"COUNTA(B510:J518)","v":33},"ランク",null,"普通",null,null,null,"NO.",90,null,null,{"$f":"COUNTA(M510:U518)","v":33},"ランク",null,"普通"]
[null,null,1,null,6,null,8,3,5,4,null,null,null,null,1,3,7,null,4]
[null,null,null,null,null,9,4,null,null,null,null,null,null,null,8,null,null,4]
[null,5,6,null,3,null,2,null,null,null,null,null,4,null,null,1,2,null,9,3,6]
[null,null,5,1,null,null,null,null,null,2,null,null,8,null,null,null,9,5,null,6]
[null,3,null,7,null,null,null,null,null,null,null,null,null,4,5,null,null,3]
[null,4,null,null,7,5,1,6,null,null,null,null,3,null,null,null,null,null,null,2,7]
[null,null,7,null,null,null,null,null,null,null,null,null,1,7,9,8,3]
[null,1,null,null,8,3,5,null,2,9,null,null,null,null,4,null,null,null,7]
[null,null,3,9,4,null,null,null,null,6,null,null,2,null,null,5,null,null,6,9]
[]
[null,"NO.",91,null,null,{"$f":"COUNTA(B521:J529)","v":33},"ランク",null,"普通",null,null,null,"NO.",92,null,null,{"$f":"COUNTA(M521:U529)","v":33},"ランク",null,"普通"]
[null,null,null,7,null,3,null,null,9,null,null,null,null,null,4,1,6,null,null,null,3]
[null,1,4,9,null,null,5,3,8,null,null,null,9,1,6,null,3,2,7,5,4]
[null,null,null,8,null,null,2,null,null,1,null,null,3]
[null,null,null,null,null,null,9,null,null,null,null,null,null,null,2,null,8,4,3]
[null,4,null,null,3,5,null,null,2,6,null,null,1,null,null,null,null,null,null,null,6]
[null,6,null,2,1,null,null,null,5,null,null,null,null,4,8,null,5,null,null,null,9]
[null,null,null,6,4,null,7,null,null,8,null,null,5,null,null,2,null,null,null,9,7]
[null,9,null,null,null,null,null,7,3,null,null,null,null,6]
[null,7,null,4,null,8,null,null,null,9,null,null,4,7,null,null,1,8,null,3]
[]
[null,"NO.",93,null,null,{"$f":"COUNTA(B532:J540)","v":32},"ランク",null,"普通",null,null,null,"NO.",94,null,null,{"$f":"COUNTA(M532:U540)","v":32},"ランク",null,"普通"]
[null,null,3,null,2,null,7,null,null,null,null,null,null,3,6,2,null,7,5]
[null,null,5,null,null,null,null,null,9,null,null,null,2,null,null,null,3,null,6]
[null,null,1,null,6,null,4,3,8,2,null,null,null,1,null,6,null,null,3,null,2]
[null,null,7,null,null,8,null,null,6,null,null,null,null,null,1,null,null,null,null,6,5]
[null,null,4,null,3,null,null,null,null,null,null,null,null,4,null,null,7,9]
[null,9,2,null,5,null,null,4,7,null,null,null,null,null,8,5,null,null,null,7]
[null,null,null,2,null,6,null,null,null,1,null,null,null,null,2,null,6,null,null,4]
[null,4,9,7,null,2,null,null,null,null,null,null,4,9,7,1,2,null,8]
[null,1,null,null,null,null,8,null,5,9,null,null,null,null,null,null,null,8,null,null,9]
[]
[null,"NO.",95,null,null,{"$f":"COUNTA(B543:J551)","v":32},"ランク",null,"普通",null,null,null,"NO.",96,null,null,{"$f":"COUNTA(M543:U551)","v":32},"ランク",null,"普通"]
[null,null,5,null,null,7,2,8,1,null,null,null,2,null,5,null,7,null,null,null,1]
[null,null,null,2,null,null,9,3,null,null,null,null,null,1,null,8,4,2,null,5]
[null,9,1,null,null,null,null,2,null,null,null,null,null,null,null,9,null,null,3,null,2]
[null,null,null,null,9,5,null,4,3,null,null,null,null,null,null,null,2,4,null,8,3]
[null,3,2,null,4,null,null,null,null,null,null,null,null,7,null,5]
[null,null,4,8,2,null,1,null,null,6,null,null,4,null,9,null,null,null,null,6]
[null,null,6,null,null,1,null,9,null,null,null,null,null,9,null,null,null,null,null,null,8]
[null,null,null,7,8,null,null,null,null,null,null,null,null,6,2,3,1,null,null,null,9]
[null,null,null,4,null,null,5,6,null,7,null,null,null,null,7,null,8,null,null,1,6]
[]
[null,"NO.",97,null,null,{"$f":"COUNTA(B554:J562)","v":32},"ランク",null,"普通",null,null,null,"NO.",98,null,null,{"$f":"COUNTA(M554:U562)","v":32},"ランク",null,"普通"]
[null,null,5,6,7,9,null,1,null,8,null,null,null,2,null,null,null,null,null,null,3]
[null,null,4,1,null,null,2,3,null,null,null,null,null,null,null,null,null,3,5,7]
[null,null,null,null,null,null,3,null,4,null,null,null,null,1,3,2,7]
[null,null,6,null,null,3,null,null,null,7,null,null,3,null,4,9,null,null,null,null,6]
[null,null,8,4,2,null,null,5,6,null,null,null,2,9,null,7,5,null,null,8]
[null,null,null,null,null,5,9,8,null,null,null,null,8,null,6,4,null,null,1]
[null,null,null,null,null,2,null,7,null,null,null,null,7,null,9,null,2,null,null,6]
[null,null,null,7,8,null,5,9,3,null,null,null,null,null,null,null,9,null,4]
[null,null,1,3,null,null,null,null,null,null,null,null,null,null,5,8,1,null,null,null,9]
[]
[null,"NO.",99,null,null,{"$f":"COUNTA(B565:J573)","v":32},"ランク",null,"普通",null,null,null,"NO.",100,null,null,{"$f":"COUNTA(M565:U573)","v":32},"ランク",null,"普通"]
[null,null,6,1,2,null,null,null,null,3,null,null,2,null,5,null,null,null,null,null,6]
[null,null,2,null,9,null,null,null,null,1,null,null,null,null,7,null,2,4,null,3]
[null,7,9,null,1,6,null,2,null,null,null,null,null,1,null,6,null,null,2]
[null,1,null,null,7,null,4,8,null,6,null,null,null,null,6,null,null,8,1,4]
[null,4,null,3,null,9,null,null,null,null,null,null,8,7,null,null,1]
[null,null,null,null,5,null,null,3,9,null,null,null,null,4,1,5,9,null,6]
[null,null,3,null,8,7,null,5,null,null,null,null,null,null,null,8,null,null,3,null,9]
[null,null,4,7,null,null,null,null,null,8,null,null,null,5,null,2,4,null,null,8]
[null,null,null,null,null,5,null,null,null,9,null,null,7,null,9,3]
[]
[null,"NO.",101,null,null,{"$f":"COUNTA(B576:J584)","v":32},"ランク",null,"普通",null,null,null,"NO.",102,null,null,{"$f":"COUNTA(M576:U584)","v":32},"ランク",null,"普通"]
[null,7,null,6,null,null,8,null,null,9,null,null,null,null,1,7,5]
[null,null,null,4,2,null,null,null,null,null,null,null,null,null,8,9,3,null,5]
[null,null,null,1,null,null,4,5,2,3,null,null,null,null,7,2,null,null,3,null,9]
[null,null,8,5,7,null,null,null,9,6,null,null,null,3,null,null,9,null,2,6]
[null,null,4,null,null,1,5,3,null,null,null,null,null,2,9,1,null,5,null,4]
[null,null,null,null,null,6,null,null,null,5,null,null,1,4,null,null,null,8]
[null,null,3,7,1,5,null,null,null,4,null,null,null,null,4,6,7,null,1,9]
[null,null,null,null,null,null,null,2,null,null,null,null,6,7,null,8]
[null,null,6,null,null,8,7,9,null,null,null,null,null,null,null,null,null,null,null,8]
[]
[null,"NO.",103,null,null,{"$f":"COUNTA(B587:J595)","v":32},"ランク",null,"普通",null,null,null,"NO.",104,null,null,{"$f":"COUNTA(M587:U595)","v":32},"ランク",null,"普通"]
[null,null,4,null,null,6,null,null,null,7,null,null,null,5,1,null,null,null,null,null,2]
[null,null,5,1,null,9,7,4,null,3,null,null,null,null,null,1,null,4,null,null,3]
[null,3,null,null,null,2,1,null,null,null,null,null,null,8,null,2,3,null,1,5]
[null,4,null,null,null,null,5,6,null,8,null,null,4,null,null,5,9,null,null,2]
[null,null,3,2,null,1,null,null,null,5,null,null,null,3,2,null,null,8,7,4]
[null,7,null,null,null,3,null,null,1,null,null,null,null,null,8,null,null,null,null,null,6]
[null,null,9,7,null,5,null,8,null,null,null,null,null,2,null,8,null,9,null,6,7]
[null,null,null,null,1,null,null,null,9,6,null,null,7,4,null,null,null,null,9,1]
[null,null,2,null,null,8,null,null,null,null,null,null,null,null,null,null,6]
[]
[null,"NO.",105,null,null,{"$f":"COUNTA(B598:J606)","v":32},"ランク",null,"普通",null,null,null,"NO.",106,null,null,{"$f":"COUNTA(M598:U606)","v":32},"ランク",null,"普通"]
[null,6,null,null,null,null,1,3,null,null,null,null,null,6,4,null,9,null,7,3]
[null,null,4,null,8,null,null,1,null,7,null,null,1,7,null,null,3,8,null,5]
[null,7,null,1,2,4,null,null,null,null,null,null,5,9,null,null,2]
[null,null,null,9,null,1,5,null,8,2,null,null,6,null,null,null,4,5,8]
[null,null,null,5,null,3,2,null,null,6,null,null,4,5,8,null,null,null,null,6]
[null,null,null,4,7,null,null,null,null,null,null,null,null,null,null,1,null,null,null,2]
[null,null,null,6,null,null,4,null,null,null,null,null,null,null,null,null,null,null,null,7,9]
[null,null,8,7,null,null,null,9,5,null,null,null,null,null,null,8]
[null,null,null,2,9,8,null,null,null,3,null,null,7,1,5,2,null,9,3]
[]
[null,"NO.",107,null,null,{"$f":"COUNTA(B609:J617)","v":32},"ランク",null,"普通",null,null,null,"NO.",108,null,null,{"$f":"COUNTA(M609:U617)","v":32},"ランク",null,"普通"]
[null,null,null,null,null,6,8,null,3,null,null,null,5,null,null,null,null,null,3,2]
[null,null,null,6,null,null,null,null,null,7,null,null,4,1,null,2,null,6]
[null,4,1,5,3,2,null,null,null,8,null,null,null,null,null,7,null,null,null,null,8]
[null,null,4,8,null,9,null,null,5,null,null,null,null,null,5,3,null,null,6,9]
[null,null,9,null,null,5,3,null,null,6,null,null,null,4,null,6,9,8,1]
[null,null,6,null,8,null,2,null,null,9,null,null,null,3,null,null,null,5,7,8]
[null,null,null,4,7,null,null,2,null,null,null,null,null,6,7,null,2,null,9,null,1]
[null,1,null,null,null,null,null,null,9,null,null,null,null,null,null,null,null,7,null,4]
[null,null,7,null,null,8,1,null,null,5,null,null,null,9,null,5,8]
[]
[null,"NO.",109,null,null,{"$f":"COUNTA(B620:J628)","v":32},"ランク",null,"普通",null,null,null,"NO.",110,null,null,{"$f":"COUNTA(M620:U628)","v":32},"ランク",null,"普通"]
[null,null,2,null,null,null,5,null,null,null,null,null,null,null,3,null,4,null,1,null,9]
[null,1,null,null,null,null,null,2,5,3,null,null,1,null,2,6,null,null,null,null,4]
[null,null,6,4,null,7,2,null,8,null,null,null,9,8,4,null,2,null,3]
[null,9,null,null,5,null,null,3,null,null,null,null,4,null,8,null,7,null,6,null,5]
[null,null,null,null,8,null,7,null,6,9,null,null,null,2,null,8,1,5,null,4]
[null,null,4,6,null,null,null,5,null,null,null,null,5,null,null,null,9]
[null,4,5,1,null,8,null,null,null,2,null,null,null,7,null,3,null,null,null,9]
[null,null,8,null,null,null,null,null,9,null,null,null,null,1,6,null,null,7,null,null,2]
[null,null,null,7,4,null,1,null,3]
[]
[null,"NO.",111,null,null,{"$f":"COUNTA(B631:J639)","v":32},"ランク",null,"普通",null,null,null,"NO.",112,null,null,{"$f":"COUNTA(M631:U639)","v":32},"ランク",null,"普通"]
[null,null,null,1,null,7,9,6,null,3,null,null,null,8,null,null,null,null,5,3]
[null,8,null,null,null,2,1,null,null,null,null,null,null,3,null,null,2,null,null,4]
[null,4,7,6,null,5,null,null,1,null,null,null,null,1,null,null,7,4,null,null,6]
[null,null,2,4,null,null,null,null,null,7,null,null,null,null,9,null,1,null,2,null,5]
[null,null,null,8,null,3,5,null,null,1,null,null,null,4,null,5,null,null,6,1]
[null,null,null,null,null,9,null,null,null,6,null,null,1,null,null,2,null,7]
[null,null,3,null,5,8,2,null,6,null,null,null,null,9,null,6,null,null,null,8,4]
[null,7,8,null,null,null,null,null,null,9,null,null,null,null,4,null,3,8,1,null,9]
[null,null,4,null,null,null,null,null,3,null,null,null,5,7]
[]
[null,"NO.",113,null,null,{"$f":"COUNTA(B642:J650)","v":32},"ランク",null,"普通",null,null,null,"NO.",114,null,null,{"$f":"COUNTA(M642:U650)","v":32},"ランク",null,"普通"]
[null,null,9,null,null,2,3,null,null,5,null,null,null,null,4,null,1,null,3]
[null,null,2,3,null,null,5,7,null,4,null,null,5,null,null,null,null,2,8]
[null,null,1,null,null,null,7,null,3,6,null,null,1,null,8,4,null,null,null,null,6]
[null,null,8,1,null,3,null,6,null,null,null,null,null,3,5,null,null,8,null,6,7]
[null,null,null,4,7,null,null,null,8,2,null,null,null,null,null,5,null,3,9]
[null,null,null,null,null,5,null,null,4,null,null,null,null,4,1,null,null,6,null,null,5]
[null,3,null,null,8,9,null,null,null,null,null,null,null,null,7,null,6,null,null,9]
[null,null,null,null,null,null,null,5,null,null,null,null,null,null,2,9,8,null,null,7]
[null,6,7,null,null,null,1,null,2,9,null,null,null,1,null,null,null,null,null,8,2]
[]
[null,"NO.",115,null,null,{"$f":"COUNTA(B653:J661)","v":32},"ランク",null,"普通",null,null,null,"NO.",116,null,null,{"$f":"COUNTA(M653:U661)","v":32},"ランク",null,"普通"]
[null,null,null,2,null,null,7,null,6,null,null,null,null,null,1,3,null,2,5,7]
[null,8,6,null,null,9,3,null,1,null,null,null,4,null,null,null,null,null,3,null,8]
[null,null,1,null,2,null,null,null,3,4,null,null,null,7,null,null,9,null,2]
[null,2,null,null,null,null,null,null,null,null,null,null,null,null,null,null,null,null,7]
[null,6,null,null,null,4,null,null,null,9,null,null,null,9,null,6,null,5,null,1]
[null,null,9,4,null,2,5,6,8,7,null,null,null,4,2,null,null,8,6]
[null,null,7,null,8,5,null,null,9,3,null,null,2,null,4,8,6,null,9,3,5]
[null,null,null,null,7,null,null,null,null,null,null,null,5,3,null,1,null,null,4]
[null,5,4,null,null,null,null,null,null,1,null,null,7]
[]
[null,"NO.",117,null,null,{"$f":"COUNTA(B664:J672)","v":32},"ランク",null,"普通",null,null,null,"NO.",118,null,null,{"$f":"COUNTA(M664:U672)","v":32},"ランク",null,"普通"]
[null,9,null,1,null,null,4,6,null,null,null,null,null,null,null,3,null,2,8]
[null,null,8,null,null,null,1,null,3,7,null,null,8,null,null,4,5,null,null,3]
[null,3,null,4,null,null,2,null,null,null,null,null,3,1,null,6,null,7,2]
[null,5,null,null,8,null,9,null,2,null,null,null,7,null,9,null,null,5,6]
[null,null,null,null,null,null,3,7,null,null,null,null,null,null,null,8,2,4,null,null,1]
[null,null,4,9,1,null,5,null,6,null,null,null,null,4,null,7,null,null,null,null,3]
[null,null,1,null,3,null,null,null,null,8,null,null,null,9,7,2,null,8,null,null,6]
[null,null,null,2,null,null,8,null,null,null,null,null,null,null,null,5,null,null,null,9]
[null,null,null,7,null,4,6,5,null,9,null,null,null,null,6,null,null,null,null,1]
[]
[null,"NO.",119,null,null,{"$f":"COUNTA(B675:J683)","v":32},"ランク",null,"普通",null,null,null,"NO.",120,null,null,{"$f":"COUNTA(M675:U683)","v":32},"ランク",null,"普通"]
[null,5,8,null,null,null,2,7,3,4,null,null,1,null,null,null,7,null,2,null,8]
[null,null,7,null,6,3,null,null,null,null,null,null,null,9,5,2,null,1,3,4,6]
[null,null,null,1,null,null,null,null,6,null,null,null,null,null,null,null,4,null,null,7]
[null,7,4,null,null,null,9,8,1,null,null,null,null,2,null,null,6,7]
[null,null,null,null,null,null,7,null,null,null,null,null,null,null,7,null,5,null,8]
[null,1,null,null,5,8,null,6,4,null,null,null,null,4,1,null,null,null,null,6,3]
[null,8,6,null,null,null,null,9,null,2,null,null,null,5,6]
[null,null,null,7,9,null,8,3,null,null,null,null,null,1,9,null,3,null,null,null,5]
[null,null,null,5,null,2,null,null,null,null,null,null,null,7,null,8,null,null,null,9]
[]
[null,"NO.",121,null,null,{"$f":"COUNTA(B686:J694)","v":32},"ランク",null,"普通",null,null,null,"NO.",122,null,null,{"$f":"COUNTA(M686:U694)","v":32},"ランク",null,"普通"]
[null,null,null,null,2,null,null,null,null,null,null,null,1,null,null,null,2,null,null,null,7]
[null,null,1,null,3,6,null,null,5,null,null,null,null,null,8,null,7,null,null,5,4]
[null,2,null,8,null,9,null,null,3,6,null,null,2,null,null,null,8,null,3,9]
[null,4,null,9,5,null,null,null,6,7,null,null,4,null,null,2,null,null,null,3]
[null,null,null,1,4,7,null,5,null,null,null,null,null,8,9,5,null,null,null,6]
[null,null,7,null,null,null,null,null,null,1,null,null,null,3,null,null,1,null,4]
[null,null,null,null,null,3,null,null,null,null,null,null,null,null,4,7,null,null,5,1]
[null,7,4,null,null,null,null,null,9,8,null,null,null,7,null,null,6,null,9]
[null,5,9,6,8,2,null,null,1,null,null,null,null,6,1,8,null,4]
[]
[null,"NO.",123,null,null,{"$f":"COUNTA(B697:J705)","v":32},"ランク",null,"普通",null,null,null,"NO.",124,null,null,{"$f":"COUNTA(M697:U705)","v":32},"ランク",null,"普通"]
[null,9,5,null,null,2,4,null,null,null,null,null,9,1,null,5,4,2,3]
[null,null,null,null,null,null,null,1,null,null,null,null,null,null,null,1,null,null,null,null,2]
[null,null,1,7,null,6,null,9,3,null,null,null,null,7,null,null,null,3,null,null,5]
[null,null,null,6,null,5,null,null,null,null,null,null,4,5,null,null,null,8,7,null,1]
[null,null,null,4,6,null,null,null,null,7,null,null,8,6,null,3,null,4]
[null,null,null,null,4,null,2,8,6,null,null,null,null,null,null,null,null,5,null,6]
[null,2,null,8,null,null,5,null,7,null,null,null,null,2,null,null,8,null,null,null,3]
[null,5,7,null,2,null,null,3,9,8,null,null,null,3,9,6,null,null,2]
[null,null,null,null,null,8,null,5,null,1,null,null,7,null,null,null,null,1,9]
[]
[null,"NO.",125,null,null,{"$f":"COUNTA(B708:J716)","v":32},"ランク",null,"普通",null,null,null,"NO.",126,null,null,{"$f":"COUNTA(M708:U716)","v":32},"ランク",null,"普通"]
[null,null,1,null,2,null,null,3,null,9,null,null,9,8,null,2,3]
[null,null,null,4,9,3,6,null,null,8,null,null,5,null,null,null,null,9,1,3]
[null,5,null,null,null,null,null,null,7,null,null,null,null,1,null,null,7,null,null,null,8]
[null,null,4,5,null,null,null,9,3,null,null,null,1,null,null,7,2,null,6]
[null,1,6,2,4,null,null,null,null,null,null,null,2,null,null,null,null,6]
[null,null,null,3,null,null,5,null,2,6,null,null,null,4,3,null,5,null,2,null,9]
[null,8,null,7,null,null,9,null,null,4,null,null,7,5,null,8,6,null,null,4]
[null,null,null,null,5,null,null,8,9,null,null,null,4,3,null,5]
[null,null,null,null,null,8,null,null,null,7,null,null,null,null,null,null,null,null,9,null,7]
[]
[null,"NO.",127,null,null,{"$f":"COUNTA(B719:J727)","v":32},"ランク",null,"普通",null,null,null,"NO.",128,null,null,{"$f":"COUNTA(M719:U727)","v":32},"ランク",null,"普通"]
[null,9,8,null,2,null,null,null,null,3,null,null,1,null,null,null,null,2,3,null,5]
[null,6,null,null,1,9,null,null,null,null,null,null,null,null,9,8,7,null,null,4]
[null,2,1,7,null,null,null,6,null,null,null,null,4,2,null,null,3,null,8]
[null,null,null,2,5,null,3,4,7,null,null,null,7,4,null,null,null,null,9,null,6]
[null,4,5,null,null,null,null,null,null,6,null,null,8,null,null,6,5,null,1,null,3]
[null,3,null,null,null,null,1,8,null,null,null,null,null,null,5,7]
[null,5,4,null,null,null,7,null,null,9,null,null,null,1,7,null,4,8,null,null,9]
[null,null,null,null,8,null,null,null,null,null,null,null,null,6,null,null,null,null,null,8]
[null,7,null,3,4,null,null,1,null,5,null,null,null,null,null,3,null,null,null,null,2]
[]
[null,"NO.",129,null,null,{"$f":"COUNTA(B730:J738)","v":32},"ランク",null,"普通",null,null,null,"NO.",130,null,null,{"$f":"COUNTA(M730:U738)","v":32},"ランク",null,"普通"]
[null,8,null,null,2,null,null,null,5,3,null,null,null,9,null,null,3,null,null,null,6]
[null,1,6,2,8,null,null,null,4,null,null,null,6,null,null,1,null,null,3,null,9]
[null,null,null,null,null,null,6,1,null,2,null,null,1,3,null,null,2,9,null,null,7]
[null,4,9,5,null,7,null,null,null,6,null,null,null,null,null,null,null,null,null,9]
[null,null,null,null,null,null,null,null,7,5,null,null,null,8,4,5,null,null,7,null,3]
[null,null,null,null,9,5,null,null,null,4,null,null,null,null,null,7,null,4,6]
[null,null,null,8,null,6,null,null,9,null,null,null,null,null,null,3,null,1,5,7]
[null,null,3,7,4,null,null,null,null,null,null,null,null,7,null,2,8,null,9,null,4]
[null,null,null,1,null,8,null,3,null,7,null,null,4,5]
[]
[null,"NO.",131,null,null,{"$f":"COUNTA(B741:J749)","v":32},"ランク",null,"普通",null,null,null,"NO.",132,null,null,{"$f":"COUNTA(M741:U749)","v":32},"ランク",null,"普通"]
[null,6,null,1,null,4,2,3,8,null,null,null,null,2,1,null,null,null,null,4]
[null,3,null,null,null,1,null,6,null,null,null,null,3,5,null,1,null,2,null,9]
[null,7,null,8,null,null,null,null,null,null,null,null,null,null,null,null,5,null,3]
[null,null,null,null,null,null,null,4,9,null,null,null,null,6,null,9,null,8]
[null,null,1,4,null,null,null,null,null,6,null,null,2,null,null,5,3,null,null,6,8]
[null,null,null,7,2,5,4,8,null,null,null,null,null,4,8,null,null,null,null,7]
[null,null,7,null,6,null,null,5,null,null,null,null,null,9,2,7,null,null,4]
[null,null,null,6,9,null,8,null,2,null,null,null,null,null,null,null,null,null,null,1]
[null,null,null,3,null,7,5,null,null,9,null,null,7,1,null,8,2,null,6,null,9]
[]
[null,"NO.",250,null,null,{"$f":"COUNTA(B752:J760)","v":32},"ランク",null,"普通",null,null,null,"NO.",251,null,null,{"$f":"COUNTA(M752:U760)","v":32},"ランク",null,"普通"]
[null,4,null,3,2,1,null,null,null,null,null,null,null,6,null,8,null,2,null,7]
[null,null,8,null,null,null,3,null,null,6,null,null,2,null,1,null,null,null,null,null,5]
[null,null,null,1,null,null,null,4,3,null,null,null,8,null,7,null,null,1,3,2]
[null,null,null,null,null,null,1,null,6,5,null,null,4,null,null,null,null,5,6,3]
[null,null,5,null,6,null,8,null,7,null,null,null,6,null,3,null,2,null,5,9]
[null,null,6,4,5,null,7,8,null,null,null,null,null,null,null,null,1]
[null,null,9,null,null,null,null,null,null,null,null,null,7,null,9,null,6,null,4]
[null,null,null,null,8,null,9,null,null,2,null,null,null,null,null,null,7,9]
[null,7,null,8,null,6,2,null,1,9,null,null,null,null,4,null,null,8,null,6,9]
[]
[null,"NO.",252,null,null,{"$f":"COUNTA(B763:J771)","v":32},"ランク",null,"普通",null,null,null,"NO.",133,null,null,{"$f":"COUNTA(M763:U771)","v":31},"ランク",null,"普通"]
[null,1,2,null,null,8,null,null,null,null,null,null,null,8,null,null,9]
[null,null,null,3,5,7,null,8,null,4,null,null,1,null,null,2,null,null,7,null,5]
[null,null,8,null,null,null,9,null,1,null,null,null,null,null,2,null,null,6,3]
[null,null,null,6,null,null,3,null,9,5,null,null,null,1,8,null,null,null,null,null,4]
[null,5,null,8,null,9,null,null,3,null,null,null,null,3,null,5,null,4]
[null,9,null,null,null,6,5,4,null,null,null,null,4,null,null,null,null,1,9,3,6]
[null,2,null,null,null,null,null,9,null,null,null,null,null,null,5,6,null,null,null,9]
[null,null,5,null,null,1,null,null,6,null,null,null,null,null,4,null,1,8,null,7,2]
[null,null,null,1,null,null,7,2,null,3,null,null,null,7,null,null,null,2,null,null,3]
[]
[null,"NO.",134,null,null,{"$f":"COUNTA(B774:J782)","v":31},"ランク",null,"普通",null,null,null,"NO.",135,null,null,{"$f":"COUNTA(M774:U782)","v":31},"ランク",null,"普通"]
[null,8,1,2,null,4,9,7,3]
[null,null,3,null,null,null,7,null,null,null,null,null,1,null,4,null,9,2,7,null,3]
[null,null,null,null,null,null,2,null,5,null,null,null,null,9,null,8,1,null,null,null,5]
[null,null,null,3,7,null,null,null,null,8,null,null,null,null,null,null,null,null,3,null,6]
[null,4,null,null,null,5,6,null,null,null,null,null,7,null,8]
[null,null,null,5,null,null,null,6,1,null,null,null,4,null,6,1,2,5,null,7]
[null,6,null,7,9,null,8,null,4,null,null,null,null,7,9,null,8,null,null,null,4]
[null,null,null,1,2,null,null,null,7,3,null,null,5,null,null,6,3,null,null,8]
[null,null,5,null,null,null,null,9,null,null,null,null,null,2,null,null,null,7,null,null,9]
[]
[null,"NO.",136,null,null,{"$f":"COUNTA(B785:J793)","v":31},"ランク",null,"普通",null,null,null,"NO.",137,null,null,{"$f":"COUNTA(M785:U793)","v":31},"ランク",null,"普通"]
[null,null,null,null,null,2,1,3,null,null,null,null,1,6,null,7,null,null,9]
[null,9,null,1,3,null,5,6,8,null,null,null,null,null,7,null,null,8,2,3,4]
[null,null,7,null,null,null,null,null,null,null,null,null,null,3,null,2]
[null,null,4,8,null,5,null,7,6,null,null,null,null,null,4,null,3]
[null,2,null,5,8,null,null,null,null,1,null,null,null,8,null,5,1,null,null,6,3]
[null,null,null,null,null,null,3,null,null,null,null,null,null,2,null,null,null,6,null,9]
[null,null,9,null,null,8,null,null,3,null,null,null,null,null,null,8,7,null,null,2]
[null,6,null,4,null,null,null,null,null,2,null,null,null,null,1,null,null,5,8]
[null,null,null,7,null,1,6,4,null,9,null,null,null,7,5,null,null,null,null,4,9]
[]
[null,"NO.",138,null,null,{"$f":"COUNTA(B796:J804)","v":31},"ランク",null,"普通",null,null,null,"NO.",139,null,null,{"$f":"COUNTA(M796:U804)","v":31},"ランク",null,"普通"]
[null,2,null,1,9,null,4,null,3,null,null,null,null,null,null,null,null,6,null,5]
[null,3,null,null,2,null,null,null,null,9,null,null,1,8,null,2,4,null,null,3]
[null,7,null,6,null,3,null,null,null,4,null,null,null,5,null,null,7,null,null,null,1]
[null,9,null,4,null,null,5,2,null,null,null,null,4,null,2,null,9,null,8,6]
[null,null,null,null,null,null,2,null,6,null,null,null,null,null,null,null,null,8]
[null,null,1,null,3,null,null,5,null,8,null,null,null,6,null,5,null,null,7,2,3]
[null,null,6,7,8,5,null,null,9,null,null,null,null,null,null,null,null,9,4]
[null,null,null,8,null,2,null,null,null,null,null,null,null,null,9,8,null,null,null,null,2]
[null,null,null,null,null,null,null,null,7,1,null,null,7,3,1,4,null,null,null,9]
[]
[null,"NO.",140,null,null,{"$f":"COUNTA(B807:J815)","v":31},"ランク",null,"普通",null,null,null,"NO.",141,null,null,{"$f":"COUNTA(M807:U815)","v":31},"ランク",null,"普通"]
[null,null,null,3,null,null,null,null,7,null,null,null,3,1,null,null,null,null,5,2]
[null,1,2,null,9,7,null,null,6,4,null,null,null,null,null,null,null,5]
[null,null,6,null,2,null,null,3,1,null,null,null,4,5,9,null,7,2,null,null,3]
[null,null,null,6,null,null,2,null,8,null,null,null,9,null,4,null,5,null,null,null,1]
[null,4,5,null,null,9,null,null,null,null,null,null,null,null,null,null,null,null,2,null,6]
[null,8,null,null,null,5,null,null,4,6,null,null,1,null,null,null,8,7,null,4]
[null,null,1,null,null,null,null,null,9,7,null,null,null,null,7,6,null,8,3]
[null,null,null,7,5,2,8,null,null,1,null,null,8,null,6,null,null,4,null,null,9]
[null,3,null,null,null,null,null,null,null,null,null,null,null,null,null,null,null,null,8,null,2]
[]
[null,"NO.",142,null,null,{"$f":"COUNTA(B818:J826)","v":31},"ランク",null,"普通",null,null,null,"NO.",143,null,null,{"$f":"COUNTA(M818:U826)","v":31},"ランク",null,"普通"]
[null,null,7,1,null,null,4,2,null,null,null,null,2,null,null,3,9,null,5]
[null,null,null,null,null,8,null,1,null,null,null,null,null,5,null,null,2,null,7,3]
[null,8,4,null,1,null,2,3,null,null,null,null,1,null,null,6,8,null,2,null,4]
[null,4,null,6,5,null,null,null,null,null,null,null,4,null,null,2,null,9,null,5]
[null,5,null,8,null,7,3,9,6,null,null,null,null,8,null,null,5,null,null,null,6]
[null,null,1,null,null,null,null,null,5,null,null,null,null,6,null,null,null,null,null,1]
[null,null,null,7,8,null,6,null,null,9,null,null,null,7,null,null,null,null,3]
[null,null,3,null,9,null,null,5,null,7,null,null,null,null,4,null,1,8,null,7,9]
[null,2,null,null,null,null,null,null,null,null,null,null,8,null,null,null,null,6]
[]
[null,"NO.",144,null,null,{"$f":"COUNTA(B829:J837)","v":31},"ランク",null,"普通",null,null,null,"NO.",145,null,null,{"$f":"COUNTA(M829:U837)","v":31},"ランク",null,"普通"]
[null,7,1,3,null,null,null,null,null,9,null,null,1,null,null,2,null,null,null,4,3]
[null,null,null,9,1,null,7,null,8,3,null,null,3,null,5,null,7,null,null,2]
[null,null,null,null,2,null,null,null,null,null,null,null,6,9,null,1,null,null,8]
[null,2,4,null,6,null,5,null,null,null,null,null,7,null,null,5,8,null,null,6,9]
[null,null,null,6,null,2,null,1,null,null,null,null,null,null,null,null,null,null,null,5]
[null,8,null,null,null,4,null,6,2,null,null,null,null,2,4,3]
[null,3,8,null,null,null,null,9,4,null,null,null,null,null,6,8,2,null,5,9]
[null,null,null,4,5,8,null,null,null,null,null,null,null,null,7]
[null,null,7,null,9,null,null,null,5,null,null,null,2,null,1,null,4,null,null,3]
[]
[null,"NO.",146,null,null,{"$f":"COUNTA(B840:J848)","v":31},"ランク",null,"普通",null,null,null,"NO.",147,null,null,{"$f":"COUNTA(M840:U848)","v":31},"ランク",null,"普通"]
[null,1,7,null,null,3,2,null,5,null,null,null,null,null,null,null,null,7,1]
[null,5,null,4,1,null,null,3,null,null,null,null,2,1,3,9,4]
[null,9,null,null,5,null,null,8,null,null,null,null,null,null,null,6,null,null,2,3,4]
[null,7,4,null,null,5,null,1,6,null,null,null,7,null,null,null,1,null,9,null,5]
[null,null,null,null,null,8,null,null,9,null,null,null,8,null,null,null,7]
[null,2,null,null,null,null,6,null,null,null,null,null,4,null,null,null,5,9,null,null,2]
[null,null,2,7,9,null,8,null,null,null,null,null,null,null,4,null,null,null,3,2,6]
[null,null,null,3,null,2,null,null,null,9,null,null,null,null,null,5]
[null,null,null,null,6,null,null,null,4,1,null,null,1,2,6,null,null,4,5]
[]
[null,"NO.",148,null,null,{"$f":"COUNTA(B851:J859)","v":31},"ランク",null,"普通",null,null,null,"NO.",149,null,null,{"$f":"COUNTA(M851:U859)","v":31},"ランク",null,"普通"]
[null,null,1,5,null,3,null,null,9,null,null,null,null,8]
[null,null,null,8,null,2,null,5,null,null,null,null,null,1,null,7,null,null,6,3,2]
[null,2,null,null,9,null,null,null,null,3,null,null,null,null,3,9,6,2,8]
[null,3,null,6,null,4,null,7,1,2,null,null,null,null,null,5,null,8,2,9]
[null,1,4,null,null,null,6,null,null,null,null,null,null,null,4,null,1,null,7]
[null,null,7,null,null,5,null,null,null,6,null,null,null,5,1,null,null,null,null,6]
[null,null,8,7,null,null,3,9,null,5,null,null,5,null,null,3,null,null,4,7,6]
[null,null,null,1,null,null,8,null,null,null,null,null,7,4,null,8]
[null,null,null,null,2,null,null,4,null,null,null,null,null,null,null,null,2,null,null,null,9]
[]
[null,"NO.",150,null,null,{"$f":"COUNTA(B862:J870)","v":31},"ランク",null,"普通",null,null,null,"NO.",151,null,null,{"$f":"COUNTA(M862:U870)","v":31},"ランク",null,"普通"]
[null,null,1,null,null,4,8,3,null,6,null,null,null,null,9,null,null,1,null,3]
[null,null,null,null,null,3,2,5,null,null,null,null,7,1,null,null,6,null,2,null,5]
[null,2,null,6,null,null,null,8,null,null,null,null,null,null,null,2,5,null,null,null,4]
[null,4,null,null,null,null,null,2,null,3,null,null,4,null,null,null,null,null,3,2]
[null,1,null,null,2,5,null,null,6,null,null,null,null,6,null,5]
[null,6,null,null,null,7,9,null,null,null,null,null,3,null,null,9,1,4,null,null,6]
[null,null,null,4,8,null,null,9,null,null,null,null,8,null,null,null,null,6,9]
[null,null,null,null,5,null,7,null,null,4,null,null,null,7,null,null,4,8,null,6]
[null,9,6,7,null,null,null,1,null,null,null,null,null,4,null,null,null,null,8,null,7]
[]
[null,"NO.",152,null,null,{"$f":"COUNTA(B873:J881)","v":31},"ランク",null,"普通",null,null,null,"NO.",153,null,null,{"$f":"COUNTA(M873:U881)","v":31},"ランク",null,"普通"]
[null,null,6,null,8,5,null,null,null,null,null,null,null,null,null,null,null,null,null,6]
[null,7,5,1,9,null,null,null,3,2,null,null,9,7,5,null,null,null,null,4]
[null,null,null,null,null,null,2,null,null,9,null,null,null,1,null,8,7,2,3]
[null,null,4,null,3,null,7,5,null,null,null,null,8,null,null,null,null,6]
[null,null,1,null,null,null,5,null,null,6,null,null,2,5,null,null,3,null,null,null,4]
[null,6,null,null,null,null,null,7,null,null,null,null,null,4,null,null,5,null,6,null,2]
[null,null,7,3,null,1,8,2,6,4,null,null,null,null,9,null,1,7,null,null,3]
[null,null,null,null,null,null,null,null,null,null,null,null,null,null,7,null,8,null,null,5,9]
[null,null,2,null,null,null,4,9,null,8,null,null,1,null,8,9]
[]
[null,"NO.",154,null,null,{"$f":"COUNTA(B884:J892)","v":31},"ランク",null,"普通",null,null,null,"NO.",155,null,null,{"$f":"COUNTA(M884:U892)","v":31},"ランク",null,"普通"]
[null,null,null,null,7,null,9,null,null,null,null,null,1,null,null,null,2,null,null,5,4]
[null,5,null,8,null,null,null,3,2,null,null,null,null,null,null,null,null,6,2]
[null,1,9,null,null,2,5,null,6,4,null,null,null,2,7,4,null,null,3,1]
[null,null,null,null,null,null,null,null,null,5,null,null,null,null,9,null,null,null,null,6]
[null,4,null,null,1,null,7,6,null,2,null,null,null,null,null,null,7,1,9,null,8]
[null,2,6,null,null,5,null,null,null,null,null,null,null,4,6,5,null,null,null,7,3]
[null,9,1,null,null,null,3,null,null,8,null,null,null,7,2,null,3,5,null,8]
[null,null,null,7,null,null,8,2]
[null,null,null,null,4,null,null,9,3,null,null,null,4,null,null,null,8,null,null,3,9]
[]
[null,"NO.",156,null,null,{"$f":"COUNTA(B895:J903)","v":31},"ランク",null,"普通",null,null,null,"NO.",157,null,null,{"$f":"COUNTA(M895:U903)","v":31},"ランク",null,"普通"]
[null,null,null,1,null,null,null,2,null,null,null,null,null,null,null,null,3,7,null,null,1]
[null,null,null,3,2,null,4,null,null,5,null,null,null,1,null,2]
[null,null,null,2,7,5,null,null,null,3,null,null,null,8,4,null,null,null,7,5,3]
[null,null,null,null,null,null,null,null,null,null,null,null,6,null,null,8,1,null,null,7]
[null,9,4,7,5,null,null,6,3,1,null,null,null,null,null,null,null,5,6,3,2]
[null,3,null,null,null,4,9,null,null,null,null,null,9,4]
[null,8,6,null,null,1,null,7,null,null,null,null,null,null,null,null,null,9,null,null,5]
[null,7,null,4,null,null,null,null,8,null,null,null,null,null,1,5,null,null,null,6]
[null,null,1,null,8,6,null,null,9,null,null,null,7,5,null,null,8,4,null,2,9]
[]
[null,"NO.",158,null,null,{"$f":"COUNTA(B906:J914)","v":31},"ランク",null,"普通",null,null,null,"NO.",159,null,null,{"$f":"COUNTA(M906:U914)","v":31},"ランク",null,"普通"]
[null,null,4,8,null,null,null,null,9,3,null,null,null,null,null,null,3,null,null,null,1]
[null,null,null,6,2,null,null,null,8,null,null,null,3,null,1,null,null,null,null,9]
[null,1,null,2,null,9,3,null,null,null,null,null,8,null,9,1,2,null,5,3]
[null,4,null,null,null,7,null,null,6,2,null,null,4,9,null,null,null,null,3,6]
[null,null,null,null,1,null,null,null,3,null,null,null,null,null,null,7,4]
[null,6,2,3,null,5,null,null,1,null,null,null,6,7,null,5,null,null,null,null,2]
[null,null,null,1,null,null,null,null,null,9,null,null,7,null,null,null,8]
[null,7,null,4,5,null,null,null,null,8,null,null,null,null,2,null,5,null,null,null,6]
[null,null,null,null,null,8,7,null,null,5,null,null,null,null,6,null,null,4,8,5,9]
[]
[null,"NO.",160,null,null,{"$f":"COUNTA(B917:J925)","v":31},"ランク",null,"普通",null,null,null,"NO.",161,null,null,{"$f":"COUNTA(M917:U925)","v":31},"ランク",null,"普通"]
[null,9,null,7,null,8,null,null,null,1,null,null,null,5,1,null,null,2,null,6,9]
[null,8,null,null,2,null,null,null,null,3,null,null,null,null,null,null,4,5]
[null,null,1,null,4,null,null,null,null,6,null,null,null,null,2,null,null,null,null,3]
[null,5,null,3,null,7,null,6,null,null,null,null,null,null,5,2,8,null,null,null,1]
[null,4,null,null,5,null,null,9,null,null,null,null,3,null,8,null,1,4,7]
[null,null,2,8,6,3,null,null,1,null,null,null,null,2,4,5,null,null,6]
[null,null,null,null,null,null,null,null,7,null,null,null,null,null,null,null,null,3,null,null,6]
[null,null,null,4,null,5,3,2,null,9,null,null,null,null,7,8,9]
[null,2,7,null,8,null,null,null,null,null,null,null,2,1,null,null,null,null,9,null,7]
[]
[null,"NO.",162,null,null,{"$f":"COUNTA(B928:J936)","v":31},"ランク",null,"普通",null,null,null,"NO.",163,null,null,{"$f":"COUNTA(M928:U936)","v":31},"ランク",null,"普通"]
[null,7,null,null,null,null,2,1,null,null,null,null,null,7,null,null,2,null,null,4]
[null,null,null,3,null,8,null,7,null,null,null,null,null,1,null,8,9,null,null,null,3]
[null,8,null,1,null,9,6,null,5,3,null,null,null,null,6,1,null,null,5]
[null,null,null,2,4,null,null,null,null,null,null,null,7,null,4,2,null,null,null,null,5]
[null,null,null,null,2,null,7,9,6,null,null,null,null,8,null,5,null,null,6]
[null,4,null,6,null,null,5,null,3,null,null,null,2,null,5,null,8,null,null,7,9]
[null,null,null,8,null,null,null,null,null,9,null,null,null,null,null,null,1,null,4,3]
[null,5,null,null,null,null,8,3,null,1,null,null,9,null,7,null,null,8]
[null,null,null,7,null,5,4,null,null,null,null,null,null,null,3,null,6,null,9]
[]
[null,"NO.",164,null,null,{"$f":"COUNTA(B939:J947)","v":31},"ランク",null,"普通",null,null,null,"NO.",165,null,null,{"$f":"COUNTA(M939:U947)","v":31},"ランク",null,"普通"]
[null,7,null,null,null,4,null,null,5,8,null,null,null,1,2,7]
[null,null,null,3,null,null,null,null,null,null,null,null,9,null,null,null,null,null,null,2,3]
[null,6,1,null,9,2,null,null,null,3,null,null,3,null,5,2,6,null,null,null,7]
[null,1,null,null,null,null,null,6,null,null,null,null,null,4,null,null,1,null,null,3,6]
[null,9,null,6,null,8,null,5,3,null,null,null,5,null,8,null,3,null,null,9]
[null,null,null,4,7,null,5,null,null,null,null,null,1,null,null,null,5,null,null,null,8]
[null,3,9,null,8,null,null,4,null,null,null,null,null,null,7,null,null,null,8,null,9]
[null,8,null,2,null,7,null,null,null,null,null,null,null,9,null,4]
[null,null,null,7,2,null,null,9,null,1,null,null,null,6,null,5,null,8,null,4]
[]
[null,"NO.",167,null,null,{"$f":"COUNTA(B950:J958)","v":31},"ランク",null,"普通",null,null,null,"NO.",168,null,null,{"$f":"COUNTA(M950:U958)","v":31},"ランク",null,"普通"]
[null,null,2,1,8,null,null,null,null,9,null,null,9,null,7,null,null,null,null,1]
[null,null,null,null,null,null,6,1,null,7,null,null,null,6,null,null,9,null,null,null,3]
[null,null,4,null,2,null,null,null,null,3,null,null,8,3,1,2,null,5,null,null,9]
[null,null,null,null,null,2,4,null,6,5,null,null,null,4,null,null,null,2]
[null,null,null,4,5,null,3,null,7,null,null,null,null,null,3,null,5,null,4,7]
[null,2,8,null,null,7,null,null,null,null,null,null,2,null,5,null,null,null,6,null,8]
[null,null,null,6,null,null,null,null,null,null,null,null,7,null,null,null,null,4,9,null,1]
[null,3,null,9,null,6,8,null,1,4,null,null,null,5,2,null,null,7]
[null,null,7,null,null,5,null,null,9,null,null,null,4,null,null,8]
[]
[null,"NO.",169,null,null,{"$f":"COUNTA(B961:J969)","v":31},"ランク",null,"普通",null,null,null,"NO.",170,null,null,{"$f":"COUNTA(M961:U969)","v":31},"ランク",null,"普通"]
[null,null,null,null,null,2,null,null,null,4,null,null,null,1,6,null,2,null,4]
[null,null,7,null,null,null,null,5,null,3,null,null,7,4,null,null,null,null,8]
[null,1,9,null,null,null,6,8,null,null,null,null,null,null,null,4,1,null,null,3,2]
[null,9,2,3,null,null,5,null,null,6,null,null,null,null,null,6]
[null,4,null,null,6,null,2,null,null,null,null,null,9,6,null,7,null,5,null,2]
[null,null,6,1,null,null,4,null,null,null,null,null,4,null,null,null,null,3,5,9,6]
[null,3,8,null,5,null,null,null,9,null,null,null,null,null,null,2,null,8,9,7]
[null,7,1,5,4,null,null,null,null,null,null,null,8,7,3,null,null,1,null,null,5]
[null,null,null,9,null,8,null,null,null,7]
[]
[null,"NO.",171,null,null,{"$f":"COUNTA(B972:J980)","v":31},"ランク",null,"普通",null,null,null,"NO.",172,null,null,{"$f":"COUNTA(M972:U980)","v":31},"ランク",null,"普通"]
[null,7,9,null,null,null,2,null,8,null,null,null,3,5,4,null,null,1]
[null,null,1,null,null,null,null,null,null,7,null,null,1,null,null,2,null,9,null,8]
[null,null,3,null,null,5,8,null,null,6,null,null,null,null,9,null,null,null,3,null,7]
[null,null,5,null,null,null,null,null,null,4,null,null,null,null,3,5,null,2]
[null,2,null,null,null,null,null,null,3,null,null,null,4,7,null,null,6,null,1]
[null,null,4,null,5,null,1,null,2,8,null,null,null,null,null,4,null,null,6,null,2]
[null,null,7,null,null,4,null,null,6,null,null,null,null,null,null,null,null,5,null,null,4]
[null,5,null,4,null,9,null,3,null,null,null,null,null,null,null,null,9,8]
[null,null,2,null,1,8,7,9,null,null,null,null,7,8,5,null,null,6,9,null,3]
[]
[null,"NO.",254,null,null,{"$f":"COUNTA(B983:J991)","v":31},"ランク",null,"普通",null,null,null,"NO.",173,null,null,{"$f":"COUNTA(M983:U991)","v":30},"ランク",null,"普通"]
[null,null,null,6,null,null,null,null,null,3,null,null,6,null,null,null,null,1,3]
[null,null,9,1,5,2,null,4,null,null,null,null,1,3]
[null,null,7,null,3,null,6,2,null,null,null,null,null,null,null,2,8,3,6,5]
[null,null,null,null,null,null,1,5,6,null,null,null,null,2,null,null,null,null,5,6]
[null,6,null,null,7,9,null,null,null,1,null,null,4,null,null,null,null,5,9]
[null,4,null,2,null,null,5,null,null,null,null,null,null,7,null,8,9]
[null,null,8,null,null,null,3,null,null,null,null,null,2,null,null,null,7,null,4]
[null,null,null,9,null,7,8,null,3,null,null,null,null,null,7,null,null,8,1]
[null,7,null,null,null,null,4,8,9,null,null,null,null,null,1,4,6,null,8,null,9]
[]
[null,"NO.",174,null,null,{"$f":"COUNTA(B994:J1002)","v":30},"ランク",null,"普通",null,null,null,"NO.",175,null,null,{"$f":"COUNTA(M994:U1002)","v":30},"ランク",null,"普通"]
[null,9,6,null,null,3,null,8,4,null,null,null,null,1,7,null,2,null,null,3]
[null,1,null,null,8,null,null,null,3,null,null,null,null,null,null,null,9,null,null,5,8]
[null,null,null,7,null,null,2,null,null,null,null,null,9,null,null,null,null,1,null,2]
[null,null,null,4,null,null,null,null,null,null,null,null,null,4,null,null,null,5,6]
[null,null,1,null,null,5,null,null,6,null,null,null,null,null,2,null,null,null,4,null,7]
[null,null,5,null,null,6,1,7,null,9,null,null,1,null,null,4,null,6,2]
[null,null,2,null,null,8,4,9,null,null,null,null,7,null,null,6,5,8,3]
[null,7,8,6,null,null,null,2,null,null,null,null,null,null,null,7,null,null,null,null,9]
[null,null,9,null,null,null,5,null,null,3,null,null,3,8,null,null,null,null,null,7]
[]
[null,"NO.",176,null,null,{"$f":"COUNTA(B1005:J1013)","v":30},"ランク",null,"普通",null,null,null,"NO.",177,null,null,{"$f":"COUNTA(M1005:U1013)","v":30},"ランク",null,"普通"]
[null,null,1,null,null,null,null,3,2,7,null,null,null,null,1,2,4,null,null,5]
[null,null,5,8,null,null,7,null,null,null,null,null,2,9,null,null,null,null,null,8]
[null,null,null,null,6,null,2,null,8,null,null,null,null,null,null,null,null,6,3]
[null,null,4,null,null,null,5,null,null,6,null,null,6,4,null,null,null,5,null,3,7]
[null,9,null,null,1,null,3,null,4,null,null,null,3,null,null,null,null,7,null,null,5]
[null,3,null,1,null,null,8,null,9,null,null,null,null,null,null,8,null,null,null,6]
[null,null,7,null,null,8,null,9,null,null,null,null,null,7,5,null,null,8,null,9]
[null,4,null,6,3,null,null,null,5,null,null,null,1,null,8,null,null,null,null,null,2]
[null,null,null,null,null,2,null,null,null,1,null,null,9,null,null,null,7,1,null,4]
[]
[null,"NO.",178,null,null,{"$f":"COUNTA(B1016:J1024)","v":30},"ランク",null,"普通",null,null,null,"NO.",179,null,null,{"$f":"COUNTA(M1016:U1024)","v":30},"ランク",null,"普通"]
[null,null,null,8,6,null,null,null,null,1,null,null,null,null,4,8,null,null,null,null,2]
[null,null,null,1,2,null,5,9,null,4,null,null,3,1,2,4,null,9,null,8]
[null,7,4,null,1,null,null,3,null,null,null,null,null,null,7,null,null,2,null,null,3]
[null,null,2,null,null,null,null,null,null,3,null,null,null,null,null,null,1,null,null,null,6]
[null,null,null,4,null,9,3,null,5,6,null,null,7,4,null,3,null,null,5,null,1]
[null,6,null,null,5,null,null,null,null,null,null,null,9,null,null,5]
[null,null,null,null,null,null,null,null,null,null,null,null,null,6,null,null,8]
[null,8,null,7,null,4,null,1,9,null,null,null,null,7,null,9,4,null,6]
[null,4,null,null,null,2,8,null,null,7,null,null,null,5,null,null,null,null,null,7,9]
[]
[null,"NO.",180,null,null,{"$f":"COUNTA(B1027:J1035)","v":30},"ランク",null,"普通",null,null,null,"NO.",181,null,null,{"$f":"COUNTA(M1027:U1035)","v":30},"ランク",null,"普通"]
[null,7,6,null,5,null,null,9,null,null,null,null,null,1,null,4,null,null,null,3]
[null,2,3,null,null,8,null,1,null,null,null,null,8,null,null,null,3,6]
[null,null,null,1,null,6,2,3,null,null,null,null,9,null,null,2,null,null,6,null,5]
[null,4,7,null,null,3,null,null,null,null,null,null,1,null,null,null,7,null,5,2]
[null,null,null,5,null,null,9,null,null,8,null,null,null,8,null,null,5,4,1,6]
[null,null,null,null,null,5,null,null,4,6,null,null,null,4,null,null,null,null,null,null,7]
[null,null,null,7,null,4,null,null,2,9,null,null,null,null,1,null,2]
[null,5,null,3,8,null,null,null,1,null,null,null,null,null,null,null,null,null,null,9,2]
[null,null,null,null,null,null,7,null,null,null,null,null,4,7,null,null,8,9,3]
[]
[null,"NO.",182,null,null,{"$f":"COUNTA(B1038:J1046)","v":30},"ランク",null,"普通",null,null,null,"NO.",183,null,null,{"$f":"COUNTA(M1038:U1046)","v":30},"ランク",null,"普通"]
[null,null,2,6,null,4,null,null,null,1,null,null,null,null,null,2,null,null,1,null,8]
[null,5,null,null,9,2,null,3,null,null,null,null,null,5,1,null,7,null,3,9]
[null,9,1,null,null,null,null,2,null,null,null,null,null,null,9,null,6]
[null,null,null,null,null,null,5,null,1,3,null,null,null,null,8,5,null,null,6,null,7]
[null,null,null,4,null,null,7,6,null,null,null,null,null,null,null,null,2,null,null,3,4]
[null,8,5,null,6,null,null,null,null,null,null,null,3,4,null,7]
[null,null,3,2,null,7,null,null,null,8,null,null,null,null,null,null,8,7,null,null,5]
[null,null,null,null,5,null,null,null,null,null,null,null,4,null,7,null,null,1,9,2]
[null,6,7,null,null,8,null,null,4,9,null,null,null,6,null,null,9]
[]
[null,"NO.",184,null,null,{"$f":"COUNTA(B1049:J1057)","v":30},"ランク",null,"普通",null,null,null,"NO.",185,null,null,{"$f":"COUNTA(M1049:U1057)","v":30},"ランク",null,"普通"]
[null,null,2,5,null,null,9,null,null,null,null,null,null,null,1,7,4,null,3,null,2]
[null,null,9,1,2,null,null,8,3,5,null,null,5,null,null,null,3,2]
[null,null,null,4,6,null,null,null,null,null,null,null,3,null,null,null,null,null,null,7]
[null,null,6,null,null,4,null,null,null,3,null,null,4,8,null,null,null,3,null,1]
[null,4,1,2,5,null,null,6,null,7,null,null,6,null,null,5,null,7,null,8]
[null,null,null,null,null,8,null,null,null,null,null,null,null,null,null,2,null,null,6,9]
[null,null,5,null,4,null,null,null,null,null,null,null,null,null,null,6,null,8,null,null,1]
[null,null,7,3,null,null,8,null,null,null,null,null,null,null,8,null,null,null,null,null,9]
[null,null,null,null,null,1,null,7,6,9,null,null,null,4,7,null,null,9,null,5]
[]
[null,"NO.",186,null,null,{"$f":"COUNTA(B1060:J1068)","v":30},"ランク",null,"普通",null,null,null,"NO.",187,null,null,{"$f":"COUNTA(M1060:U1068)","v":30},"ランク",null,"普通"]
[null,null,2,9,null,null,null,3,4,8,null,null,1]
[null,null,null,1,null,2,null,null,null,6,null,null,null,null,null,null,null,5,3,8]
[null,null,null,null,5,null,9,null,null,null,null,null,5,3,null,1,null,2,null,null,9]
[null,null,null,null,null,5,null,null,null,null,null,null,null,6,4,null,null,null,2]
[null,6,null,4,3,null,null,null,7,null,null,null,null,8,null,5]
[null,null,8,null,null,null,4,1,6,null,null,null,7,null,null,8,null,3,1,null,6]
[null,7,null,2,null,null,null,null,null,null,null,null,6,null,null,null,null,8,9,1,7]
[null,1,6,null,null,null,8,5,9,null,null,null,null,7,2,6,9,null,null,null,4]
[null,null,5,null,6,7,null,null,3,null,null,null,null,null,null,null,null,4]
[]
[null,"NO.",188,null,null,{"$f":"COUNTA(B1071:J1079)","v":30},"ランク",null,"普通",null,null,null,"NO.",189,null,null,{"$f":"COUNTA(M1071:U1079)","v":30},"ランク",null,"普通"]
[null,7,null,null,null,9,null,null,1,null,null,null,null,9,null,2,4,null,7,3,5]
[null,null,null,1,2,null,6,null,3,8,null,null,null,null,null,6,null,null,null,2]
[null,null,6,8,null,null,null,null,7,null,null,null,2,null,1]
[null,4,null,6,null,1,null,null,null,null,null,null,4,null,null,null,null,null,null,6,3]
[null,null,null,null,null,3,null,null,5,null,null,null,null,5,null,null,8,null,4]
[null,2,null,null,null,null,5,null,9,6,null,null,3,null,null,7,5]
[null,null,null,null,8,null,4,null,null,9,null,null,7,null,null,9,null,null,null,1]
[null,null,7,2,null,null,null,null,null,null,null,null,null,1,null,8,null,null,null,null,6]
[null,null,null,4,null,6,7,5,null,3,null,null,8,null,null,null,1,7,2,null,9]
[]
[null,"NO.",190,null,null,{"$f":"COUNTA(B1082:J1090)","v":30},"ランク",null,"普通",null,null,null,"NO.",191,null,null,{"$f":"COUNTA(M1082:U1090)","v":30},"ランク",null,"普通"]
[null,1,null,null,null,null,2,7,null,null,null,null,null,1,null,null,null,2,null,3]
[null,null,6,null,null,null,7,null,null,3,null,null,6,null,null,null,null,null,null,4,9]
[null,2,null,4,null,null,3,null,5,null,null,null,null,4,null,8,5,null,7,1]
[null,null,null,null,null,8,null,null,null,2,null,null,null,3,null,null,null,null,null,null,7]
[null,null,null,3,null,2,null,null,null,4,null,null,4,null,null,6,null,null,3]
[null,null,4,2,null,5,9,6,null,null,null,null,null,null,9,null,1,5,null,6,4]
[null,null,5,null,null,1,8,null,null,null,null,null,null,2,7,5]
[null,null,null,8,2,null,null,9,null,null,null,null,null,null,null,null,8,1,2,9]
[null,null,null,7,9,null,null,null,1,6,null,null,8,null,null,null,null,null,null,7]
[]
[null,"NO.",192,null,null,{"$f":"COUNTA(B1093:J1101)","v":30},"ランク",null,"普通",null,null,null,"NO.",193,null,null,{"$f":"COUNTA(M1093:U1101)","v":30},"ランク",null,"普通"]
[null,7,null,1,null,2,null,null,3,null,null,null,1,null,null,9,null,null,null,null,2]
[null,null,null,4,null,9,null,null,null,8,null,null,null,9,7,null,null,2,null,1,3]
[null,9,null,null,null,1,null,4,null,null,null,null,null,null,null,null,6,1,8]
[null,6,null,null,1,8,null,null,null,null,null,null,6,3,null,null,8,4]
[null,null,4,2,5,null,null,null,6,1,null,null,null,null,null,null,null,5,2,3]
[null,null,null,7,3,null,null,null,null,2,null,null,null,4,5,null,null,null,null,6]
[null,3,null,null,null,null,8,7,9,null,null,null,null,5,null,null,null,8,7]
[null,null,null,null,null,6,null,5,null,null,null,null,null,7,8,null,4,6,null,9]
[null,5,7,null,null,null,4,null,null,null,null,null,null,null,null,null,null,null,null,null,5]
[]
[null,"NO.",194,null,null,{"$f":"COUNTA(B1104:J1112)","v":30},"ランク",null,"普通",null,null,null,"NO.",195,null,null,{"$f":"COUNTA(M1104:U1112)","v":30},"ランク",null,"普通"]
[null,null,null,null,null,null,null,3,null,1,null,null,5,9,null,null,null,7,3]
[null,3,4,1,2,null,null,6,null,7,null,null,null,null,null,null,null,2,1,null,5]
[null,null,6,null,1,4,null,null,null,null,null,null,null,1,8,null,null,4]
[null,null,null,null,null,null,null,null,6,8,null,null,3,5,null,null,2,9,null,8]
[null,2,7,4,5,null,8]
[null,null,null,3,null,null,9,null,null,5,null,null,4,null,null,5,1,8,null,null,2]
[null,null,null,null,9,8,null,1,null,null,null,null,1,null,7,null,null,5,null,null,9]
[null,5,null,6,null,null,2,null,null,9,null,null,null,3,null,null,8,null,7,2]
[null,7,null,null,null,null,null,2,null,null,null,null,null,null,4,9]
[]
[null,"NO.",197,null,null,{"$f":"COUNTA(B1115:J1123)","v":30},"ランク",null,"普通",null,null,null,"NO.",198,null,null,{"$f":"COUNTA(M1115:U1123)","v":30},"ランク",null,"普通"]
[null,null,null,9,null,null,6,null,null,3,null,null,6,8,null,2,3,5,null,null,1]
[null,1,5,null,null,2,null,4,null,null,null,null,null,null,null,null,null,null,3,8]
[null,3,null,null,8,null,null,9,null,null,null,null,null,1]
[null,2,null,null,7,null,null,null,null,6,null,null,null,null,5,3,null,1,4]
[null,6,null,null,null,null,5,null,9,8,null,null,8,4,null,null,5,null,6,null,7]
[null,4,null,null,null,1,null,null,null,5,null,null,null,null,2,null,null,null,1,null,9]
[null,null,null,7,5,8,null,null,null,2,null,null,7,null,4,null,null,8]
[null,null,1,null,null,null,null,null,null,9,null,null,null,2,null,null,6,null,9,null,4]
[null,null,null,3,null,7,null,null,1,4,null,null,null,null,null,null,9,null,null,7]
[]
[null,"NO.",199,null,null,{"$f":"COUNTA(B1126:J1134)","v":30},"ランク",null,"普通",null,null,null,"NO.",200,null,null,{"$f":"COUNTA(M1126:U1134)","v":30},"ランク",null,"普通"]
[null,null,null,null,null,null,4,null,null,6,null,null,null,1,5,2,3,null,null,null,4]
[null,1,null,5,null,6,8,2,3,null,null,null,2,8,null,4,6,null,3]
[null,8,null,null,null,2,null,null,7,null,null,null,null,null,null,null,null,1,null,9]
[null,null,null,null,null,null,null,null,4,null,null,null,null,null,4,9,5,null,6]
[null,4,1,null,5,null,3,null,6,9,null,null,9,null,7,null,null,null,null,5]
[null,5,null,9,null,null,null,null,8,null,null,null,null,null,null,3,null,4,null,null,2]
[null,2,null,null,4,null,null,null,9,1,null,null,null,null,null,1,2,6,null,null,9]
[null,6,null,null,8,null,null,null,null,null,null,null,8]
[null,null,null,7,null,9,null,null,5,null,null,null,6,null,null,null,null,8,7]
[]
[null,"NO.",201,null,null,{"$f":"COUNTA(B1137:J1145)","v":30},"ランク",null,"普通",null,null,null,"NO.",202,null,null,{"$f":"COUNTA(M1137:U1145)","v":30},"ランク",null,"普通"]
[null,null,null,null,null,null,null,null,null,null,null,null,null,4,null,null,null,null,null,3]
[null,8,null,null,1,6,5,3,null,9,null,null,2,null,9,1,null,null,null,6]
[null,null,5,6,null,null,2,null,null,7,null,null,8,null,1,null,7,2]
[null,null,null,null,null,2,6,4,null,null,null,null,null,9,3,null,5,null,null,null,6]
[null,7,null,3,8,null,null,null,null,null,null,null,4,null,null,null,null,3,1,null,7]
[null,null,null,4,null,5,null,null,6,8,null,null,null,5,null,null,null,null,null,2]
[null,null,2,7,null,null,null,1,null,5,null,null,null,null,8]
[null,null,null,null,null,null,null,9,2,null,null,null,null,7,null,4,9,8,5]
[null,null,9,1,null,4,8,null,null,null,null,null,null,1,4,null,null,null,null,9,3]
[]
[null,"NO.",261,null,null,{"$f":"COUNTA(B1148:J1156)","v":30},"ランク",null,"普通",null,null,null,"NO.",262,null,null,{"$f":"COUNTA(M1148:U1156)","v":30},"ランク",null,"普通"]
[null,6,null,null,null,null,7,2,null,1,null,null,4,null,2,8,null,null,5,3]
[null,null,1,null,null,null,null,null,3,null,null,null,8,1,null,2,null,null,null,6]
[null,null,null,7,1,2,null,null,6,null,null,null,null,null,null,null,null,4,null,7]
[null,5,null,null,9,null,null,null,null,4,null,null,9,8,null,7,null,null,null,5]
[null,9,4,null,null,6,null,null,5,null,null,null,null,null,4,5,null,6,null,1,7]
[null,null,null,null,8,5,null,null,null,6,null,null,null,null,null,1]
[null,7,null,null,2,null,8,null,null,null,null,null,5,null,3,9,8,null,null,null,6]
[null,null,null,null,null,null,9,3,null,null,null,null,1,null,null,null,null,null,null,9]
[null,4,null,6,null,3,null,null,9,8,null,null,7,null,null,null,null,null,null,null,3]
[]
[null,"NO.",263,null,null,{"$f":"COUNTA(B1159:J1167)","v":30},"ランク",null,"普通",null,null,null,"NO.",203,null,null,{"$f":"COUNTA(M1159:U1167)","v":29},"ランク",null,"普通"]
[null,null,null,null,5,3,null,null,1,null,null,null,null,null,null,null,2,null,8]
[null,null,null,7,null,2,null,null,8,null,null,null,6,null,1,4,9,null,null,null,5]
[null,4,null,9,null,null,8,null,null,3,null,null,null,7,null,null,null,null,null,null,3]
[null,null,null,null,null,null,2,1,9,null,null,null,4,null,null,null,5,null,null,3,7]
[null,null,2,5,null,1,3,null,6,null,null,null,null,1,null,8,null,null,null,6]
[null,null,6,8,null,5,null,null,null,4,null,null,9,6,null,null,null,2]
[null,null,7,null,null,null,null,null,null,null,null,null,7,null,null,null,null,8,null,4,1]
[null,null,null,2,null,null,null,6,null,7,null,null,null,5,3,2,null,9]
[null,6,4,null,8,null,null,9,null,null,null,null,null,null,null,7,null,null,9]
[]
[null,"NO.",204,null,null,{"$f":"COUNTA(B1170:J1178)","v":29},"ランク",null,"普通",null,null,null,"NO.",205,null,null,{"$f":"COUNTA(M1170:U1178)","v":29},"ランク",null,"普通"]
[null,null,2,null,null,null,null,null,null,5,null,null,5,null,null,null,null,null,2]
[null,null,null,null,null,3,4,null,null,8,null,null,null,3,null,7,9,2]
[null,8,1,null,5,2,null,null,6,3,null,null,null,null,1,null,null,null,7,null,3]
[null,null,null,null,null,5,null,9,null,null,null,null,1,4,6,null,null,null,null,5]
[null,5,null,null,7,null,6,null,null,null,null,null,null,8,null,null,3,5,1,6]
[null,null,4,3,null,null,null,6,null,7,null,null,null,null,null,2]
[null,1,7,null,4,null,2,8,null,9,null,null,null,null,null,6,null,3,9,null,8]
[null,null,null,null,null,null,null,null,null,null,null,null,null,7,4]
[null,null,9,null,null,null,8,null,1,null,null,null,9,null,null,1,null,8,null,null,4]
[]
[null,"NO.",206,null,null,{"$f":"COUNTA(B1181:J1189)","v":29},"ランク",null,"普通",null,null,null,"NO.",207,null,null,{"$f":"COUNTA(M1181:U1189)","v":29},"ランク",null,"普通"]
[null,2,1,null,null,null,null,3,7,null,null,null,8,null,null,null,6,null,null,9]
[null,null,null,6,2,null,null,5,null,null,null,null,null,null,1,null,null,5,3,null,7]
[null,null,null,8,7,3,null,null,null,null,null,null,3,null,null,2]
[null,8,null,null,null,5,6,1,4,null,null,null,null,1,8,5,4]
[null,1,4,null,null,9,null,6,null,null,null,null,null,null,4,6]
[null,null,null,null,null,null,null,null,null,null,null,null,null,null,null,null,null,7,4,6,1]
[null,null,5,null,null,null,null,null,3,null,null,null,null,5]
[null,9,null,null,null,null,2,null,6,null,null,null,null,2,null,8,null,null,7,null,9]
[null,7,null,null,null,8,3,4,null,9,null,null,7,null,null,3,5,9,2]
[]
[null,"NO.",208,null,null,{"$f":"COUNTA(B1192:J1200)","v":29},"ランク",null,"普通",null,null,null,"NO.",209,null,null,{"$f":"COUNTA(M1192:U1200)","v":29},"ランク",null,"普通"]
[null,5,null,1,null,null,4,null,null,3,null,null,null,2,1]
[null,null,null,null,2,null,3,null,null,null,null,null,null,null,null,5,null,9,null,null,1]
[null,8,null,null,null,null,9,2,null,4,null,null,null,5,7,null,2,null,6,null,3]
[null,1,null,9,5,null,7,6,null,2,null,null,null,null,null,null,4,null,2]
[null,null,null,null,null,null,null,null,null,null,null,null,null,null,4,9,null,null,null,5]
[null,null,4,null,null,8,1,null,3,null,null,null,7,8,null,null,5,null,1,6]
[null,7,6,null,null,null,null,null,9,null,null,null,null,null,3,null,7,null,8]
[null,null,3,null,7,null,null,1,null,null,null,null,null,7,6,3,null,null,null,4]
[null,null,null,null,null,6,8,null,null,5,null,null,null,null,null,8,null,null,9]
[]
[null,"NO.",210,null,null,{"$f":"COUNTA(B1203:J1211)","v":29},"ランク",null,"普通",null,null,null,"NO.",211,null,null,{"$f":"COUNTA(M1203:U1211)","v":29},"ランク",null,"普通"]
[null,null,null,null,null,1,null,null,null,null,null,null,null,3,null,null,4]
[null,1,null,null,null,null,2,6,5,3,null,null,null,7,9,null,2,null,null,3]
[null,4,null,7,null,null,9,null,null,null,null,null,6,1,null,null,null,9,7,null,8]
[null,8,7,null,5,2,null,9,null,null,null,null,null,5,null,null,null,1,null,4,2]
[null,null,null,null,null,null,6,null,null,2,null,null,4,null,null,null,5,3,6]
[null,9,null,4,null,null,null,null,6,null,null,null,null,9]
[null,7,null,null,null,null,5,null,1,null,null,null,null,6,8,null,null,2,null,9]
[null,null,8,null,null,3,null,null,null,null,null,null,7,null,null,null,null,null,1]
[null,null,3,5,null,8,null,null,4,9,null,null,null,null,null,6,8,null,null,5]
[]
[null,"NO.",212,null,null,{"$f":"COUNTA(B1214:J1222)","v":29},"ランク",null,"普通",null,null,null,"NO.",213,null,null,{"$f":"COUNTA(M1214:U1222)","v":29},"ランク",null,"普通"]
[null,1,null,null,6,null,null,4,3,null,null,null,null,2,null,null,null,null,null,null,3]
[null,null,4,8,9,null,null,null,null,null,null,null,null,7,null,null,8,null,1]
[null,3,null,7,null,null,2,null,1,null,null,null,1,null,null,6,2,null,null,7]
[null,8,null,null,5,null,1,null,9,6,null,null,null,null,null,null,4]
[null,2,null,4,null,null,null,null,null,null,null,null,3,null,null,null,null,5,null,null,8]
[null,null,null,null,3,null,null,7,null,null,null,null,4,null,1,null,null,9,6,5]
[null,null,3,null,2,null,null,null,null,7,null,null,6,null,null,9,5,null,null,3]
[null,7,5,null,null,8,null,9,null,null,null,null,7,null,2,null,null,null,9]
[null,null,null,null,null,null,6,5,null,null,null,null,null,null,null,8,1,2,null,4]
[]
[null,"NO.",214,null,null,{"$f":"COUNTA(B1225:J1233)","v":29},"ランク",null,"普通",null,null,null,"NO.",215,null,null,{"$f":"COUNTA(M1225:U1233)","v":29},"ランク",null,"普通"]
[null,null,null,null,null,null,null,null,9,3,null,null,null,8,1,null,2,3]
[null,null,4,null,5,8,null,1,null,null,null,null,null,null,null,null,null,null,3,7]
[null,9,1,null,null,2,6,null,null,null,null,null,5,null,null,7,null,null,4]
[null,null,2,null,null,null,5,null,null,null,null,null,null,4,6,null,5,8,null,null,9]
[null,7,null,4,null,null,1,null,8,5,null,null,null,null,9,null,null,null,6]
[null,null,null,null,4,3,null,null,6,null,null,null,null,null,null,null,null,2,null,1]
[null,null,null,2,null,5,3,null,null,9,null,null,null,null,null,2,null,null,1,null,8]
[null,null,7,6,null,null,8,null,null,null,null,null,null,6,null,null,null,null,5]
[null,null,null,null,null,null,null,null,7,4,null,null,4,1,7,8,3,null,null,9]
[]
[null,"NO.",216,null,null,{"$f":"COUNTA(B1236:J1244)","v":29},"ランク",null,"普通",null,null,null,"NO.",217,null,null,{"$f":"COUNTA(M1236:U1244)","v":29},"ランク",null,"普通"]
[null,null,1,null,7,null,null,null,null,null,null,null,4,1,null,null,null,2,null,null,3]
[null,null,null,null,null,5,2,9,null,8,null,null,null,null,null,null,null,null,8,7]
[null,2,null,6,null,4,null,null,1,3,null,null,null,null,5,null,3,7]
[null,7,null,null,null,null,null,null,null,null,null,null,null,null,2,5,null,null,null,9,1]
[null,null,null,9,8,null,5,4,2,6,null,null,null,4,null,null,null,3]
[null,null,4,null,null,3,null,null,null,null,null,null,5,null,null,2,null,null,null,null,6]
[null,null,9,7,null,1,null,null,null,5,null,null,1,null,8,null,null,null,5]
[null,null,null,null,null,null,null,3,null,null,null,null,7,null,null,6,null,9,null,1]
[null,5,null,null,null,8,6,null,null,9,null,null,null,6,null,8,null,null,9,4]
[]
[null,"NO.",218,null,null,{"$f":"COUNTA(B1247:J1255)","v":29},"ランク",null,"普通",null,null,null,"NO.",219,null,null,{"$f":"COUNTA(M1247:U1255)","v":29},"ランク",null,"普通"]
[null,null,1,null,null,null,9,null,7,null,null,null,1,null,9,null,null,null,null,4,2]
[null,null,null,4,null,null,null,null,null,null,null,null,null,null,null,null,1]
[null,null,null,9,null,1,2,6,3,4,null,null,null,null,5,7,4,2,null,null,3]
[null,null,4,5,null,null,null,null,null,null,null,null,null,null,4,null,null,5,null,null,6]
[null,null,null,null,7,5,null,null,1,6,null,null,null,7,null,null,8,null,null,3]
[null,null,null,8,null,null,3,null,null,2,null,null,null,1,null,null,null,9,2,null,7]
[null,null,2,7,5,null,null,null,4,9,null,null,null,5,null,null,null,null,null,null,8]
[null,4,6,null,null,8,null,null,null,null,null,null,null,null,1,3,null,6]
[null,null,null,null,3,null,null,8,null,null,null,null,7,null,null,8,null,null,6,9]
[]
[null,"NO.",220,null,null,{"$f":"COUNTA(B1258:J1266)","v":29},"ランク",null,"普通",null,null,null,"NO.",221,null,null,{"$f":"COUNTA(M1258:U1266)","v":29},"ランク",null,"普通"]
[null,null,null,3,null,7,null,null,null,null,null,null,null,null,9,4,7,null,3,null,5]
[null,null,4,null,8,null,null,2,3,9,null,null,null,null,3,null,2,null,null,9]
[null,1,null,null,2,null,null,8,null,4,null,null,5,1]
[null,null,null,2,6,null,null,null,null,null,null,null,null,null,4,null,null,null,6]
[null,null,null,9,5,1,null,3,null,6,null,null,7,8,1,null,null,5,null,3]
[null,null,null,4,null,null,null,null,1,null,null,null,2,6,null,null,null,9,null,1]
[null,null,null,null,null,8,5,null,null,null,null,null,null,null,null,1,null,null,9,4]
[null,null,null,8,null,6,null,null,2,7,null,null,null,4,null,null,3]
[null,7,5,null,null,null,null,null,9,null,null,null,null,null,7,6,8]
[]
[null,"NO.",222,null,null,{"$f":"COUNTA(B1269:J1277)","v":29},"ランク",null,"普通",null,null,null,"NO.",223,null,null,{"$f":"COUNTA(M1269:U1277)","v":29},"ランク",null,"普通"]
[null,null,null,null,null,2,null,null,6,null,null,null,6,null,null,7,2,null,null,4,3]
[null,null,8,null,5,null,null,4,null,null,null,null,8,null,null,null,null,5,null,null,2]
[null,1,null,null,null,9,null,null,null,2,null,null,null,null,1,4]
[null,5,null,null,8,null,9,7,null,null,null,null,null,2,null,1,null,null,null,8]
[null,null,9,3,null,null,null,null,8,null,null,null,null,null,null,null,null,null,null,6]
[null,null,7,null,null,null,null,1,null,5,null,null,4,null,7,5,6,9,3]
[null,null,6,null,null,8,3,null,null,1,null,null,5]
[null,null,null,null,null,7,null,5,null,6,null,null,null,null,9,null,null,8,1,null,6]
[null,null,3,7,null,null,5,null,4,null,null,null,7,null,null,3,4,null,null,9]
[]
[null,"NO.",265,null,null,{"$f":"COUNTA(B1280:J1288)","v":29},"ランク",null,"普通",null,null,null,"NO.",267,null,null,{"$f":"COUNTA(M1280:U1288)","v":29},"ランク",null,"普通"]
[null,null,null,null,5,null,2,null,null,null,null,null,3,null,null,2]
[null,9,null,null,null,null,null,null,3,null,null,null,2,null,null,null,null,null,null,5,3]
[null,1,null,7,null,null,3,5,null,6,null,null,null,1,5,null,6,7,4]
[null,null,8,null,null,null,1,null,null,null,null,null,null,null,null,null,2,null,null,6]
[null,null,2,null,6,9,null,8,null,1,null,null,null,null,null,null,null,4,7]
[null,null,null,4,null,null,5,null,6,9,null,null,4,6,2,5,null,null,null,9]
[null,null,null,8,null,null,null,null,9,null,null,null,null,null,null,null,1,6,null,8,9]
[null,4,null,null,null,3,8,null,7,null,null,null,null,null,null,null,null,8]
[null,null,7,null,2,null,null,4,null,null,null,null,7,9,8,null,3,null,null,1]
[]
[null,"NO.",268,null,null,{"$f":"COUNTA(B1291:J1299)","v":29},"ランク",null,"普通",null,null,null,"NO.",269,null,null,{"$f":"COUNTA(M1291:U1299)","v":29},"ランク",null,"普通"]
[null,4,7,null,5,1,null,3,null,9,null,null,null,null,null,null,6,9,null,4]
[null,null,6,null,2,null,3,4,null,null,null,null,null,1,null,2,null,null,7]
[null,null,null,1,null,null,null,null,null,null,null,null,null,2,6,null,null,null,null,3,8]
[null,null,2,null,null,null,null,null,null,6,null,null,null,null,4,null,5,null,null,null,9]
[null,null,5,null,1,null,null,8,null,3,null,null,null,7,5,null,1,null,null,6,3]
[null,null,4,null,7,null,5,null,null,null,null,null,null,null,2,null,8]
[null,null,null,6,3,null,8,9,null,4,null,null,null,null,8,null,null,null,3]
[null,null,null,8,9,null,null,2,null,null,null,null,7,null,null,null,2,1,null,null,4]
[null,7,null,null,null,null,null,null,null,null,null,null,5,null,null,null,null,8,null,9]
[]
[null,"NO.",271,null,null,{"$f":"COUNTA(B1302:J1310)","v":29},"ランク",null,"普通",null,null,null,"NO.",272,null,null,{"$f":"COUNTA(M1302:U1310)","v":29},"ランク",null,"普通"]
[null,null,8,null,null,null,null,null,null,9,null,null,null,1,null,null,9,4,null,null,3]
[null,null,1,null,null,9,2,3,null,null,null,null,null,6,null,null,null,null,null,null,5]
[null,5,3,null,6,null,null,null,2,null,null,null,7,null,null,2,null,null,null,1]
[null,null,null,null,null,null,null,null,6,null,null,null,null,4,null,3,null,null,null,null,6]
[null,4,5,null,null,null,3,null,null,null,null,null,9,null,3,5,6,1,8]
[null,1,null,null,null,8,5,7,null,4,null,null,null,null,null,null,null,null,1,null,7]
[null,null,null,null,8,4,null,null,null,null,null,null,null,null,null,null,2,8,null,5,9]
[null,null,7,1,2,null,null,9,null,null,null,null,null,null,7]
[null,null,4,null,3,null,null,6,null,7,null,null,2,null,8,4,null,null,3]
[]
[null,"NO.",224,null,null,{"$f":"COUNTA(B1313:J1321)","v":28},"ランク",null,"普通",null,null,null,"NO.",225,null,null,{"$f":"COUNTA(M1313:U1321)","v":28},"ランク",null,"普通"]
[null,null,null,1,2,null,null,null,null,null,null,null,7,null,null,null,8]
[null,null,null,null,1,null,null,6,5,3,null,null,null,1,4,2,null,null,3,null,9]
[null,4,9,null,null,null,8,null,null,null,null,null,null,null,null,null,9,null,null,null,2]
[null,null,null,5,null,null,null,null,null,2,null,null,null,4,5,null,null,null,null,6]
[null,3,null,4,5,9,6,7,null,null,null,null,null,null,null,5,2,3,4]
[null,null,null,null,7,null,null,null,6,null,null,null,null,7,null,null,null,6,null,1]
[null,null,null,null,9,1,null,null,3,null,null,null,null,null,7,null,null,null,6,8]
[null,null,null,7,8,null,null,4,null,null,null,null,null,3,null,6,null,null,9]
[null,8,null,2,null,null,null,9,null,null,null,null,null,5,null,8,1]
[]
[null,"NO.",226,null,null,{"$f":"COUNTA(B1324:J1332)","v":28},"ランク",null,"普通",null,null,null,"NO.",227,null,null,{"$f":"COUNTA(M1324:U1332)","v":28},"ランク",null,"普通"]
[null,null,null,null,null,null,null,1,null,null,null,null,null,1,null,null,null,6,9,null,4]
[null,null,6,8,4,7,null,null,3,null,null,null,5,null,null,2]
[null,null,null,1,3,2,null,null,6,null,null,null,8,null,null,null,1,null,3]
[null,null,null,3,null,null,7,8,null,null,null,null,4,null,null,null,8,5,null,1]
[null,null,4,null,null,null,null,6]
[null,1,null,null,2,5,null,9,null,null,null,null,null,2,7,3,null,null,null,5,6]
[null,4,null,null,9,null,5,null,null,null,null,null,2,null,1,9,null,null,null,null,7]
[null,null,3,null,null,null,null,2,5,9,null,null,null,6,null,null,null,8,null,4]
[null,7,null,null,null,8,null,null,null,null,null,null,7,null,null,null,3,null,null,null,9]
[]
[null,"NO.",228,null,null,{"$f":"COUNTA(B1335:J1343)","v":28},"ランク",null,"普通",null,null,null,"NO.",229,null,null,{"$f":"COUNTA(M1335:U1343)","v":28},"ランク",null,"普通"]
[null,null,null,4,null,null,6,null,null,7,null,null,null,1,6,null,null,null,9]
[null,null,null,1,null,3,2,6,5,null,null,null,null,null,8,null,null,9,3,null,2]
[null,9,null,null,null,null,null,null,3,null,null,null,null,null,null,2,null,7]
[null,2,null,null,null,null,5,null,null,6,null,null,6]
[null,null,null,8,null,null,null,null,null,5,null,null,null,null,4,1,null,null,null,2]
[null,null,4,null,null,9,1,7,null,null,null,null,8,null,1,null,5,4,6,null,3]
[null,null,7,null,3,null,null,null,null,4,null,null,5,null,null,null,3,null,null,null,7]
[null,null,null,null,null,null,null,null,8,null,null,null,null,null,7,null,null,8,null,null,9]
[null,1,5,null,2,8,null,9,null,null,null,null,4,null,null,6,null,null,null,5]
[]
[null,"NO.",230,null,null,{"$f":"COUNTA(B1346:J1354)","v":28},"ランク",null,"普通",null,null,null,"NO.",231,null,null,{"$f":"COUNTA(M1346:U1354)","v":28},"ランク",null,"普通"]
[null,null,null,null,null,8,1,5,null,9,null,null,null,8,1,null,null,null,2]
[null,8,6,null,null,null,null,3,null,null,null,null,null,5,null,null,2,9,null,4]
[null,null,1,null,2,null,null,null,null,null,null,null,null,null,4,null,6,null,null,3]
[null,null,4,null,null,1,null,6,null,null,null,null,9,2,null,null,4,null,7]
[null,null,3,7,null,2,null,null,null,null,null,null,null,4,null,5]
[null,null,null,null,null,null,5,4,7,null,null,null,null,null,null,null,3,null,1,6]
[null,3,null,null,null,6,null,null,null,null,null,null,null,1,null,3]
[null,null,null,null,null,null,4,9,null,5,null,null,7,null,8,null,null,null,9]
[null,null,7,9,1,null,8,2,null,null,null,null,null,null,null,8,null,5,6,null,7]
[]
[null,"NO.",232,null,null,{"$f":"COUNTA(B1357:J1365)","v":28},"ランク",null,"普通",null,null,null,"NO.",233,null,null,{"$f":"COUNTA(M1357:U1365)","v":28},"ランク",null,"普通"]
[null,null,null,9,null,null,1,7,null,null,null,null,9,null,4,null,2,null,null,null,1]
[null,1,6,null,2,8,null,null,null,null,null,null,5,null,null,null,7,null,null,4]
[null,null,null,2,4,null,null,6,null,null,null,null,2,null,null,null,null,3]
[null,null,4,null,null,null,3,null,null,null,null,null,null,null,null,null,5,9,8]
[null,null,9,null,5,null,null,null,6,4,null,null,1,null,null,null,null,null,null,null,6]
[null,null,null,null,null,7,null,null,8,null,null,null,null,9,5,8,null,4,7,null,2]
[null,null,null,7,null,null,null,5,null,3,null,null,null,null,null,null,null,7,null,6,3]
[null,3,2,null,null,4,9,null,null,null,null,null,null,7,null,null,8,null,null,null,9]
[null,null,1,null,null,null,8,9,null,null,null,null,3,null,null,null,null,null,1]
[]
[null,"NO.",234,null,null,{"$f":"COUNTA(B1368:J1376)","v":28},"ランク",null,"普通",null,null,null,"NO.",288,null,null,{"$f":"COUNTA(M1368:U1376)","v":28},"ランク",null,"普通"]
[null,6,null,9,2,5,1,null,null,3,null,null,4,null,null,9,null,null,3,null,1]
[null,null,null,null,null,null,8,5,null,null,null,null,8,null,null,null,null,3,null,null,5]
[null,1,null,null,null,null,null,null,8,2,null,null,1,null,null,2,null,null,null,9]
[null,null,null,3,9,null,null,null,null,7,null,null,null,2,3,7,null,null,6]
[null,null,2,null,null,1,null,null,null,4,null,null,null,null,4,null,6,null,null,1]
[null,null,4,null,8,null,null,6,null,null,null,null,null,null,null,5,null,null,8]
[null,null,null,null,null,null,5,null,7,9,null,null,null,null,7]
[null,null,null,7,null,null,4,null,null,null,null,null,6,null,null,null,2,null,5]
[null,null,null,4,3,null,null,null,6,null,null,null,null,null,1,8,null,4,9,7]
[]
[null,"NO.",290,null,null,{"$f":"COUNTA(B1379:J1387)","v":28},"ランク",null,"普通",null,null,null,"NO.",291,null,null,{"$f":"COUNTA(M1379:U1387)","v":28},"ランク",null,"普通"]
[null,null,1,null,null,null,5,8,null,2,null,null,8,null,null,null,6,null,5]
[null,null,null,6,null,null,2,3,null,null,null,null,null,null,null,2,null,null,null,1]
[null,null,4,null,1,null,8,null,null,null,null,null,7,null,1,4,null,null,null,null,3]
[null,4,null,5,9,null,null,null,null,null,null,null,9,null,null,7,null,null,null,null,6]
[null,null,null,null,null,5,null,null,null,4,null,null,4,null,null,null,1,null,9]
[null,null,null,9,null,null,7,5,null,6,null,null,null,3,null,null,5,null,7,4]
[null,null,2,null,null,null,6,null,null,3,null,null,null,null,null,6,null,null,null,9]
[null,null,null,null,null,1,null,null,7,null,null,null,null,2,7,null,null,8,3,5]
[null,3,7,null,null,8,null,null,9,null,null,null,null,8,null,null,2]
[]
[null,"NO.",293,null,null,{"$f":"COUNTA(B1390:J1398)","v":28},"ランク",null,"普通",null,null,null,"NO.",235,null,null,{"$f":"COUNTA(M1390:U1398)","v":27},"ランク",null,"普通"]
[null,null,null,5,null,null,null,6,null,null,null,null,null,null,null,2,null,4,null,null,3]
[null,null,null,7,null,8,1,null,null,2,null,null,1,6,null,9]
[null,1,6,null,2,null,null,null,null,3,null,null,null,null,3,null,null,null,null,7,6]
[null,null,null,null,null,null,null,null,2,null,null,null,null,8,null,null,1,null,null,null,7]
[null,null,null,null,null,4,null,null,null,6,null,null,null,null,4,null,5,null,2]
[null,6,4,3,9,5,null,8,null,null,null,null,5,null,null,null,null,3,6]
[null,null,5,null,null,null,8,null,null,9,null,null,null,null,null,8,null,1]
[null,7,null,9,1,null,null,null,4,null,null,null,null,null,null,null,null,null,null,9,4]
[null,null,null,null,null,7,null,3,null,null,null,null,2,7,9,5,null,null,8]
[]
[null,"NO.",236,null,null,{"$f":"COUNTA(B1401:J1409)","v":27},"ランク",null,"普通",null,null,null,"NO.",237,null,null,{"$f":"COUNTA(M1401:U1409)","v":26},"ランク",null,"普通"]
[null,null,null,null,null,null,null,null,null,9,null,null,null,1,null,8]
[null,null,5,3,4,null,null,7,null,null,null,null,null,null,null,2,4,null,null,9,3]
[null,null,null,1,null,6,2,null,null,3,null,null,null,3,null,null,null,null,null,5]
[null,8,null,null,null,null,null,6,null,null,null,null,3,null,null,5]
[null,null,4,null,3,5,null,8,null,null,null,null,null,null,5,null,null,9,1,3,6]
[null,1,null,null,7,null,null,4,null,null,null,null,2,null,null,1,6]
[null,null,7,null,1,null,5,9,6,null,null,null,null,null,null,null,8,null,9,7]
[null,null,2,9,null,null,8,null,null,null,null,null,null,8,6,null,null,null,null,2]
[null,null,null,null,null,null,null,null,null,2,null,null,null,4,7]
[]
[null,"NO.",461,null,null,{"$f":"COUNTA(B1412:J1420)","v":26},"ランク",null,"普通",null,null,null,"NO.",239,null,null,{"$f":"COUNTA(M1412:U1420)","v":25},"ランク",null,"普通"]
[null,4,null,null,null,null,null,7,3,null,null,null,null,null,null,5]
[null,3,null,null,2,6,null,null,null,5,null,null,5,null,null,null,null,null,null,null,2]
[null,9,null,null,null,null,null,4,null,null,null,null,8,6,null,null,null,null,null,3]
[null,null,null,null,null,null,null,null,null,1,null,null,1,null,9,null,null,null,8,7]
[null,null,null,4,5,null,8,null,7,6]
[null,null,6,2,null,null,7,null,5,null,null,null,6,null,2,1,4,null,null,null,9]
[null,null,null,1,null,null,null,2,null,null,null,null,null,5,null,8,7,null,null,6]
[null,null,8,7,1,null,null,null,null,null,null,null,null,7,null,null,null,3,null,8]
[null,null,null,null,8,null,3,null,null,null,null,null,null,null,null,null,2,null,null,9,5]
[]
[null,"NO.",240,null,null,{"$f":"COUNTA(B1423:J1431)","v":25},"ランク",null,"普通",null,null,null,"NO.",246,null,null,{"$f":"COUNTA(M1423:U1431)","v":33},"ランク",null,"難問"]
[null,6,null,null,null,null,null,5,null,null,null,null,null,1,null,2,7,null,null,9,8]
[null,null,null,null,2,null,4,null,3,null,null,null,null,null,2,null,null,null,6,3]
[null,null,7,1,null,null,null,2,null,null,null,null,3,null,8,5,null,null,null,7,2]
[null,null,8,null,null,null,3,null,5,null,null,null,null,null,1,null,5,null,null,4,6]
[null,1,4,null,null,null,5,null,7,null,null,null,null,null,null,null,null,1,2]
[null,null,null,null,null,2,null,null,null,6,null,null,4,null,5,null,6,null,7]
[null,null,5,null,3,null,null,null,4,null,null,null,1,null,null,null,8,null,3]
[null,4,null,null,null,null,8,null,null,null,null,null,null,null,7,3,null,5,null,null,9]
[null,null,null,7,null,1,null,null,8,null,null,null,5,null,null,null,null,null,8,null,4]
[]
[null,"NO.",247,null,null,{"$f":"COUNTA(B1434:J1442)","v":32},"ランク",null,"難問",null,null,null,"NO.",248,null,null,{"$f":"COUNTA(M1434:U1442)","v":32},"ランク",null,"難問"]
[null,null,null,1,null,null,null,null,null,7,null,null,4,null,null,null,5,null,null,null,7]
[null,3,null,5,null,null,8,null,null,null,null,null,null,9,null,null,4,null,6,5]
[null,7,6,8,1,2,null,null,4,3,null,null,null,null,7,null,2,null,9]
[null,null,null,4,null,3,9,null,null,5,null,null,null,7,null,2,null,4,null,1]
[null,2,7,null,5,null,null,null,null,9,null,null,8,1,null,null,9,null,null,4,3]
[null,null,null,null,null,null,null,null,null,6,null,null,null,5,null,8,null,7,null,9]
[null,null,null,2,6,5,null,null,3,null,null,null,null,null,9,null,6,null,4]
[null,null,1,null,null,8,3,null,9,4,null,null,null,3,null,null,8,null,null,6]
[null,null,null,7,null,null,4,null,null,null,null,null,6,null,null,null,7,null,null,null,9]
[]
[null,"NO.",249,null,null,{"$f":"COUNTA(B1445:J1453)","v":32},"ランク",null,"難問",null,null,null,"NO.",253,null,null,{"$f":"COUNTA(M1445:U1453)","v":32},"ランク",null,"難問"]
[null,null,7,null,null,null,null,5,null,null,null,null,null,8,null,null,2,null,null,null,9]
[null,null,null,1,2,7,5,null,null,3,null,null,null,null,5,8,null,null,1,7]
[null,null,4,null,1,null,null,null,2,7,null,null,7,null,2,5,9]
[null,null,null,null,null,null,null,null,null,null,null,null,null,null,null,null,null,8,3,4]
[null,null,8,7,6,5,null,3,null,null,null,null,1,null,6,4,null,null,null,null,7]
[null,9,null,4,7,1,null,6,null,2,null,null,null,3,null,null,1,null,6]
[null,7,null,8,null,null,6,null,null,null,null,null,null,null,3,9,null,null,null,null,4]
[null,4,null,null,8,null,null,9,null,6,null,null,null,4,null,null,7,null,null,3]
[null,null,2,null,9,null,null,null,3,null,null,null,5,2,null,null,null,4,9,1]
[]
[null,"NO.",166,null,null,{"$f":"COUNTA(B1456:J1464)","v":31},"ランク",null,"難問",null,null,null,"NO.",255,null,null,{"$f":"COUNTA(M1456:U1464)","v":31},"ランク",null,"難問"]
[null,null,null,5,null,8,2,4,3,null,null,null,5,4,null,7,null,null,3,null,9]
[null,2,null,null,4,null,5,null,9,null,null,null,null,null,1,null,2,null,null,4]
[null,null,1,4,null,null,6,null,null,null,null,null,null,null,2,null,null,8,1]
[null,3,null,9,null,null,null,null,null,6,null,null,4,null,null,null,6,null,null,null,2]
[null,null,4,null,null,6,null,9,null,null,null,null,2,null,null,null,4,null,6]
[null,null,null,6,null,5,4,3,null,null,null,null,null,8,6,null,null,5,null,7,3]
[null,4,null,8,6,1,null,2,null,null,null,null,8,null,null,null,null,3,5,9,1]
[null,null,null,1,null,null,8,null,null,9,null,null,null,null,3]
[null,null,null,7,null,null,null,null,null,null,null,null,7,null,null,9,8]
[]
[null,"NO.",256,null,null,{"$f":"COUNTA(B1467:J1475)","v":31},"ランク",null,"難問",null,null,null,"NO.",363,null,null,{"$f":"COUNTA(M1467:U1475)","v":31},"ランク",null,"難問"]
[null,null,null,null,null,null,1,null,4,null,null,null,null,null,4,5,null,null,9]
[null,null,null,8,null,null,2,null,null,6,null,null,8,null,6,2,null,1,3,null,7]
[null,5,7,null,null,9,null,null,null,3,null,null,null,null,null,null,3,null,null,null,6]
[null,null,2,6,7,1,null,null,null,null,null,null,null,4,9,6]
[null,null,null,null,3,null,4,null,null,2,null,null,1,null,8,null,null,5,null,6]
[null,4,null,null,null,null,null,null,6,null,null,null,null,null,null,1,2,4,8]
[null,7,8,null,null,4,3,null,1,9,null,null,null,null,7,9,null,null,null,2]
[null,2,null,null,6,8,null,null,7,5,null,null,null,3,2,null,null,8,7,9]
[null,null,3,9,null,null,null,null,null,null,null,null,null,null,5]
[]
[null,"NO.",196,null,null,{"$f":"COUNTA(B1478:J1486)","v":30},"ランク",null,"難問",null,null,null,"NO.",257,null,null,{"$f":"COUNTA(M1478:U1486)","v":30},"ランク",null,"難問"]
[null,7,2,null,3,null,null,8,5,null,null,null,null,null,7,1]
[null,1,null,3,null,2,null,9,null,null,null,null,3,null,null,null,4,null,null,7]
[null,4,null,6,null,null,5,null,null,3,null,null,9,1,null,null,5,null,2,4]
[null,null,null,null,1,8,null,null,4,null,null,null,4,null,null,null,null,8,null,3]
[null,null,4,null,5,null,9,null,null,1,null,null,5,null,null,null,null,null,6,null,1]
[null,null,null,1,null,null,null,null,6,null,null,null,null,null,null,5,6,null,null,9]
[null,5,null,2,8,6,null,null,null,null,null,null,2,null,null,null,9,null,null,null,7]
[null,3,null,7,9,null,null,null,null,null,null,null,7,null,null,null,null,null,9,1]
[null,null,null,null,null,null,null,null,9,null,null,null,null,null,4,6,8,null,3,2]
[]
[null,"NO.",258,null,null,{"$f":"COUNTA(B1489:J1497)","v":30},"ランク",null,"難問",null,null,null,"NO.",259,null,null,{"$f":"COUNTA(M1489:U1497)","v":30},"ランク",null,"難問"]
[null,1,null,null,2,null,null,null,3,null,null,null,null,null,4,null,null,null,null,5]
[null,null,9,null,null,null,1,null,null,8,null,null,1,3,null,8,null,2,null,null,4]
[null,5,2,null,null,6,null,null,null,7,null,null,5,null,null,6,null,null,null,null,3]
[null,null,6,4,null,9,null,null,null,5,null,null,null,4,null,5,7,null,null,3,1]
[null,2,null,null,null,null,null,null,null,1,null,null,7,5,null,null,9,null,null,null,6]
[null,null,null,null,5,3,2,null,6,null,null,null,null,null,1]
[null,8,null,null,4,null,null,7,null,null,null,null,null,null,null,null,8,null,null,null,9]
[null,4,null,null,null,null,7,null,null,9,null,null,3,7,null,null,6,1,2]
[null,null,7,null,8,2,null,null,null,3,null,null,null,9,2,null,null,null,null,null,8]
[]
[null,"NO.",260,null,null,{"$f":"COUNTA(B1500:J1508)","v":30},"ランク",null,"難問",null,null,null,"NO.",264,null,null,{"$f":"COUNTA(M1500:U1508)","v":30},"ランク",null,"難問"]
[null,8,4,null,null,null,7,3,null,null,null,null,1,null,null,2,null,null,4,7]
[null,2,null,null,8,null,null,null,null,null,null,null,null,null,7,null,null,null,null,null,3]
[null,1,null,null,2,3,null,6,null,4,null,null,null,2,null,null,null,7,5,null,6]
[null,4,null,null,null,7,null,null,5,null,null,null,null,4,1,5,null,2,6]
[null,7,8,null,null,5,null,4,null,null,null,null,null,null,5,null,7,1]
[null,null,5,null,null,null,9,null,null,6,null,null,6,null,null,null,null,null,1,5]
[null,9,1,null,6,null,null,null,null,null,null,null,null,9,null,null,null,4]
[null,null,7,null,null,null,3,2,null,1,null,null,null,null,null,null,8,null,9,3]
[null,null,null,null,null,null,8,9,null,null,null,null,7,null,null,3,null,null,8,null,4]
[]
[null,"NO.",266,null,null,{"$f":"COUNTA(B1511:J1519)","v":29},"ランク",null,"難問",null,null,null,"NO.",270,null,null,{"$f":"COUNTA(M1511:U1519)","v":29},"ランク",null,"難問"]
[null,6,1,null,null,null,null,null,3,null,null,null,4,null,1,null,null,5,3,null,8]
[null,null,null,null,null,4,3,null,null,1,null,null,null,8,null,2,null,null,null,null,1]
[null,null,null,8,2,null,null,7,null,null,null,null,null,9,null,null,6,null,null,2]
[null,4,null,null,null,null,null,null,5,6,null,null,null,null,null,6]
[null,null,null,3,5,2,4,9,null,null,null,null,null,6,null,7,4,null,null,null,5]
[null,null,7,null,1,null,null,null,null,null,null,null,2,null,4,5,9,null,6,7]
[null,7,null,null,null,9,null,null,null,null,null,null,null,null,null,null,8,null,null,1,9]
[null,null,8,null,null,null,null,null,null,9,null,null,9,3,null,null,2,null,null,null,6]
[null,null,4,1,null,8,6,5,2]
[]
[null,"NO.",273,null,null,{"$f":"COUNTA(B1522:J1530)","v":29},"ランク",null,"難問",null,null,null,"NO.",274,null,null,{"$f":"COUNTA(M1522:U1530)","v":29},"ランク",null,"難問"]
[null,3,null,null,null,2,null,9,5,8,null,null,null,null,1,null,null,4,8]
[null,5,null,null,null,6,null,null,3,null,null,null,6,5,null,null,null,1]
[null,1,null,2,null,null,3,null,null,null,null,null,null,4,9,null,2,null,3,7]
[null,4,1,null,null,null,2,null,6,null,null,null,null,6,4,2]
[null,null,null,null,null,null,null,8,null,null,null,null,null,3,null,null,null,5,6]
[null,7,null,null,null,5,6,3,null,null,null,null,null,null,null,null,1,null,null,8,3]
[null,null,null,null,null,null,4,7,null,null,null,null,7,null,null,null,9,8,5,2]
[null,null,5,1,null,null,9,null,4,null,null,null,null,null,5,null,null,null,null,null,9]
[null,null,null,7,null,8,null,null,null,9,null,null,null,9,null,null,null,7]
[]
[null,"NO.",275,null,null,{"$f":"COUNTA(B1533:J1541)","v":29},"ランク",null,"難問",null,null,null,"NO.",276,null,null,{"$f":"COUNTA(M1533:U1541)","v":29},"ランク",null,"難問"]
[null,null,1,2,null,null,4,null,null,5]
[null,null,null,4,null,null,5,null,null,6,null,null,6,null,null,2,1,8,5,9,4]
[null,null,null,null,null,null,2,9,null,3,null,null,8,null,1,null,null,null,null,3]
[null,null,5,null,6,null,null,null,9,null,null,null,null,null,null,null,9,null,null,6]
[null,null,4,null,null,null,3,null,null,null,null,null,4,null,9,7,null,5,3]
[null,3,null,null,null,5,null,7,6,null,null,null,7,5,null,null,null,null,null,4]
[null,null,null,null,null,8,null,null,2,null,null,null,null,null,null,null,8,6,2,null,7]
[null,8,7,null,null,2,1,null,null,9,null,null,null,2,7,null,3]
[null,null,null,1,null,null,null,null,8,7,null,null,1,null,null,null,null,null,9]
[]
[null,"NO.",277,null,null,{"$f":"COUNTA(B1544:J1552)","v":29},"ランク",null,"難問",null,null,null,"NO.",278,null,null,{"$f":"COUNTA(M1544:U1552)","v":29},"ランク",null,"難問"]
[null,7,9,1,5,null,null,null,null,3,null,null,1,4,null,null,2]
[null,null,null,null,2,null,null,1,7,null,null,null,3,null,null,null,null,null,null,4]
[null,6,null,null,null,null,9,null,null,null,null,null,null,null,5,null,null,null,9,2,3]
[null,null,1,null,null,null,null,null,null,null,null,null,2,null,9,3,null,5,null,6,7]
[null,4,5,null,null,9,null,null,6,2,null,null,null,null,null,null,4]
[null,2,null,null,null,8,5,4,null,null,null,null,null,null,4,null,null,null,null,8]
[null,null,null,null,8,null,null,3,9,null,null,null,null,null,3,null,6,7,null,9]
[null,null,4,7,null,null,null,null,null,8,null,null,null,null,null,5,3,8]
[null,null,6,null,3,null,1,null,null,null,null,null,7,null,8,null,null,1,null,null,2]
[]
[null,"NO.",279,null,null,{"$f":"COUNTA(B1555:J1563)","v":29},"ランク",null,"難問",null,null,null,"NO.",280,null,null,{"$f":"COUNTA(M1555:U1563)","v":29},"ランク",null,"難問"]
[null,8,null,null,null,1,null,3,null,null,null,null,null,9,null,8,null,null,6]
[null,null,3,9,null,null,null,null,7,null,null,null,8,null,null,4,6,null,null,5,3]
[null,null,1,null,4,null,null,9,8,null,null,null,null,null,5,null,null,null,null,null,4]
[null,null,null,null,null,null,null,null,6,null,null,null,null,1,null,2,null,null,null,null,7]
[null,null,7,null,6,null,1,null,null,3,null,null,null,null,9,null,4,null,null,2]
[null,2,null,null,null,4,5,null,null,null,null,null,5,null,null,null,null,9,null,1]
[null,null,null,5,null,6,null,null,2,9,null,null,null,7,null,null,8,null,null,null,2]
[null,null,null,null,8,null,null,1,null,null,null,null,2,null,null,null,null,3,7]
[null,null,4,7,5,null,2,6,null,null,null,null,null,5,3,6,null,null,null,4]
[]
[null,"NO.",281,null,null,{"$f":"COUNTA(B1566:J1574)","v":29},"ランク",null,"難問",null,null,null,"NO.",282,null,null,{"$f":"COUNTA(M1566:U1574)","v":29},"ランク",null,"難問"]
[null,null,null,null,null,null,null,null,1,3,null,null,null,6,null,null,null,1,3]
[null,null,6,null,null,null,null,null,null,null,null,null,8,null,3,9,null,2,null,null,5]
[null,1,null,null,null,null,6,8,2,null,null,null,4,null,null,6,null,null,null,null,8]
[null,5,null,null,2,7,null,null,6,null,null,null,3,null,4,null,null,null,null,9]
[null,7,1,null,null,null,5,null,4,null,null,null,null,null,8,null,null,7,5,null,1]
[null,null,null,4,3,null,null,null,9,null,null,null,null,null,null,2,null,5,null,null,6]
[null,8,null,null,null,null,2,null,3,7,null,null,9,null,2]
[null,3,null,5,null,1,null,null,null,null,null,null,null,null,null,null,null,null,null,null,4]
[null,null,7,null,null,8,null,9,5,null,null,null,7,null,6,3,null,8,null,1]
[]
[null,"NO.",283,null,null,{"$f":"COUNTA(B1577:J1585)","v":29},"ランク",null,"難問",null,null,null,"NO.",284,null,null,{"$f":"COUNTA(M1577:U1585)","v":29},"ランク",null,"難問"]
[null,null,null,1,9,7,null,null,8,null,null,null,null,null,3,null,null,null,null,5]
[null,null,null,2,null,null,null,3,null,4,null,null,null,null,1,2,7,null,null,null,9]
[null,null,8,null,null,null,2,1,null,null,null,null,null,null,null,null,null,9,6,null,4]
[null,5,null,null,null,null,null,null,6,null,null,null,1,null,null,5,null,null,null,null,3]
[null,null,null,null,6,3,null,null,null,9,null,null,8,4,null,null,null,1,2]
[null,null,6,4,5,null,null,null,1,3,null,null,null,null,null,8,null,null,null,7,6]
[null,null,7,5,null,9,null,4,null,null,null,null,6,9,null,null,1,null,5]
[null,null,null,null,2,null,null,null,null,null,null,null,null,3,null,null,2,8,9]
[null,null,4,null,null,8,null,9,7,null,null,null,7,null,null,null,null,null,3]
[]
[null,"NO.",285,null,null,{"$f":"COUNTA(B1588:J1596)","v":29},"ランク",null,"難問",null,null,null,"NO.",286,null,null,{"$f":"COUNTA(M1588:U1596)","v":28},"ランク",null,"難問"]
[null,1,null,null,null,null,7,null,null,null,null,null,null,null,6,null,4,2,1,null,3]
[null,null,null,null,2,null,null,null,5,null,null,null,null,null,null,9]
[null,null,null,8,null,4,1,3,null,9,null,null,null,1,7,null,null,3]
[null,null,null,null,null,null,null,null,null,6,null,null,null,3,4,null,null,5]
[null,8,4,7,null,6,null,null,2,null,null,null,null,null,null,null,7,9]
[null,null,3,null,null,2,5,null,8,null,null,null,null,null,1,null,null,null,8,5,6]
[null,5,null,null,null,7,null,null,null,null,null,null,null,null,null,null,null,7,null,null,4]
[null,null,null,null,null,null,3,null,9,null,null,null,6,2,null,null,null,8,null,null,9]
[null,4,7,3,9,null,8,6,null,null,null,null,4,7,null,null,2,null,null,3]
[]
[null,"NO.",287,null,null,{"$f":"COUNTA(B1599:J1607)","v":28},"ランク",null,"難問",null,null,null,"NO.",289,null,null,{"$f":"COUNTA(M1599:U1607)","v":28},"ランク",null,"難問"]
[null,null,null,null,null,2,null,6,null,null,null,null,null,null,null,null,null,6,3]
[null,null,9,null,5,null,null,null,3,null,null,null,null,7,null,4,null,null,null,null,2]
[null,4,null,1,null,7,null,null,null,2,null,null,1,null,5,null,2,null,null,null,6]
[null,3,null,null,null,null,5,null,2,null,null,null,null,null,null,null,null,null,9]
[null,null,6,null,null,null,null,7,null,null,null,null,null,9,null,5,7,3,6,null,4]
[null,null,null,4,8,1,null,null,6,null,null,null,4,null,8,null,null,2]
[null,8,null,null,null,null,9,null,null,null,null,null,null,null,null,null,8,5]
[null,null,5,7,1,null,null,null,9,4,null,null,null,null,null,null,null,null,1,null,9]
[null,null,null,null,2,null,8,3,null,null,null,null,7,2,3,1,null,null,8]
[]
[null,"NO.",292,null,null,{"$f":"COUNTA(B1610:J1618)","v":28},"ランク",null,"難問",null,null,null,"NO.",294,null,null,{"$f":"COUNTA(M1610:U1618)","v":28},"ランク",null,"難問"]
[null,null,7,2,null,null,9,5,4,3,null,null,null,null,null,7,null,null,1,null,2]
[null,null,null,null,null,null,2,null,null,null,null,null,null,null,null,null,null,null,null,null,3]
[null,1,null,null,null,3,null,null,null,9,null,null,null,1,8,null,3,2,null,5]
[null,8,null,5,null,null,null,null,7,null,null,null,4,null,5,null,null,null,null,1]
[null,null,null,null,6,null,null,null,null,null,null,null,null,7,null,null,6,null,9]
[null,4,null,null,null,8,5,null,1,6,null,null,null,9,null,8,5,null,null,6,4]
[null,null,null,3,1,null,8,null,null,null,null,null,null,null,3]
[null,2,null,null,null,6,null,null,null,4,null,null,null,null,7,5,null,null,null,2]
[null,7,null,null,null,null,null,9,5,null,null,null,null,2,null,null,4,8,null,null,9]
[]
[null,"NO.",295,null,null,{"$f":"COUNTA(B1621:J1629)","v":28},"ランク",null,"難問",null,null,null,"NO.",296,null,null,{"$f":"COUNTA(M1621:U1629)","v":28},"ランク",null,"難問"]
[null,null,null,3,9,4,null,null,null,null,null,null,6,null,null,null,null,9,3,5]
[null,null,1,null,null,7,null,null,6,null,null,null,null,null,null,6,null,2,null,8]
[null,5,null,7,6,null,null,1,null,3,null,null,9,null,null,5,null,null,null,2]
[null,null,null,4,null,null,9,null,null,null,null,null,null,null,null,null,5,null,null,null,1]
[null,null,8,null,null,null,7,4,9,null,null,null,null,1,null,null,null,null,4,6]
[null,2,null,null,8,null,null,null,null,null,null,null,7,4,null,null,6]
[null,null,4,null,null,null,5,3,null,6,null,null,3,null,null,null,null,null,null,4]
[null,null,2,null,null,null,6,null,1,null,null,null,1,8,null,null,2,null,null,3]
[null,9,null,null,null,null,null,8,null,null,null,null,null,2,null,8,null,null,6,null,9]
[]
[null,"NO.",297,null,null,{"$f":"COUNTA(B1632:J1640)","v":28},"ランク",null,"難問",null,null,null,"NO.",298,null,null,{"$f":"COUNTA(M1632:U1640)","v":28},"ランク",null,"難問"]
[null,6,null,null,null,8,null,null,null,3,null,null,null,null,1,7,null,9]
[null,null,null,1,2,null,null,null,null,6,null,null,null,null,null,2,null,null,null,7,9]
[null,3,5,null,9,null,1,null,7,null,null,null,null,null,null,null,3,null,null,5]
[null,1,4,null,null,null,null,null,null,null,null,null,6,null,null,8,null,null,null,null,2]
[null,null,null,null,null,null,8,6,null,null,null,null,7,null,8,null,4,null,null,6,1]
[null,8,null,9,3,null,5,7,null,null,null,null,null,4]
[null,2,null,null,null,4,null,null,null,null,null,null,9,null,7,6,2]
[null,null,null,null,null,7,null,null,null,1,null,null,1,null,3,null,null,8,null,4]
[null,null,null,4,5,null,null,9,null,8,null,null,null,null,6,null,null,null,9,null,8]
[]
[null,"NO.",299,null,null,{"$f":"COUNTA(B1643:J1651)","v":28},"ランク",null,"難問",null,null,null,"NO.",300,null,null,{"$f":"COUNTA(M1643:U1651)","v":28},"ランク",null,"難問"]
[null,2,null,null,4,null,8,null,null,3,null,null,null,7,null,null,null,5]
[null,null,null,null,null,null,null,5,null,null,null,null,null,null,3,2,null,4,null,7]
[null,6,null,null,null,9,7,null,null,4,null,null,null,null,1,null,null,null,2,3]
[null,null,null,null,null,6,null,null,null,null,null,null,null,6,null,null,5,null,null,null,9]
[null,null,5,null,null,null,null,7,null,8,null,null,null,4,null,null,null,null,null,1]
[null,8,4,3,null,null,5,2,null,6,null,null,null,null,5,9,null,null,null,6,3]
[null,null,8,2,null,null,null,4,null,9,null,null,null,8,null,4,null,null,1]
[null,null,null,null,9,null,4,3,null,null,null,null,null,null,4,null,null,7,null,9]
[null,null,7,null,null,8,null,null,null,null,null,null,null,null,2,null,9,8,6]
[]
[null,"NO.",241,null,null,{"$f":"COUNTA(B1654:J1662)","v":27},"ランク",null,"難問",null,null,null,"NO.",301,null,null,{"$f":"COUNTA(M1654:U1662)","v":27},"ランク",null,"難問"]
[null,null,null,null,9,null,null,null,null,null,null,null,null,null,5,null,null,null,3]
[null,null,1,8,null,null,null,6,2,null,null,null,8,null,null,3,null,6,null,9]
[null,null,null,null,null,null,1,4,null,null,null,null,null,1,null,null,null,8,null,null,2]
[null,7,8,null,null,5,null,null,6,4,null,null,5,null,2,4,null,null,7,null,1]
[null,2,null,null,7,null,null,null,null,3,null,null,null,7,null,null,3,null,null,4]
[null,5,null,null,6,null,null,null,8,null,null,null,9,null,null,8,null,null,6]
[null,null,null,7,8,null,null,9,null,null,null,null,1,null,null,null,null,7]
[null,null,3,null,null,9,null,5,null,null,null,null,null,9]
[null,4,null,6,null,null,2,null,null,null,null,null,null,null,null,2,null,4,null,5,6]
[]
[null,"NO.",302,null,null,{"$f":"COUNTA(B1665:J1673)","v":27},"ランク",null,"難問",null,null,null,"NO.",303,null,null,{"$f":"COUNTA(M1665:U1673)","v":27},"ランク",null,"難問"]
[null,null,null,5,8,null,7,null,null,null,null,null,null,null,9,4]
[null,null,2,null,null,null,null,null,9,null,null,null,null,null,null,null,null,null,null,1]
[null,null,null,null,null,null,5,1,null,7,null,null,2,null,8,null,3,6,null,null,7]
[null,null,null,null,null,null,4,5,6,null,null,null,null,null,null,6,null,4]
[null,null,1,null,null,8,null,null,7,null,null,null,5,null,null,null,null,null,null,null,4]
[null,4,null,6,2,null,null,null,null,null,null,null,3,null,1,5,8,null,null,9]
[null,null,null,1,7,null,null,9,null,2,null,null,null,8,null,null,null,null,null,2]
[null,3,9,null,null,4,null,null,null,null,null,null,7,1,null,2]
[null,null,null,7,null,null,null,3,5,null,null,null,null,null,null,8,7,3,null,5,6]
[]
[null,"NO.",304,null,null,{"$f":"COUNTA(B1676:J1684)","v":27},"ランク",null,"難問",null,null,null,"NO.",305,null,null,{"$f":"COUNTA(M1676:U1684)","v":27},"ランク",null,"難問"]
[null,null,null,8,null,6,null,3]
[null,null,null,null,4,null,null,1,null,null,null,null,6,null,null,null,7,1,null,null,9]
[null,1,6,null,null,2,null,4,null,null,null,null,7,4,null,null,6,2,null,null,3]
[null,null,null,7,null,5,9,8,null,6,null,null,null,null,5,null,null,4,null,3]
[null,6,null,null,null,3,null,null,2,null,null,null,null,null,3,null,9,null,null,4,6]
[null,null,4,null,null,null,null,null,1,null,null,null,2,6,null,null,null,null,null,null,5]
[null,null,9,1,3,null,null,2,5,null,null,null,null,null,null,1,null,7,null,9]
[null,null,7,null,9,null,null,null,null,null,null,null,null,null,1,null,null,null,null,2,8]
[null,null,null,null,5,null,null,null,null,null,null,null,null,5,null,8]
[]
[null,"NO.",306,null,null,{"$f":"COUNTA(B1687:J1695)","v":27},"ランク",null,"難問",null,null,null,"NO.",307,null,null,{"$f":"COUNTA(M1687:U1695)","v":27},"ランク",null,"難問"]
[null,null,null,null,null,null,3,null,null,5,null,null,null,6]
[null,2,null,null,null,6,1,8,3,null,null,null,null,null,7,null,null,null,3,4]
[null,1,null,null,null,null,null,null,null,null,null,null,8,1,null,null,null,9,null,null,5]
[null,null,6,null,null,5,null,7,8,null,null,null,null,9,2,null,null,null,5,6]
[null,null,null,4,null,null,null,null,null,null,null,null,null,4,null,null,2,null,null,null,3]
[null,7,null,2,null,null,null,9,null,null,null,null,null,null,8,6,4]
[null,5,1,null,null,null,8,4,null,null,null,null,null,null,null,8,5,null,null,9,1]
[null,null,null,7,4,null,null,2,9,null,null,null,null,null,null,2,null,null,7]
[null,null,null,3,null,9,null,null,6,null,null,null,1,7,9]
[]
[null,"NO.",308,null,null,{"$f":"COUNTA(B1698:J1706)","v":27},"ランク",null,"難問",null,null,null,"NO.",309,null,null,{"$f":"COUNTA(M1698:U1706)","v":27},"ランク",null,"難問"]
[null,null,null,9,5,7,null,null,2,null,null,null,null,4,null,null,2,null,null,null,5]
[null,null,1,null,null,null,3,null,7,null,null,null,5,null,null,null,9,null,3]
[null,null,null,4,null,null,null,1,3,null,null,null,2,null,null,null,null,null,null,null,1]
[null,9,4,null,null,null,5,null,null,6,null,null,null,null,null,null,3,8,null,6]
[null,null,2,null,null,8,null,null,null,null,null,null,null,8,null,4,null,null,2]
[null,null,null,null,4,null,null,null,null,null,null,null,null,null,4,5,null,null,7,null,9]
[null,6,7,null,null,null,8,5,null,3,null,null,null,null,null,null,8,6,1,3]
[null,null,null,8,1,null,null,2,null,9,null,null,null,3,9,null,null,7,6]
[null,null,null,null,6,null,null,null,null,null,null,null,7]
[]
[null,"NO.",310,null,null,{"$f":"COUNTA(B1709:J1717)","v":26},"ランク",null,"難問",null,null,null,"NO.",311,null,null,{"$f":"COUNTA(M1709:U1717)","v":26},"ランク",null,"難問"]
[null,null,null,5,3,null,null,null,null,null,null,null,6,null,null,null,null,null,2]
[null,null,null,null,null,null,null,null,null,null,null,null,null,null,4,null,null,7]
[null,1,7,null,null,2,null,null,8,null,null,null,1,null,8,6,null,null,3,null,4]
[null,null,null,8,null,null,5,null,6,null,null,null,null,null,null,null,null,null,null,null,3]
[null,null,null,null,null,null,9,null,null,4,null,null,null,null,null,3,5,4,null,7]
[null,null,4,null,null,7,6,9,null,2,null,null,null,null,null,null,null,null,null,9,5]
[null,null,null,null,null,8,null,null,2,null,null,null,4,null,null,8,null,null,null,null,6]
[null,null,8,6,1,null,null,null,null,9,null,null,null,null,9,null,1,null,5]
[null,2,null,null,null,5,null,4,3,null,null,null,3,null,1,7,null,null,null,null,9]
[]
[null,"NO.",312,null,null,{"$f":"COUNTA(B1720:J1728)","v":26},"ランク",null,"難問",null,null,null,"NO.",313,null,null,{"$f":"COUNTA(M1720:U1728)","v":26},"ランク",null,"難問"]
[null,null,1,null,null,2,null,7,null,null,null,null,null,null,null,5,null,2,3]
[null,4,null,null,null,6,null,null,null,null,null,null,null,7,null,null,3]
[null,null,null,6,3,null,8,null,4,null,null,null,null,null,2,null,9]
[null,null,5,2,null,3,null,6,null,null,null,null,null,9,null,null,null,5,null,4]
[null,null,null,null,9,null,null,null,5,null,null,null,null,null,1,3,2,null,null,6]
[null,8,null,null,null,null,1,null,3,null,null,null,4,null,null,null,null,null,null,8]
[null,6,null,1,null,null,null,2,null,5,null,null,null,null,7,null,null,null,null,1,4]
[null,2,4,null,null,null,null,9,null,null,null,null,null,null,null,null,1,9]
[null,null,null,9,null,null,null,null,null,null,null,null,null,5,null,8,null,7,6,9]
[]
[null,"NO.",314,null,null,{"$f":"COUNTA(B1731:J1739)","v":26},"ランク",null,"難問",null,null,null,"NO.",315,null,null,{"$f":"COUNTA(M1731:U1739)","v":26},"ランク",null,"難問"]
[null,9,5,null,null,8,null,7,null,1,null,null,null,6,null,null,4]
[null,6,null,null,null,null,null,null,null,null,null,null,null,null,null,null,null,null,null,1]
[null,null,null,null,2,null,4,null,null,null,null,null,null,null,1,7,2,8,null,3]
[null,null,null,null,null,null,null,null,5,null,null,null,null,8,null,5,null,null,null,6]
[null,4,null,3,null,null,null,null,null,8,null,null,null,null,7,null,null,4,null,5]
[null,5,null,null,null,1,7,null,null,null,null,null,4,3,null,null,null,7,2]
[null,null,3,null,null,null,null,9,6,null,null,null,null,7,null,3,8]
[null,7,9,null,null,null,8,2,null,null,null,null,9,null,null,1]
[null,null,null,6,3,4,null,8,null,null,null,null,null,null,3,null,null,null,9,null,6]
[]
[null,"NO.",316,null,null,{"$f":"COUNTA(B1742:J1750)","v":26},"ランク",null,"難問",null,null,null,"NO.",317,null,null,{"$f":"COUNTA(M1742:U1750)","v":26},"ランク",null,"難問"]
[null,2,null,null,3,null,null,null,null,null,null,null,null,null,null,null,4]
[null,null,7,1,null,null,9,6,3,null,null,null,9,null,null,7,null,5,null,null,3]
[null,null,null,null,null,8,null,1,null,null,null,null,null,null,null,null,8,null,null,null,9]
[null,3,null,null,5,9,null,null,null,null,null,null,null,null,null,null,null,2,6,7]
[null,null,null,null,null,4,null,null,6,1,null,null,null,null,4,null,null,null,8]
[null,null,6,null,null,null,null,4,null,null,null,null,null,3,null,8,5,null,null,null,2]
[null,null,null,null,null,5,4,7,8,null,null,null,4,9,null,null,7]
[null,null,2,7,null,null,8,null,9,null,null,null,3,null,8,null,1,4]
[null,null,9,null,null,null,null,null,null,null,null,null,null,1,null,null,null,null,9,5]
[]
[null,"NO.",318,null,null,{"$f":"COUNTA(B1753:J1761)","v":26},"ランク",null,"難問",null,null,null,"NO.",319,null,null,{"$f":"COUNTA(M1753:U1761)","v":26},"ランク",null,"難問"]
[null,null,5,null,null,3,null,null,null,null,null,null,9,null,null,null,null,null,4]
[null,null,null,null,null,null,9,4,null,3,null,null,null,null,null,8,1,6]
[null,2,null,8,4,null,null,null,null,null,null,null,null,7,2,5]
[null,null,null,null,null,null,null,null,6,2,null,null,null,9,null,null,null,null,null,null,6]
[null,4,7,null,1,null,3,null,9,null,null,null,2,null,4,null,null,3,9]
[null,null,1,null,null,6,5,null,null,null,null,null,null,6,null,null,5,null,2,1]
[null,1,null,7,null,null,6,null,null,9,null,null,null,null,null,null,3,null,1,9]
[null,null,null,null,null,null,2,null,4,null,null,null,null,null,3,null,8,7]
[null,null,null,null,8,7,null,null,null,null,null,null,null,4,null,null,null,null,null,8]
[]
[null,"NO.",320,null,null,{"$f":"COUNTA(B1764:J1772)","v":26},"ランク",null,"難問",null,null,null,"NO.",321,null,null,{"$f":"COUNTA(M1764:U1772)","v":26},"ランク",null,"難問"]
[null,null,2,null,null,null,8,3,null,null,null,null,null,null,null,9]
[null,null,null,null,null,3,null,null,1,null,null,null,null,1,null,null,null,null,6]
[null,null,null,null,2,9,null,null,5,4,null,null,null,null,9,2,1,null,4,null,3]
[null,null,null,5,1,2,null,4,null,3,null,null,null,4,null,1,null,null,null,null,5]
[null,null,1,null,null,null,null,7,null,null,null,null,null,null,null,8,2,null,null,6]
[null,null,null,null,null,null,null,null,null,5,null,null,null,7,null,null,null,5,2]
[null,null,null,2,null,7,null,null,null,null,null,null,3,null,null,null,null,null,null,7]
[null,4,null,null,null,null,null,6,null,8,null,null,null,5,8,null,null,null,null,null,9]
[null,null,6,null,3,8,null,null,9,null,null,null,null,null,7,null,8,9,null,3]
[]
[null,"NO.",322,null,null,{"$f":"COUNTA(B1775:J1783)","v":26},"ランク",null,"難問",null,null,null,"NO.",323,null,null,{"$f":"COUNTA(M1775:U1783)","v":26},"ランク",null,"難問"]
[null,2,6,null,null,8,null,null,null,3,null,null,null,null,null,1,null,null,null,3]
[null,null,null,null,null,null,1,null,5,null,null,null,null,1,null,6,null,9,null,7]
[null,null,null,null,2,null,4,9,null,null,null,null,3,null,null,null,null,4]
[null,6,7,null,null,null,null,null,null,5,null,null,null,null,6,null,null,5,null,2]
[null,null,8,null,1,null,null,3,null,6,null,null,null,null,null,9,null,3,7]
[null,null,null,null,5,null,null,null,null,null,null,null,null,2,null,null,4,null,8]
[null,4,null,null,8,null,5,null,1,9,null,null,null,null,2,null,5,null,9]
[null,7,2,null,null,null,null,null,null,null,null,null,null,null,7,null,null,null,null,5,8]
[null,null,null,null,3,null,null,null,7,null,null,null,4,null,null,null,null,8,null,1]
[]
[null,"NO.",324,null,null,{"$f":"COUNTA(B1786:J1794)","v":26},"ランク",null,"難問",null,null,null,"NO.",325,null,null,{"$f":"COUNTA(M1786:U1794)","v":26},"ランク",null,"難問"]
[null,1,null,null,null,null,null,3,4,null,null,null,null,null,6,null,null,null,4,null,8]
[null,null,null,null,null,null,1,null,null,5,null,null,null,null,null,null,6,null,null,null,3]
[null,null,3,null,null,null,2,null,null,null,null,null,3,null,9,1]
[null,6,null,4,null,8,5,null,null,2,null,null,5,null,null,null,7,null,8]
[null,null,null,null,null,4,null,null,null,null,null,null,null,null,null,null,5,null,null,4]
[null,5,8,null,null,null,6,null,9,null,null,null,null,null,4,null,null,null,null,6]
[null,7,null,6,null,2,null,9,null,null,null,null,9,7,2,null,null,4,6]
[null,null,null,null,8,null,null,1,null,null,null,null,null,null,null,8,null,null,9,null,1]
[null,4,5,null,null,null,9,null,null,null,null,null,null,1,null,null,null,5,3]
[]
[null,"NO.",326,null,null,{"$f":"COUNTA(B1797:J1805)","v":26},"ランク",null,"難問",null,null,null,"NO.",327,null,null,{"$f":"COUNTA(M1797:U1805)","v":26},"ランク",null,"難問"]
[null,null,null,null,5,3,null,null,null,null,null,null,6,1,null,null,9,null,null,null,8]
[null,1,9,null,null,null,null,null,6,null,null,null,null,4,null,2]
[null,4,null,5,null,1,null,null,8,3,null,null,null,null,8,null,null,null,2,null,3]
[null,null,null,null,null,5,null,7,null,null,null,null,null,null,null,null,null,null,5]
[null,null,null,null,null,null,8,null,null,null,null,null,null,9,4,8,null,5,null,1]
[null,null,null,9,null,null,3,null,4,6,null,null,null,null,null,1,null,7]
[null,null,null,null,8,6,null,3,null,null,null,null,null,7,6]
[null,7,null,null,null,null,null,null,2,null,null,null,null,null,null,4,null,null,6]
[null,null,1,4,null,7,null,9,null,null,null,null,5,null,null,null,8,2,7,null,9]
[]
[null,"NO.",328,null,null,{"$f":"COUNTA(B1808:J1816)","v":26},"ランク",null,"難問",null,null,null,"NO.",329,null,null,{"$f":"COUNTA(M1808:U1816)","v":26},"ランク",null,"難問"]
[null,5,null,null,2,null,null,3,null,null,null,null,null,2,null,null,8,null,6]
[null,null,null,null,null,null,9,null,null,8,null,null,null,1,null,9]
[null,null,null,1,null,null,null,7,null,4,null,null,null,null,6,2,null,4,null,3,1]
[null,null,null,4,null,5,null,null,6,null,null,null,5,null,7,null,null,null,null,4]
[null,null,null,2,null,null,null,null,8,3,null,null,2,null,null,null,9,null,null,null,6]
[null,6,3,null,null,null,null,null,null,null,null,null,9,null,null,null,null,2]
[null,null,null,null,null,2,null,null,null,7,null,null,4,null,5,null,null,3,null,9]
[null,null,null,null,null,4,null,8,null,5,null,null,null,7]
[null,7,6,3,null,null,8,null,null,9,null,null,null,null,null,null,1,null,3,8]
[]
[null,"NO.",330,null,null,{"$f":"COUNTA(B1819:J1827)","v":26},"ランク",null,"難問",null,null,null,"NO.",238,null,null,{"$f":"COUNTA(M1819:U1827)","v":25},"ランク",null,"難問"]
[null,null,2,null,null,9,null,3,null,null,null,null,null,null,null,null,2,null,null,9,1]
[null,null,null,null,7,null,null,4,2,1,null,null,null,8,null,null,null,5,null,null,3]
[null,1,null,null,6,null,null,null,5,null,null,null,1,null,7]
[null,null,3,null,null,null,6,null,null,8,null,null,5,4,null,null,null,null,null,1]
[null,null,null,9,null,null,null,6,null,null,null,null,null,null,null,null,4,null,6,null,2]
[null,null,null,null,null,null,7,null,null,4,null,null,null,null,null,6,null,null,null,null,5]
[null,null,null,null,4,null,null,null,3,null,null,null,null,null,null,null,null,4,null,3,9]
[null,null,6,null,null,null,3,null,null,null,null,null,null,7,null,null,6,3,2]
[null,7,null,null,null,8,1,9,null,2,null,null,9,null,null,null,null,null,null,null,8]
[]
[null,"NO.",331,null,null,{"$f":"COUNTA(B1830:J1838)","v":25},"ランク",null,"難問",null,null,null,"NO.",332,null,null,{"$f":"COUNTA(M1830:U1838)","v":25},"ランク",null,"難問"]
[null,null,8,null,null,null,null,null,null,3,null,null,null,1,null,null,4,null,8]
[null,1,null,7,null,null,2,null,null,4,null,null,null,null,null,1,null,null,null,null,3]
[null,null,null,null,4,9,null,null,null,null,null,null,null,4,5,null,9]
[null,null,null,4,2,null,null,null,6,7]
[null,null,7,null,6,5,null,null,null,null,null,null,null,null,null,null,7,5,9,null,6]
[null,null,null,9,null,null,null,8,null,null,null,null,6,null,null,null,3,null,7,null,2]
[null,null,null,null,null,null,null,null,1,6,null,null,null,null,6,8]
[null,null,null,null,8,null,null,5,null,null,null,null,1,null,null,null,2,null,null,null,7]
[null,null,5,null,7,null,3,9,null,null,null,null,null,8,9,null,null,null,3,2]
[]
[null,"NO.",333,null,null,{"$f":"COUNTA(B1841:J1849)","v":25},"ランク",null,"難問",null,null,null,"NO.",334,null,null,{"$f":"COUNTA(M1841:U1849)","v":25},"ランク",null,"難問"]
[null,8,null,6,null,null,7,null,3,2,null,null,null,null,null,null,2,null,7,9]
[null,null,null,null,null,null,null,null,null,null,null,null,null,null,null,null,null,null,5]
[null,null,null,1,null,null,9,8,null,null,null,null,null,2,1,null,4,9,null,8]
[null,4,null,3,2,null,null,6,8,null,null,null,null,9]
[null,5,null,7,null,null,null,null,null,3,null,null,null,5,null,null,8,2,6]
[null,null,null,null,4,null,5,null,null,null,null,null,null,3,4,7,null,null,1]
[null,null,1,null,null,null,null,null,9,null,null,null,null,1]
[null,null,null,null,null,8,2,5,7,null,null,null,null,null,8,6,7]
[null,null,null,4,null,null,null,null,null,null,null,null,5,null,null,4,null,null,null,3]
[]
[null,"NO.",335,null,null,{"$f":"COUNTA(B1852:J1860)","v":25},"ランク",null,"難問",null,null,null,"NO.",336,null,null,{"$f":"COUNTA(M1852:U1860)","v":25},"ランク",null,"難問"]
[null,7,4,null,2,5,null,null,null,6,null,null,null,null,null,null,2,null,6]
[null,1,null,null,7,null,null,null,2,null,null,null,null,null,7,null,null,1,4,null,3]
[null,null,null,null,null,null,null,null,3,null,null,null,null,1,null,8]
[null,null,null,null,5,6,null,4,null,null,null,null,null,null,null,null,null,3,7]
[null,null,9,null,null,null,null,null,null,1,null,null,null,9,null,1,null,null,null,null,4]
[null,null,3,null,null,null,8,null,null,null,null,null,4,null,null,null,null,5,null,9]
[null,3,2,null,8,null,null,null,null,null,null,null,3,8,null,null,5,7,null,null,9]
[null,null,null,4,null,null,null,null,9,null,null,null,null,7,null,null,null,8]
[null,null,5,7,6,null,null,null,null,8,null,null,null,5,6]
[]
[null,"NO.",337,null,null,{"$f":"COUNTA(B1863:J1871)","v":25},"ランク",null,"難問",null,null,null,"NO.",338,null,null,{"$f":"COUNTA(M1863:U1871)","v":25},"ランク",null,"難問"]
[null,null,9,null,null,null,null,8,null,3,null,null,2,null,null,null,null,8,null,5,3]
[null,null,null,1,null,2,null,null,null,6,null,null,4,null,1,null,2]
[null,null,2,5,4,null,null,null,null,null,null,null,8,null,null,null,null,null,6,1]
[null,1,4,null,null,null,5,null,null,null,null,null,null,4,null,null,6]
[null,null,7,null,6,8,null,1,null,null,null,null,null,null,null,null,null,1,5,9]
[null,null,null,null,null,null,null,2,6,null,null,null,null,null,null,null,5,null,null,2,6]
[null,null,null,null,null,null,null,null,8,9,null,null,null,null,null,null,null,4,null,7,9]
[null,null,null,null,null,5,7,null,null,null,null,null,null,3,5,null,null,9]
[null,null,null,7,null,6,8,null,null,null,null,null,null,7]
[]
[null,"NO.",339,null,null,{"$f":"COUNTA(B1874:J1882)","v":25},"ランク",null,"難問",null,null,null,"NO.",340,null,null,{"$f":"COUNTA(M1874:U1882)","v":25},"ランク",null,"難問"]
[null,5,null,4,null,null,1,3,null,null,null,null,1,4,null,2,null,null,3]
[null,6,1,null,null,null,null,null,null,2,null,null,null,null,5,9,null,null,null,null,6]
[null,null,null,null,null,null,null,null,null,null,null,null,null,3,null,1,null,5,null,null,7]
[null,null,9,null,2,5,null,null,4,null,null,null,null,null,null,null,null,1,8,6]
[null,4,null,7,8,1,null,9,6,null,null,null,null,null,null,5]
[null,null,null,null,null,null,null,null,null,null,null,null,4,null,null,null,null,8]
[null,3,null,null,4,null,null,null,null,9,null,null,9,null,null,null,null,null,null,null,8]
[null,null,null,null,null,null,null,7,null,null,null,null,null,null,7,null,null,2,5,null,9]
[null,null,7,null,6,null,8,null,3,null,null,null,6,null,null,7]
[]
[null,"NO.",341,null,null,{"$f":"COUNTA(B1885:J1893)","v":25},"ランク",null,"難問",null,null,null,"NO.",342,null,null,{"$f":"COUNTA(M1885:U1893)","v":25},"ランク",null,"難問"]
[null,null,null,1,null,null,6,7,null,null,null,null,null,7,null,null,null,null,null,null,3]
[null,null,9,null,4,null,null,null,1,null,null,null,1,null,null,null,null,2,null,null,5]
[null,7,null,null,null,2,null,null,null,3,null,null,null,5,3,null,null,8,null,null,7]
[null,null,6,4,null,null,null,null,null,null,null,null,null,6,null,null,null,9]
[null,null,null,null,1,null,null,null,6,8,null,null,2,null,null,4]
[null,8,null,null,9,null,null,null,null,null,null,null,null,null,8,null,7,5,null,null,2]
[null,null,null,null,8,null,5,null,7,null,null,null,null,4]
[null,3,null,null,6,null,null,null,2,null,null,null,9,null,7,null,4,null,null,6]
[null,null,7,null,null,null,null,null,3,9,null,null,null,null,null,8,null,null,null,4,9]
[]
[null,"NO.",343,null,null,{"$f":"COUNTA(B1896:J1904)","v":24},"ランク",null,"難問",null,null,null,"NO.",344,null,null,{"$f":"COUNTA(M1896:U1904)","v":24},"ランク",null,"難問"]
[null,2,null,null,null,null,1,null,null,null,null,null,null,null,null,null,null,3,4]
[null,null,null,null,2,null,null,null,null,3,null,null,null,null,null,null,2,null,null,null,6]
[null,6,null,null,null,null,null,null,null,9,null,null,null,2,null,null,null,null,3,null,9]
[null,null,3,8,6,null,null,null,null,null,null,null,null,null,3,null,1]
[null,null,null,null,null,9,null,7,null,5,null,null,null,null,4,null,null,null,null,5]
[null,5,4,null,null,null,2,null,null,null,null,null,1,null,null,null,null,8,null,4]
[null,null,null,null,1,null,6,null,null,7,null,null,7,null,null,null,6]
[null,null,null,4,null,5,null,6,null,null,null,null,null,null,8,9,null,5,null,null,7]
[null,null,7,null,8,null,null,null,9,null,null,null,4,null,5,1,null,null,9]
[]
[null,"NO.",345,null,null,{"$f":"COUNTA(B1907:J1915)","v":24},"ランク",null,"難問",null,null,null,"NO.",346,null,null,{"$f":"COUNTA(M1907:U1915)","v":24},"ランク",null,"難問"]
[null,null,1,null,4,null,null,null,7,null,null,null,null,null,9,null,8,4,null,1,3]
[null,null,null,null,2,null,1,null,null,8,null,null,5,4,null,1,null,null,null,null,2]
[null,7,null,8,null,null,9,null,null,5,null,null,null,null,null,null,null,null,null,null,8]
[null,6,null,5,null,null,null,null,2,null,null,null,null,null,null,null,null,null,null,3]
[null,null,null,null,null,2,null,null,null,null,null,null,4,null,null,null,6,2]
[null,null,null,null,null,null,8,6,null,null,null,null,1,5,null,9,null,null,null,null,7]
[null,null,null,null,5,null,null,2,null,3,null,null,null,2,3,null,null,null,7]
[null,9,null,null,null,null,3,null,null,null,null,null,null,null,null,null,null,null,null,null,9]
[null,null,null,1,8,null,null,null,null,9,null,null,null,null,null,8,4]
[]
[null,"NO.",347,null,null,{"$f":"COUNTA(B1918:J1926)","v":24},"ランク",null,"難問",null,null,null,"NO.",348,null,null,{"$f":"COUNTA(M1918:U1926)","v":24},"ランク",null,"難問"]
[null,5,null,1,2,null,null,null,null,3]
[null,null,8,null,null,null,null,null,null,null,null,null,null,null,1,null,null,null,null,9,5]
[null,null,null,null,null,6,null,null,2,null,null,null,2,4,8,null,null,1]
[null,null,null,null,7,null,null,null,null,null,null,null,null,9,null,null,7,5,null,null,6]
[null,null,1,4,5,null,8,null,6]
[null,null,3,9,4,null,null,null,null,null,null,null,null,null,6,9,4,null,2]
[null,null,null,null,null,null,5,9,null,null,null,null,null,5,4,null,8,null,null,7]
[null,null,6,null,null,null,3,7,null,null,null,null,null,null,null,null,null,6,null,4,1]
[null,null,null,2,9,null,null,4,null,null,null,null,null,8,null,null,null,2]
[]
[null,"NO.",349,null,null,{"$f":"COUNTA(B1929:J1937)","v":24},"ランク",null,"難問",null,null,null,"NO.",350,null,null,{"$f":"COUNTA(M1929:U1937)","v":24},"ランク",null,"難問"]
[null,null,null,null,null,null,7,null,5]
[null,null,9,1,null,2,null,null,null,8,null,null,null,null,7,2,4]
[null,null,null,7,4,null,null,null,null,null,null,null,1,null,3,6,null,null,null,5]
[null,null,4,null,null,null,null,null,null,7,null,null,null,null,1,null,8,null,6]
[null,null,null,2,5,8,null,null,1,null,null,null,3,null,null,7,5,null,null,2]
[null,null,1,null,null,null,null,8,null,null,null,null,null,9,null,null,null,null,4]
[null,9,null,null,null,null,null,null,null,null,null,null,null,null,8,null,1]
[null,3,null,null,8,null,4,5,null,null,null,null,null,5,null,null,null,8,null,9]
[null,null,null,5,null,null,2,9,null,null,null,null,7,null,null,9,6]
[]
[null,"NO.",351,null,null,{"$f":"COUNTA(B1940:J1948)","v":24},"ランク",null,"難問",null,null,null,"NO.",352,null,null,{"$f":"COUNTA(M1940:U1948)","v":24},"ランク",null,"難問"]
[null,4,null,5,null,null,7,null,null,9,null,null,6,1,null,5,4]
[null,null,null,null,null,null,null,null,null,2]
[null,null,null,1,null,null,9,null,7,3,null,null,8,null,5,2,null,null,3,null,7]
[null,null,4,null,8,null,null,null,5,null,null,null,5,null,8,1,null,null,6]
[null,3,null,null,null,2,1,null,null,null,null,null,null,4,null,null,null,2,null,3]
[null,null,null,null,null,3,null,null,null,4,null,null,7,null,null,null,8]
[null,null,null,null,null,1,null,null,9,null,null,null,null,null,2,null,null,null,4]
[null,9,null,8,null,null,null,null,null,null,null,null,null,null,null,null,null,8,5]
[null,7,null,null,null,6,8,null,null,null,null,null,null,null,null,null,6,3]
[]
[null,"NO.",353,null,null,{"$f":"COUNTA(B1951:J1959)","v":24},"ランク",null,"難問",null,null,null,"NO.",354,null,null,{"$f":"COUNTA(M1951:U1959)","v":24},"ランク",null,"難問"]
[null,null,null,null,null,7,null,null,3,null,null,null,null,null,null,null,null,null,null,3]
[null,7,2,null,1,null,5,null,null,null,null,null,null,9,5,null,4,null,8,1]
[null,null,6,null,null,null,3,1,null,null,null,null,null,1,null,null,null,null,null,null,9]
[null,null,null,5,null,null,null,null,8,3,null,null,null,2,null,null,null,null,6]
[null,6,3,null,null,null,null,null,null,null,null,null,null,null,null,3,null,6]
[null,null,null,1,null,null,null,null,9,null,null,null,3,null,4,5,9]
[null,8,null,null,null,6,null,null,null,null,null,null,2,7,null,null,null,null,null,6]
[null,null,null,null,9,null,1,5,null,7,null,null,null,null,null,null,1,9,null,5]
[null,2,null,null,null,3,null,null,null,null,null,null,null,null,null,null,null,null,9,null,7]
[]
[null,"NO.",355,null,null,{"$f":"COUNTA(B1962:J1970)","v":24},"ランク",null,"難問",null,null,null,"NO.",356,null,null,{"$f":"COUNTA(M1962:U1970)","v":23},"ランク",null,"難問"]
[null,null,null,null,null,4,null,1,null,null,null,null,null,null,null,null,null,null,null,null,8]
[null,null,6,null,9,null,2,null,5,null,null,null,3,null,null,null,9,2]
[null,1,null,null,null,null,null,3,null,null,null,null,null,null,1,5,null,null,null,null,7]
[null,null,null,null,null,null,null,null,null,null,null,null,null,7,null,null,null,null,null,8,2]
[null,4,null,null,null,null,null,null,null,8,null,null,null,null,null,null,null,1,null,6]
[null,9,null,null,1,8,null,2,4,null,null,null,4,9,6]
[null,null,null,7,null,null,8,9,3,null,null,null,2,4,null,null,null,8]
[null,null,3,null,null,null,null,null,2,null,null,null,null,null,null,null,null,null,9]
[null,null,5,null,2,null,6,null,null,null,null,null,6,null,null,4,null,null,null,1,3]
[]
[null,"NO.",357,null,null,{"$f":"COUNTA(B1973:J1981)","v":23},"ランク",null,"難問",null,null,null,"NO.",358,null,null,{"$f":"COUNTA(M1973:U1981)","v":23},"ランク",null,"難問"]
[null,8,null,null,9,null,null,null,3,null,null,null,null,9,null,6]
[null,null,6,null,null,null,null,null,null,4,null,null,null,null,null,2,null,null,null,null,1]
[null,null,1,7,null,null,null,null,null,5,null,null,3,null,null,null,null,null,5]
[null,null,null,8,null,null,5,null,null,null,null,null,null,null,null,7,null,null,null,6]
[null,2,null,null,8,null,4,null,null,null,null,null,null,null,2,null,3]
[null,4,null,null,null,null,9,null,6,null,null,null,6,null,null,null,null,8,null,1,4]
[null,null,7,null,null,null,null,6,8,null,null,null,9,null,null,null,null,null,7]
[null,null,null,null,null,null,1,null,null,null,null,null,null,null,7,4]
[null,3,null,null,null,2,null,null,9,null,null,null,null,1,4,8,null,null,9,null,5]
[]
[null,"NO.",359,null,null,{"$f":"COUNTA(B1984:J1992)","v":23},"ランク",null,"難問",null,null,null,"NO.",360,null,null,{"$f":"COUNTA(M1984:U1992)","v":23},"ランク",null,"難問"]
[null,null,1,null,null,6,null,null,3,null,null,null,2,null,6,null,null,null,1]
[null,null,null,null,3,null,9,null,null,null,null,null,8,1,null,4,null,null,null,9]
[null,8,null,5,null,null,null,null,null,null,null,null,null,null,null,null,null,null,null,4,3]
[null,null,null,null,null,null,null,null,null,null,null,null,null,null,null,null,4,5]
[null,4,null,2,null,5,null,6,1,null,null,null,null,3,null,null,null,null,9,7]
[null,null,null,null,6,8,null,9,null,null,null,null,null,null,null,null,3]
[null,null,null,null,8,null,2,null,null,null,null,null,5,null,null,null,null,null,null,8]
[null,null,null,4,null,null,null,null,5,9,null,null,null,null,null,null,null,7,6,1]
[null,null,null,3,4,null,null,null,8,null,null,null,null,null,7,5,null,6]
[]
[null,"NO.",361,null,null,{"$f":"COUNTA(B1995:J2003)","v":23},"ランク",null,"難問",null,null,null,"NO.",362,null,null,{"$f":"COUNTA(M1995:U2003)","v":22},"ランク",null,"難問"]
[null,4,9,null,6,null,7,null,null,3,null,null,5,6,1,null,null,2]
[null,null,null,6,null,null,null,null,null,8,null,null,null,null,7,null,null,null,3]
[null,null,null,null,null,null,2,null,null,null,null,null,null,null,null,8,null,null,null,null,7]
[null,null,null,null,null,null,5,1,null,null,null,null,null,null,null,null,5,3]
[null,3,null,7,null,null,6,null,null,4,null,null,null,4,null,null,null,null,null,9,6]
[null,null,null,null,1,null,null,6,null,null,null,null,6,null,null,7,null,null,null,5]
[null,null,7,null,null,8,null,9,null,null,null,null,7,2]
[null,5,6,null,null,null,null,null,null,null,null,null,null,null,null,null,9,null,1]
[null,null,null,null,3,null,null,5,null,null,null,null,null,null,null,null,null,null,null,6,4]
[]
[null,"NO.",364,null,null,{"$f":"COUNTA(B2006:J2014)","v":36},"ランク",null,"超難問",null,null,null,"NO.",365,null,null,{"$f":"COUNTA(M2006:U2014)","v":35},"ランク",null,"超難問"]
[null,null,3,null,2,null,null,null,null,null,null,null,4,null,9,null,6,3,null,7]
[null,null,null,null,1,null,4,2,8,3,null,null,7,null,null,null,2,8,1]
[null,null,null,1,null,null,3,9,4,null,null,null,1,2,null,null,4,7,null,3]
[null,4,8,null,null,null,null,5,null,null,null,null,5,null,4,8,3,null,null,6]
[null,null,5,7,8,2,null,4,null,6,null,null,null,9,null,null,null,null,4,null,5]
[null,null,6,9,4,null,5,null,null,null,null,null,6,null,null,null,5]
[null,null,7,null,9,null,null,null,null,2,null,null,null,4,7,null,1,null,9,8]
[null,9,null,8,null,3,2,null,null,null,null,null,2,null,5]
[null,2,null,null,null,null,8,3,1,9,null,null,null,6,1,3,8]
[]
[null,"NO.",366,null,null,{"$f":"COUNTA(B2017:J2025)","v":31},"ランク",null,"超難問",null,null,null,"NO.",367,null,null,{"$f":"COUNTA(M2017:U2025)","v":31},"ランク",null,"超難問"]
[null,3,null,null,null,8,7,null,2,5,null,null,null,null,1,7,3,null,null,null,9]
[null,null,7,2,9,null,5,8,1,3,null,null,null,null,9,null,1,null,7,3]
[null,null,1,null,null,null,null,null,null,null,null,null,null,null,null,null,null,2]
[null,7,null,1,null,null,6,null,null,null,null,null,null,4,2,5,9,null,null,7]
[null,null,null,null,null,null,null,null,null,4,null,null,null,null,null,null,8,6,5,2]
[null,null,8,null,null,9,null,null,null,6,null,null,5,null,null,null,null,7,null,4,6]
[null,null,3,8,null,null,9,null,6,null,null,null,1,null,null,null,null,5,8,9]
[null,null,null,7,null,5,null,9,null,null,null,null,3,null,null,8,null,null,4]
[null,2,null,null,8,6,null,null,4,null,null,null,7,null,null,null,4]
[]
[null,"NO.",368,null,null,{"$f":"COUNTA(B2028:J2036)","v":31},"ランク",null,"超難問",null,null,null,"NO.",369,null,null,{"$f":"COUNTA(M2028:U2036)","v":30},"ランク",null,"超難問"]
[null,null,1,null,null,null,6,null,null,9,null,null,null,null,null,null,null,null,null,4]
[null,null,6,null,null,2,1,3,null,8,null,null,6,null,1,null,4,7,null,9]
[null,null,null,5,7,null,3,1,null,6,null,null,null,5,3,2,null,null,6,7]
[null,8,null,null,null,null,9,4,null,null,null,null,null,null,4,7,null,8]
[null,null,null,null,null,6,null,null,null,null,null,null,null,null,null,null,3]
[null,null,9,7,1,5,null,null,null,null,null,null,7,null,null,null,null,5,null,2,6]
[null,null,7,3,8,null,2,null,null,null,null,null,1,7,null,5,null,3,9,6]
[null,null,null,1,null,null,7,9,8,null,null,null,8,null,null,null,null,4,null,null,2]
[null,null,null,null,null,1,null,null,2,null,null,null,null,null,5,null,null,2]
[]
[null,"NO.",370,null,null,{"$f":"COUNTA(B2039:J2047)","v":30},"ランク",null,"超難問",null,null,null,"NO.",371,null,null,{"$f":"COUNTA(M2039:U2047)","v":29},"ランク",null,"超難問"]
[null,5,4,null,null,null,null,null,null,null,null,null,9,null,null,6,null,5,null,null,3]
[null,null,8,null,6,2,null,null,4,3,null,null,null,3,null,null,null,null,2,5]
[null,null,null,6,null,3,1,null,null,null,null,null,null,null,7,null,null,8,null,null,9]
[null,null,null,null,null,8,null,null,6,null,null,null,null,null,1,null,null,6,null,null,8]
[null,4,1,null,null,null,null,5,null,null,null,null,7,null,null,9,5,null,null,4]
[null,null,6,null,null,5,9,4,3,7,null,null,4,null,null,null,null,3]
[null,null,null,null,9,null,2,6,null,null,null,null,null,7,null,null,null,null,null,2,6]
[null,null,null,null,8,4,null,null,null,2,null,null,1,null,null,null,7,4,9,3]
[null,7,null,8,null,null,null,null,9,null,null,null,null,null,9,null,null,null,1]
[]
[null,"NO.",372,null,null,{"$f":"COUNTA(B2050:J2058)","v":29},"ランク",null,"超難問",null,null,null,"NO.",373,null,null,{"$f":"COUNTA(M2050:U2058)","v":29},"ランク",null,"超難問"]
[null,4,null,null,null,null,null,2,null,1,null,null,2,null,null,null,9]
[null,null,9,8,2,null,null,null,3,null,null,null,null,null,9,null,null,2,null,1]
[null,3,null,null,null,null,6,null,null,8,null,null,null,1,null,null,4,6,null,7]
[null,null,8,null,7,null,1,null,6,null,null,null,null,null,null,null,null,3]
[null,1,null,null,null,2,null,8,null,null,null,null,7,5,null,8,null,null,null,6,3]
[null,null,null,null,null,8,null,null,null,7,null,null,null,9,6,null,null,null,8]
[null,6,7,null,null,null,9,1,null,null,null,null,1,null,7,null,3,8,5,9]
[null,null,null,null,5,null,2,null,8,3,null,null,null,null,5,null,null,null,4]
[null,8,null,3,null,null,null,null,null,null,null,null,null,2,null,null,7,null,null,8]
[]
[null,"NO.",374,null,null,{"$f":"COUNTA(B2061:J2069)","v":29},"ランク",null,"超難問",null,null,null,"NO.",375,null,null,{"$f":"COUNTA(M2061:U2069)","v":28},"ランク",null,"超難問"]
[null,null,null,null,null,3,1,9,null,null,null,null,3,null,null,null,8]
[null,null,null,1,null,null,null,5,null,null,null,null,null,null,4,null,6,2,null,3]
[null,null,5,3,null,null,2,null,null,null,null,null,null,null,1,null,null,3,null,7,4]
[null,3,null,null,null,8,5,7,2,null,null,null,null,4,null,2,5,null,3]
[null,7,null,null,null,6,null,null,null,1,null,null,7,null,null,null,null,8,null,1,6]
[null,null,8,9,null,null,null,6,null,null,null,null,9]
[null,null,null,7,8,2,6,null,9,null,null,null,null,null,null,6,null,null,null,9]
[null,null,1,null,null,5,null,null,null,null,null,null,null,null,7,null,null,null,5]
[null,null,null,null,null,null,7,8,null,5,null,null,5,null,9,8,null,1,null,2]
[]
[null,"NO.",376,null,null,{"$f":"COUNTA(B2072:J2080)","v":28},"ランク",null,"超難問",null,null,null,"NO.",377,null,null,{"$f":"COUNTA(M2072:U2080)","v":28},"ランク",null,"超難問"]
[null,null,9,null,null,1,4,null,null,null,null,null,7,null,null,null,8,null,null,null,4]
[null,null,null,8,7,null,null,null,1,5,null,null,null,null,null,null,1,null,null,null,3]
[null,4,null,null,null,null,null,null,null,3,null,null,null,null,2,6,null,3,7]
[null,1,null,null,null,8,null,null,5,null,null,null,null,null,1,null,2,null,null,6,9]
[null,null,8,2,null,3,null,1,null,null,null,null,9,4]
[null,null,5,null,2,null,null,null,null,7,null,null,null,null,6,null,5,null,1,4]
[null,null,1,null,6,4,null,null,7,null,null,null,3,null,null,8,null,null,null,null,1]
[null,null,null,null,null,null,9,6,null,null,null,null,null,null,null,5,null,2,null,7]
[null,9,null,null,null,null,null,null,2,4,null,null,null,null,7,null,null,null,3,9]
[]
[null,"NO.",378,null,null,{"$f":"COUNTA(B2083:J2091)","v":28},"ランク",null,"超難問",null,null,null,"NO.",379,null,null,{"$f":"COUNTA(M2083:U2091)","v":28},"ランク",null,"超難問"]
[null,null,null,null,null,1,null,6,null,null,null,null,5,null,null,7,null,null,null,2,9]
[null,1,null,null,4,null,null,null,null,null,null,null,6,null,null,null,2,null,5]
[null,null,5,null,null,null,7,null,2,null,null,null,null,8,null,null,null,1,4]
[null,null,3,null,5,null,8,null,null,9,null,null,null,null,2]
[null,null,4,null,null,3,null,2,null,null,null,null,null,7,null,null,null,null,null,3]
[null,8,null,2,9,null,null,5,3,null,null,null,8,null,6,null,null,null,7,null,2]
[null,null,null,8,null,null,6,9,null,null,null,null,null,null,3,null,7,null,6,null,8]
[null,4,null,null,8,null,null,7,null,1,null,null,null,4,null,6,null,null,null,9]
[null,null,6,null,null,7,null,null,null,null,null,null,9,null,null,null,1,4,null,null,7]
[]
[null,"NO.",380,null,null,{"$f":"COUNTA(B2094:J2102)","v":28},"ランク",null,"超難問",null,null,null,"NO.",381,null,null,{"$f":"COUNTA(M2094:U2102)","v":28},"ランク",null,"超難問"]
[null,null,null,7,5,null,1,null,null,null,null,null,9,null,8,null,null,2,null,5,3]
[null,null,null,1,null,6,null,2,null,null,null,null,1,null,null,null,6]
[null,6,null,5,null,null,2,null,null,null,null,null,null,null,3,null,1,8]
[null,null,8,null,4,null,null,null,null,7,null,null,null,null,null,2,null,null,4,8]
[null,5,null,null,null,7,null,null,null,3,null,null,5,4,null,null,null,1]
[null,null,null,3,1,null,9,5,null,null,null,null,null,null,null,null,5,null,null,1,9]
[null,null,null,null,null,null,6,null,4,null,null,null,null,null,null,8,null,null,null,9,4]
[null,4,9,null,null,5,null,8,null,null,null,null,4,3,7,5,9,6]
[null,null,7,null,8,null,null,null,9]
[]
[null,"NO.",382,null,null,{"$f":"COUNTA(B2105:J2113)","v":28},"ランク",null,"超難問",null,null,null,"NO.",383,null,null,{"$f":"COUNTA(M2105:U2113)","v":28},"ランク",null,"超難問"]
[null,null,1,3,8,4,2,null,5,null,null,null,null,1,null,5,null,9,null,7]
[null,null,null,null,null,6,null,null,3,null,null,null,2,null,8,null,7,null,null,null,4]
[null,6,2,null,null,null,null,null,1,null,null,null,9,null,null,null,null,8,3]
[null,null,null,null,null,null,null,1,6,null,null,null,null,null,7,null,3]
[null,null,null,6,5,2,null,null,9,8,null,null,1,null,4,null,null,6]
[null,4,null,8,null,null,null,null,null,null,null,null,null,null,null,7,null,null,4,null,6]
[null,null,null,4,null,8,5,null,null,null,null,null,7,null,2,null,5,null,9,null,1]
[null,3,null,null,null,null,6,9,null,null,null,null,null,null,null,null,null,null,5,3]
[null,5,null,null,null,9,null,null,null,null,null,null,null,null,null,8,9]
[]
[null,"NO.",384,null,null,{"$f":"COUNTA(B2116:J2124)","v":28},"ランク",null,"超難問",null,null,null,"NO.",385,null,null,{"$f":"COUNTA(M2116:U2124)","v":28},"ランク",null,"超難問"]
[null,null,1,null,null,6,null,null,3,null,null,null,null,null,1,6,5,null,null,null,3]
[null,null,null,4,3,null,null,null,null,7,null,null,7,null,null,null,null,4,null,1]
[null,null,null,8,9,null,2,6,1,null,null,null,null,null,null,null,null,null,null,null,7]
[null,null,null,null,null,null,null,null,null,null,null,null,8,null,9,null,6]
[null,null,null,null,null,7,null,8,null,2,null,null,5,null,null,3,null,null,9,null,6]
[null,4,null,5,null,null,null,3,null,6,null,null,null,null,null,null,9,5,null,4]
[null,null,null,6,null,null,4,null,8,1,null,null,null,2,null,null,3,1,null,null,9]
[null,7,null,null,8,null,null,null,9,null,null,null,null,7,null,null,null,null,null,8,1]
[null,null,3,null,2,null,null,null,null,4,null,null,null,null,6,8,null,null,3]
[]
[null,"NO.",386,null,null,{"$f":"COUNTA(B2127:J2135)","v":28},"ランク",null,"超難問",null,null,null,"NO.",387,null,null,{"$f":"COUNTA(M2127:U2135)","v":27},"ランク",null,"超難問"]
[null,null,2,null,4,null,null,null,3,null,null,null,2,1,null,null,3,null,null,null,8]
[null,null,8,null,2,null,null,7,null,null,null,null,null,null,null,6,null,null,2]
[null,null,null,4,null,8,null,6,null,null,null,null,null,5,null,8,1,null,null,3]
[null,null,5,null,3,9,null,null,1,null,null,null,null,null,null,null,null,null,7]
[null,null,null,null,null,null,null,null,null,null,null,null,9,null,null,null,5,null,null,null,6]
[null,4,null,null,null,null,5,null,8,2,null,null,null,7,null,1,null,null,null,5]
[null,2,null,5,null,null,8,null,6,null,null,null,null,null,7,null,6,null,3,null,9]
[null,7,null,null,null,4,null,null,null,9,null,null,4,null,null,null,8,null,null,2]
[null,9,null,null,5,null,null,null,7,3,null,null,null,9,1,null,null,4]
[]
[null,"NO.",388,null,null,{"$f":"COUNTA(B2138:J2146)","v":27},"ランク",null,"超難問",null,null,null,"NO.",389,null,null,{"$f":"COUNTA(M2138:U2146)","v":27},"ランク",null,"超難問"]
[null,null,8,5,3,null,4,null,null,null,null,null,2,1,null,null,null,8]
[null,null,null,null,null,null,null,null,8,null,null,null,null,5,null,4,null,6]
[null,null,9,4,null,2,null,3,1,null,null,null,null,null,8]
[null,1,null,null,4,6,null,null,null,null,null,null,null,null,null,null,null,7,4]
[null,4,7,null,null,null,9,null,3,6,null,null,4,null,null,5,8,null,2,9]
[null,null,null,null,5,null,null,null,2,null,null,null,1,3,null,null,null,2,null,6]
[null,null,null,7,null,3,null,null,6,null,null,null,9,null,6,8,null,null,null,2]
[null,null,null,null,2,null,null,8,null,null,null,null,null,null,null,null,3,null,9,null,6]
[null,null,null,null,null,null,6,9,null,null,null,null,null,null,null,null,null,null,null,7,5]
[]
[null,"NO.",390,null,null,{"$f":"COUNTA(B2149:J2157)","v":27},"ランク",null,"超難問",null,null,null,"NO.",391,null,null,{"$f":"COUNTA(M2149:U2157)","v":27},"ランク",null,"超難問"]
[null,8,1,5,7,null,null,2,null,4,null,null,null,null,null,null,5,null,6,9]
[null,null,null,null,null,null,1,9,null,null,null,null,5,null,null,3,null,null,null,4]
[null,null,3,7,null,null,null,null,8,null,null,null,1,null,2,null,null,null,null,null,3]
[null,null,null,null,null,null,2,1,null,null,null,null,null,5]
[null,6,null,null,5,null,null,null,null,2,null,null,2,null,6,null,null,4]
[null,null,null,null,null,null,6,null,5,null,null,null,null,null,1,5,null,3,null,2,4]
[null,3,null,null,null,5,null,null,9,null,null,null,null,null,null,null,9,7,8]
[null,null,null,null,8,null,null,null,null,3,null,null,null,null,null,null,null,null,7]
[null,4,7,null,null,9,null,5,null,null,null,null,7,null,8,2,1,null,null,null,9]
[]
[null,"NO.",392,null,null,{"$f":"COUNTA(B2160:J2168)","v":27},"ランク",null,"超難問",null,null,null,"NO.",393,null,null,{"$f":"COUNTA(M2160:U2168)","v":27},"ランク",null,"超難問"]
[null,7,5,null,null,3,null,null,8,null,null,null,null,null,null,null,2,3,7]
[null,null,null,1,null,null,2,null,3,null,null,null,6,null,null,null,8,null,null,3]
[null,null,9,null,null,8,null,null,null,null,null,null,1,null,2,null,null,null,9,null,8]
[null,null,null,4,null,7,1,null,6,null,null,null,null,5,null,null,null,4,null,null,6]
[null,null,null,8,3,null,null,null,null,null,null,null,9,4,null,null,7,null,5]
[null,3,null,null,null,5,null,1,null,2,null,null,null,null,null,null,9]
[null,null,null,null,7,null,null,4,2,null,null,null,3,6,null,1,null,null,null,null,9]
[null,1,null,7,null,null,8,null,9,null,null,null,null,null,1]
[null,null,null,null,null,null,null,null,null,6,null,null,7,null,null,6,null,8,null,5]
[]
[null,"NO.",394,null,null,{"$f":"COUNTA(B2171:J2179)","v":27},"ランク",null,"超難問",null,null,null,"NO.",395,null,null,{"$f":"COUNTA(M2171:U2179)","v":27},"ランク",null,"超難問"]
[null,6,null,null,4,2,null,7,null,3,null,null,7,1,null,null,6,2,5]
[null,null,null,null,null,null,null,null,null,null,null,null,null,null,5,null,null,null,null,null,3]
[null,null,null,null,5,6,null,null,9,null,null,null,null,8,null,null,null,null,2]
[null,3,null,7,null,null,5,null,null,null,null,null,1,null,4,null,2]
[null,8,null,4,null,3,null,6,null,null,null,null,5,null,null,null,4,null,null,9]
[null,null,5,null,7,null,null,null,null,null,null,null,null,3,8,null,null,null,null,null,6]
[null,null,null,9,null,null,2,null,null,1,null,null,null,null,2,5,null,7,3]
[null,null,1,null,8,null,4,null,6,9,null,null,null,7]
[null,7,null,6,null,null,null,null,null,null,null,null,6,null,null,null,8,null,9,null,4]
[]
[null,"NO.",396,null,null,{"$f":"COUNTA(B2182:J2190)","v":27},"ランク",null,"超難問",null,null,null,"NO.",397,null,null,{"$f":"COUNTA(M2182:U2190)","v":27},"ランク",null,"超難問"]
[null,null,6,null,3,null,null,null,null,4,null,null,9,null,null,8,null,6]
[null,8,null,null,null,null,1,null,9,null,null,null,null,7,5,null,null,null,null,null,3]
[null,null,null,9,null,4,null,2,null,null,null,null,6,null,null,null,3,null,9,null,8]
[null,null,null,8,null,null,null,null,2,null,null,null,null,null,null,null,null,null,8,1]
[null,null,null,null,7,null,6,null,null,3,null,null,5,null,7,null,1,null,null,4]
[null,null,7,1,null,9,null,5,4,null,null,null,null,4,null,null,null,2]
[null,null,null,null,null,null,null,8,null,1,null,null,7,null,9,null,2]
[null,null,null,null,5,null,7,null,null,null,null,null,2,null,null,null,null,null,4,null,7]
[null,9,null,6,null,3,null,null,7,null,null,null,null,6,null,1,null,5]
[]
[null,"NO.",398,null,null,{"$f":"COUNTA(B2193:J2201)","v":27},"ランク",null,"超難問",null,null,null,"NO.",399,null,null,{"$f":"COUNTA(M2193:U2201)","v":27},"ランク",null,"超難問"]
[null,null,null,6,null,null,null,9,null,4,null,null,null,null,9,null,null,3,null,null,7]
[null,null,4,null,null,3,8,null,null,null,null,null,null,4,null,null,1,null,8,null,5]
[null,null,8,null,null,1,null,null,6,null,null,null,5,null,7,null,2]
[null,5,null,3,null,null,4,6,null,null,null,null,null,null,2,7,null,null,null,8]
[null,null,7,null,null,5,null,null,1,null,null,null,null,null,null,null,null,5,4,null,3]
[null,null,null,9,null,null,null,null,null,2,null,null,6,null,null,null,null,4]
[null,null,null,1,2,null,null,8,null,null,null,null,null,null,8,null,null,null,6]
[null,null,5,null,null,6,null,7,null,null,null,null,1,9,null,null,6,2]
[null,2,null,7,null,null,null,null,3,null,null,null,null,null,null,4,null,null,3,null,1]
[]
[null,"NO.",400,null,null,{"$f":"COUNTA(B2204:J2212)","v":27},"ランク",null,"超難問",null,null,null,"NO.",401,null,null,{"$f":"COUNTA(M2204:U2212)","v":27},"ランク",null,"超難問"]
[null,null,null,8,4,null,5,null,null,null,null,null,null,null,1,null,null,4,null,6]
[null,6,null,null,2,9,null,null,7,null,null,null,null,2,null,null,3,null,null,1]
[null,null,null,null,null,null,null,null,null,1,null,null,6,null,null,9,null,null,7]
[null,null,2,null,null,null,7,null,null,null,null,null,null,null,6,null,null,8,2]
[null,null,5,7,null,null,4,6,null,null,null,null,null,5,null,null,6,null,null,7]
[null,9,null,null,null,1,null,null,null,5,null,null,null,null,null,null,null,null,null,null,4]
[null,null,9,null,null,6,null,4,null,null,null,null,null,null,2,7,null,5,null,9]
[null,null,8,null,3,null,2,1,null,6,null,null,9,1,null,null,8,null,null,5]
[null,3,null,null,null,null,null,null,null,2,null,null,8,null,null,3,null,null,4]
[]
[null,"NO.",402,null,null,{"$f":"COUNTA(B2215:J2223)","v":27},"ランク",null,"超難問",null,null,null,"NO.",403,null,null,{"$f":"COUNTA(M2215:U2223)","v":27},"ランク",null,"超難問"]
[null,9,null,null,null,6,4,5,null,null,null,null,null,7,null,null,2,null,null,null,3]
[null,2,null,8,null,null,null,1,null,null,null,null,2,1,4,6,3,null,null,null,5]
[null,null,1,null,null,2,null,null,null,6]
[null,1,null,null,7,null,null,null,3,null,null,null,null,null,1,null,4,9,null,5]
[null,null,null,null,null,null,null,4,null,null,null,null,null,null,null,null,null,null,2]
[null,7,null,3,null,5,6,null,null,null,null,null,4,9,null,null,null,5,null,3,6]
[null,null,null,null,null,9,null,8,null,null,null,null,null,null,8,null,null,null,null,9]
[null,6,null,null,2,null,1,null,9,null,null,null,9,null,null,null,null,6,7]
[null,3,null,2,null,null,null,null,null,4,null,null,null,null,7,8,null,null,null,null,1]
[]
[null,"NO.",404,null,null,{"$f":"COUNTA(B2226:J2234)","v":27},"ランク",null,"超難問",null,null,null,"NO.",405,null,null,{"$f":"COUNTA(M2226:U2234)","v":27},"ランク",null,"超難問"]
[null,5,null,null,null,null,null,null,9,4,null,null,5,6,8,null,null,null,null,null,1]
[null,null,2,null,null,null,5,null,1,null,null,null,null,null,null,null,null,null,null,9]
[null,null,null,1,2,null,null,null,null,null,null,null,null,null,null,null,null,7,null,null,3]
[null,4,null,null,null,7,8,null,3,null,null,null,null,null,7,null,2,1,null,null,8]
[null,null,7,2,null,3,null,null,6,1,null,null,null,null,4,null,5,null,6]
[null,null,5,null,null,null,4,null,null,null,null,null,null,2,3,null,8,null,null,5]
[null,null,9,null,null,8,null,6,null,3,null,null,null,9,null,null,null,null,1]
[null,7,null,null,null,null,null,null,null,9,null,null,7,3,null,null,null,4,null,null,6]
[null,6,null,8,null,null,null,null,null,null,null,null,null,null,null,6,null,2,null,null,9]
[]
[null,"NO.",406,null,null,{"$f":"COUNTA(B2237:J2245)","v":27},"ランク",null,"超難問",null,null,null,"NO.",407,null,null,{"$f":"COUNTA(M2237:U2245)","v":27},"ランク",null,"超難問"]
[null,7,null,null,8,null,null,2,null,null,null,null,1,null,null,null,null,null,null,null,9]
[null,null,null,8,null,4,9,3,null,null,null,null,7,null,null,2,null,6,8]
[null,1,null,null,null,null,null,7,null,null,null,null,null,null,null,null,null,null,null,6,3]
[null,9,null,null,null,null,null,null,null,null,null,null,4,null,null,null,null,null,null,null,1]
[null,4,null,null,9,6,null,null,null,1,null,null,9,null,3,null,null,7]
[null,null,null,6,null,null,4,null,null,2,null,null,null,null,8,1,null,null,null,null,5]
[null,3,null,7,null,5,2,null,null,9,null,null,null,null,4,null,3,null,null,null,2]
[null,null,null,1,3,null,8,null,null,6,null,null,8,7,null,9,2,null,3]
[null,null,6,null,null,null,null,null,null,null,null,null,null,null,null,8,null,null,4,null,7]
[]
[null,"NO.",408,null,null,{"$f":"COUNTA(B2248:J2256)","v":27},"ランク",null,"超難問",null,null,null,"NO.",409,null,null,{"$f":"COUNTA(M2248:U2256)","v":27},"ランク",null,"超難問"]
[null,null,null,null,null,null,2,null,9,3,null,null,1,null,null,null,6,2]
[null,null,1,9,null,null,3,null,null,null,null,null,3]
[null,null,null,null,null,1,null,null,null,null,null,null,null,null,null,null,9,null,2,3,6]
[null,null,null,2,5,null,null,6,null,null,null,null,null,null,null,5,7]
[null,null,null,1,8,null,null,null,4,null,null,null,null,null,null,null,null,3,9,7]
[null,4,null,3,null,null,7,null,null,5,null,null,4,null,3,9,null,null,null,5]
[null,null,null,6,7,9,4,null,5,null,null,null,null,null,4]
[null,null,2,null,null,null,5,null,null,6,null,null,null,null,1,null,4,null,7,6,8]
[null,null,7,null,null,null,null,null,null,9,null,null,null,null,6,null,1,8,null,9]
[]
[null,"NO.",410,null,null,{"$f":"COUNTA(B2259:J2267)","v":27},"ランク",null,"超難問",null,null,null,"NO.",411,null,null,{"$f":"COUNTA(M2259:U2267)","v":27},"ランク",null,"超難問"]
[null,null,null,6,null,null,null,5,null,null,null,null,null,3,null,null,2,7]
[null,null,null,2,null,8,null,null,1,null,null,null,1,null,9,null,null,null,null,null,4]
[null,null,3,null,4,null,null,null,null,8,null,null,7,null,null,9,1,null,5]
[null,null,null,8,null,null,5,null,7,3,null,null,null,null,null,null,6]
[null,1,null,4,null,3,null,null,null,5,null,null,null,null,null,5,null,null,null,2]
[null,3,null,null,9,null,null,null,6,null,null,null,null,null,5,null,3,null,6,1]
[null,null,null,null,null,null,8,2,null,null,null,null,null,null,null,null,null,6,2,null,9]
[null,null,2,7,null,null,null,null,8,null,null,null,9,null,null,null,null,5,null,4,6]
[null,null,null,null,null,6,1,7,null,null,null,null,3,4,null,null,8]
[]
[null,"NO.",412,null,null,{"$f":"COUNTA(B2270:J2278)","v":26},"ランク",null,"超難問",null,null,null,"NO.",413,null,null,{"$f":"COUNTA(M2270:U2278)","v":26},"ランク",null,"超難問"]
[null,null,4,null,null,null,null,null,8,null,null,null,9,7,null,null,6,null,null,1]
[null,null,null,1,null,null,2,3,null,null,null,null,null,null,4,3,null,null,9]
[null,null,6,null,null,7,8,null,null,1,null,null,null,null,null,null,5,null,null,2]
[null,null,null,8,null,6,5,9,null,null,null,null,null,1,null,null,null,null,7]
[null,4,null,null,null,null,null,5,null,null,null,null,7,null,3,null,null,null,null,9]
[null,null,1,null,null,3,null,null,6,2,null,null,null,6,null,null,null,null,4,null,8]
[null,null,null,9,null,null,null,null,null,7,null,null,5,null,1,null,9,7,null,4]
[null,null,3,null,null,1,null,null,4,null,null,null,null,null,null,5,null,null,null,6]
[null,null,null,null,2,null,null,null,null,9,null,null,null,2,null,null,null,4]
[]
[null,"NO.",414,null,null,{"$f":"COUNTA(B2281:J2289)","v":26},"ランク",null,"超難問",null,null,null,"NO.",415,null,null,{"$f":"COUNTA(M2281:U2289)","v":26},"ランク",null,"超難問"]
[null,null,5,1,null,null,null,null,null,null,null,null,null,null,5,null,null,null,6,null,4]
[null,null,null,null,3,null,null,null,null,null,null,null,9,null,null,2,3,null,null,null,1]
[null,6,null,null,2,5,null,null,null,7,null,null,null,null,null,null,null,7]
[null,null,null,null,null,null,8,4,2,null,null,null,6,5,null,9,1]
[null,4,null,null,null,null,null,null,6,null,null,null,null,null,null,null,null,null,8]
[null,null,null,2,5,null,7,null,null,null,null,null,null,4,null,5,null,null,9,null,6]
[null,1,null,7,8,null,null,6,null,9,null,null,null,null,7,4,2]
[null,null,null,9,null,null,null,null,null,null,null,null,1,null,null,null,null,null,null,2,9]
[null,3,8,null,7,1,null,null,null,4,null,null,3,null,null,null,8,null,null,null,7]
[]
[null,"NO.",416,null,null,{"$f":"COUNTA(B2292:J2300)","v":26},"ランク",null,"超難問",null,null,null,"NO.",417,null,null,{"$f":"COUNTA(M2292:U2300)","v":26},"ランク",null,"超難問"]
[null,null,null,8,null,null,null,null,2,null,null,null,null,null,8,null,null,6,9]
[null,null,4,null,null,null,2,1,3,null,null,null,5,null,null,null,1,null,null,3]
[null,null,null,1,null,6,null,5,null,null,null,null,1,null,null,null,null,2,7]
[null,null,5,null,null,null,null,null,null,null,null,null,6,4,null,null,null,null,1]
[null,8,null,6,1,null,null,null,null,5,null,null,null,null,null,7,null,5]
[null,null,3,null,null,null,null,6,null,9,null,null,null,null,null,null,3,null,null,6,8]
[null,null,null,7,null,9,null,null,null,null,null,null,null,null,4,null,null,8,null,null,2]
[null,4,null,null,null,null,8,null,9,7,null,null,7,null,null,null,null,3,6]
[null,null,null,3,null,1,null,4,null,null,null,null,null,null,9,5,null,null,null,4]
[]
[null,"NO.",418,null,null,{"$f":"COUNTA(B2303:J2311)","v":26},"ランク",null,"超難問",null,null,null,"NO.",419,null,null,{"$f":"COUNTA(M2303:U2311)","v":26},"ランク",null,"超難問"]
[null,null,null,1,null,7,8,null,4,2,null,null,null,null,9,null,null,3,null,7]
[null,null,2,null,null,3,null,null,null,null,null,null,null,2,null,null,1]
[null,8,null,null,null,null,5,6,null,null,null,null,null,null,1,6,null,4,2,null,9]
[null,null,9,null,null,null,null,5,null,null,null,null,6,null,null,null,9,5]
[null,null,null,null,null,null,4,null,3,null,null,null,null,3,null,null,null,null,null,null,6]
[null,1,5,null,null,null,null,null,null,8,null,null,null,4,null,null,null,null,null,5]
[null,9,null,null,7,null,1,null,null,3,null,null,null,null,null,5,null,6,null,null,8]
[null,null,4,null,null,8,null,null,6,null,null,null,2,null,8,null,null,null,1]
[null,null,null,null,6,null,null,null,7,null,null,null,null,9,null,7,null,null,null,null,4]
[]
[null,"NO.",420,null,null,{"$f":"COUNTA(B2314:J2322)","v":26},"ランク",null,"超難問",null,null,null,"NO.",421,null,null,{"$f":"COUNTA(M2314:U2322)","v":26},"ランク",null,"超難問"]
[null,null,null,8,null,7,null,4,null,null,null,null,3,7,null,null,null,null,null,1,4]
[null,5,null,null,9,null,null,null,8,null,null,null,null,null,6,7,null,null,2]
[null,null,4,null,null,5,null,null,null,6,null,null,2,null,null,null,9]
[null,null,null,null,null,null,6,7,null,null,null,null,null,4,null,null,null,null,null,9]
[null,null,1,null,null,null,null,5,null,3,null,null,null,5,null,8,null,null,null,null,1]
[null,2,null,null,4,null,null,null,null,null,null,null,6,null,null,null,null,1,null,7]
[null,null,7,1,null,null,null,2,9,null,null,null,8,null,2,null,3,6]
[null,6,null,null,null,9,null,null,null,null,null,null,5,null,null,null,null,null,3,4]
[null,4,null,null,8,3,null,null,7,null,null,null,null,null,null,9,null,null,null,null,8]
[]
[null,"NO.",422,null,null,{"$f":"COUNTA(B2325:J2333)","v":26},"ランク",null,"超難問",null,null,null,"NO.",423,null,null,{"$f":"COUNTA(M2325:U2333)","v":26},"ランク",null,"超難問"]
[null,null,1,null,8,null,3,null,9,null,null,null,null,6,null,null,null,8,null,5]
[null,null,null,null,4,null,6,3,null,null,null,null,null,null,null,null,2,null,8,null,1]
[null,null,7,null,2,null,null,null,null,5,null,null,null,5,null,null,null,null,6]
[null,9,null,null,null,null,null,7,null,1,null,null,null,null,null,null,null,2,null,null,6]
[null,3,5,null,9,null,null,null,null,6,null,null,null,4,null,null,null,9,3]
[null,null,null,null,5,null,null,null,null,null,null,null,8,null,null,null,3,null,null,7]
[null,8,null,1,3,4,null,null,null,null,null,null,null,7,null,null,null,null,4,2]
[null,null,2,null,null,null,null,null,null,null,null,null,5,null,4,null,null,null,null,null,9]
[null,null,null,4,null,null,8,null,null,9,null,null,9,null,null,null,7,6,null,1]
[]
[null,"NO.",424,null,null,{"$f":"COUNTA(B2336:J2344)","v":26},"ランク",null,"超難問",null,null,null,"NO.",425,null,null,{"$f":"COUNTA(M2336:U2344)","v":26},"ランク",null,"超難問"]
[null,7,3,9,null,null,2,null,5,null,null,null,4,6,null,7,null,null,null,9]
[null,null,null,null,1,null,null,null,9,null,null,null,null,null,null,null,null,3,6,5]
[null,1,null,null,null,null,null,3,6,null,null,null,null,null,null,null,2,null,null,7]
[null,null,null,null,null,5,6,8,null,4,null,null,1,null,4,null,null,null,2,null,8]
[null,null,null,4,null,null,null,7,null,6,null,null,null,null,2,null,null,4]
[null,null,2,null,null,null,null,null,null,null,null,null,6,null,null,null,5,1]
[null,null,8,3,7,null,null,9,null,null,null,null,null,null,null,null,null,null,9]
[null,null,null,5,8,null,null,null,null,null,null,null,5,null,null,8,null,null,1]
[null,9,null,null,null,null,1,null,null,null,null,null,null,9,8,null,3,7]
[]
[null,"NO.",426,null,null,{"$f":"COUNTA(B2347:J2355)","v":26},"ランク",null,"超難問",null,null,null,"NO.",427,null,null,{"$f":"COUNTA(M2347:U2355)","v":26},"ランク",null,"超難問"]
[null,null,2,null,9,null,null,null,7,null,null,null,null,null,null,null,null,null,8]
[null,null,null,7,null,5,null,null,null,null,null,null,7,6,null,null,null,2]
[null,6,null,4,null,null,null,1,null,3,null,null,null,null,9,null,null,null,2,6,1]
[null,2,1,null,null,null,null,null,null,6,null,null,null,null,null,null,5,null,null,null,4]
[null,4,null,null,7,null,null,null,null,null,null,null,5,8,4,2,null,null,null,null,6]
[null,null,null,3,null,null,null,null,null,4,null,null,null,null,2,null,null,null,7]
[null,null,7,null,5,9,null,4,null,null,null,null,null,null,null,null,8,9]
[null,5,null,null,null,null,8,null,6,null,null,null,null,null,7,5,1,3]
[null,9,8,null,null,null,6,null,null,null,null,null,4,null,1,null,null,null,null,9]
[]
[null,"NO.",428,null,null,{"$f":"COUNTA(B2358:J2366)","v":26},"ランク",null,"超難問",null,null,null,"NO.",429,null,null,{"$f":"COUNTA(M2358:U2366)","v":26},"ランク",null,"超難問"]
[null,null,null,null,4,null,3,null,null,7,null,null,null,null,2,null,null,5,null,3]
[null,null,2,null,null,null,null,4,null,null,null,null,null,null,8,1,null,null,null,null,6]
[null,null,null,null,null,2,5,null,9,null,null,null,null,6,null,null,null,null,7,null,5]
[null,null,null,3,null,7,null,null,null,4,null,null,3,null,null,null,null,null,null,4]
[null,null,5,null,null,null,8,2,null,null,null,null,null,null,1]
[null,1,6,null,null,null,null,null,null,null,null,null,7,2,null,null,null,null,9]
[null,9,null,null,null,8,7,null,null,null,null,null,null,4,null,null,null,7,null,2]
[null,7,null,6,1,3,null,null,null,null,null,null,2,null,9,null,5,null,6,null,1]
[null,null,8,null,9,null,null,1,null,null,null,null,null,null,null,3,9,null,4]
[]
[null,"NO.",430,null,null,{"$f":"COUNTA(B2369:J2377)","v":26},"ランク",null,"超難問",null,null,null,"NO.",431,null,null,{"$f":"COUNTA(M2369:U2377)","v":26},"ランク",null,"超難問"]
[null,null,3,1,null,null,6,8,9,null,null,null,null,7,4]
[null,null,4,8,null,null,null,null,5,1,null,null,null,5,1,null,null,4,null,6]
[null,null,null,null,null,null,9,null,null,null,null,null,null,null,null,null,1,2,null,null,3]
[null,3,null,null,1,null,null,5,null,null,null,null,null,null,null,1,null,null,null,9]
[null,null,8,null,null,null,4,null,null,6,null,null,null,null,3,null,null,null,null,8]
[null,1,7,null,null,5,null,null,null,null,null,null,null,null,5,2,7,9,null,null,6]
[null,null,null,null,7,null,2,null,3,null,null,null,null,null,null,9,3,null,null,5]
[null,null,null,7,6,null,null,9,null,null,null,null,null,null,7,null,null,null,null,2,9]
[null,null,2,null,null,null,null,null,null,null,null,null,6,null,null,null,null,null,4]
[]
[null,"NO.",432,null,null,{"$f":"COUNTA(B2380:J2388)","v":26},"ランク",null,"超難問",null,null,null,"NO.",433,null,null,{"$f":"COUNTA(M2380:U2388)","v":26},"ランク",null,"超難問"]
[null,3,null,6,null,null,5,null,null,null,null,null,null,null,null,null,8,3]
[null,null,7,null,null,null,null,null,2,null,null,null,null,4,null,5,null,null,null,null,1]
[null,1,null,null,6,9,null,null,null,7,null,null,9,null,null,null,null,1,3,6]
[null,8,null,null,9,null,null,null,null,5,null,null,null,null,9,7,3,null,null,1]
[null,null,1,9,null,null,null,6,null,null,null,null,null,7,8,null,null,null,null,9]
[null,2,null,null,null,8,null,null,null,null,null,null,2,null,null,null,null,5,4]
[null,null,null,null,5,null,3,null,1,null,null,null,7,2,5,null,null,8,null,null,9]
[null,null,2,null,null,null,null,null,null,null,null,null,null,null,null,null,2,null,null,null,6]
[null,null,null,null,8,7,null,3,5,9]
[]
[null,"NO.",434,null,null,{"$f":"COUNTA(B2391:J2399)","v":26},"ランク",null,"超難問",null,null,null,"NO.",435,null,null,{"$f":"COUNTA(M2391:U2399)","v":26},"ランク",null,"超難問"]
[null,null,null,null,2,null,7,null,null,3,null,null,1,null,null,null,3,null,null,8]
[null,null,8,1,null,null,null,null,null,6,null,null,null,null,6,2,null,9,null,null,3]
[null,3,null,null,null,4,null,null,null,9,null,null,null,4,7,8,null,null,null,null,9]
[null,null,4,null,null,null,null,null,9,null,null,null,null,null,null,null,null,null,null,null,6]
[null,2,7,null,null,null,5,null,3,null,null,null,7,null,null,null,null,3,null,null,2]
[null,null,null,null,null,null,8,null,6,null,null,null,null,null,null,4,5,null,3]
[null,4,5,null,null,null,6,null,null,null,null,null,null,null,null,null,null,null,9]
[null,null,null,7,null,3,null,null,null,2,null,null,null,null,null,7,null,1,4,null,8]
[null,null,null,null,null,8,null,9,7,null,null,null,6,1,null,null,null,8]
[]
[null,"NO.",436,null,null,{"$f":"COUNTA(B2402:J2410)","v":26},"ランク",null,"超難問",null,null,null,"NO.",437,null,null,{"$f":"COUNTA(M2402:U2410)","v":26},"ランク",null,"超難問"]
[null,null,null,null,6,null,null,null,null,null,null,null,null,null,1,null,2,null,null,null,3]
[null,null,4,8,1,null,null,null,5,null,null,null,null,null,null,null,3,null,9,7,6]
[null,null,null,1,null,2,8,3,null,null,null,null,null,null,null,null,null,5]
[null,null,null,null,null,null,2,null,6,null,null,null,2,null,null,null,null,9,null,3,1]
[null,4,null,null,null,5,9,null,1,null,null,null,4,8,null,null,null,null,null,6,9]
[null,3,null,null,null,7,null,null,8,null,null,null,null,null,null,5]
[null,7,null,null,null,null,null,null,null,null,null,null,null,3,4,null,null,null,null,1]
[null,null,null,5,7,null,null,1,null,6,null,null,6,5,null,3]
[null,null,3,null,2,null,null,null,null,9,null,null,null,null,null,2,null,8,null,4]
[]
[null,"NO.",438,null,null,{"$f":"COUNTA(B2413:J2421)","v":25},"ランク",null,"超難問",null,null,null,"NO.",439,null,null,{"$f":"COUNTA(M2413:U2421)","v":25},"ランク",null,"超難問"]
[null,null,null,8,null,null,null,null,null,null,null,null,null,8,null,null,null,null,null,null,4]
[null,5,null,null,8,6,null,null,null,null,null,null,null,null,null,null,2,null,null,null,7]
[null,null,2,null,null,3,null,5,null,6,null,null,2,null,1,5]
[null,null,null,null,6,4,null,2,7,null,null,null,3,null,6,null,1,null,null,null,9]
[null,9,null,4,null,null,null,null,6,null,null,null,null,null,2,3,null,null,6]
[null,null,null,null,null,null,5,null,null,1,null,null,null,null,null,null,5]
[null,null,null,7,null,null,2,null,null,null,null,null,null,6,null,null,null,null,null,9]
[null,null,1,null,null,null,null,null,3,null,null,null,null,1,8,null,9,null,4]
[null,null,8,null,null,1,null,7,9,null,null,null,7,null,null,1,null,8,5]
[]
[null,"NO.",440,null,null,{"$f":"COUNTA(B2424:J2432)","v":25},"ランク",null,"超難問",null,null,null,"NO.",441,null,null,{"$f":"COUNTA(M2424:U2432)","v":25},"ランク",null,"超難問"]
[null,null,null,null,2,null,9,null,null,null,null,null,null,null,9]
[null,null,null,4,null,null,null,9,3,6,null,null,null,null,1,null,5,null,null,2,3]
[null,null,null,1,null,null,null,null,null,null,null,null,7,null,null,3,null,1,null,null,4]
[null,4,null,null,1,null,8,null,null,null,null,null,null,null,null,null,null,8,3]
[null,null,null,null,null,5,null,null,6,null,null,null,null,null,5,1,null,null,4]
[null,null,2,3,null,null,null,5,null,null,null,null,null,2,null,5,null,null,null,6]
[null,null,null,6,null,null,null,null,null,5,null,null,null,null,null,null,9,4]
[null,null,7,null,null,1,null,null,8,3,null,null,9,null,null,null,6,3]
[null,1,null,null,8,7,null,null,9,null,null,null,null,8,7,null,null,null,null,null,9]
[]
[null,"NO.",442,null,null,{"$f":"COUNTA(B2435:J2443)","v":25},"ランク",null,"超難問",null,null,null,"NO.",443,null,null,{"$f":"COUNTA(M2435:U2443)","v":25},"ランク",null,"超難問"]
[null,null,null,8,5,null,null,null,null,4,null,null,null,null,null,null,1,2]
[null,3,null,null,1,null,2,7,null,null,null,null,1,null,6,4,null,null,null,null,9]
[null,null,null,null,6,null,null,null,null,null,null,null,null,null,5,null,null,null,3]
[null,null,null,null,null,null,null,2,9,null,null,null,null,6,null,null,null,null,null,null,1]
[null,null,7,4,null,2,null,null,5,null,null,null,5,null,null,null,null,null,null,2]
[null,null,5,9,null,null,null,1,null,null,null,null,null,null,4,null,null,6,8,7]
[null,null,null,null,7,null,null,null,null,null,null,null,null,null,1,null,4,null,null,null,7]
[null,null,null,null,null,8,null,null,3,9,null,null,null,null,null,null,null,8]
[null,6,null,null,null,null,4,8,null,1,null,null,2,4,null,null,3,7,null,9]
[]
[null,"NO.",444,null,null,{"$f":"COUNTA(B2446:J2454)","v":25},"ランク",null,"超難問",null,null,null,"NO.",445,null,null,{"$f":"COUNTA(M2446:U2454)","v":25},"ランク",null,"超難問"]
[null,null,7,null,5,null,null,null,null,2,null,null,9,null,null,null,null,null,null,null,3]
[null,3,null,null,null,8,null,5,null,null,null,null,null,8,null,5,null,6,9]
[null,4,null,null,1,null,null,null,3,null,null,null,null,1,null,null,7,null,null,null,8]
[null,5,null,null,null,null,null,7,null,null,null,null,null,null,null,null,1,null,null,9]
[null,null,null,null,null,null,6,null,null,8,null,null,4,null,6,7,null,null,null,null,5]
[null,null,4,null,2,9,null,6,null,null,null,null,null,null,null,null,null,null,null,2]
[null,null,null,1,6,4,null,2,null,null,null,null,null,null,3,null,5,null,4]
[null,null,2,7,null,null,8,null,9,null,null,null,8,null,null,4,null,null,null,7]
[null,null,null,null,null,null,null,null,null,null,null,null,null,9,null,null,null,1,null,null,2]
[]
[null,"NO.",446,null,null,{"$f":"COUNTA(B2457:J2465)","v":25},"ランク",null,"超難問",null,null,null,"NO.",447,null,null,{"$f":"COUNTA(M2457:U2465)","v":25},"ランク",null,"超難問"]
[null,null,3,null,2,null,null,null,4,null,null,null,7,null,null,null,4,8,5]
[null,9,null,5,null,7,null,1,null,null,null,null,null,6,null,5,null,null,null,3]
[null,null,null,null,null,5,4,null,null,null,null,null,null,8,null,null,null,null,null,2]
[null,null,7,null,null,null,null,3,9,null,null,null,null,null,null,null,3,null,1]
[null,1,null,null,null,null,null,null,null,null,null,null,6,2,null,null,null,null,9]
[null,null,6,null,null,null,null,8,null,7,null,null,9,null,null,null,6,null,null,null,7]
[null,null,8,6,null,9,null,null,null,null,null,null,null,1,null,9,null,null,null,null,5]
[null,null,null,null,5,null,null,null,null,8,null,null,null,null,null,8,null,null,4]
[null,null,null,2,null,1,6,null,null,5,null,null,4,null,7,null,null,null,null,null,1]
[]
[null,"NO.",448,null,null,{"$f":"COUNTA(B2468:J2476)","v":25},"ランク",null,"超難問",null,null,null,"NO.",449,null,null,{"$f":"COUNTA(M2468:U2476)","v":25},"ランク",null,"超難問"]
[null,4,null,null,null,null,null,null,null,null,null,null,7,9,null,6,null,null,5,null,1]
[null,null,null,5,null,3,null,null,4,null,null,null,null,null,1,null,7,null,9,4]
[null,null,null,null,8,null,null,null,null,1,null,null,null,null,null,5]
[null,7,4,null,null,null,null,null,2,9,null,null,4,null,null,null,null,null,2,6]
[null,null,null,null,null,9,null,null,null,null,null,null,null,null,null,null,2,8,null,null,9]
[null,null,null,2,null,null,7,4,null,6,null,null,null,null,5,7]
[null,null,3,6,null,null,9,7,null,null,null,null,null,null,null,null,8,null,4]
[null,null,2,null,1,null,null,null,5,null,null,null,null,null,3,null,9,null,null,null,6]
[null,8,null,null,3,null,null,6,null,null,null,null,5,null,null,null,null,6]
[]
[null,"NO.",450,null,null,{"$f":"COUNTA(B2479:J2487)","v":25},"ランク",null,"超難問",null,null,null,"NO.",451,null,null,{"$f":"COUNTA(M2479:U2487)","v":25},"ランク",null,"超難問"]
[null,null,9,null,null,null,5,null,null,null,null,null,null,8,null,null,null,null,3]
[null,null,null,7,2,null,null,null,4,null,null,null,3,null,null,null,2,null,4,null,8]
[null,2,null,3,null,6,null,null,null,null,null,null,null,null,null,null,null,6,null,1]
[null,null,1,null,null,null,null,9,null,6,null,null,null,null,1,6,null,5,9]
[null,null,4,null,null,5,null,null,null,null,null,null,5,null,null,null,7]
[null,3,null,null,6,8,null,null,7,null,null,null,null,null,4,null,null,2,null,7]
[null,1,null,null,9,null,null,null,null,3,null,null,7,null,null,8,null,null,null,null,9]
[null,8,7,null,null,null,null,4,null,null,null,null,null,9,null,5,4,null,null,null,1]
[null,null,null,null,8,null,null,null,9,null,null,null,null,null,null,null,null,null,null,3]
[]
[null,"NO.",452,null,null,{"$f":"COUNTA(B2490:J2498)","v":25},"ランク",null,"超難問",null,null,null,"NO.",453,null,null,{"$f":"COUNTA(M2490:U2498)","v":25},"ランク",null,"超難問"]
[null,null,1,4,null,null,null,null,null,null,null,null,1,null,null,null,null,3,null,2]
[null,3,null,null,null,5,null,4,9,null,null,null,null,2,null,4,null,null,6]
[null,null,null,null,9,2,null,null,null,3,null,null,null,null,null,5,null,7,9]
[null,null,6,null,null,1,null,5,null,null,null,null,null,null,8,null,4,5,3]
[null,1,null,7,5,null,null,null,6,8,null,null,null,null,null,null,null,null,null,9,6]
[null,null,8,null,null,null,null,null,null,null,null,null,3,null,null,null,8]
[null,null,9,null,null,null,8,6,7,null,null,null,null,null,null,7,null,4]
[null,null,null,null,null,null,2,null,null,null,null,null,null,8,5,6,null,null,null,null,2]
[null,null,null,2,null,null,null,null,4,null,null,null,4,7]
[]
[null,"NO.",454,null,null,{"$f":"COUNTA(B2501:J2509)","v":25},"ランク",null,"超難問",null,null,null,"NO.",455,null,null,{"$f":"COUNTA(M2501:U2509)","v":25},"ランク",null,"超難問"]
[null,6,null,5,null,null,3,null,null,null,null,null,null,null,null,null,null,null,null,9,6]
[null,null,null,null,null,null,7,null,8,null,null,null,null,null,1,null,null,null,null,7]
[null,1,4,null,null,8,null,null,9,null,null,null,null,null,5,null,8,2,null,null,1]
[null,null,9,null,null,null,4,5,6,null,null,null,7,3,null,null,4,null,9]
[null,null,null,3,null,null,null,null,null,null,null,null,null,null,null,null,null,null,null,2]
[null,null,null,null,7,1,null,4,null,null,null,null,null,8,4,null,2]
[null,null,7,null,5,null,null,null,null,9,null,null,null,null,7,3,null,6]
[null,null,null,null,null,6,null,null,null,7,null,null,8,null,null,null,7,4,5]
[null,null,null,8,3,null,1,null,null,null,null,null,6,5]
[]
[null,"NO.",456,null,null,{"$f":"COUNTA(B2512:J2520)","v":25},"ランク",null,"超難問",null,null,null,"NO.",457,null,null,{"$f":"COUNTA(M2512:U2520)","v":25},"ランク",null,"超難問"]
[null,6,null,null,7,null,8]
[null,3,9,null,null,null,null,4,null,null,null,null,4,null,null,2,1,6,5,9]
[null,null,null,null,4,1,null,null,null,3,null,null,1,3,null,null,null,4,null,null,8]
[null,null,null,null,null,5,null,8,null,null,null,null,null,null,8,null,null,5,null,6]
[null,null,8,null,null,6,7,null,5,null,null,null,null,null,null,null,null,null,null,3]
[null,4,null,null,1,null,null,null,null,null,null,null,null,null,5,null,null,null,4,2]
[null,null,null,9,null,null,5,null,3,null,null,null,null,2,6,null,8,null,null,null,7]
[null,null,7,null,8,null,null,null,9,null,null,null,null,1,3,null,7]
[null,null,6,null,null,null,null,null,null,2,null,null,null,null,null,null,null,null,9]
[]
[null,"NO.",458,null,null,{"$f":"COUNTA(B2523:J2531)","v":25},"ランク",null,"超難問",null,null,null,"NO.",459,null,null,{"$f":"COUNTA(M2523:U2531)","v":25},"ランク",null,"超難問"]
[null,5,null,null,null,null,null,3]
[null,null,null,2,null,null,5,1,8,null,null,null,4,1,7,null,9,null,2]
[null,8,6,null,null,3,null,null,null,null,null,null,3,null,null,null,null,7,4,null,8]
[null,null,null,null,null,8,null,null,null,null,null,null,null,7,9]
[null,null,4,null,3,null,null,6,9,null,null,null,null,null,null,null,null,5,null,3]
[null,null,null,null,5,null,null,null,null,4,null,null,null,null,4,1,null,null,8]
[null,null,null,6,4,null,9,null,null,null,null,null,null,null,null,null,null,null,null,null,6]
[null,null,null,null,null,null,8,null,2,null,null,null,null,6,2,4,1,null,null,null,7]
[null,2,7,null,6,null,null,9,null,null,null,null,null,null,null,8,null,2,9]
[]
[null,"NO.",460,null,null,{"$f":"COUNTA(B2534:J2542)","v":25},"ランク",null,"超難問",null,null,null,"NO.",462,null,null,{"$f":"COUNTA(M2534:U2542)","v":25},"ランク",null,"超難問"]
[null,7,1,null,null,null,null,5,6,null,null,null,null,null,4,2,9]
[null,null,null,null,null,null,8,null,null,null,null,null,1,null,8,null,null,null,2,null,3]
[null,null,null,null,9,null,1,7,null,null,null,null,null,7,null,null,null,null,6]
[null,null,null,null,4,null,null,null,null,null,null,null,4,null,null,1]
[null,2,null,4,null,null,null,null,null,5,null,null,null,6,null,null,null,null,null,4]
[null,9,null,null,2,null,null,null,null,6,null,null,3,null,null,5,null,null,7,null,2]
[null,null,null,3,null,5,null,null,null,7,null,null,7,null,null,null,null,null,null,null,9]
[null,6,null,null,null,8,null,null,null,2,null,null,null,3,null,null,null,6,1]
[null,null,null,7,null,4,null,null,8,9,null,null,null,null,5,9,null,2]
[]
[null,"NO.",463,null,null,{"$f":"COUNTA(B2545:J2553)","v":25},"ランク",null,"超難問",null,null,null,"NO.",464,null,null,{"$f":"COUNTA(M2545:U2553)","v":25},"ランク",null,"超難問"]
[null,null,null,7,null,null,null,null,5,3,null,null,null,null,5]
[null,4,1,null,null,null,null,7,null,null,null,null,null,1,7,null,null,null,4,3]
[null,null,null,3,2,9,null,8,null,null,null,null,null,null,null,null,null,6,null,2]
[null,null,4,null,5,null,null,null,null,null,null,null,null,null,4,null,2]
[null,null,3,9,7,null,null,null,null,null,null,null,6]
[null,2,null,null,8,null,null,4,null,null,null,null,9,2,null,5,null,4,null,8,1]
[null,null,null,null,1,5,2,null,null,null,null,null,null,7,null,null,1,null,null,6,9]
[null,null,null,null,null,null,null,9,1,null,null,null,null,null,null,7,null,8,null,null,3]
[null,null,7,null,null,8,null,null,null,null,null,null,3,null,null,null,null,5]
[]
[null,"NO.",465,null,null,{"$f":"COUNTA(B2556:J2564)","v":25},"ランク",null,"超難問",null,null,null,"NO.",466,null,null,{"$f":"COUNTA(M2556:U2564)","v":25},"ランク",null,"超難問"]
[null,6,null,null,null,null,7,null,null,null,null,null,2,null,null,6,5,4]
[null,5,7,null,9,null,null,1,3,null,null,null,null,3,9,null,null,2]
[null,4,null,null,null,2,null,6,null,7]
[null,null,null,null,null,null,null,4,1,5,null,null,1,null,null,null,null,null,null,null,8]
[null,null,null,null,null,null,8,null,null,null,null,null,null,5,null,null,null,1,null,null,4]
[null,null,null,9,null,5,null,null,null,6,null,null,4,null,6,null,9,3,5,null,7]
[null,null,null,2,7,null,null,null,null,9,null,null,3,8,null,null,null,null,null,null,9]
[null,7,null,null,null,null,null,null,null,null,null,null,null,null,7,null,8,6]
[null,null,1,null,null,null,2,8,null,null,null,null,null,null,null,null,null,null,null,7]
[]
[null,"NO.",467,null,null,{"$f":"COUNTA(B2567:J2575)","v":25},"ランク",null,"超難問",null,null,null,"NO.",468,null,null,{"$f":"COUNTA(M2567:U2575)","v":25},"ランク",null,"超難問"]
[null,null,null,5,2,null,null,null,7,null,null,null,9,5,null,7,null,2,null,8]
[null,1,null,null,null,4,null,null,3,9,null,null,1,null,null,null,null,4,3,null,7]
[null,9,null,null,1,null,null,null,null,null,null,null,2,null,null,null,1]
[null,null,null,4,null,3,null,null,null,6,null,null,5,null,null,2,null,null,null,4]
[null,null,null,null,7]
[null,7,null,3,5,null,null,null,2,null,null,null,null,4,null,null,null,9,6,1]
[null,null,null,null,null,null,null,null,null,null,null,null,null,7,null,null,null,null,2]
[null,2,null,6,null,null,null,null,9,3,null,null,null,null,null,6,4,null,null,3]
[null,null,null,null,9,5,null,1,null,4,null,null,null,null,null,null,null,null,4,9]
[]
[null,"NO.",469,null,null,{"$f":"COUNTA(B2578:J2586)","v":25},"ランク",null,"超難問",null,null,null,"NO.",470,null,null,{"$f":"COUNTA(M2578:U2586)","v":25},"ランク",null,"超難問"]
[null,null,null,null,null,null,null,null,3,null,null,null,4,null,null,null,9,1,5]
[null,1,null,null,null,9,null,2,null,null,null,null,1,null,null,null,null,null,2]
[null,null,7,null,3,null,2,null,null,null,null,null,null,7,null,null,2,null,3]
[null,null,null,3,null,6,null,null,null,null,null,null,null,null,4,7,5,null,6]
[null,null,1,4,8,null,null,null,6,7,null,null,3]
[null,null,null,null,null,5,null,4,null,null,null,null,null,8,null,null,null,null,null,null,4]
[null,9,2,null,null,null,6,5,8,null,null,null,null,null,null,null,null,5]
[null,null,null,null,null,4,null,null,null,null,null,null,null,1,5,2,null,null,7]
[null,null,null,7,null,8,null,null,null,9,null,null,6,4,null,null,null,3,null,null,9]
[]
[null,"NO.",471,null,null,{"$f":"COUNTA(B2589:J2597)","v":25},"ランク",null,"超難問",null,null,null,"NO.",472,null,null,{"$f":"COUNTA(M2589:U2597)","v":25},"ランク",null,"超難問"]
[null,7,null,null,null,1,2,4,null,null,null,null,null,6,null,null,9,2,null,null,4]
[null,3,8,null,4,null,null,null,null,2,null,null,null,3,null,null,null,null,null,2,9]
[null,null,9,null,6,null,null,3,null,null,null,null,null,7]
[null,null,null,null,null,null,8,null,null,4,null,null,null,4,null,null,6,1,null,9]
[null,null,null,null,null,7,null,5,6,null,null,null,null,1,null,null,5,7]
[null,null,null,null,5,null,null,null,null,null,null,null,null,null,null,null,null,null,6,3]
[null,null,3,null,null,null,null,null,null,9,null,null,null,null,null,5,8,null,null,1]
[null,6,null,9,null,null,null,7,null,null,null,null,null,null,3,1,null,null,4,6]
[null,2,null,null,8,null,5,null,null,null,null,null,null,null,7]
[]
[null,"NO.",473,null,null,{"$f":"COUNTA(B2600:J2608)","v":25},"ランク",null,"超難問",null,null,null,"NO.",474,null,null,{"$f":"COUNTA(M2600:U2608)","v":25},"ランク",null,"超難問"]
[null,null,3,null,null,4,null,5,6,null,null,null,null,8,null,null,9,null,null,2]
[null,null,null,null,2,null,null,null,null,null,null,null,null,null,null,3,null,8]
[null,null,null,null,9,null,8,null,3,null,null,null,null,1,9,null,null,null,4]
[null,null,8,null,7,null,2,null,5,null,null,null,7]
[null,null,null,4,3,null,null,7,null,2,null,null,3,2,null,null,null,null,6,9]
[null,null,9,null,5,null,null,6,null,null,null,null,null,null,4,null,null,null,null,1,2]
[null,6,null,null,null,null,null,null,null,null,null,null,null,7,null,null,8,5]
[null,7,4,null,null,null,null,9,null,null,null,null,6,null,null,null,null,null,null,7,1]
[null,8,null,null,null,null,null,null,1,null,null,null,null,3,null,null,6,null,null,null,4]
[]
[null,"NO.",475,null,null,{"$f":"COUNTA(B2611:J2619)","v":24},"ランク",null,"超難問",null,null,null,"NO.",476,null,null,{"$f":"COUNTA(M2611:U2619)","v":24},"ランク",null,"超難問"]
[null,null,null,null,null,6,null,null,3,null,null,null,null,null,null,9,null,null,null,7]
[null,3,null,1,7,null,2,null,null,null,null,null,null,3,null,null,null,2,null,1,6]
[null,null,null,8,null,null,5,null,null,null,null,null,null,1,null,6,8]
[null,null,1,null,null,null,null,null,5,null,null,null,null,null,null,null,null,3]
[null,null,null,null,null,null,7,null,null,null,null,null,4,null,null,7,null,null,9]
[null,null,4,null,3,5,null,null,null,6,null,null,null,null,5,null,null,null,null,8,4]
[null,9,7,null,null,null,6,1,null,null,null,null,null,null,null,5,null,4,null,2]
[null,null,null,3,2,null,8,4,null,null,null,null,null,5,null,null,null,8,null,null,7]
[null,null,null,null,null,null,null,null,9,null,null,null,3,null,2]
[]
[null,"NO.",477,null,null,{"$f":"COUNTA(B2622:J2630)","v":24},"ランク",null,"超難問",null,null,null,"NO.",478,null,null,{"$f":"COUNTA(M2622:U2630)","v":24},"ランク",null,"超難問"]
[null,null,9,null,null,2,null,null,null,3,null,null,null,8,5]
[null,null,null,null,8,1,null,null,9,null,null,null,null,null,1,null,2,null,9,7]
[null,null,null,null,9,null,null,2,4,null,null,null,4,null,null,3]
[null,1,null,9,null,null,null,null,null,null,null,null,9,4,3,null,null,null,null,8]
[null,null,2,null,null,null,4,null,3,null,null,null,null,null,null,null,6,8,1]
[null,null,4,null,null,5,2,6,null,null,null,null,null,null,null,5]
[null,null,3,4,null,null,6,null,null,null,null,null,null,null,null,2,null,null,7,null,6]
[null,null,null,5,null,null,null,null,null,null,null,null,3,7]
[null,null,null,null,7,null,null,9,null,null,null,null,null,6,null,null,1,null,null,5]
[]
[null,"NO.",479,null,null,{"$f":"COUNTA(B2633:J2641)","v":24},"ランク",null,"超難問",null,null,null,"NO.",480,null,null,{"$f":"COUNTA(M2633:U2641)","v":24},"ランク",null,"超難問"]
[null,8,null,null,6,null,9,5,null,null,null,null,null,null,8,4,null,null,null,3]
[null,2,7,null,null,null,null,null,null,null,null,null,null,null,null,null,null,null,8,5]
[null,null,null,null,null,null,8,null,null,9,null,null,null,null,1,2,null,7]
[null,null,1,null,3,null,null,null,null,5,null,null,null,4,3,null,null,null,null,null,8]
[null,null,6,null,null,null,null,4,null,null,null,null,null,null,null,null,null,2,null,1]
[null,null,null,7,null,null,null,null,2,1,null,null,null,null,null,1,null,null,3,null,6]
[null,6,null,null,null,9,null,null,null,4,null,null,null,5,null,null,null,4,null,null,9]
[null,null,null,4,null,3,null,8,null,null,null,null,null,1,null,null,null,null,null,7]
[null,null,null,null,null,null,7,2,null,null,null,null,9,null,6,null,null,8]
[]
[null,"NO.",481,null,null,{"$f":"COUNTA(B2644:J2652)","v":24},"ランク",null,"超難問",null,null,null,"NO.",482,null,null,{"$f":"COUNTA(M2644:U2652)","v":24},"ランク",null,"超難問"]
[null,null,4,null,null,null,null,2,null,null,null,null,4,null,1,null,null,null,null,7]
[null,null,null,3,7,null,1,null,null,9,null,null,9,null,null,6,null,null,8]
[null,null,null,5,null,3,null,null,null,1,null,null,null,null,3,null,8]
[null,null,null,4,null,5,null,3,null,null,null,null,null,null,null,null,null,null,3]
[null,null,null,null,null,4,null,null,6,null,null,null,null,null,null,9,5,null,6]
[null,null,null,6,1,null,null,null,8,null,null,null,3,null,null,null,6,null,null,1,4]
[null,null,null,null,2,null,null,null,null,null,null,null,null,null,null,8,null,7,null,4]
[null,6,null,null,null,null,null,null,9,8,null,null,null,5,null,null,null,null,1]
[null,7,null,null,8,null,null,null,5,null,null,null,null,null,7,null,null,5,9]
[]
[null,"NO.",483,null,null,{"$f":"COUNTA(B2655:J2663)","v":24},"ランク",null,"超難問",null,null,null,"NO.",484,null,null,{"$f":"COUNTA(M2655:U2663)","v":24},"ランク",null,"超難問"]
[null,2,null,null,null,5,null,null,null,null,null,null,3,null,null,null,9,null,6]
[null,1,null,null,null,null,2,9,null,3,null,null,null,7,null,null,2]
[null,9,null,null,6,null,null,null,null,null,null,null,1,5,null,null,null,3]
[null,null,null,null,null,1,5,null,null,7,null,null,null,null,null,5,null,null,2]
[null,null,null,null,3,6,null,4,null,null,null,null,null,4,3,8]
[null,null,1,null,null,null,null,null,null,6,null,null,2,null,null,null,null,7,4,1]
[null,null,null,7,8,null,3,null,null,null,null,null,null,null,null,null,null,8,null,9]
[null,null,null,null,null,7,null,null,null,5,null,null,null,8,null,4,null,null,5]
[null,null,4,3,null,null,null,2,null,null,null,null,7,null,4]
[]
[null,"NO.",485,null,null,{"$f":"COUNTA(B2666:J2674)","v":24},"ランク",null,"超難問",null,null,null,"NO.",486,null,null,{"$f":"COUNTA(M2666:U2674)","v":24},"ランク",null,"超難問"]
[null,null,null,6,2,9,null,null,4,3,null,null,null,1,null,6]
[null,3,null,null,null,null,null,null,null,5,null,null,null,null,3,8,null,null,null,7]
[null,null,7,1,null,null,null,null,null,null,null,null,null,4,null,2,9,null,null,null,3]
[null,null,null,2,null,null,null,null,null,7,null,null,null,null,null,1,4,null,2]
[null,null,1,null,null,null,4,5,null,null,null,null,null,3,4,null,null,null,7,null,5]
[null,null,8,null,null,5,9,3,null,null,null,null,null,null,null,null,null,null,8]
[null,null,null,null,null,null,null,null,null,null,null,null,null,2,null,null,null,6]
[null,7,null,null,null,1,null,null,null,2,null,null,null,null,null,5,null,null,9,null,8]
[null,null,null,null,6,null,null,null,8,4,null,null,null,null,7,null,null,null,null,6]
[]
[null,"NO.",487,null,null,{"$f":"COUNTA(B2677:J2685)","v":24},"ランク",null,"超難問",null,null,null,"NO.",488,null,null,{"$f":"COUNTA(M2677:U2685)","v":24},"ランク",null,"超難問"]
[null,1,null,null,null,null,5,null,2,null,null,null,null,null,null,4,null,null,3]
[null,null,null,9,3,null,null,5,null,null,null,null,3,null,2,null,6]
[null,null,null,7,1,null,null,4,null,null,null,null,null,null,null,null,null,null,null,5,1]
[null,null,4,null,null,null,null,8,null,null,null,null,null,null,null,null,7,null,null,6]
[null,null,null,5,null,null,null,3,9,4,null,null,null,3,5,null,null,null,null,9,7]
[null,null,null,null,null,8,null,null,null,null,null,null,null,9,null,2,null,null,null,1]
[null,2,null,null,null,null,null,null,null,6,null,null,2,5,null,null,null,null,null,null,8]
[null,9,null,1,8,null,null,null,3,null,null,null,null,null,null,8,null,7,4]
[null,null,null,null,null,2,null,null,5,null,null,null,4,null,null,null,null,null,null,3]
[]
[null,"NO.",489,null,null,{"$f":"COUNTA(B2688:J2696)","v":24},"ランク",null,"超難問",null,null,null,"NO.",490,null,null,{"$f":"COUNTA(M2688:U2696)","v":24},"ランク",null,"超難問"]
[null,1,null,2,null,null,null,null,null,null,null,null,null,null,9,2]
[null,null,8,null,4,null,null,null,6,null,null,null,null,null,null,null,null,8,6,7]
[null,null,9,null,null,null,null,null,2,null,null,null,null,null,null,null,null,9]
[null,null,null,null,5,null,null,null,9,null,null,null,null,null,1,null,null,null,null,null,3]
[null,null,4,null,1,null,null,6,null,3,null,null,6,4,null,null,null,5,1]
[null,7,null,null,null,null,4,null,null,null,null,null,null,3,null,null,4,null,null,2]
[null,null,null,null,3,null,null,null,null,null,null,null,null,7,6,null,5,null,null,9,8]
[null,null,7,6,null,8,null,9,null,5,null,null,5,null,null,1,null,2]
[null,9,null,null,null,7,null,3,null,null,null,null,null,null,null,null,null,null,7]
[]
[null,"NO.",491,null,null,{"$f":"COUNTA(B2699:J2707)","v":24},"ランク",null,"超難問",null,null,null,"NO.",492,null,null,{"$f":"COUNTA(M2699:U2707)","v":24},"ランク",null,"超難問"]
[null,null,6,null,2,8,null,null,null,null,null,null,1,null,null,6,null,null,null,3]
[null,null,null,null,null,5,null,null,null,null,null,null,null,8,null,1,null,null,5]
[null,1,9,null,null,null,null,8,4,null,null,null,null,9,null,null,null,5,null,null,2]
[null,null,8,7,null,6,null,null,null,null,null,null,null,null,null,null,null,1,6]
[null,4,2,null,null,1,null,3,null,6,null,null,null,3,null,2]
[null,null,null,null,null,null,null,null,null,9,null,null,null,null,4,7,5,null,null,null,9]
[null,null,null,null,null,null,null,1,null,5,null,null,7,null,null,null,8,9,null,null,4]
[null,null,null,2,8,null,null,null,7,null,null,null,null,null,2,null,6]
[null,null,7,4,null,null,null,null,null,null,null,null,null,5]
[]
[null,"NO.",493,null,null,{"$f":"COUNTA(B2710:J2718)","v":24},"ランク",null,"超難問",null,null,null,"NO.",494,null,null,{"$f":"COUNTA(M2710:U2718)","v":24},"ランク",null,"超難問"]
[null,null,null,null,null,2,null,null,null,null,null,null,null,1,null,null,4,null,5,null,3]
[null,9,null,null,null,5,1,null,null,null,null,null,null,null,null,null,null,2]
[null,null,null,3,null,null,null,null,9,4,null,null,null,null,null,9,null,3]
[null,null,4,null,null,null,null,null,null,null,null,null,null,null,null,5,null,null,null,6]
[null,null,7,null,6,null,null,1,2,null,null,null,null,9,2,null,null,null,null,1]
[null,null,null,null,null,null,5,null,6,7,null,null,4,3,null,6,null,null,2]
[null,null,null,null,null,null,8,9,null,null,null,null,null,4,null,null,1]
[null,null,null,6,1,9,null,null,null,null,null,null,7,null,null,null,null,8]
[null,7,2,null,null,null,3,null,4,null,null,null,3,null,null,null,6,null,4,null,9]
[]
[null,"NO.",495,null,null,{"$f":"COUNTA(B2721:J2729)","v":24},"ランク",null,"超難問",null,null,null,"NO.",496,null,null,{"$f":"COUNTA(M2721:U2729)","v":23},"ランク",null,"超難問"]
[null,null,null,7,null,null,null,6,4,null,null,null,null,6,null,2]
[null,null,null,5,4,null,null,null,null,null,null,null,4,8,null,null,1,null,null,null,5]
[null,null,1,null,null,9,null,null,null,3,null,null,null,1,null,null,null,9,null,3]
[null,null,9,null,null,null,null,null,null,null,null,null,null,null,null,9,null,4]
[null,4,null,null,null,8,null,null,2,null,null,null,5,null,4,null,null,null,2,null,6]
[null,null,null,null,5,null,1,null,null,6]
[null,7,null,8,null,1,null,null,null,null,null,null,null,7,null,8]
[null,null,6,null,7,3,null,5,null,null,null,null,null,null,null,null,null,6,4]
[null,null,null,null,null,null,null,null,9,8,null,null,1,null,null,3,null,null,9,7]
[]
[null,"NO.",497,null,null,{"$f":"COUNTA(B2732:J2740)","v":23},"ランク",null,"超難問",null,null,null,"NO.",498,null,null,{"$f":"COUNTA(M2732:U2740)","v":23},"ランク",null,"超難問"]
[null,null,null,null,null,null,null,null,null,null,null,null,null,6,3,7,null,null,null,2]
[null,null,7,6,null,2,9,null,null,3,null,null,null,null,null,null,null,null,null,null,3]
[null,null,1,null,null,7,5,8,null,null,null,null,7,null,8,null,2]
[null,null,null,3,null,null,null,null,6,null,null,null,null,null,null,null,null,9,null,null,6]
[null,4,9,null,null,null,null,null,1,null,null,null,null,null,null,null,1,null,8,5]
[null,null,null,null,4,null,null,5,null,null,null,null,null,4]
[null,null,6,7,null,null,null,null,null,null,null,null,null,null,null,null,null,null,null,4]
[null,null,null,null,2,null,null,null,5,9,null,null,5,null,6,null,9,8,null,3]
[null,1,null,null,null,null,null,3,null,null,null,null,null,null,null,null,null,1,9,null,2]
[]
[null,"NO.",499,null,null,{"$f":"COUNTA(B2743:J2751)","v":23},"ランク",null,"超難問",null,null,null,"NO.",500,null,null,{"$f":"COUNTA(M2743:U2751)","v":22},"ランク",null,"超難問"]
[null,null,null,null,1,null,null,3,null,null,null,null,6]
[null,null,null,null,null,6,null,2,null,null,null,null,8,null,null,null,2,null,null,4]
[null,null,4,7,null,null,null,null,null,1,null,null,null,null,null,1,null,null,6]
[null,null,null,null,7,null,null,null,null,6,null,null,null,null,null,null,null,null,null,3]
[null,null,2,null,null,null,null,null,null,null,null,null,null,null,null,5,1,null,9]
[null,null,9,null,3,null,5,null,4,null,null,null,null,5,4,null,null,null,null,6]
[null,null,null,null,null,null,3,null,null,null,null,null,4,null,7,null,6,null,null,2]
[null,null,null,6,5,null,null,null,7,null,null,null,null,null,8]
[null,null,3,1,null,null,4,8,null,5,null,null,null,3,null,8,null,7,null,null,5]

{"sheet":"操作環境について","index":10,"n_rows":17,"n_cols":9,"rows_kept":17,"cut":false,"hidden":true,"merged":[[16,2,17,9],[15,2,15,9],[1,1,1,8],[3,2,5,9],[11,2,12,9],[13,2,14,9],[6,3,6,9],[7,3,7,9],[8,3,8,9],[9,3,9,9]]}
[]
[null,"動　作　環　境　に　つ　い　て"]
[null,null,null,null,null,null,null,"2007-09-01","作成者　：　青山　光男"]
[null,"①","Microsoft Excelのマクロでつくっているので絶対必要条件としてExcel200２以上がインストールしていなければなりません。また、マクロを有効にしなければ数独ブックは立ち上がりません。　セキュリテイレベルを低にすれば、毎回「マクロを有効にする」を確認する必要がなくなります。"]
[]
[]
[null,null,"セキュリテイレベル","内　　　　　　容"]
[null,null,"高","マクロ一切動かなくなる。マクロを動かすにはセキュリテイレベルを「中」または「低」にしてからブックを開き直す必要があります。"]
[null,null,"中","マクロが保存されているＥｘｃｅｌブックを開く時に、「マクロを有効にする」を毎回確認します。"]
[null,null,"低","確認表示などは一切なく、マクロを持つワークブックも無条件に開きます。"]
[]
[null,"②","セキュリテイレベルの設定は、メニューバーから［ツール］［マクロ］［セキュリテイ］を選択し、設定することができます。"]
[]
[null,"③","”数独を楽しむ”のショートカットを作成することをお勧めします。ショートカットを作成すると、デスクトップ画面から直接アイコンをクリックすることにより、呼び出しが可能になります。　ショートカットの作り方を下記に示します。　　　　　　　　　　　　　　　　　　　　　　　　　　　　　　　　　　　　　　　　　      １．　マイドキュメントを開き（マイドキュメントに登録していれば）、ファイルを右クリックします。　　　　　　　　　　　２．　「ショートカットの作成（Ｓ）」を選びクリックします。　　　　　　　　　　　　　　　　　　　　　　　　　　　　　　　　　   ３．　下段に　”数独を楽しむへのショートカット”　が作成されます。　　　　　　　　　　　　　　　　　　　　　　　　　　　４．　ショートカットをドラックしてデスクトップの画面に移動します。（画面は半画面が都合良し）　　　　　　　　　　　　　　　　　　　５．　更に移動されたショートカットを右クリックして、名前の変更を選択しクリックします。　　　　　　　　　　　　　　６．　余分な文字をカットします。　　　　　　　　　　　　　　　　　　　　　　　　　　　　　　　　　　　　　　　　　　　　　　　７．　更にショートカットを右クリックして、プロパテイ（R）をクリックします。　　　　　　　　　　　　　　　　　　　　　　　８．　ショートカットのパネルでアイコンの変更（Ｃ）をクリックします。　　　　　　　　　　　　　　　　　　　　　　　　　　　９．　次にお好みのアイコンを選びクリックします。　　　　　　　　　　　　　　　　　　　　　　　　　　　　　　　　　　　　  　１０．次に”OK”ボタンをクリックします。これで完成です。"]
[]
[null,"④","各シートには保護がかけられています。これは誤操作を避けるために設定しています。"]
[null,"⑤","この”数独問題を楽しむ”を、Excel2000 ～Excel97で使用すると、”数独問題を発生”のコマンドボタン”数独完成図に１～９までの数字を発生させる”を実行すると処理不可になります。　これはExcelのバージョンの違いによるものです。 同様に”数独作品集”シートのコマンドボタン　”数独作品集をランク別に並べ替える”を実行すると処理不可になります。これもExcelのバージョンの違いによるものです。 "]

{"sheet":"計算用","index":11,"n_rows":731,"n_cols":132,"rows_kept":731,"cut":false,"hidden":true,"merged":[[682,81,684,81],[685,81,687,81],[688,81,690,81],[697,80,699,80],[691,80,693,80],[694,80,696,80],[700,80,702,80],[703,80,705,80],[692,1,692,2],[692,24,692,30],[693,1,693,2],[693,3,693,9],[693,10,693,16],[694,4,694,6],[694,7,694,9],[694,11,694,13],[694,14,694,16],[694,63,694,65],[693,52,693,58],[694,56,694,58],[693,38,693,44],[693,45,693,51],[693,31,693,37],[694,60,694,62],[694,53,694,55],[693,59,693,65],[693,17,693,23],[693,24,693,30],[694,18,694,20],[704,32,704,41],[692,45,692,51],[692,52,692,58],[679,81,681,81],[691,81,693,81],[694,81,696,81],[697,81,699,81],[700,81,702,81],[703,81,705,81],[685,80,687,80],[688,80,690,80],[679,80,681,80],[682,80,684,80],[676,80,678,80],[677,2,678,2],[676,2,676,11],[677,12,677,20],[676,12,676,20],[678,24,678,26],[677,3,677,11],[678,39,678,41],[676,81,678,81],[676,21,676,47],[678,33,678,35],[678,36,678,38],[678,45,678,47],[677,21,677,47],[678,42,678,44],[678,21,678,23],[678,27,678,29],[692,3,692,9],[692,10,692,16],[691,1,691,65],[692,17,692,23],[692,59,692,65],[676,82,678,82],[676,83,678,83],[675,68,675,83],[676,70,676,78],[676,68,678,69],[676,79,678,79],[706,68,706,69],[703,69,705,69],[679,68,705,68],[677,70,677,78],[691,69,693,69],[694,69,696,69],[697,69,699,69],[700,69,702,69],[679,69,681,69],[682,69,684,69],[596,1,597,1],[596,2,596,29],[598,1,600,1],[604,1,622,1],[604,3,604,5],[605,3,605,5],[606,3,606,5],[607,3,607,5],[602,1,603,2],[603,3,603,5],[685,69,687,69],[688,69,690,69],[675,2,675,47],[622,3,622,5],[619,3,619,5],[620,3,620,5],[570,1,588,1],[584,3,584,5],[574,3,574,5],[572,3,572,5],[571,3,571,5],[570,3,570,5],[586,3,586,5],[586,12,586,14],[608,3,608,5],[609,3,609,5],[574,21,574,23],[584,12,584,14],[578,3,578,5],[578,12,578,14],[581,3,581,5],[581,12,581,14],[581,21,581,23],[578,21,578,23],[605,12,605,14],[606,12,606,14],[607,12,607,14],[608,12,608,14],[609,12,609,14],[525,1,533,1],[498,30,500,30],[557,75,557,83],[569,3,569,11],[569,12,569,20],[569,21,569,29],[569,30,569,38],[569,39,569,47],[569,48,569,56],[569,57,569,65],[516,1,524,1],[489,28,491,28],[489,29,491,29],[489,30,491,30],[507,13,515,13],[507,18,509,18],[498,1,506,1],[507,1,515,1],[516,31,518,31],[557,1,569,1],[534,13,542,13],[543,13,551,13],[516,13,524,13],[525,13,533,13],[557,3,557,11],[557,12,557,20],[534,1,542,1],[543,1,551,1],[534,30,536,30],[534,33,542,33],[557,30,557,38],[516,32,518,32],[489,18,491,18],[498,14,500,14],[498,15,500,15],[498,16,500,16],[480,23,482,23],[480,14,482,14],[480,15,482,15],[480,16,482,16],[480,17,482,17],[480,18,482,18],[507,14,509,14],[507,15,509,15],[507,16,509,16],[507,17,509,17],[507,19,509,19],[507,20,509,20],[507,21,509,21],[507,22,509,22],[507,23,509,23],[480,1,488,1],[489,1,497,1],[489,13,497,13],[480,13,488,13],[498,13,506,13],[489,19,491,19],[489,14,491,14],[489,15,491,15],[489,16,491,16],[489,17,491,17],[454,1,462,1],[468,1,469,13],[471,13,479,13],[469,14,469,32],[468,14,468,32],[471,1,479,1],[471,27,473,27],[471,28,473,28],[471,29,473,29],[471,32,473,32],[489,31,491,31],[489,32,491,32],[498,23,500,23],[498,24,500,24],[498,29,500,29],[480,19,482,19],[480,20,482,20],[480,21,482,21],[498,31,500,31],[498,32,500,32],[480,29,482,29],[480,24,482,24],[446,1,448,1],[451,1,453,1],[451,2,451,29],[451,30,453,30],[452,3,452,11],[452,12,452,20],[452,21,452,29],[443,1,445,1],[443,2,443,83],[443,84,445,84],[1,123,1,131],[24,57,24,58],[9,116,11,116],[9,117,11,117],[1,119,2,120],[3,116,5,116],[3,117,5,117],[23,57,23,58],[6,116,8,116],[6,117,8,117],[2,104,2,112],[12,101,12,103],[0,113,2,113],[3,115,5,115],[6,115,8,115],[9,115,11,115],[2,115,2,117],[33,40,33,45],[26,40,26,45],[27,40,27,45],[28,40,28,45],[29,40,29,45],[214,1,216,1],[219,1,221,1],[219,2,219,29],[161,18,163,18],[161,19,163,19],[161,20,163,20],[220,3,220,11],[220,12,220,20],[220,21,220,29],[189,21,189,22],[222,1,230,1],[106,15,108,17],[211,1,213,1],[125,2,151,2],[152,2,178,2],[141,38,141,40],[211,84,213,84],[106,12,106,14],[107,12,108,12],[107,13,108,13],[107,14,108,14],[110,21,110,22],[138,35,138,39],[160,18,160,20],[174,21,174,22],[143,38,143,40],[122,21,122,22],[295,87,296,88],[319,1,400,1],[320,2,346,2],[347,2,373,2],[374,2,400,2],[361,24,361,25],[362,24,362,25],[357,24,357,25],[358,24,358,25],[359,24,359,25],[360,24,360,25],[427,21,427,29],[368,26,368,34],[370,24,378,24],[368,24,369,25],[314,21,315,31],[421,1,423,1],[313,32,313,34],[313,35,313,37],[316,21,324,22],[409,3,409,4],[404,3,404,4],[405,3,405,4],[318,1,318,14],[318,15,319,15],[318,16,319,17],[307,1,307,2],[308,1,309,2],[328,20,330,20],[328,21,328,22],[329,21,329,22],[330,21,330,22],[429,1,437,1],[426,1,428,1],[426,2,426,29],[426,30,428,30],[427,3,427,11],[427,12,427,20],[303,87,303,88],[304,87,304,88],[305,87,305,88],[306,87,306,88],[418,1,420,1],[418,2,418,83],[418,84,420,84],[314,35,315,35],[406,3,406,4],[407,3,407,4],[124,21,124,22],[125,22,125,32],[260,27,260,29],[297,87,297,88],[298,87,298,88],[299,87,299,88],[300,87,300,88],[301,87,301,88],[302,87,302,88],[402,5,402,13],[402,14,403,14],[408,3,408,4],[412,3,412,4],[402,3,403,4],[410,3,410,4],[411,3,411,4],[325,20,327,20],[107,61,107,69],[106,18,108,19],[107,38,108,38],[116,21,116,22],[119,20,121,20],[122,20,124,20],[118,21,118,22],[117,21,117,22],[121,21,121,22],[120,21,120,22],[175,21,175,22],[173,21,173,22],[144,50,145,50],[164,21,172,21],[155,21,163,21],[190,21,190,22],[219,30,221,30],[260,18,260,20],[260,21,260,23],[260,24,260,26],[144,21,145,31],[141,37,143,37],[314,32,315,32],[314,33,315,33],[314,34,315,34],[294,2,294,83],[260,15,260,17],[260,3,260,5],[260,6,260,8],[236,11,236,12],[295,89,295,97],[85,84,87,84],[93,30,95,30],[114,21,114,22],[115,21,115,22],[112,21,112,22],[109,21,109,22],[106,32,108,32],[106,21,106,31],[107,21,108,22],[106,33,106,35],[121,46,121,54],[121,44,123,45],[235,3,235,20],[146,21,154,22],[144,41,144,49],[123,21,123,22],[119,21,119,22],[107,23,107,31],[111,21,111,22],[236,13,236,14],[176,35,178,35],[211,2,211,83],[121,1,123,2],[179,2,205,2],[124,1,205,1],[118,57,118,60],[270,1,278,1],[177,33,178,33],[179,21,187,22],[178,21,178,31],[188,21,188,22],[2,96,2,97],[0,85,0,93],[1,85,1,93],[14,2,14,29],[14,30,14,83],[0,2,0,83],[25,40,25,45],[25,57,25,58],[20,85,20,91],[24,39,24,45],[30,40,30,45],[31,40,31,45],[32,40,32,45],[85,1,87,1],[85,2,85,83],[93,2,93,29],[93,1,95,1],[88,1,90,1],[94,21,94,29],[94,3,94,11],[94,12,94,20],[18,85,18,91],[47,17,47,25],[34,25,36,25],[48,31,48,39],[47,31,47,39],[19,85,19,91],[71,1,71,29],[30,18,30,19],[31,18,31,19],[29,18,29,19],[43,17,43,18],[32,18,32,19],[28,18,28,19],[62,1,62,83],[65,1,67,1],[34,2,34,11],[47,2,47,11],[34,17,35,24],[48,17,48,25],[34,40,34,45],[21,2,21,11],[23,18,23,19],[19,1,19,2],[24,18,24,19],[107,37,108,37],[107,33,108,33],[107,34,108,34],[113,21,113,22],[107,35,108,35],[106,44,117,44],[106,36,106,38],[107,45,108,45],[107,46,107,54],[106,75,117,75],[72,3,72,11],[72,12,72,20],[72,21,72,29],[74,1,82,1],[106,76,106,85],[107,76,108,76],[107,77,107,85],[14,1,15,1],[25,18,25,19],[26,18,26,19],[27,18,27,19],[16,1,18,1],[20,1,20,2],[96,1,104,1],[118,1,120,1],[106,1,117,1],[107,2,108,2],[106,2,106,11],[107,3,107,11],[104,70,108,70],[106,59,117,59],[106,60,106,69],[107,60,108,60],[261,1,269,1],[259,1,260,1],[236,3,236,4],[236,5,236,6],[236,7,236,8],[236,9,236,10],[192,20,192,22],[259,2,260,2],[259,3,259,29],[260,9,260,11],[260,12,260,14],[236,17,236,18],[177,34,178,34],[188,20,190,20],[191,20,191,22],[177,32,178,32],[236,15,236,16],[236,19,236,20],[314,36,315,36],[314,37,315,37],[107,36,108,36],[176,36,178,36],[144,51,145,51],[144,52,145,52],[142,38,142,40],[356,24,356,25],[352,24,353,25],[347,24,347,25],[352,26,352,43],[353,26,353,27],[353,28,353,29],[353,30,353,31],[353,32,353,33],[353,34,353,35],[353,36,353,37],[355,24,355,25],[353,40,353,41],[338,24,339,25],[348,24,348,25],[344,24,344,25],[345,24,345,25],[346,24,346,25],[353,38,353,39],[340,24,340,25],[144,32,144,40],[325,21,325,22],[326,21,326,22],[327,21,327,22],[14,103,14,106],[353,42,353,43],[354,24,354,25],[341,24,341,25],[342,24,342,25],[343,24,343,25],[338,26,338,43],[119,57,121,60],[106,45,106,54],[588,3,588,5],[588,12,588,14],[588,21,588,23],[588,30,588,32],[588,39,588,41],[588,48,588,50],[587,3,587,5],[587,12,587,14],[587,21,587,23],[587,30,587,32],[587,39,587,41],[587,48,587,50],[586,48,586,50],[586,57,586,59],[586,66,586,68],[588,75,588,77],[586,75,586,77],[587,75,587,77],[587,57,587,59],[587,66,587,68],[588,57,588,59],[588,66,588,68],[586,30,586,32],[584,75,584,77],[585,3,585,5],[585,12,585,14],[585,21,585,23],[585,30,585,32],[585,39,585,41],[585,48,585,50],[585,57,585,59],[586,39,586,41],[585,66,585,68],[585,75,585,77],[507,27,509,27],[507,28,509,28],[507,29,509,29],[507,30,509,30],[584,39,584,41],[584,48,584,50],[584,57,584,59],[584,66,584,68],[584,30,584,32],[582,75,582,77],[583,3,583,5],[583,12,583,14],[583,21,583,23],[583,30,583,32],[583,39,583,41],[583,48,583,50],[583,57,583,59],[583,66,583,68],[582,3,582,5],[582,12,582,14],[582,21,582,23],[582,30,582,32],[582,39,582,41],[582,48,582,50],[582,66,582,68],[581,39,581,41],[581,48,581,50],[581,57,581,59],[581,66,581,68],[583,75,583,77],[581,75,581,77],[582,57,582,59],[581,30,581,32],[579,75,579,77],[580,3,580,5],[580,12,580,14],[580,21,580,23],[580,30,580,32],[580,39,580,41],[580,48,580,50],[580,57,580,59],[580,66,580,68],[579,3,579,5],[579,12,579,14],[579,21,579,23],[579,30,579,32],[579,39,579,41],[579,48,579,50],[579,66,579,68],[578,39,578,41],[578,48,578,50],[578,57,578,59],[578,66,578,68],[580,75,580,77],[578,75,578,77],[579,57,579,59],[578,30,578,32],[576,75,576,77],[577,3,577,5],[577,12,577,14],[577,21,577,23],[577,30,577,32],[577,39,577,41],[577,48,577,50],[577,57,577,59],[577,66,577,68],[577,75,577,77],[575,75,575,77],[576,3,576,5],[576,12,576,14],[576,21,576,23],[576,30,576,32],[576,39,576,41],[576,48,576,50],[576,57,576,59],[575,3,575,5],[575,12,575,14],[575,21,575,23],[575,30,575,32],[575,39,575,41],[575,48,575,50],[574,39,574,41],[574,48,574,50],[574,57,574,59],[574,66,574,68],[576,66,576,68],[574,75,574,77],[575,57,575,59],[575,66,575,68],[574,30,574,32],[572,75,572,77],[573,3,573,5],[573,12,573,14],[573,21,573,23],[573,30,573,32],[573,39,573,41],[573,48,573,50],[573,57,573,59],[573,66,573,68],[571,57,571,59],[573,75,573,77],[572,39,572,41],[572,48,572,50],[572,57,572,59],[572,66,572,68],[557,66,557,74],[572,12,572,14],[572,21,572,23],[572,30,572,32],[570,75,570,77],[571,12,571,14],[571,21,571,23],[571,30,571,32],[571,39,571,41],[571,48,571,50],[571,66,571,68],[571,75,571,77],[570,57,570,59],[570,66,570,68],[557,39,557,47],[557,48,557,56],[557,57,557,65],[570,48,570,50],[525,31,527,31],[525,32,527,32],[534,31,536,31],[534,32,536,32],[543,31,545,31],[543,32,545,32],[543,22,545,22],[543,23,545,23],[543,24,545,24],[543,29,545,29],[543,25,545,25],[557,21,557,29],[471,14,473,14],[471,30,473,30],[471,26,473,26],[471,31,473,31],[471,18,473,18],[471,15,473,15],[471,16,473,16],[471,17,473,17],[471,25,473,25],[498,33,506,33],[507,33,515,33],[480,33,488,33],[489,33,497,33],[498,17,500,17],[498,18,500,18],[498,28,500,28],[498,21,500,21],[498,22,500,22],[507,31,509,31],[525,33,533,33],[525,30,527,30],[516,30,518,30],[480,27,482,27],[480,31,482,31],[498,19,500,19],[498,20,500,20],[480,32,482,32],[489,20,491,20],[489,21,491,21],[489,22,491,22],[489,23,491,23],[489,24,491,24],[498,25,500,25],[498,26,500,26],[498,27,500,27],[570,39,570,41],[507,32,509,32],[480,28,482,28],[507,24,509,24],[507,25,509,25],[507,26,509,26],[516,27,518,27],[516,28,518,28],[516,21,518,21],[516,22,518,22],[516,23,518,23],[516,24,518,24],[525,19,527,19],[525,20,527,20],[525,21,527,21],[525,22,527,22],[468,33,470,33],[471,33,479,33],[480,30,482,30],[480,25,482,25],[480,26,482,26],[471,19,473,19],[471,20,473,20],[471,21,473,21],[471,22,473,22],[471,23,473,23],[471,24,473,24],[489,25,491,25],[489,26,491,26],[489,27,491,27],[480,22,482,22],[516,33,524,33],[516,29,518,29],[525,29,527,29],[534,14,536,14],[534,15,536,15],[534,16,536,16],[534,17,536,17],[534,18,536,18],[534,19,536,19],[534,20,536,20],[534,25,536,25],[534,26,536,26],[534,27,536,27],[534,28,536,28],[534,21,536,21],[534,22,536,22],[534,23,536,23],[534,24,536,24],[534,29,536,29],[525,23,527,23],[525,24,527,24],[525,25,527,25],[525,26,527,26],[516,14,518,14],[516,15,518,15],[516,16,518,16],[516,17,518,17],[516,18,518,18],[516,19,518,19],[516,20,518,20],[543,14,545,14],[543,15,545,15],[543,16,545,16],[543,17,545,17],[543,18,545,18],[543,19,545,19],[543,20,545,20],[543,28,545,28],[543,26,545,26],[602,3,602,5],[602,12,602,14],[602,21,602,23],[602,6,602,8],[602,9,603,11],[603,6,603,8],[525,14,527,14],[525,15,527,15],[525,16,527,16],[525,17,527,17],[525,18,527,18],[525,27,527,27],[525,28,527,28],[516,25,518,25],[516,26,518,26],[602,18,603,20],[602,24,602,26],[602,27,603,29],[601,12,601,20],[603,24,603,26],[615,21,615,23],[611,12,611,14],[611,21,611,23],[612,21,612,23],[613,21,613,23],[610,3,610,5],[610,21,610,23],[574,12,574,14],[584,21,584,23],[570,12,570,14],[570,21,570,23],[603,12,603,14],[603,21,603,23],[603,15,603,17],[601,21,601,29],[602,15,602,17],[604,12,604,14],[612,12,612,14],[613,12,613,14],[614,12,614,14],[615,12,615,14],[635,3,635,5],[644,3,644,5],[631,12,631,14],[631,21,631,23],[632,12,632,14],[543,33,551,33],[614,21,614,23],[604,21,604,23],[570,30,570,32],[543,30,545,30],[543,21,545,21],[612,3,612,5],[613,3,613,5],[614,3,614,5],[616,3,616,5],[615,3,615,5],[543,27,545,27],[586,21,586,23],[556,1,556,83],[569,66,569,74],[569,75,569,83],[621,3,621,5],[605,21,605,23],[606,21,606,23],[607,21,607,23],[608,21,608,23],[609,21,609,23],[610,12,610,14],[618,3,618,5],[617,3,617,5],[611,3,611,5],[601,3,601,11],[644,21,644,23],[641,12,641,14],[641,21,641,23],[642,12,642,14],[642,21,642,23],[623,3,623,11],[623,12,623,20],[623,21,623,29],[624,1,625,2],[624,6,624,8],[624,9,625,11],[624,15,624,17],[624,18,625,20],[625,6,625,8],[625,15,625,17],[624,24,624,26],[624,27,625,29],[626,1,644,1],[626,3,626,5],[627,3,627,5],[628,3,628,5],[629,3,629,5],[630,3,630,5],[631,3,631,5],[625,24,625,26],[636,3,636,5],[637,3,637,5],[638,3,638,5],[639,3,639,5],[632,3,632,5],[633,3,633,5],[634,3,634,5],[657,3,657,5],[658,3,658,5],[659,3,659,5],[664,3,664,5],[665,3,665,5],[666,3,666,5],[645,3,645,11],[645,12,645,20],[645,21,645,29],[640,3,640,5],[641,3,641,5],[642,3,642,5],[643,3,643,5],[646,1,647,2],[646,6,646,8],[646,9,647,11],[647,3,647,5],[646,3,646,5],[647,6,647,8],[646,18,647,20],[646,12,646,14],[647,12,647,14],[646,24,646,26],[646,21,646,23],[647,21,647,23],[647,15,647,17],[646,15,646,17],[647,24,647,26],[646,27,647,29],[643,12,643,14],[643,21,643,23],[644,12,644,14],[616,12,616,14],[619,12,619,14],[622,12,622,14],[625,21,625,23],[619,21,619,23],[620,12,620,14],[620,21,620,23],[621,12,621,14],[621,21,621,23],[622,21,622,23],[627,12,627,14],[627,21,627,23],[628,12,628,14],[628,21,628,23],[626,12,626,14],[626,21,626,23],[630,21,630,23],[635,12,635,14],[635,21,635,23],[636,12,636,14],[636,21,636,23],[633,12,633,14],[633,21,633,23],[634,12,634,14],[634,21,634,23],[639,12,639,14],[639,21,639,23],[640,12,640,14],[640,21,640,23],[637,12,637,14],[637,21,637,23],[638,12,638,14],[638,21,638,23],[617,21,617,23],[618,12,618,14],[618,21,618,23],[632,21,632,23],[629,12,629,14],[629,21,629,23],[630,12,630,14],[661,21,661,23],[658,12,658,14],[658,21,658,23],[650,12,650,14],[650,21,650,23],[651,12,651,14],[651,21,651,23],[648,12,648,14],[648,21,648,23],[649,12,649,14],[649,21,649,23],[654,12,654,14],[654,21,654,23],[655,12,655,14],[655,21,655,23],[652,12,652,14],[652,21,652,23],[653,12,653,14],[653,21,653,23],[659,12,659,14],[659,21,659,23],[656,12,656,14],[656,21,656,23],[657,12,657,14],[657,21,657,23],[589,57,589,59]],"merged_total":1081,"flags":["merged_cut"]}
[null,null,"数独の各、空きマスに選択可能な、数値をしらべる。　　１行～９行に表記される０以外の数値は、選択可能を意味する。",null,null,null,null,null,null,null,null,null,null,null,null,null,null,null,null,null,null,null,null,null,null,null,null,null,null,null,null,null,null,null,null,null,null,null,null,null,null,null,null,null,null,null,null,null,null,null,null,null,null,null,null,null,null,null,null,null,null,null,null,null,null,null,null,null,null,null,null,null,null,null,null,null,null,null,null,null,null,null,null,null,null,"行に対しての上段の数値の合計を表す",null,null,null,null,null,null,null,null,null,null,null,null,null,null,null,null,null,null,null,null,null,null,null,null,null,null,null,"０以外の個数"]
[null,"数","列",1,1,1,1,1,1,1,1,1,2,2,2,2,2,2,2,2,2,3,3,3,3,3,3,3,3,3,4,4,4,4,4,4,4,4,4,5,5,5,5,5,5,5,5,5,6,6,6,6,6,6,6,6,6,7,7,7,7,7,7,7,7,7,8,8,8,8,8,8,8,8,8,9,9,9,9,9,9,9,9,9,null,"合計",null,null,null,null,null,null,null,null,null,null,null,null,null,null,null,null,null,null,null,null,null,null,null,null,null,null,null,null,null,null,null,null,null,"数字全体での個数",null,null,null,"列方向の各グループに対する数字の個数"]
[null,null,"番号",1,2,3,4,5,6,7,8,9,1,2,3,4,5,6,7,8,9,1,2,3,4,5,6,7,8,9,1,2,3,4,5,6,7,8,9,1,2,3,4,5,6,7,8,9,1,2,3,4,5,6,7,8,9,1,2,3,4,5,6,7,8,9,1,2,3,4,5,6,7,8,9,1,2,3,4,5,6,7,8,9,null,1,2,3,4,5,6,7,8,9,null,null,"方向計算",null,null,null,null,null,null,null,"数独難問作成",null,null,null,null,null,null,null,null,null,null,"グループ毎の個数",null,null,null,null,null,null,null,1,2,3,4,5,6,7,8,9]
[null,1,"１行",0,0,0,0,0,0,0,0,0,0,0,0,0,0,0,0,0,0,0,0,0,0,0,0,0,0,0,0,0,0,0,0,0,0,0,0,0,0,0,0,0,0,0,0,0,0,0,0,0,0,0,0,0,0,0,0,0,0,0,0,0,0,0,0,0,0,0,0,0,0,0,0,0,0,0,0,0,0,0,0,0,null,{"$f":"COUNTIF($D$4:$CF$4,CH3)","v":0},{"$f":"COUNTIF($D$4:$CF$4,CI3)","v":0},0,0,0,0,0,0,0,null,null,"角度","ラジアン",null,null,null,null,null,null,4,0,0,0,0,0,7,3,0,{"$f":"COUNTA(DA4:DI4)-COUNTIF(DA4:DI4,0)","v":3},null,{"$f":"COUNTA(DA4:DC6)-COUNTIF(DA4:DC6,0)","v":3},{"$f":"COUNTA(DD4:DF6)-COUNTIF(DD4:DF6,0)","v":2},{"$f":"COUNTA(DG4:DI6)-COUNTIF(DG4:DI6,0)","v":4},null,1,{"$f":"COUNTIF($DA$4:$DI$12,DP4)","v":3},null,"グループ",{"$f":"COUNTIF($DA$4:$DI$6,DT3)","v":0},{"$f":"COUNTIF($DA$4:$DI$6,DU3)","v":1},2,2,1,1,1,0,1]
[null,2,"２行",0,0,0,0,0,0,0,0,0,0,0,0,0,0,0,0,0,0,0,0,0,0,0,0,0,0,0,0,0,0,0,0,0,0,0,0,0,0,0,0,0,0,0,0,0,0,0,0,0,0,0,0,0,0,0,0,0,0,0,0,0,0,0,0,0,0,0,0,0,0,0,0,0,0,0,0,0,0,0,0,0,null,{"$f":"COUNTIF($D$5:$CF$5,CH3)","v":0},{"$f":"COUNTIF($D$5:$CF$5,CI3)","v":0},0,0,0,0,0,0,0,null,null,26.327548980712891,{"$f":"RADIANS(CS5)","v":0.45950241369351702},null,null,null,null,null,null,3,0,0,2,6,0,0,0,5,{"$f":"COUNTA(DA5:DI5)-COUNTIF(DA5:DI5,0)","v":4},null,null,null,null,null,2,{"$f":"COUNTIF($DA$4:$DI$12,DP5)","v":3},null,"グループ",{"$f":"COUNTIF($DA$7:$DI$9,DT3)","v":1},{"$f":"COUNTIF($DA$7:$DI$9,DU3)","v":1},0,1,2,2,2,1,0]
[null,3,"３行",0,0,0,0,0,0,0,0,0,0,0,0,0,0,0,0,0,0,0,0,0,0,0,0,0,0,0,0,0,0,0,0,0,0,0,0,0,0,0,0,0,0,0,0,0,0,0,0,0,0,0,0,0,0,0,0,0,0,0,0,0,0,0,0,0,0,0,0,0,0,0,0,0,0,0,0,0,0,0,0,0,null,{"$f":"COUNTIF($D$6:$CF$6,CH3)","v":0},{"$f":"COUNTIF($D$6:$CF$6,CI3)","v":0},0,0,0,0,0,0,0,null,null,"ボール方向計算",null,null,null,null,null,null,null,9,0,0,0,0,0,4,0,0,2,null,null,null,null,null,3,3,null,"グループ",{"$f":"COUNTIF($DA$10:$DI$12,DT3)","v":2},{"$f":"COUNTIF($DA$10:$DI$12,DU3)","v":1},1,0,0,0,1,2,0]
[null,4,"４行",0,0,0,0,0,0,0,0,0,0,0,0,0,0,0,0,0,0,0,0,0,0,0,0,0,0,0,0,0,0,0,0,0,0,0,0,0,0,0,0,0,0,0,0,0,0,0,0,0,0,0,0,0,0,0,0,0,0,0,0,0,0,0,0,0,0,0,0,0,0,0,0,0,0,0,0,0,0,0,0,0,null,{"$f":"COUNTIF($D$7:$CF$7,CH3)","v":0},{"$f":"COUNTIF($D$7:$CF$7,CI3)","v":0},0,0,0,0,0,0,0,null,null,"Sin",{"$f":"SIN(CT5)","v":0.44350218857223178},null,null,null,null,null,null,0,0,0,0,0,0,0,0,1,1,null,{"$f":"COUNTA(DA7:DC9)-COUNTIF(DA7:DC9,0)","v":3},{"$f":"COUNTA(DD7:DF9)-COUNTIF(DD7:DF9,0)","v":3},{"$f":"COUNTA(DG7:DI9)-COUNTIF(DG7:DI9,0)","v":4},null,4,3]
[null,5,"５行",0,0,0,0,0,0,0,0,0,0,0,0,0,0,0,0,0,0,0,0,0,0,0,0,0,0,0,0,0,0,0,0,0,0,0,0,0,0,0,0,0,0,0,0,0,0,0,0,0,0,0,0,0,0,0,0,0,0,0,0,0,0,0,0,0,0,0,0,0,0,0,0,0,0,0,0,0,0,0,0,0,null,{"$f":"COUNTIF($D$8:$CF$8,CH3)","v":0},{"$f":"COUNTIF($D$8:$CF$8,CI3)","v":0},0,0,0,0,0,0,0,null,null,"Cos",{"$f":"COS(CT5)","v":0.89627328908745274},null,null,null,null,null,null,0,0,4,5,0,8,0,7,6,5,null,null,null,null,null,5,3]
[null,6,"６行",0,0,0,0,0,0,0,0,0,0,0,0,0,0,0,0,0,0,0,0,0,0,0,0,0,0,0,0,0,0,0,0,0,0,0,0,0,0,0,0,0,0,0,0,0,0,0,0,0,0,0,0,0,0,0,0,0,0,0,0,0,0,0,0,0,0,0,0,0,0,0,0,0,0,0,0,0,0,0,0,0,null,{"$f":"COUNTIF($D$9:$CF$9,CH3)","v":0},{"$f":"COUNTIF($D$9:$CF$9,CI3)","v":0},0,0,0,0,0,0,0,null,null,null,null,null,null,null,null,null,null,0,6,2,0,0,7,0,5,0,4,null,null,null,null,null,6,3]
[null,7,"7行",0,0,0,0,0,0,0,0,0,0,0,0,0,0,0,0,0,0,0,0,0,0,0,0,0,0,0,0,0,0,0,0,0,0,0,0,0,0,0,0,0,0,0,0,0,0,0,0,0,0,0,0,0,0,0,0,0,0,0,0,0,0,0,0,0,0,0,0,0,0,0,0,0,0,0,0,0,0,0,0,0,null,{"$f":"COUNTIF($D$10:$CF$10,CH3)","v":0},{"$f":"COUNTIF($D$10:$CF$10,CI3)","v":0},0,0,0,0,0,0,0,null,null,null,null,null,null,null,null,null,null,0,0,1,0,0,0,2,0,0,2,null,{"$f":"COUNTA(DA10:DC12)-COUNTIF(DA10:DC12,0)","v":3},{"$f":"COUNTA(DD10:DF12)-COUNTIF(DD10:DF12,0)","v":3},{"$f":"COUNTA(DG10:DI12)-COUNTIF(DG10:DI12,0)","v":1},null,7,4]
[null,8,"8行",0,0,0,0,0,0,0,0,0,0,0,0,0,0,0,0,0,0,0,0,0,0,0,0,0,0,0,0,0,0,0,0,0,0,0,0,0,0,0,0,0,0,0,0,0,0,0,0,0,0,0,0,0,0,0,0,0,0,0,0,0,0,0,0,0,0,0,0,0,0,0,0,0,0,0,0,0,0,0,0,0,null,{"$f":"COUNTIF($D$11:$CF$11,CH3)","v":0},{"$f":"COUNTIF($D$11:$CF$11,CI3)","v":0},0,0,0,0,0,0,0,null,null,null,null,null,null,null,null,null,null,0,8,7,1,0,0,0,0,0,3,null,null,null,null,null,8,3]
[null,9,"９行",0,0,0,0,0,0,0,0,0,0,0,0,0,0,0,0,0,0,0,0,0,0,0,0,0,0,0,0,0,0,0,0,0,0,0,0,0,0,0,0,0,0,0,0,0,0,0,0,0,0,0,0,0,0,0,0,0,0,0,0,0,0,0,0,0,0,0,0,0,0,0,0,0,0,0,0,0,0,0,0,0,null,{"$f":"COUNTIF($D$12:$CF$12,CH3)","v":0},{"$f":"COUNTIF($D$12:$CF$12,CI3)","v":0},0,0,0,0,0,0,0,null,null,null,null,null,null,null,null,null,null,0,0,0,8,0,3,0,0,0,2,null,null,null,null,null,9,1]
[null,null,"合計",{"$f":"COUNTIF($D$4:$L$12,D3)","v":0},{"$f":"COUNTIF($D$4:$L$12,E3)","v":0},0,0,0,0,0,0,0,{"$f":"COUNTIF($M$4:$U$12,M3)","v":0},{"$f":"COUNTIF($M$4:$U$12,N3)","v":0},0,0,0,0,0,0,0,{"$f":"COUNTIF($V$4:$AD$12,V3)","v":0},{"$f":"COUNTIF($V$4:$AD$12,W3)","v":0},0,0,0,0,0,0,0,{"$f":"COUNTIF($AE$4:$AM$12,AE3)","v":0},{"$f":"COUNTIF($AE$4:$AM$12,AF3)","v":0},0,0,0,0,0,0,0,{"$f":"COUNTIF($AN$4:$AV$12,AN3)","v":0},{"$f":"COUNTIF($AN$4:$AV$12,AO3)","v":0},0,0,0,0,0,0,0,{"$f":"COUNTIF($AW$4:$BE$12,AW3)","v":0},{"$f":"COUNTIF($AW$4:$BE$12,AX3)","v":0},0,0,0,0,0,0,0,{"$f":"COUNTIF($BF$4:$BN$12,BF3)","v":0},{"$f":"COUNTIF($BF$4:$BN$12,BG3)","v":0},0,0,0,0,0,0,0,{"$f":"COUNTIF($BO$4:$BW$12,BO3)","v":0},{"$f":"COUNTIF($BO$4:$BW$12,BP3)","v":0},0,0,0,0,0,0,0,{"$f":"COUNTIF($BX$4:$CF$12,BX3)","v":0},{"$f":"COUNTIF($BX$4:$CF$12,BY3)","v":0},0,0,0,0,0,0,0,{"$f":"SUM(D13:CF13)","v":0},null,null,null,null,null,null,null,null,null,null,null,null,null,null,null,null,"０以外の個数",null,null,{"$f":"COUNTA(DA4:DA12)-COUNTIF(DA4:DA12,0)","v":3},{"$f":"COUNTA(DB4:DB12)-COUNTIF(DB4:DB12,0)","v":2},4,4,1,3,3,3,3,{"$f":"SUM(DJ4:DJ12)","v":26}]
[]
[null,null,"グループ毎の集計",null,null,null,null,null,null,null,null,null,null,null,null,null,null,null,null,null,null,null,null,null,null,null,null,null,null,null,"上記の合計をプログラム処理しやすいように下記に転記する。（値は同じ）　　DO LOOP処理に適用する。　　（行の合計と列の合計）",null,null,null,null,null,null,null,null,null,null,null,null,null,null,null,null,null,null,null,null,null,null,null,null,null,null,null,null,null,null,null,null,null,null,null,null,null,null,null,null,null,null,null,null,null,null,null,null,null,null,null,null,null,null,null,null,null,null,null,null,null,null,null,null,null,"ランク",null,null,null,null,null,null,"行方向のグループに対しての数字の個数"]
[null,null,"番号",1,2,3,4,5,6,7,8,9,1,2,3,4,5,6,7,8,9,1,2,3,4,5,6,7,8,9,1,2,3,4,5,6,7,8,9,1,2,3,4,5,6,7,8,9,1,2,3,4,5,6,7,8,9,1,2,3,4,5,6,7,8,9,1,2,3,4,5,6,7,8,9,1,2,3,4,5,6,7,8,9,1,null,null,null,null,null,null,null,null,null,null,null,null,null,null,null,null,null,null,null,"A,D,G","B,E,H","C,F,I"]
[null,"グループ","Ａ，Ｂ，Ｃ",{"$f":"COUNTIF($D$4:$AD$6,D16)","v":0},0,0,0,0,0,0,0,0,{"$f":"COUNTIF($AE$4:$BE$6,M16)","v":0},{"$f":"COUNTIF($AE$4:$BE$6,N16)","v":0},0,0,0,0,0,0,0,{"$f":"COUNTIF($BF$4:$CF$6,V16)","v":0},{"$f":"COUNTIF($BF$4:$CF$6,W16)","v":0},0,0,0,0,0,0,0,{"$f":"D13","v":0},{"$f":"E13","v":0},0,0,0,0,0,0,0,{"$f":"AE13","v":0},{"$f":"AF13","v":0},0,0,0,0,0,0,0,{"$f":"BF13","v":0},{"$f":"BG13","v":0},0,0,0,0,0,0,0,{"$f":"CH4","v":0},{"$f":"CI4","v":0},0,0,0,0,0,0,0,{"$f":"CH7","v":0},{"$f":"CI7","v":0},0,0,0,0,0,0,0,{"$f":"CH10","v":0},{"$f":"CI10","v":0},0,0,0,0,0,0,0,null,null,null,null,null,null,null,null,null,null,null,null,"普通",null,null,null,null,null,null,1,{"$f":"COUNTIF($DA$4:$DC$12,CZ17)","v":1},{"$f":"COUNTIF($DD$4:$DF$12,CZ17)","v":1},{"$f":"COUNTIF($DG$4:$DI$12,CZ17)","v":1}]
[null,null,"D，E，F",{"$f":"COUNTIF($D$7:$AD$9,D16)","v":0},0,0,0,0,0,0,0,{"$f":"COUNTIF($D$7:$AD$9,L16)","v":0},{"$f":"COUNTIF($AE$7:$BE$9,M16)","v":0},{"$f":"COUNTIF($AE$7:$BE$9,N16)","v":0},0,0,0,0,0,0,0,{"$f":"COUNTIF($BF$7:$CF$9,V16)","v":0},{"$f":"COUNTIF($BF$7:$CF$9,W16)","v":0},0,0,0,0,0,0,0,{"$f":"M13","v":0},{"$f":"N13","v":0},0,0,0,0,0,0,0,{"$f":"AN13","v":0},{"$f":"AO13","v":0},0,0,0,0,0,0,0,{"$f":"BO13","v":0},{"$f":"BP13","v":0},0,0,0,0,0,0,0,{"$f":"CH5","v":0},{"$f":"CI5","v":0},0,0,0,0,0,0,0,{"$f":"CH8","v":0},{"$f":"CI8","v":0},0,0,0,0,0,0,0,{"$f":"CH11","v":0},{"$f":"CI11","v":0},0,0,0,0,0,0,0,null,null,null,null,null,null,null,null,null,null,null,null,"難問",null,null,null,null,null,null,2,{"$f":"COUNTIF($DA$4:$DC$12,CZ18)","v":1},{"$f":"COUNTIF($DD$4:$DF$12,CZ18)","v":1},{"$f":"COUNTIF($DG$4:$DI$12,CZ18)","v":1}]
[null,null,"G，H，I",{"$f":"COUNTIF($D$10:$AD$12,D16)","v":0},{"$f":"COUNTIF($D$10:$AD$12,E16)","v":0},0,0,0,0,0,0,0,{"$f":"COUNTIF($AE$10:$BE$12,M16)","v":0},{"$f":"COUNTIF($AE$10:$BE$12,N16)","v":0},0,0,0,0,0,0,0,{"$f":"COUNTIF($BF$10:$CF$12,V16)","v":0},{"$f":"COUNTIF($BF$10:$CF$12,W16)","v":0},0,0,0,0,0,0,0,{"$f":"V13","v":0},{"$f":"W13","v":0},0,0,0,0,0,0,0,{"$f":"AW13","v":0},{"$f":"AX13","v":0},0,0,0,0,0,0,0,{"$f":"BX13","v":0},{"$f":"BY13","v":0},0,0,0,0,0,0,0,{"$f":"CH6","v":0},0,0,0,0,0,0,0,0,{"$f":"CH9","v":0},0,0,0,0,0,0,0,0,{"$f":"CH12","v":0},0,0,0,0,0,0,0,0,{"$f":"COUNTIF(D17:CF19,CG16)","v":0},"この行に１が存在ならランク　”普通”",null,null,null,null,null,null,null,null,null,null,"超難問",null,null,null,null,null,null,3,1,1,1]
[null,"各セル毎の合計",null,{"$f":"COUNT($D4:$L4)-COUNTIF($D4:$L4,0)","v":0},{"$f":"COUNT($D5:$L5)-COUNTIF($D5:$L5,0)","v":0},{"$f":"COUNT($D6:$L6)-COUNTIF($D6:$L6,0)","v":0},{"$f":"COUNT($D7:$L7)-COUNTIF($D7:$L7,0)","v":0},{"$f":"COUNT($D8:$L8)-COUNTIF($D8:$L8,0)","v":0},{"$f":"COUNT($D9:$L9)-COUNTIF($D9:$L9,0)","v":0},{"$f":"COUNT($D10:$L10)-COUNTIF($D10:$L10,0)","v":0},{"$f":"COUNT($D11:$L11)-COUNTIF($D11:$L11,0)","v":0},{"$f":"COUNT($D12:$L12)-COUNTIF($D12:$L12,0)","v":0},{"$f":"COUNT($M4:$U4)-COUNTIF($M4:$U4,0)","v":0},{"$f":"COUNT($M5:$U5)-COUNTIF($M5:$U5,0)","v":0},{"$f":"COUNT($M6:$U6)-COUNTIF($M6:$U6,0)","v":0},{"$f":"COUNT($M7:$U7)-COUNTIF($M7:$U7,0)","v":0},{"$f":"COUNT($M8:$U8)-COUNTIF($M8:$U8,0)","v":0},{"$f":"COUNT($M9:$U9)-COUNTIF($M9:$U9,0)","v":0},{"$f":"COUNT($M10:$U10)-COUNTIF($M10:$U10,0)","v":0},{"$f":"COUNT($M11:$U11)-COUNTIF($M11:$U11,0)","v":0},{"$f":"COUNT($M12:$U12)-COUNTIF($M12:$U12,0)","v":0},{"$f":"COUNT($V4:$AD4)-COUNTIF($V4:$AD4,0)","v":0},{"$f":"COUNT($V5:$AD5)-COUNTIF($V5:$AD5,0)","v":0},{"$f":"COUNT($V6:$AD6)-COUNTIF($V6:$AD6,0)","v":0},{"$f":"COUNT($V7:$AD7)-COUNTIF($V7:$AD7,0)","v":0},{"$f":"COUNT($V8:$AD8)-COUNTIF($V8:$AD8,0)","v":0},{"$f":"COUNT($V9:$AD9)-COUNTIF($V9:$AD9,0)","v":0},{"$f":"COUNT($V10:$AD10)-COUNTIF($V10:$AD10,0)","v":0},{"$f":"COUNT($V11:$AD11)-COUNTIF($V11:$AD11,0)","v":0},{"$f":"COUNT($V12:$AD12)-COUNTIF($V12:$AD12,0)","v":0},{"$f":"COUNT($AE4:$AM4)-COUNTIF($AE4:$AM4,0)","v":0},{"$f":"COUNT($AE5:$AM5)-COUNTIF($AE5:$AM5,0)","v":0},{"$f":"COUNT($AE6:$AM6)-COUNTIF($AE6:$AM6,0)","v":0},{"$f":"COUNT($AE7:$AM7)-COUNTIF($AE7:$AM7,0)","v":0},{"$f":"COUNT($AE8:$AM8)-COUNTIF($AE8:$AM8,0)","v":0},{"$f":"COUNT($AE9:$AM9)-COUNTIF($AE9:$AM9,0)","v":0},{"$f":"COUNT($AE10:$AM10)-COUNTIF($AE10:$AM10,0)","v":0},{"$f":"COUNT($AE11:$AM11)-COUNTIF($AE11:$AM11,0)","v":0},{"$f":"COUNT($AE12:$AM12)-COUNTIF($AE12:$AM12,0)","v":0},{"$f":"COUNT($AN4:$AV4)-COUNTIF($AN4:$AV4,0)","v":0},{"$f":"COUNT($AN5:$AV5)-COUNTIF($AN5:$AV5,0)","v":0},{"$f":"COUNT($AN6:$AV6)-COUNTIF($AN6:$AV6,0)","v":0},{"$f":"COUNT($AN7:$AV7)-COUNTIF($AN7:$AV7,0)","v":0},{"$f":"COUNT($AN8:$AV8)-COUNTIF($AN8:$AV8,0)","v":0},{"$f":"COUNT($AN9:$AV9)-COUNTIF($AN9:$AV9,0)","v":0},{"$f":"COUNT($AN10:$AV10)-COUNTIF($AN10:$AV10,0)","v":0},{"$f":"COUNT($AN11:$AV11)-COUNTIF($AN11:$AV11,0)","v":0},{"$f":"COUNT($AN12:$AV12)-COUNTIF($AN12:$AV12,0)","v":0},{"$f":"COUNT($AW4:$BE4)-COUNTIF($AW4:$BE4,0)","v":0},{"$f":"COUNT($AW5:$BE5)-COUNTIF($AW5:$BE5,0)","v":0},{"$f":"COUNT($AW6:$BE6)-COUNTIF($AW6:$BE6,0)","v":0},{"$f":"COUNT($AW7:$BE7)-COUNTIF($AW7:$BE7,0)","v":0},{"$f":"COUNT($AW8:$BE8)-COUNTIF($AW8:$BE8,0)","v":0},{"$f":"COUNT($AW9:$BE9)-COUNTIF($AW9:$BE9,0)","v":0},{"$f":"COUNT($AW10:$BE10)-COUNTIF($AW10:$BE10,0)","v":0},{"$f":"COUNT($AW11:$BE11)-COUNTIF($AW11:$BE11,0)","v":0},{"$f":"COUNT($AW12:$BE12)-COUNTIF($AW12:$BE12,0)","v":0},{"$f":"COUNT($BF4:$BN4)-COUNTIF($BF4:$BN4,0)","v":0},{"$f":"COUNT($BF5:$BN5)-COUNTIF($BF5:$BN5,0)","v":0},{"$f":"COUNT($BF6:$BN6)-COUNTIF($BF6:$BN6,0)","v":0},{"$f":"COUNT($BF7:$BN7)-COUNTIF($BF7:$BN7,0)","v":0},{"$f":"COUNT($BF8:$BN8)-COUNTIF($BF8:$BN8,0)","v":0},{"$f":"COUNT($BF9:$BN9)-COUNTIF($BF9:$BN9,0)","v":0},{"$f":"COUNT($BF10:$BN10)-COUNTIF($BF10:$BN10,0)","v":0},{"$f":"COUNT($BF11:$BN11)-COUNTIF($BF11:$BN11,0)","v":0},{"$f":"COUNT($BF12:$BN12)-COUNTIF($BF12:$BN12,0)","v":0},{"$f":"COUNT($BO4:$BW4)-COUNTIF($BO4:$BW4,0)","v":0},{"$f":"COUNT($BO5:$BW5)-COUNTIF($BO5:$BW5,0)","v":0},{"$f":"COUNT($BO6:$BW6)-COUNTIF($BO6:$BW6,0)","v":0},{"$f":"COUNT($BO7:$BW7)-COUNTIF($BO7:$BW7,0)","v":0},{"$f":"COUNT($BO8:$BW8)-COUNTIF($BO8:$BW8,0)","v":0},{"$f":"COUNT($BO9:$BW9)-COUNTIF($BO9:$BW9,0)","v":0},{"$f":"COUNT($BO10:$BW10)-COUNTIF($BO10:$BW10,0)","v":0},{"$f":"COUNT($BO11:$BW11)-COUNTIF($BO11:$BW11,0)","v":0},{"$f":"COUNT($BO12:$BW12)-COUNTIF($BO12:$BW12,0)","v":0},{"$f":"COUNT($BX4:$CF4)-COUNTIF($BX4:$CF4,0)","v":0},{"$f":"COUNT($BX5:$CF5)-COUNTIF($BX5:$CF5,0)","v":0},{"$f":"COUNT($BX6:$CF6)-COUNTIF($BX6:$CF6,0)","v":0},{"$f":"COUNT($BX7:$CF7)-COUNTIF($BX7:$CF7,0)","v":0},{"$f":"COUNT($BX8:$CF8)-COUNTIF($BX8:$CF8,0)","v":0},{"$f":"COUNT($BX9:$CF9)-COUNTIF($BX9:$CF9,0)","v":0},{"$f":"COUNT($BX10:$CF10)-COUNTIF($BX10:$CF10,0)","v":0},{"$f":"COUNT($BX11:$CF11)-COUNTIF($BX11:$CF11,0)","v":0},{"$f":"COUNT($BX12:$CF12)-COUNTIF($BX12:$CF12,0)","v":0},{"$f":"COUNTIF(D20:CF20,CG16)","v":0},"この行に１が存在ならランク　”難問”",null,null,null,null,null,null,null,null,null,null,null,null,null,null,null,null,null,4,2,0,1]
[null,"列",null,1,1,1,1,1,1,1,1,1,2,2,2,2,2,2,2,2,2,3,3,3,3,3,3,3,3,3,4,4,4,4,4,4,4,4,4,5,5,5,5,5,5,5,5,5,6,6,6,6,6,6,6,6,6,7,7,7,7,7,7,7,7,7,8,8,8,8,8,8,8,8,8,9,9,9,9,9,9,9,9,9,{"$f":"SUM(D20:CF20)","v":0},"全体の合計が０であれば問題が解けた",null,null,null,null,null,null,null,null,null,null,null,null,null,null,null,null,null,5,0,1,2]
[null,null,"数字入力の重複をチエック（行）",null,null,null,null,null,null,null,null,null,null,null,null,null,null,null,null,null,null,null,null,null,null,null,null,null,null,null,null,null,null,null,null,null,null,null,null,null,null,null,null,null,null,null,null,null,null,null,null,null,null,null,null,null,null,null,null,null,null,null,null,null,null,null,null,null,null,null,null,null,null,null,null,null,null,null,null,null,null,null,null,null,null,null,null,null,null,null,null,null,null,null,null,null,null,null,null,null,null,null,null,6,1,1,1]
[null,null,null,1,2,3,4,5,6,7,8,9,null,null,null,null,null,null,null,null,null,null,null,null,null,null,null,null,null,null,null,null,null,null,null,null,null,null,null,null,null,null,null,null,null,null,null,null,null,null,null,null,null,null,null,null,null,null,null,null,null,null,null,null,null,null,null,null,null,null,null,null,null,null,null,null,null,null,null,null,null,null,null,null,null,null,null,null,null,null,null,null,null,null,null,null,null,null,null,null,null,null,null,7,1,1,2]
[null,null,"１行",{"$f":"COUNTIF(数独問題の正解を得る!$B$3:$J$3,D23)","v":0},{"$f":"COUNTIF(数独問題の正解を得る!$B$3:$J$3,E23)","v":0},{"$f":"COUNTIF(数独問題の正解を得る!$B$3:$J$3,F23)","v":0},{"$f":"COUNTIF(数独問題の正解を得る!$B$3:$J$3,G23)","v":0},{"$f":"COUNTIF(数独問題の正解を得る!$B$3:$J$3,H23)","v":0},{"$f":"COUNTIF(数独問題の正解を得る!$B$3:$J$3,I23)","v":0},{"$f":"COUNTIF(数独問題の正解を得る!$B$3:$J$3,J23)","v":0},{"$f":"COUNTIF(数独問題の正解を得る!$B$3:$J$3,K23)","v":0},{"$f":"COUNTIF(数独問題の正解を得る!$B$3:$J$3,L23)","v":0},null,null,null,null,null,null,"乱数",null,6660,7506,55,6522,6655,2024,5488,5762,4817,null,null,null,null,null,null,null,null,null,null,null,null,null,null,null,null,null,null,null,null,null,null,null,null,null,null,null,null,"乱数",null,2395,2308,4006,6475,753,9736,6713,5876,2485,7239,8610,9463,6384,4059,5100,1659,7311,1242,6161,3144,null,null,null,null,null,null,null,null,null,null,null,null,null,null,null,null,null,null,null,null,null,null,null,null,8,1,2,0]
[null,null,"２行",{"$f":"COUNTIF(数独問題の正解を得る!$B$4:$J$4,D23)","v":0},{"$f":"COUNTIF(数独問題の正解を得る!$B$4:$J$4,E23)","v":0},{"$f":"COUNTIF(数独問題の正解を得る!$B$4:$J$4,F23)","v":0},{"$f":"COUNTIF(数独問題の正解を得る!$B$4:$J$4,G23)","v":0},{"$f":"COUNTIF(数独問題の正解を得る!$B$4:$J$4,H23)","v":0},{"$f":"COUNTIF(数独問題の正解を得る!$B$4:$J$4,I23)","v":0},{"$f":"COUNTIF(数独問題の正解を得る!$B$4:$J$4,J23)","v":0},{"$f":"COUNTIF(数独問題の正解を得る!$B$4:$J$4,K23)","v":0},{"$f":"COUNTIF(数独問題の正解を得る!$B$4:$J$4,L23)","v":0},null,null,null,null,null,null,"順位９個",null,{"$f":"RANK(U24,$U$24:$AC$24)","v":2},{"$f":"RANK(V24,$U$24:$AC$24)","v":1},9,4,3,8,6,5,7,null,null,null,null,null,null,null,null,null,null,"コマンドバー",null,null,null,null,null,null,null,null,null,null,null,null,null,null,"記号",null,null,"順位20個",null,{"$f":"RANK(BH24,$BH$24:$CA$24)","v":16},{"$f":"RANK(BI24,$BH$24:$CA$24)","v":17},13,7,20,1,6,10,15,5,3,2,8,12,11,18,4,19,9,14,null,null,null,null,null,null,null,null,null,null,null,null,null,null,null,null,null,null,null,null,null,null,null,null,9,1,0,0]
[null,null,"３行",{"$f":"COUNTIF(数独問題の正解を得る!$B$5:$J$5,D23)","v":0},{"$f":"COUNTIF(数独問題の正解を得る!$B$5:$J$5,E23)","v":0},{"$f":"COUNTIF(数独問題の正解を得る!$B$5:$J$5,F23)","v":0},{"$f":"COUNTIF(数独問題の正解を得る!$B$5:$J$5,G23)","v":0},{"$f":"COUNTIF(数独問題の正解を得る!$B$5:$J$5,H23)","v":0},{"$f":"COUNTIF(数独問題の正解を得る!$B$5:$J$5,I23)","v":0},{"$f":"COUNTIF(数独問題の正解を得る!$B$5:$J$5,J23)","v":0},{"$f":"COUNTIF(数独問題の正解を得る!$B$5:$J$5,K23)","v":0},{"$f":"COUNTIF(数独問題の正解を得る!$B$5:$J$5,L23)","v":0},null,null,null,null,null,null,"順位８個",null,{"$f":"RANK(U25,$U$25:$AB$25)","v":7},{"$f":"RANK(V25,$U$25:$AB$25)","v":8},1,5,6,2,3,4,null,null,null,null,null,null,null,null,null,null,null,1,"Chart Menu Bar",null,null,null,null,null,null,null,null,null,null,null,null,null,null,null,null,"順位15個",null,{"$f":"RANK(BH24,$BH$24:$BV$24)","v":13},{"$f":"RANK(BI24,$BH$24:$BV$24)","v":14},11,6,15,1,5,8,12,4,3,2,7,10,9]
[null,null,"４行",{"$f":"COUNTIF(数独問題の正解を得る!$B$6:$J$6,D23)","v":0},{"$f":"COUNTIF(数独問題の正解を得る!$B$6:$J$6,E23)","v":0},{"$f":"COUNTIF(数独問題の正解を得る!$B$6:$J$6,F23)","v":0},{"$f":"COUNTIF(数独問題の正解を得る!$B$6:$J$6,G23)","v":0},{"$f":"COUNTIF(数独問題の正解を得る!$B$6:$J$6,H23)","v":0},{"$f":"COUNTIF(数独問題の正解を得る!$B$6:$J$6,I23)","v":0},{"$f":"COUNTIF(数独問題の正解を得る!$B$6:$J$6,J23)","v":0},{"$f":"COUNTIF(数独問題の正解を得る!$B$6:$J$6,K23)","v":0},{"$f":"COUNTIF(数独問題の正解を得る!$B$6:$J$6,L23)","v":0},null,null,null,null,null,null,"順位７個",null,{"$f":"RANK(U25,$U$25:$AA$25)","v":6},{"$f":"RANK(V25,$U$25:$AA$25)","v":7},1,4,5,2,3,null,null,null,null,null,null,null,null,null,null,null,null,2,"Status Bar",null,null,null,null,null,null,null,null,null,null,null,null,null,"✓"]
[null,null,"５行",{"$f":"COUNTIF(数独問題の正解を得る!$B$7:$J$7,D23)","v":0},{"$f":"COUNTIF(数独問題の正解を得る!$B$7:$J$7,E23)","v":0},{"$f":"COUNTIF(数独問題の正解を得る!$B$7:$J$7,F23)","v":0},{"$f":"COUNTIF(数独問題の正解を得る!$B$7:$J$7,G23)","v":0},{"$f":"COUNTIF(数独問題の正解を得る!$B$7:$J$7,H23)","v":0},{"$f":"COUNTIF(数独問題の正解を得る!$B$7:$J$7,I23)","v":0},{"$f":"COUNTIF(数独問題の正解を得る!$B$7:$J$7,J23)","v":0},{"$f":"COUNTIF(数独問題の正解を得る!$B$7:$J$7,K23)","v":0},{"$f":"COUNTIF(数独問題の正解を得る!$B$7:$J$7,L23)","v":0},null,null,null,null,null,null,"順位６個",null,{"$f":"RANK(U25,$U$25:$Z$25)","v":5},6,1,3,4,2,null,null,null,null,null,null,null,null,null,null,null,null,null,3,"Ribbon",null,null,null,null,null,null,null,null,null,null,null,null,null,"○"]
[null,null,"６行",{"$f":"COUNTIF(数独問題の正解を得る!$B$8:$J$8,D23)","v":0},{"$f":"COUNTIF(数独問題の正解を得る!$B$8:$J$8,E23)","v":0},{"$f":"COUNTIF(数独問題の正解を得る!$B$8:$J$8,F23)","v":0},{"$f":"COUNTIF(数独問題の正解を得る!$B$8:$J$8,G23)","v":0},{"$f":"COUNTIF(数独問題の正解を得る!$B$8:$J$8,H23)","v":0},{"$f":"COUNTIF(数独問題の正解を得る!$B$8:$J$8,I23)","v":0},{"$f":"COUNTIF(数独問題の正解を得る!$B$8:$J$8,J23)","v":0},{"$f":"COUNTIF(数独問題の正解を得る!$B$8:$J$8,K23)","v":0},{"$f":"COUNTIF(数独問題の正解を得る!$B$8:$J$8,L23)","v":0},null,null,null,null,null,null,"順位５個",null,{"$f":"RANK(U25,$U$25:$Y$25)","v":4},{"$f":"RANK(V25,$U$25:$Y$25)","v":5},{"$f":"RANK(W25,$U$25:$Y$25)","v":1},{"$f":"RANK(X25,$U$25:$Y$25)","v":2},{"$f":"RANK(Y25,$U$25:$Y$25)","v":3},null,null,null,null,null,null,null,null,null,null,null,null,null,null,null,null,null,null,null,null,null,null,null,null,null,null,null,null,null,"×"]
[null,null,"7行",{"$f":"COUNTIF(数独問題の正解を得る!$B$9:$J$9,D23)","v":0},{"$f":"COUNTIF(数独問題の正解を得る!$B$9:$J$9,E23)","v":0},{"$f":"COUNTIF(数独問題の正解を得る!$B$9:$J$9,F23)","v":0},{"$f":"COUNTIF(数独問題の正解を得る!$B$9:$J$9,G23)","v":0},{"$f":"COUNTIF(数独問題の正解を得る!$B$9:$J$9,H23)","v":0},{"$f":"COUNTIF(数独問題の正解を得る!$B$9:$J$9,I23)","v":0},{"$f":"COUNTIF(数独問題の正解を得る!$B$9:$J$9,J23)","v":0},{"$f":"COUNTIF(数独問題の正解を得る!$B$9:$J$9,K23)","v":0},{"$f":"COUNTIF(数独問題の正解を得る!$B$9:$J$9,L23)","v":0},null,null,null,null,null,null,"順位４個",null,{"$f":"RANK(U25,$U$25:$X$25)","v":3},{"$f":"RANK(V25,$U$25:$X$25)","v":4},{"$f":"RANK(W25,$U$25:$X$25)","v":1},{"$f":"RANK(X25,$U$25:$X$25)","v":2},null,null,null,null,null,null,null,null,null,null,null,null,null,null,null,null,null,null,null,null,null,null,null,null,null,null,null,null,null,null,"△"]
[null,null,"8行",{"$f":"COUNTIF(数独問題の正解を得る!$B$10:$J$10,D23)","v":0},{"$f":"COUNTIF(数独問題の正解を得る!$B$10:$J$10,E23)","v":0},{"$f":"COUNTIF(数独問題の正解を得る!$B$10:$J$10,F23)","v":0},{"$f":"COUNTIF(数独問題の正解を得る!$B$10:$J$10,G23)","v":0},{"$f":"COUNTIF(数独問題の正解を得る!$B$10:$J$10,H23)","v":0},{"$f":"COUNTIF(数独問題の正解を得る!$B$10:$J$10,I23)","v":0},{"$f":"COUNTIF(数独問題の正解を得る!$B$10:$J$10,J23)","v":0},{"$f":"COUNTIF(数独問題の正解を得る!$B$10:$J$10,K23)","v":0},{"$f":"COUNTIF(数独問題の正解を得る!$B$10:$J$10,L23)","v":0},null,null,null,null,null,null,"順位３個",null,{"$f":"RANK(U25,$U$25:$W$25)","v":2},{"$f":"RANK(V25,$U$25:$W$25)","v":3},{"$f":"RANK(W25,$U$25:$W$25)","v":1},null,null,null,null,null,null,null,null,null,null,null,null,null,null,null,null,null,null,null,null,null,null,null,null,null,null,null,null,null,null,null,"◇"]
[null,null,"９行",{"$f":"COUNTIF(数独問題の正解を得る!$B$11:$J$11,D23)","v":0},{"$f":"COUNTIF(数独問題の正解を得る!$B$11:$J$11,E23)","v":0},{"$f":"COUNTIF(数独問題の正解を得る!$B$11:$J$11,F23)","v":0},{"$f":"COUNTIF(数独問題の正解を得る!$B$11:$J$11,G23)","v":0},{"$f":"COUNTIF(数独問題の正解を得る!$B$11:$J$11,H23)","v":0},{"$f":"COUNTIF(数独問題の正解を得る!$B$11:$J$11,I23)","v":0},{"$f":"COUNTIF(数独問題の正解を得る!$B$11:$J$11,J23)","v":0},{"$f":"COUNTIF(数独問題の正解を得る!$B$11:$J$11,K23)","v":0},{"$f":"COUNTIF(数独問題の正解を得る!$B$11:$J$11,L23)","v":0},null,null,null,null,null,null,"順位２個",null,{"$f":"RANK(U25,$U$25:$V$25)","v":1},{"$f":"RANK(V25,$U$25:$V$25)","v":2},null,null,null,null,null,null,null,null,null,null,null,null,null,null,null,null,null,null,null,null,null,null,null,null,null,null,null,null,null,null,null,null,"済"]
[null,null,null,null,null,null,null,null,null,null,null,null,null,null,null,null,null,null,"順位１個",null,{"$f":"RANK(U25,$U$25)","v":1},null,null,null,null,null,null,null,null,null,null,null,null,null,null,null,null,null,null,null,null,null,null,null,null,null,null,null,null,null,null,null,null,null,"完"]
[null,null,null,null,null,null,null,null,null,null,null,null,null,null,null,null,null,null,null,null,null,null,null,null,null,null,null,null,null,null,null,null,null,null,null,null,null,null,null,null,null,null,null,null,null,null,null,null,null,null,null,null,null,null,"解"]
[null,null,"数字入力の重複をチエック（列）",null,null,null,null,null,null,null,null,null,null,null,null,null,null,"どの数字が配置するのに、適切かを調べる",null,null,null,null,null,null,null,"９９の数",null,null,null,null,null,null,null,null,null,null,null,null,null,null,null,null,null,null,null,null,null,null,null,null,null,null,null,null,"OK"]
[null,null,null,1,2,3,4,5,6,7,8,9]
[null,null,"１列",{"$f":"COUNTIF(数独問題の正解を得る!$B$3:$B$11,D36)","v":0},{"$f":"COUNTIF(数独問題の正解を得る!$B$3:$B$11,E36)","v":0},{"$f":"COUNTIF(数独問題の正解を得る!$B$3:$B$11,F36)","v":0},{"$f":"COUNTIF(数独問題の正解を得る!$B$3:$B$11,G36)","v":0},{"$f":"COUNTIF(数独問題の正解を得る!$B$3:$B$11,H36)","v":0},{"$f":"COUNTIF(数独問題の正解を得る!$B$3:$B$11,I36)","v":0},{"$f":"COUNTIF(数独問題の正解を得る!$B$3:$B$11,J36)","v":0},{"$f":"COUNTIF(数独問題の正解を得る!$B$3:$B$11,K36)","v":0},{"$f":"COUNTIF(数独問題の正解を得る!$B$3:$B$11,L36)","v":0},null,null,null,null,null,null,"数字","１列","２列","３列","４列","５列","６列"]
[null,null,"２列",{"$f":"COUNTIF(数独問題の正解を得る!$C$3:$C$11,D36)","v":0},{"$f":"COUNTIF(数独問題の正解を得る!$C$3:$C$11,E36)","v":0},{"$f":"COUNTIF(数独問題の正解を得る!$C$3:$C$11,F36)","v":0},{"$f":"COUNTIF(数独問題の正解を得る!$C$3:$C$11,G36)","v":0},{"$f":"COUNTIF(数独問題の正解を得る!$C$3:$C$11,H36)","v":0},{"$f":"COUNTIF(数独問題の正解を得る!$C$3:$C$11,I36)","v":0},{"$f":"COUNTIF(数独問題の正解を得る!$C$3:$C$11,J36)","v":0},{"$f":"COUNTIF(数独問題の正解を得る!$C$3:$C$11,K36)","v":0},{"$f":"COUNTIF(数独問題の正解を得る!$C$3:$C$11,L36)","v":0},null,null,null,null,null,"１行",7,99,0,0,0,99,0,{"$f":"COUNTIF(T38:Y38,99)","v":2}]
[null,null,"３列",{"$f":"COUNTIF(数独問題の正解を得る!$D$3:$D$11,D36)","v":0},{"$f":"COUNTIF(数独問題の正解を得る!$D$3:$D$11,E36)","v":0},{"$f":"COUNTIF(数独問題の正解を得る!$D$3:$D$11,F36)","v":0},{"$f":"COUNTIF(数独問題の正解を得る!$D$3:$D$11,G36)","v":0},{"$f":"COUNTIF(数独問題の正解を得る!$D$3:$D$11,H36)","v":0},{"$f":"COUNTIF(数独問題の正解を得る!$D$3:$D$11,I36)","v":0},{"$f":"COUNTIF(数独問題の正解を得る!$D$3:$D$11,J36)","v":0},{"$f":"COUNTIF(数独問題の正解を得る!$D$3:$D$11,K36)","v":0},{"$f":"COUNTIF(数独問題の正解を得る!$D$3:$D$11,L36)","v":0},null,null,null,null,null,"２行",1,0,99,0,0,0,99,2]
[null,null,"４列",{"$f":"COUNTIF(数独問題の正解を得る!$E$3:$E$11,D36)","v":0},{"$f":"COUNTIF(数独問題の正解を得る!$E$3:$E$11,E36)","v":0},{"$f":"COUNTIF(数独問題の正解を得る!$E$3:$E$11,F36)","v":0},{"$f":"COUNTIF(数独問題の正解を得る!$E$3:$E$11,G36)","v":0},{"$f":"COUNTIF(数独問題の正解を得る!$E$3:$E$11,H36)","v":0},{"$f":"COUNTIF(数独問題の正解を得る!$E$3:$E$11,I36)","v":0},{"$f":"COUNTIF(数独問題の正解を得る!$E$3:$E$11,J36)","v":0},{"$f":"COUNTIF(数独問題の正解を得る!$E$3:$E$11,K36)","v":0},{"$f":"COUNTIF(数独問題の正解を得る!$E$3:$E$11,L36)","v":0},null,null,null,null,null,"３行",9,0,0,99,0,0,0,1]
[null,null,"５列",{"$f":"COUNTIF(数独問題の正解を得る!$F$3:$F$11,D36)","v":0},{"$f":"COUNTIF(数独問題の正解を得る!$F$3:$F$11,E36)","v":0},{"$f":"COUNTIF(数独問題の正解を得る!$F$3:$F$11,F36)","v":0},{"$f":"COUNTIF(数独問題の正解を得る!$F$3:$F$11,G36)","v":0},{"$f":"COUNTIF(数独問題の正解を得る!$F$3:$F$11,H36)","v":0},{"$f":"COUNTIF(数独問題の正解を得る!$F$3:$F$11,I36)","v":0},{"$f":"COUNTIF(数独問題の正解を得る!$F$3:$F$11,J36)","v":0},{"$f":"COUNTIF(数独問題の正解を得る!$F$3:$F$11,K36)","v":0},{"$f":"COUNTIF(数独問題の正解を得る!$F$3:$F$11,L36)","v":0},null,null,null,null,null,"４行",3,0,0,99,99,0,0,2]
[null,null,"６列",{"$f":"COUNTIF(数独問題の正解を得る!$G$3:$G$11,D36)","v":0},{"$f":"COUNTIF(数独問題の正解を得る!$G$3:$G$11,E36)","v":0},{"$f":"COUNTIF(数独問題の正解を得る!$G$3:$G$11,F36)","v":0},{"$f":"COUNTIF(数独問題の正解を得る!$G$3:$G$11,G36)","v":0},{"$f":"COUNTIF(数独問題の正解を得る!$G$3:$G$11,H36)","v":0},{"$f":"COUNTIF(数独問題の正解を得る!$G$3:$G$11,I36)","v":0},{"$f":"COUNTIF(数独問題の正解を得る!$G$3:$G$11,J36)","v":0},{"$f":"COUNTIF(数独問題の正解を得る!$G$3:$G$11,K36)","v":0},{"$f":"COUNTIF(数独問題の正解を得る!$G$3:$G$11,L36)","v":0},null,null,null,null,null,"５行",5,0,0,0,0,99,0,1]
[null,null,"7列",{"$f":"COUNTIF(数独問題の正解を得る!$H$3:$H$11,D36)","v":0},{"$f":"COUNTIF(数独問題の正解を得る!$H$3:$H$11,E36)","v":0},{"$f":"COUNTIF(数独問題の正解を得る!$H$3:$H$11,F36)","v":0},{"$f":"COUNTIF(数独問題の正解を得る!$H$3:$H$11,G36)","v":0},{"$f":"COUNTIF(数独問題の正解を得る!$H$3:$H$11,H36)","v":0},{"$f":"COUNTIF(数独問題の正解を得る!$H$3:$H$11,I36)","v":0},{"$f":"COUNTIF(数独問題の正解を得る!$H$3:$H$11,J36)","v":0},{"$f":"COUNTIF(数独問題の正解を得る!$H$3:$H$11,K36)","v":0},{"$f":"COUNTIF(数独問題の正解を得る!$H$3:$H$11,L36)","v":0},null,null,null,null,null,"６行",4,0,0,0,0,0,99,1]
[null,null,"8列",{"$f":"COUNTIF(数独問題の正解を得る!$I$3:$I$11,D36)","v":0},{"$f":"COUNTIF(数独問題の正解を得る!$I$3:$I$11,E36)","v":0},{"$f":"COUNTIF(数独問題の正解を得る!$I$3:$I$11,F36)","v":0},{"$f":"COUNTIF(数独問題の正解を得る!$I$3:$I$11,G36)","v":0},{"$f":"COUNTIF(数独問題の正解を得る!$I$3:$I$11,H36)","v":0},{"$f":"COUNTIF(数独問題の正解を得る!$I$3:$I$11,I36)","v":0},{"$f":"COUNTIF(数独問題の正解を得る!$I$3:$I$11,J36)","v":0},{"$f":"COUNTIF(数独問題の正解を得る!$I$3:$I$11,K36)","v":0},{"$f":"COUNTIF(数独問題の正解を得る!$I$3:$I$11,L36)","v":0},null,null,null,null,null,"９９の数",null,{"$f":"COUNTIF(T38:T43,99)","v":1},1,2,1,2,2,{"$f":"SUM(T38,U39,V40,W41,X42,Y43)","v":594}]
[null,null,"９列",{"$f":"COUNTIF(数独問題の正解を得る!$J$3:$J$11,D36)","v":0},{"$f":"COUNTIF(数独問題の正解を得る!$J$3:$J$11,E36)","v":0},{"$f":"COUNTIF(数独問題の正解を得る!$J$3:$J$11,F36)","v":0},{"$f":"COUNTIF(数独問題の正解を得る!$J$3:$J$11,G36)","v":0},{"$f":"COUNTIF(数独問題の正解を得る!$J$3:$J$11,H36)","v":0},{"$f":"COUNTIF(数独問題の正解を得る!$J$3:$J$11,I36)","v":0},{"$f":"COUNTIF(数独問題の正解を得る!$J$3:$J$11,J36)","v":0},{"$f":"COUNTIF(数独問題の正解を得る!$J$3:$J$11,K36)","v":0},{"$f":"COUNTIF(数独問題の正解を得る!$J$3:$J$11,L36)","v":0}]
[]
[]
[null,null,"数字入力の重複をチエック（グループ）",null,null,null,null,null,null,null,null,null,null,null,null,null,null,"数独問題を解く",null,null,null,null,null,null,null,null,null,null,null,null,null,"数独問題を解く"]
[null,null,"グループ",1,2,3,4,5,6,7,8,9,null,null,null,null,null,"正解を保存する",null,null,null,null,null,null,null,null,null,null,null,null,null,"初期出題問題を保存する"]
[null,null,"Ａ",{"$f":"COUNTIF(数独問題の正解を得る!$B$3:$D$5,D49)","v":0},{"$f":"COUNTIF(数独問題の正解を得る!$B$3:$D$5,E49)","v":0},{"$f":"COUNTIF(数独問題の正解を得る!$B$3:$D$5,F49)","v":0},{"$f":"COUNTIF(数独問題の正解を得る!$B$3:$D$5,G49)","v":0},{"$f":"COUNTIF(数独問題の正解を得る!$B$3:$D$5,H49)","v":0},{"$f":"COUNTIF(数独問題の正解を得る!$B$3:$D$5,I49)","v":0},{"$f":"COUNTIF(数独問題の正解を得る!$B$3:$D$5,J49)","v":0},{"$f":"COUNTIF(数独問題の正解を得る!$B$3:$D$5,K49)","v":0},{"$f":"COUNTIF(数独問題の正解を得る!$B$3:$D$5,L49)","v":0},null,null,null,null,null,1,2,4,9,7,5,3,8,6,{"$f":"SUM(R50:Z50)","v":45},null,null,null,null,0,0,4,9,0,5,0,0,6]
[null,null,"Ｂ",{"$f":"COUNTIF(数独問題の正解を得る!$E$3:$G$5,D49)","v":0},{"$f":"COUNTIF(数独問題の正解を得る!$E$3:$G$5,E49)","v":0},{"$f":"COUNTIF(数独問題の正解を得る!$E$3:$G$5,F49)","v":0},{"$f":"COUNTIF(数独問題の正解を得る!$E$3:$G$5,G49)","v":0},{"$f":"COUNTIF(数独問題の正解を得る!$E$3:$G$5,H49)","v":0},{"$f":"COUNTIF(数独問題の正解を得る!$E$3:$G$5,I49)","v":0},{"$f":"COUNTIF(数独問題の正解を得る!$E$3:$G$5,J49)","v":0},{"$f":"COUNTIF(数独問題の正解を得る!$E$3:$G$5,K49)","v":0},{"$f":"COUNTIF(数独問題の正解を得る!$E$3:$G$5,L49)","v":0},null,null,null,null,null,7,8,6,4,1,3,2,5,9,{"$f":"SUM(R51:Z51)","v":45},null,null,null,null,7,8,0,0,1,0,0,5,0]
[null,null,"Ｃ",{"$f":"COUNTIF(数独問題の正解を得る!$H$3:$J$5,D49)","v":0},{"$f":"COUNTIF(数独問題の正解を得る!$H$3:$J$5,E49)","v":0},{"$f":"COUNTIF(数独問題の正解を得る!$H$3:$J$5,F49)","v":0},{"$f":"COUNTIF(数独問題の正解を得る!$H$3:$J$5,G49)","v":0},{"$f":"COUNTIF(数独問題の正解を得る!$H$3:$J$5,H49)","v":0},{"$f":"COUNTIF(数独問題の正解を得る!$H$3:$J$5,I49)","v":0},{"$f":"COUNTIF(数独問題の正解を得る!$H$3:$J$5,J49)","v":0},{"$f":"COUNTIF(数独問題の正解を得る!$H$3:$J$5,K49)","v":0},{"$f":"COUNTIF(数独問題の正解を得る!$H$3:$J$5,L49)","v":0},null,null,null,null,null,3,9,5,6,8,2,7,1,4,45,null,null,null,null,3,0,5,0,0,0,7,0,4]
[null,null,"Ｄ",{"$f":"COUNTIF(数独問題の正解を得る!$B$6:$D$8,D49)","v":0},{"$f":"COUNTIF(数独問題の正解を得る!$B$6:$D$8,E49)","v":0},{"$f":"COUNTIF(数独問題の正解を得る!$B$6:$D$8,F49)","v":0},{"$f":"COUNTIF(数独問題の正解を得る!$B$6:$D$8,G49)","v":0},{"$f":"COUNTIF(数独問題の正解を得る!$B$6:$D$8,H49)","v":0},{"$f":"COUNTIF(数独問題の正解を得る!$B$6:$D$8,I49)","v":0},{"$f":"COUNTIF(数独問題の正解を得る!$B$6:$D$8,J49)","v":0},{"$f":"COUNTIF(数独問題の正解を得る!$B$6:$D$8,K49)","v":0},{"$f":"COUNTIF(数独問題の正解を得る!$B$6:$D$8,L49)","v":0},null,null,null,null,null,2,4,9,3,6,1,8,7,5,45,null,null,null,null,0,0,9,3,0,0,0,0,5]
[null,null,"Ｅ",{"$f":"COUNTIF(数独問題の正解を得る!$E$6:$G$8,D49)","v":0},{"$f":"COUNTIF(数独問題の正解を得る!$E$6:$G$8,E49)","v":0},{"$f":"COUNTIF(数独問題の正解を得る!$E$6:$G$8,F49)","v":0},{"$f":"COUNTIF(数独問題の正解を得る!$E$6:$G$8,G49)","v":0},{"$f":"COUNTIF(数独問題の正解を得る!$E$6:$G$8,H49)","v":0},{"$f":"COUNTIF(数独問題の正解を得る!$E$6:$G$8,I49)","v":0},{"$f":"COUNTIF(数独問題の正解を得る!$E$6:$G$8,J49)","v":0},{"$f":"COUNTIF(数独問題の正解を得る!$E$6:$G$8,K49)","v":0},{"$f":"COUNTIF(数独問題の正解を得る!$E$6:$G$8,L49)","v":0},null,null,null,null,null,8,6,7,5,2,9,4,3,1,45,null,null,null,null,0,6,0,0,2,0,0,3,0]
[null,null,"Ｆ",{"$f":"COUNTIF(数独問題の正解を得る!$H$6:$J$8,D49)","v":0},{"$f":"COUNTIF(数独問題の正解を得る!$H$6:$J$8,E49)","v":0},{"$f":"COUNTIF(数独問題の正解を得る!$H$6:$J$8,F49)","v":0},{"$f":"COUNTIF(数独問題の正解を得る!$H$6:$J$8,G49)","v":0},{"$f":"COUNTIF(数独問題の正解を得る!$H$6:$J$8,H49)","v":0},{"$f":"COUNTIF(数独問題の正解を得る!$H$6:$J$8,I49)","v":0},{"$f":"COUNTIF(数独問題の正解を得る!$H$6:$J$8,J49)","v":0},{"$f":"COUNTIF(数独問題の正解を得る!$H$6:$J$8,K49)","v":0},{"$f":"COUNTIF(数独問題の正解を得る!$H$6:$J$8,L49)","v":0},null,null,null,null,null,5,3,1,8,4,7,6,9,2,45,null,null,null,null,5,0,1,8,0,7,6,0,2]
[null,null,"Ｇ",{"$f":"COUNTIF(数独問題の正解を得る!$B$9:$D$11,D49)","v":0},{"$f":"COUNTIF(数独問題の正解を得る!$B$9:$D$11,E49)","v":0},{"$f":"COUNTIF(数独問題の正解を得る!$B$9:$D$11,F49)","v":0},{"$f":"COUNTIF(数独問題の正解を得る!$B$9:$D$11,G49)","v":0},{"$f":"COUNTIF(数独問題の正解を得る!$B$9:$D$11,H49)","v":0},{"$f":"COUNTIF(数独問題の正解を得る!$B$9:$D$11,I49)","v":0},{"$f":"COUNTIF(数独問題の正解を得る!$B$9:$D$11,J49)","v":0},{"$f":"COUNTIF(数独問題の正解を得る!$B$9:$D$11,K49)","v":0},{"$f":"COUNTIF(数独問題の正解を得る!$B$9:$D$11,L49)","v":0},null,null,null,null,null,9,7,2,1,3,6,5,4,8,45,null,null,null,null,9,7,0,1,0,0,5,0,8]
[null,null,"Ｈ",{"$f":"COUNTIF(数独問題の正解を得る!$E$9:$G$11,D49)","v":0},{"$f":"COUNTIF(数独問題の正解を得る!$E$9:$G$11,E49)","v":0},{"$f":"COUNTIF(数独問題の正解を得る!$E$9:$G$11,F49)","v":0},{"$f":"COUNTIF(数独問題の正解を得る!$E$9:$G$11,G49)","v":0},{"$f":"COUNTIF(数独問題の正解を得る!$E$9:$G$11,H49)","v":0},{"$f":"COUNTIF(数独問題の正解を得る!$E$9:$G$11,I49)","v":0},{"$f":"COUNTIF(数独問題の正解を得る!$E$9:$G$11,J49)","v":0},{"$f":"COUNTIF(数独問題の正解を得る!$E$9:$G$11,K49)","v":0},{"$f":"COUNTIF(数独問題の正解を得る!$E$9:$G$11,L49)","v":0},null,null,null,null,null,6,5,8,7,9,4,1,2,3,45,null,null,null,null,0,5,0,0,9,0,0,2,0]
[null,null,"Ｉ",{"$f":"COUNTIF(数独問題の正解を得る!$H$9:$J$11,D49)","v":0},{"$f":"COUNTIF(数独問題の正解を得る!$H$9:$J$11,E49)","v":0},{"$f":"COUNTIF(数独問題の正解を得る!$H$9:$J$11,F49)","v":0},{"$f":"COUNTIF(数独問題の正解を得る!$H$9:$J$11,G49)","v":0},{"$f":"COUNTIF(数独問題の正解を得る!$H$9:$J$11,H49)","v":0},{"$f":"COUNTIF(数独問題の正解を得る!$H$9:$J$11,I49)","v":0},{"$f":"COUNTIF(数独問題の正解を得る!$H$9:$J$11,J49)","v":0},{"$f":"COUNTIF(数独問題の正解を得る!$H$9:$J$11,K49)","v":0},{"$f":"COUNTIF(数独問題の正解を得る!$H$9:$J$11,L49)","v":0},null,null,null,null,null,4,1,3,2,5,8,9,6,7,45,null,null,null,null,4,0,3,2,0,8,0,0,7]
[null,null,null,null,null,null,null,null,null,null,null,null,null,null,null,null,null,{"$f":"SUM(R50:R58)","v":45},{"$f":"SUM(S50:S58)","v":45},45,45,45,45,45,45,45,{"$f":"SUM(Z60,AB59)","v":18},{"$f":"COUNTIF(AA50:AA58,45)","v":9}]
[null,null,null,null,null,null,null,null,null,null,null,null,null,null,null,null,null,null,null,null,null,null,null,null,null,{"$f":"COUNTIF(R59:Z59,45)","v":9}]
[]
[]
[null,"グループ別　列.単位の集計　（数独超難問処理用）"]
[null,"数","列",1,1,1,1,1,1,1,1,1,2,2,2,2,2,2,2,2,2,3,3,3,3,3,3,3,3,3,4,4,4,4,4,4,4,4,4,5,5,5,5,5,5,5,5,5,6,6,6,6,6,6,6,6,6,7,7,7,7,7,7,7,7,7,8,8,8,8,8,8,8,8,8,9,9,9,9,9,9,9,9,9]
[null,null,"番号",1,2,3,4,5,6,7,8,9,1,2,3,4,5,6,7,8,9,1,2,3,4,5,6,7,8,9,1,2,3,4,5,6,7,8,9,1,2,3,4,5,6,7,8,9,1,2,3,4,5,6,7,8,9,1,2,3,4,5,6,7,8,9,1,2,3,4,5,6,7,8,9,1,2,3,4,5,6,7,8,9]
[null,"グループ","Ａ，Ｂ，Ｃ",{"$f":"COUNTIF($D$4:$L$6,D65)","v":0},{"$f":"COUNTIF($D$4:$L$6,E65)","v":0},0,0,0,0,{"$f":"COUNTIF($D$4:$L$6,J65)","v":0},0,0,{"$f":"COUNTIF($M$4:$U$6,M65)","v":0},{"$f":"COUNTIF($M$4:$U$6,N65)","v":0},0,0,0,0,0,0,0,{"$f":"COUNTIF($V$4:$AD$6,V65)","v":0},{"$f":"COUNTIF($V$4:$AD$6,W65)","v":0},0,0,0,0,0,0,0,{"$f":"COUNTIF($AE$4:$AM$6,AE65)","v":0},{"$f":"COUNTIF($AE$4:$AM$6,AF65)","v":0},0,0,0,0,0,0,0,{"$f":"COUNTIF($AN$4:$AV$6,AN65)","v":0},{"$f":"COUNTIF($AN$4:$AV$6,AO65)","v":0},0,0,0,0,0,0,0,{"$f":"COUNTIF($AW$4:$BE$6,AW65)","v":0},{"$f":"COUNTIF($AW$4:$BE$6,AX65)","v":0},0,0,0,0,0,0,0,{"$f":"COUNTIF($BF$4:$BN$6,BF65)","v":0},{"$f":"COUNTIF($BF$4:$BN$6,BG65)","v":0},0,0,0,0,0,0,0,{"$f":"COUNTIF($BO$4:$BW$6,BO65)","v":0},{"$f":"COUNTIF($BO$4:$BW$6,BP65)","v":0},0,0,0,0,0,0,{"$f":"COUNTIF($BO$4:$BW$6,BW65)","v":0},{"$f":"COUNTIF($BX$4:$CF$6,BX65)","v":0},{"$f":"COUNTIF($BX$4:$CF$6,BY65)","v":0},0,0,0,0,0,0,0]
[null,null,"D，E，F",{"$f":"COUNTIF($D$7:$L$9,D65)","v":0},{"$f":"COUNTIF($D$7:$L$9,E65)","v":0},0,0,0,0,0,0,0,{"$f":"COUNTIF($M$7:$U$9,M65)","v":0},{"$f":"COUNTIF($M$7:$U$9,N65)","v":0},0,0,0,0,0,0,0,{"$f":"COUNTIF($V$7:$AD$9,V65)","v":0},{"$f":"COUNTIF($V$7:$AD$9,W65)","v":0},0,0,0,0,0,0,0,{"$f":"COUNTIF($AE$7:$AM$9,AE65)","v":0},{"$f":"COUNTIF($AE$7:$AM$9,AF65)","v":0},0,0,0,0,0,0,0,{"$f":"COUNTIF($AN$7:$AV$9,AN65)","v":0},{"$f":"COUNTIF($AN$7:$AV$9,AO65)","v":0},0,0,0,0,0,0,0,{"$f":"COUNTIF($AW$7:$BE$9,AW65)","v":0},{"$f":"COUNTIF($AW$7:$BE$9,AX65)","v":0},0,0,0,0,0,0,0,{"$f":"COUNTIF($BF$7:$BN$9,BF65)","v":0},{"$f":"COUNTIF($BF$7:$BN$9,BG65)","v":0},0,0,0,0,0,0,0,{"$f":"COUNTIF($BO$7:$BW$9,BO65)","v":0},{"$f":"COUNTIF($BO$7:$BW$9,BP65)","v":0},0,0,0,0,0,0,0,{"$f":"COUNTIF($BX$7:$CF$9,BX65)","v":0},{"$f":"COUNTIF($BX$7:$CF$9,BY65)","v":0},0,0,0,0,0,0,0]
[null,null,"G，H，I",{"$f":"COUNTIF($D$10:$L$12,D65)","v":0},{"$f":"COUNTIF($D$10:$L$12,E65)","v":0},0,0,0,0,{"$f":"COUNTIF($D$10:$L$12,J65)","v":0},0,0,{"$f":"COUNTIF($M$10:$U$12,M65)","v":0},{"$f":"COUNTIF($M$10:$U$12,N65)","v":0},0,0,0,0,0,0,0,{"$f":"COUNTIF($V$10:$AD$12,V65)","v":0},{"$f":"COUNTIF($V$10:$AD$12,W65)","v":0},0,0,0,0,0,0,0,{"$f":"COUNTIF($AE$10:$AM$12,AE65)","v":0},{"$f":"COUNTIF($AE$10:$AM$12,AF65)","v":0},0,0,0,0,0,0,0,{"$f":"COUNTIF($AN$10:$AV$12,AN65)","v":0},{"$f":"COUNTIF($AN$10:$AV$12,AO65)","v":0},0,0,0,0,0,0,0,{"$f":"COUNTIF($AW$10:$BE$12,AW65)","v":0},{"$f":"COUNTIF($AW$10:$BE$12,AX65)","v":0},0,0,0,0,0,0,0,{"$f":"COUNTIF($BF$10:$BN$12,BF65)","v":0},{"$f":"COUNTIF($BF$10:$BN$12,BG65)","v":0},0,0,0,0,0,0,0,{"$f":"COUNTIF($BO$10:$BW$12,BO65)","v":0},{"$f":"COUNTIF($BO$10:$BW$12,BP65)","v":0},0,0,0,0,0,0,0,{"$f":"COUNTIF($BX$10:$CF$12,BX65)","v":0},{"$f":"COUNTIF($BX$10:$CF$12,BY65)","v":0},0,0,0,0,0,0,0]
[]
[]
[]
[null,"グループ別　行.単位の集計　（数独超難問処理用）"]
[null,"数","グループ","Ａ，Ｄ，Ｇ",null,null,null,null,null,null,null,null,"Ｂ，Ｅ，Ｈ",null,null,null,null,null,null,null,null,"Ｃ，Ｆ，Ｉ"]
[null,null,"番号",1,2,3,4,5,6,7,8,9,1,2,3,4,5,6,7,8,9,1,2,3,4,5,6,7,8,9]
[null,"行","１行",{"$f":"COUNTIF($D$4:$AD$4,D74)","v":0},{"$f":"COUNTIF($D$4:$AD$4,E74)","v":0},0,0,0,0,0,0,0,{"$f":"COUNTIF($AE$4:$BE$4,M74)","v":0},{"$f":"COUNTIF($AE$4:$BE$4,N74)","v":0},0,0,0,0,0,0,0,{"$f":"COUNTIF($BF$4:$CF$4,V74)","v":0},{"$f":"COUNTIF($BF$4:$CF$4,W74)","v":0},0,0,0,0,0,0,0]
[null,null,"２行",{"$f":"COUNTIF($D$5:$AD$5,D74)","v":0},{"$f":"COUNTIF($D$5:$AD$5,E74)","v":0},0,0,0,0,0,0,0,{"$f":"COUNTIF($AE$5:$BE$5,M74)","v":0},{"$f":"COUNTIF($AE$5:$BE$5,N74)","v":0},0,0,0,0,0,0,0,{"$f":"COUNTIF($BF$5:$CF$5,V74)","v":0},{"$f":"COUNTIF($BF$5:$CF$5,W74)","v":0},0,0,0,0,0,0,0]
[null,null,"３行",{"$f":"COUNTIF($D$6:$AD$6,D74)","v":0},{"$f":"COUNTIF($D$6:$AD$6,E74)","v":0},0,0,0,0,0,0,0,{"$f":"COUNTIF($AE$6:$BE$6,M74)","v":0},{"$f":"COUNTIF($AE$6:$BE$6,N74)","v":0},0,0,0,0,0,0,0,{"$f":"COUNTIF($BF$6:$CF$6,V74)","v":0},{"$f":"COUNTIF($BF$6:$CF$6,W74)","v":0},0,0,0,0,0,0,0]
[null,null,"４行",{"$f":"COUNTIF($D$7:$AD$7,D74)","v":0},{"$f":"COUNTIF($D$7:$AD$7,E74)","v":0},0,0,0,0,0,0,0,{"$f":"COUNTIF($AE$7:$BE$7,M74)","v":0},{"$f":"COUNTIF($AE$7:$BE$7,N74)","v":0},0,0,0,0,0,0,0,{"$f":"COUNTIF($BF$7:$CF$7,V74)","v":0},{"$f":"COUNTIF($BF$7:$CF$7,W74)","v":0},0,0,0,0,0,0,0]
[null,null,"５行",{"$f":"COUNTIF($D$8:$AD$8,D74)","v":0},{"$f":"COUNTIF($D$8:$AD$8,E74)","v":0},0,0,0,0,0,0,0,{"$f":"COUNTIF($AE$8:$BE$8,M74)","v":0},{"$f":"COUNTIF($AE$8:$BE$8,N74)","v":0},0,0,0,0,0,0,0,{"$f":"COUNTIF($BF$8:$CF$8,V74)","v":0},{"$f":"COUNTIF($BF$8:$CF$8,W74)","v":0},{"$f":"COUNTIF($BF$8:$CF$8,X74)","v":0},0,0,0,0,0,0]
[null,null,"６行",{"$f":"COUNTIF($D$9:$AD$9,D74)","v":0},{"$f":"COUNTIF($D$9:$AD$9,E74)","v":0},0,0,0,0,0,0,0,{"$f":"COUNTIF($AE$9:$BE$9,M74)","v":0},{"$f":"COUNTIF($AE$9:$BE$9,N74)","v":0},0,0,0,0,0,0,0,{"$f":"COUNTIF($BF$9:$CF$9,V74)","v":0},{"$f":"COUNTIF($BF$9:$CF$9,W74)","v":0},0,0,0,0,0,0,0]
[null,null,"７行",{"$f":"COUNTIF($D$10:$AD$10,D74)","v":0},{"$f":"COUNTIF($D$10:$AD$10,E74)","v":0},0,0,0,0,0,0,0,{"$f":"COUNTIF($AE$10:$BE$10,M74)","v":0},{"$f":"COUNTIF($AE$10:$BE$10,N74)","v":0},{"$f":"COUNTIF($AE$10:$BE$10,O74)","v":0},0,0,0,0,0,0,{"$f":"COUNTIF($BF$10:$CF$10,V74)","v":0},{"$f":"COUNTIF($BF$10:$CF$10,W74)","v":0},0,0,0,0,0,0,0]
[null,null,"８行",{"$f":"COUNTIF($D$11:$AD$11,D74)","v":0},{"$f":"COUNTIF($D$11:$AD$11,E74)","v":0},0,0,0,0,0,0,0,{"$f":"COUNTIF($AE$11:$BE$11,M74)","v":0},{"$f":"COUNTIF($AE$11:$BE$11,N74)","v":0},0,0,0,0,0,0,0,{"$f":"COUNTIF($BF$11:$CF$11,V74)","v":0},{"$f":"COUNTIF($BF$11:$CF$11,W74)","v":0},0,0,0,0,0,0,0]
[null,null,"９行",{"$f":"COUNTIF($D$12:$AD$12,D74)","v":0},{"$f":"COUNTIF($D$12:$AD$12,E74)","v":0},0,0,0,0,0,0,0,{"$f":"COUNTIF($AE$12:$BE$12,M74)","v":0},{"$f":"COUNTIF($AE$12:$BE$12,N74)","v":0},0,0,0,0,0,0,0,{"$f":"COUNTIF($BF$12:$CF$12,V74)","v":0},{"$f":"COUNTIF($BF$12:$CF$12,W74)","v":0},0,0,0,0,0,0,0]
[]
[]
[null,null,"数独超難問の判定（列）",null,null,null,null,null,null,null,null,null,null,null,null,null,null,null,null,null,null,null,null,null,null,null,null,null,null,null,null,null,null,null,null,null,null,null,null,null,null,null,null,null,null,null,null,null,null,null,null,null,null,null,null,null,null,null,null,null,null,null,null,null,null,null,null,null,null,null,null,null,null,null,null,null,null,null,null,null,null,null,null,null,"合計"]
[null,null,null,1,1,1,1,1,1,1,1,1,2,2,2,2,2,2,2,2,2,3,3,3,3,3,3,3,3,3,4,4,4,4,4,4,4,4,4,5,5,5,5,5,5,5,5,5,6,6,6,6,6,6,6,6,6,7,7,7,7,7,7,7,7,7,8,8,8,8,8,8,8,8,8,9,9,9,9,9,9,9,9,9]
[null,null,"番号",1,2,3,4,5,6,7,8,9,1,2,3,4,5,6,7,8,9,1,2,3,4,5,6,7,8,9,1,2,3,4,5,6,7,8,9,1,2,3,4,5,6,7,8,9,1,2,3,4,5,6,7,8,9,1,2,3,4,5,6,7,8,9,1,2,3,4,5,6,7,8,9,1,2,3,4,5,6,7,8,9]
[null,"グループ","Ａ，Ｂ，Ｃ",{"$f":"IF(D17=2,IF(D66=2,2,),0)","v":0},0,0,0,{"$f":"IF(H17=2,IF(H66=2,2,),0)","v":0},0,0,0,0,{"$f":"IF(D17=2,IF(M66=2,2,),0)","v":0},0,0,0,0,0,{"$f":"IF(J17=2,IF(S66=2,2,),0)","v":0},0,0,{"$f":"IF(D17=2,IF(V66=2,2,),0)","v":0},0,0,0,0,0,0,0,0,0,{"$f":"IF(N17=2,IF(AF66=2,2,),0)","v":0},0,0,0,0,0,0,0,{"$f":"IF(M17=2,IF(AN66=2,2,),0)","v":0},0,0,0,0,0,0,0,0,{"$f":"IF(M17=2,IF(AW66=2,2,),0)","v":0},0,0,0,0,0,0,0,0,0,{"$f":"IF(W17=2,IF(BG66=2,2,),0)","v":0},0,0,0,0,0,0,0,{"$f":"IF(V17=2,IF(BO66=2,2,),0)","v":0},0,0,0,0,0,0,0,0,{"$f":"IF(V17=2,IF(BX66=2,2,),0)","v":0},0,0,0,0,0,0,0,0,{"$f":"SUM(D89:CF89)","v":0}]
[null,null,"D，E，F",{"$f":"IF(D18=2,IF(D67=2,2,),0)","v":0},0,0,0,0,0,0,0,0,0,0,0,0,0,0,0,0,0,0,0,0,0,0,0,0,0,0,0,0,0,0,0,0,0,0,0,0,0,0,0,0,0,0,0,0,0,0,0,0,0,0,0,0,0,0,0,0,0,0,0,0,0,0,0,0,0,0,0,0,0,0,0,0,0,0,0,0,0,0,0,0,{"$f":"SUM(D90:CF90)","v":0}]
[null,null,"G，H，I",{"$f":"IF(D19=2,IF(D68=2,2,),0)","v":0},0,0,0,{"$f":"IF(H19=2,IF(H68=2,2,),0)","v":0},0,0,0,{"$f":"IF(L19=2,IF(L68=2,2,),0)","v":0},{"$f":"IF(D19=2,IF(M68=2,2,),0)","v":0},0,0,0,{"$f":"IF(H19=2,IF(Q68=2,2,),0)","v":0},0,0,0,0,0,0,0,0,0,0,0,0,0,0,0,0,0,0,0,0,0,0,0,0,0,0,0,0,0,0,0,0,0,0,0,0,0,0,0,0,0,0,0,0,0,0,0,0,0,0,0,0,0,0,0,0,0,0,0,0,0,0,0,0,0,0,0,{"$f":"SUM(D91:CF91)","v":0}]
[null,null,null,null,null,null,null,null,null,null,null,null,null,null,null,null,null,null,null,null,null,null,null,null,null,null,null,null,null,null,null,null,null,null,null,null,null,null,null,null,null,null,null,null,null,null,null,null,null,null,null,null,null,null,null,null,null,null,null,null,null,null,null,null,null,null,null,null,null,null,null,null,null,null,null,null,null,null,null,null,null,null,null,null,{"$f":"SUM(CG89:CG91)","v":0}]
[]
[null,null,"数独超難問の判定（行）",null,null,null,null,null,null,null,null,null,null,null,null,null,null,null,null,null,null,null,null,null,null,null,null,null,null,null,"合計"]
[null,null,"グループ","Ａ，Ｄ，Ｇ",null,null,null,null,null,null,null,null,"Ｂ，Ｅ，Ｈ",null,null,null,null,null,null,null,null,"Ｃ，Ｆ，Ｉ"]
[null,null,"番号",1,2,3,4,5,6,7,8,9,1,2,3,4,5,6,7,8,9,1,2,3,4,5,6,7,8,9]
[null,"行","１行",{"$f":"IF(D17=2,IF(D75=2,2,),0)","v":0},0,0,0,0,0,0,0,0,0,0,0,0,0,0,0,0,0,0,0,0,0,0,0,0,0,0,{"$f":"SUM(D97:AD97)","v":0}]
[null,null,"２行",{"$f":"IF(D17=2,IF(D76=2,2,),0)","v":0},0,0,0,0,0,0,0,0,0,0,0,0,0,0,0,0,0,0,0,0,0,0,0,0,0,0,{"$f":"SUM(D98:AD98)","v":0}]
[null,null,"３行",{"$f":"IF(D17=2,IF(D77=2,2,),0)","v":0},0,0,0,0,0,0,0,0,0,0,0,0,0,0,0,0,0,0,0,0,0,0,0,0,0,0,0]
[null,null,"４行",{"$f":"IF(D18=2,IF(D78=2,2,),0)","v":0},0,0,0,0,0,0,0,0,0,0,0,0,0,0,0,0,0,0,0,0,0,0,0,0,0,0,0]
[null,null,"５行",{"$f":"IF(D18=2,IF(D79=2,2,),0)","v":0},0,0,0,0,0,0,0,0,0,0,0,0,0,0,0,0,0,0,0,0,0,0,0,0,0,0,0]
[null,null,"６行",{"$f":"IF(D18=2,IF(D80=2,2,),0)","v":0},0,0,0,0,0,0,0,0,0,0,0,0,0,0,0,0,0,0,0,0,0,0,0,0,0,0,0]
[null,null,"７行",{"$f":"IF(D19=2,IF(D81=2,2,),0)","v":0},0,0,0,0,0,0,0,0,0,0,0,0,0,0,0,0,0,0,0,0,0,0,0,0,0,0,0]
[null,null,"８行",{"$f":"IF(D19=2,IF(D82=2,2,),0)","v":0},0,0,0,0,0,0,0,0,0,0,0,0,0,0,0,0,0,0,0,0,0,0,0,0,0,0,0]
[null,null,"９行",{"$f":"IF(D19=2,IF(D83=2,2,),0)","v":0},0,0,0,0,0,0,0,0,0,0,0,0,0,0,0,0,0,0,0,0,0,0,0,0,0,0,0,null,null,null,null,null,null,null,null,null,null,null,null,null,null,null,null,null,null,null,null,null,null,null,null,null,null,null,null,null,null,null,null,null,null,null,null,null,null,null,"行にある２の合計"]
[null,null,null,null,null,null,null,null,null,null,null,null,null,null,null,null,null,null,null,null,null,null,null,null,null,null,null,null,null,null,{"$f":"SUM(AE97:AE105)","v":0}]
[null,null,"難問２対応、各セルの選択できる数字の個数",null,null,null,null,null,null,null,null,null,"グループ",null,null,"難問５対応",null,null,"難問５の列番号を格納",null,null,"数独超難問問題３",null,null,null,null,null,null,null,null,null,null,null,"１つ目",null,null,"２つ目",null,null,null,null,null,null,null,null,"難問16対応、各セルの選択できる数字の個数",null,null,null,null,null,null,null,null,null,null,null,null,null,null,"難問15対応、各セルの選択できる数字の個数",null,null,null,null,null,null,null,null,null,null,null,null,null,null,null,"難問18対応、各セルの選択できる数字の個数"]
[null,null,null,"列番号",null,null,null,null,null,null,null,null,"ＡＤＧ","ＢＥＨ","ＣＦＩ",null,null,null,null,null,null,null,null,"列番号",null,null,null,null,null,null,null,null,null,"左側列","右側列","該当数字","左側列","右側列","該当数字",null,null,null,null,null,null,null,"列番号",null,null,null,null,null,null,null,null,null,null,null,null,null,null,"列番号",null,null,null,null,null,null,null,null,null,null,null,null,null,null,null,"列番号"]
[null,null,null,1,2,3,4,5,6,7,8,9,null,null,null,null,null,null,null,null,null,null,null,1,2,3,4,5,6,7,8,9,null,null,null,null,null,null,null,null,null,null,null,null,null,null,1,2,3,4,5,6,7,8,9,null,null,null,null,null,null,1,2,3,4,5,6,7,8,9,null,null,null,null,null,null,null,1,2,3,4,5,6,7,8,9]
[null,null,"１行",{"$f":"COUNT($D4:$L4)-COUNTIF($D4:$L4,0)","v":0},{"$f":"COUNT($M4:$U4)-COUNTIF($M4:$U4,0)","v":0},{"$f":"COUNT($V4:$AD4)-COUNTIF($V4:$AD4,0)","v":0},{"$f":"COUNT($AE4:$AM4)-COUNTIF($AE4:$AM4,0)","v":0},{"$f":"COUNT($AN4:$AV4)-COUNTIF($AN4:$AV4,0)","v":0},{"$f":"COUNT($AW4:$BE4)-COUNTIF($AW4:$BE4,0)","v":0},{"$f":"COUNT($BF4:$BN4)-COUNTIF($BF4:$BN4,0)","v":0},{"$f":"COUNT($BO4:$BW4)-COUNTIF($BO4:$BW4,0)","v":0},{"$f":"COUNT($BX4:$CF4)-COUNTIF($BX4:$CF4,0)","v":0},{"$f":"COUNTIF(D110:F110,2)","v":0},{"$f":"COUNTIF(G110:I110,2)","v":0},{"$f":"COUNTIF(J110:L110,2)","v":0},0,0,0,0,0,null,"１行",null,null,7,null,null,null,7,null,null,null,0,null,null,null,null,null,null,0,null,null,null,null,null,"１行",{"$f":"COUNT($D4:$L4)-COUNTIF($D4:$L4,0)","v":0},{"$f":"COUNT($M4:$U4)-COUNTIF($M4:$U4,0)","v":0},{"$f":"COUNT($V4:$AD4)-COUNTIF($V4:$AD4,0)","v":0},{"$f":"COUNT($AE4:$AM4)-COUNTIF($AE4:$AM4,0)","v":0},{"$f":"COUNT($AN4:$AV4)-COUNTIF($AN4:$AV4,0)","v":0},{"$f":"COUNT($AW4:$BE4)-COUNTIF($AW4:$BE4,0)","v":0},{"$f":"COUNT($BF4:$BN4)-COUNTIF($BF4:$BN4,0)","v":0},{"$f":"COUNT($BO4:$BW4)-COUNTIF($BO4:$BW4,0)","v":0},{"$f":"COUNT($BX4:$CF4)-COUNTIF($BX4:$CF4,0)","v":0},null,null,null,null,null,"１行",{"$f":"COUNT($D4:$L4)-COUNTIF($D4:$L4,0)","v":0},{"$f":"COUNT($M4:$U4)-COUNTIF($M4:$U4,0)","v":0},{"$f":"COUNT($V4:$AD4)-COUNTIF($V4:$AD4,0)","v":0},{"$f":"COUNT($AE4:$AM4)-COUNTIF($AE4:$AM4,0)","v":0},{"$f":"COUNT($AN4:$AV4)-COUNTIF($AN4:$AV4,0)","v":0},{"$f":"COUNT($AW4:$BE4)-COUNTIF($AW4:$BE4,0)","v":0},{"$f":"COUNT($BF4:$BN4)-COUNTIF($BF4:$BN4,0)","v":0},{"$f":"COUNT($BO4:$BW4)-COUNTIF($BO4:$BW4,0)","v":0},{"$f":"COUNT($BX4:$CF4)-COUNTIF($BX4:$CF4,0)","v":0},{"$f":"COUNTIF(BJ110:BR110,2)","v":0},null,null,null,null,null,"１行",{"$f":"IF(COUNT($D4:$L4)-COUNTIF($D4:$L4,0)=2,2,0)","v":0},{"$f":"IF(COUNT($M4:$U4)-COUNTIF($M4:$U4,0)=2,2,0)","v":0},{"$f":"IF(COUNT($V4:$AD4)-COUNTIF($V4:$AD4,0)=2,2,0)","v":0},{"$f":"IF(COUNT($AE4:$AM4)-COUNTIF($AE4:$AM4,0)=2,2,0)","v":0},{"$f":"IF(COUNT($AN4:$AV4)-COUNTIF($AN4:$AV4,0)=2,2,0)","v":0},{"$f":"IF(COUNT($AW4:$BE4)-COUNTIF($AW4:$BE4,0)=2,2,0)","v":0},{"$f":"IF(COUNT($BF4:$BN4)-COUNTIF($BF4:$BN4,0)=2,2,0)","v":0},{"$f":"IF(COUNT($BO4:$BW4)-COUNTIF($BO4:$BW4,0)=2,2,0)","v":0},{"$f":"IF(COUNT($BX4:$CF4)-COUNTIF($BX4:$CF4,0)=2,2,0)","v":0},{"$f":"COUNTIF(BZ110:CH110,2)","v":0}]
[null,null,"２行",{"$f":"COUNT($D5:$L5)-COUNTIF($D5:$L5,0)","v":0},{"$f":"COUNT($M5:$U5)-COUNTIF($M5:$U5,0)","v":0},{"$f":"COUNT($V5:$AD5)-COUNTIF($V5:$AD5,0)","v":0},{"$f":"COUNT($AE5:$AM5)-COUNTIF($AE5:$AM5,0)","v":0},{"$f":"COUNT($AN5:$AV5)-COUNTIF($AN5:$AV5,0)","v":0},{"$f":"COUNT($AW5:$BE5)-COUNTIF($AW5:$BE5,0)","v":0},{"$f":"COUNT($BF5:$BN5)-COUNTIF($BF5:$BN5,0)","v":0},{"$f":"COUNT($BO5:$BW5)-COUNTIF($BO5:$BW5,0)","v":0},{"$f":"COUNT($BX5:$CF5)-COUNTIF($BX5:$CF5,0)","v":0},{"$f":"COUNTIF(D111:F111,2)","v":0},{"$f":"COUNTIF(G111:I111,2)","v":0},{"$f":"COUNTIF(J111:L111,2)","v":0},0,0,0,0,0,null,"２行",null,5,7,null,null,null,7,null,5,null,0,null,null,null,null,null,null,0,null,null,null,null,null,"２行",0,0,0,0,0,0,0,0,0,null,null,null,null,null,"２行",0,0,0,0,0,0,0,0,0,{"$f":"COUNTIF(BJ111:BR111,2)","v":0},null,null,null,null,null,"２行",0,0,0,0,0,0,0,0,0,{"$f":"COUNTIF(BZ111:CH111,2)","v":0}]
[null,null,"３行",0,0,0,0,0,0,0,0,0,0,0,0,0,0,0,0,0,null,"３行",null,5,null,null,null,null,null,null,5,null,0,null,null,null,null,null,null,0,null,null,null,null,null,"３行",0,0,0,0,0,0,0,0,0,null,null,null,null,null,"３行",0,0,0,0,0,0,0,0,0,0,null,null,null,null,null,"３行",0,0,0,0,0,0,0,0,0,0]
[null,null,"４行",0,0,0,0,0,0,0,0,0,0,0,0,0,0,0,0,0,null,"４行",null,null,null,null,null,null,null,null,null,null,0,null,null,null,null,null,null,0,null,null,null,null,null,"４行",0,0,0,0,0,0,0,0,0,null,null,null,null,null,"４行",0,0,0,0,0,0,0,0,0,0,null,null,null,null,null,"４行",0,0,0,0,0,0,0,0,0,0]
[null,null,"５行",0,0,0,0,0,0,0,0,0,0,0,0,0,0,0,0,0,null,"５行",null,null,null,null,null,null,null,null,null,null,0,null,null,null,null,null,null,0,null,null,null,null,null,"５行",0,0,0,0,0,0,0,0,0,null,null,null,null,null,"５行",0,0,0,0,0,0,0,0,0,0,null,null,null,null,null,"５行",0,0,0,0,0,0,0,0,0,0]
[null,null,"６行",0,0,0,0,0,0,0,0,0,0,0,0,0,0,0,0,0,null,"６行",null,null,null,null,null,null,null,null,null,null,0,null,null,null,null,null,null,0,null,null,null,null,null,"６行",0,0,0,0,0,0,0,0,0,null,null,null,null,null,"６行",0,0,0,0,0,0,0,0,0,0,null,null,null,null,null,"６行",0,0,0,0,0,0,0,0,0,0]
[null,null,"７行",0,0,0,0,0,0,0,0,0,0,0,0,0,0,0,0,0,null,"７行",null,null,null,null,null,null,null,null,null,null,0,null,null,null,null,null,null,0,null,null,null,null,null,"７行",0,0,0,0,0,0,0,0,0,null,null,null,null,null,"７行",0,0,0,0,0,0,0,0,0,0,null,null,null,null,null,"７行",0,0,0,0,0,0,0,0,0,0]
[null,null,"８行",0,0,0,0,0,0,0,0,0,0,0,0,0,0,0,0,0,null,"８行",null,null,null,null,null,null,null,null,null,null,0,null,null,null,null,null,null,0,null,null,null,null,null,"８行",0,0,0,0,0,0,0,0,0,null,null,null,null,null,"８行",0,0,0,0,0,0,0,0,0,0,null,null,null,null,null,"８行",0,0,0,0,0,0,0,0,0,0]
[null,null,"９行",0,0,0,0,0,0,0,0,0,0,0,0,0,0,0,0,0,null,"９行",null,null,null,null,null,null,null,null,null,null,0,null,null,null,null,null,null,0,null,null,null,null,null,"９行",0,0,0,0,0,0,0,0,0,null,null,null,null,null,"９行",0,0,0,0,0,0,0,0,0,0,null,null,null,null,null,"９行",0,0,0,0,0,0,0,0,0,0]
[null,"グループ","Ａ，Ｂ，Ｃ",{"$f":"COUNTIF(D110:D112,2)","v":0},{"$f":"COUNTIF(E110:E112,2)","v":0},0,0,0,0,0,0,0,null,null,null,{"$f":"COUNTIF(M110:O118,2)","v":0},null,null,null,null,null,null,null,2,2,0,0,0,2,0,2,0,null,null,null,null,{"$f":"COUNTIF(AG110:AG118,2)","v":0},null,null,null,null,null,null,null,null,null,null,null,null,null,null,null,null,null,null,null,null,"列にある２の合計",null,null,null,{"$f":"COUNTIF(BJ110:BJ118,2)","v":0},{"$f":"COUNTIF(BK110:BK118,2)","v":0},0,0,0,0,0,0,0,null,null,null,null,null,null,null,{"$f":"COUNTIF(BZ110:BZ118,2)","v":0},{"$f":"COUNTIF(CA110:CA118,2)","v":0},0,0,0,0,0,0,0,{"$f":"COUNTIF(BZ110:CH118,2)","v":0}]
[null,null,"D，E，F",{"$f":"COUNTIF(D113:D115,2)","v":0},{"$f":"COUNTIF(E113:E115,2)","v":0},0,0,0,0,0,0,0,null,null,null,null,null,null,null,null,"１つ目","上段行",null,2,0,0,0,0,0,0,2,0,null,{"$f":"SUM(X119:AF119)+SUM(AG110:AG118)","v":8},null,null,null,null,null,null,null,null,null,null,null,null,null,null,null,null,null,null,null,null,null,null,null,"グループ毎の２の合計",null,null,null,null,{"$f":"COUNTIF(BJ110:BL112,2)","v":0},null,null,{"$f":"COUNTIF(BM110:BO112,2)","v":0},null,null,{"$f":"COUNTIF(BP110:BR112,2)","v":0}]
[null,null,"G，H，I",{"$f":"COUNTIF(D116:D118,2)","v":0},{"$f":"COUNTIF(E116:E118,2)","v":0},0,0,0,0,0,0,0,null,null,null,null,null,null,null,null,null,"下段行",null,3,0,0,0,0,0,0,3,0,null,null,null,null,null,null,null,null,null,null,null,null,null,null,null,null,null,null,null,null,null,null,null,null,null,null,null,null,null,null,{"$f":"COUNTIF(BJ113:BL115,2)","v":0},null,null,{"$f":"COUNTIF(BM113:BO115,2)","v":0},null,null,{"$f":"COUNTIF(BP113:BR115,2)","v":0}]
[null,"難問５対応",null,0,0,0,0,0,0,0,0,0,{"$f":"COUNTIF(D119:L121,2)","v":0},null,null,{"$f":"SUM(P119+M122)","v":0},null,null,null,null,null,"該当数字",null,5,0,0,0,0,0,0,5,0,null,null,null,null,null,null,null,null,null,null,null,null,"難問５対応",null,"行番号を格納",null,null,null,null,null,null,null,null,null,null,null,null,null,null,null,{"$f":"COUNTIF(BJ116:BL118,2)","v":0},null,null,{"$f":"COUNTIF(BM116:BO118,2)","v":0},null,null,{"$f":"COUNTIF(BP116:BR118,2)","v":0},null,null,{"$f":"IF(OR(BK120>=3,BK121>=3,BK122>=3,BN120>=3,BN121>=3,BN122>=3,BQ120>=3,BQ121>=3,BQ122>=3),3,0)","v":0}]
[null,null,null,0,0,0,0,0,0,0,0,0,null,null,null,null,null,null,null,null,"２つ目","上段行",null,0,1,0,0,0,1,0,0,0,{"$f":"COUNTIF(X119:AF119,2)","v":4},null,null,null,null,null,null,null,null,null,null,null,null,null,0,0,0,0,0,0,0,0,0]
[null,null,null,0,0,0,0,0,0,0,0,0,null,null,null,null,null,{"$f":"SUM(D122:L122)+SUM(P110:P118)","v":0},null,null,null,"下段行",null,0,2,0,0,0,2,0,0,0,null,null,null,null,null,null,null,null,null,null,null,null,null,null,0,0,0,0,0,0,0,0,0]
[null,"超難問処理用",null,"行","数","１列","２列","３列","４列","５列","６列","７列","８列","９列","合計",null,null,null,null,null,null,"該当数字",null,0,7,0,0,0,7,0,0,0]
[null,null,"ＡＢＣ　グループ",1,1,0,0,0,0,0,0,0,0,0,{"$f":"COUNTIF(F126:N126,E126)","v":0},null,null,null,null,null,null,null,"数独超難問問題４（不要となる）"]
[null,null,null,1,2,0,0,0,0,0,0,0,0,0,{"$f":"COUNTIF(F127:N127,E127)","v":0}]
[null,null,null,1,3,0,0,0,0,0,0,0,0,0,0]
[null,null,null,1,4,0,0,0,0,0,0,0,0,0,0]
[null,null,null,1,5,0,0,0,0,0,0,0,0,0,0]
[null,null,null,1,6,0,0,0,0,0,0,0,0,0,0]
[null,null,null,1,7,0,0,0,0,0,0,0,0,0,0]
[null,null,null,1,8,0,0,0,0,0,0,0,0,0,0]
[null,null,null,1,9,0,0,0,0,0,0,0,0,0,0]
[null,null,null,2,1,0,0,0,0,0,0,0,0,0,0]
[null,null,null,2,2,0,0,0,0,0,0,0,0,0,0]
[null,null,null,2,3,0,0,0,0,0,0,0,0,0,0]
[null,null,null,2,4,0,0,0,0,0,0,0,0,0,0]
[null,null,null,2,5,0,0,0,0,0,0,0,0,0,0,null,null,null,null,null,null,null,null,null,null,null,null,null,null,null,null,null,null,null,null,"ここでこの問題の判定"]
[null,null,null,2,6,0,0,0,0,0,0,0,0,0,0]
[null,null,null,2,7,0,0,0,0,0,0,0,0,0,0]
[null,null,null,2,8,0,0,0,0,0,0,0,0,0,0,null,null,null,null,null,null,null,null,null,null,null,null,null,null,null,null,null,null,null,null,null,null,"合計","Ａ，Ｂ，Ｃ"]
[null,null,null,2,9,0,0,0,0,0,0,0,0,0,0,null,null,null,null,null,null,null,null,null,null,null,null,null,null,null,null,null,null,null,null,null,null,null,"Ｄ，Ｅ，Ｆ"]
[null,null,null,3,1,0,0,0,0,0,0,0,0,0,0,null,null,null,null,null,null,null,null,null,null,null,null,null,null,null,null,null,null,null,null,null,null,null,"Ｇ，Ｈ，Ｉ"]
[null,null,null,3,2,0,0,0,0,0,0,0,0,0,0,null,null,null,null,null,null,"数独超難問６(不要となる)",null,null,null,null,null,null,null,null,null,null,"全体（列）",null,null,null,null,null,null,null,null,"判定",null,null,null,null,null,null,null,null,"ＡＤＧ","ＢＥＨ","ＣＦＩ"]
[null,null,null,3,3,0,0,0,0,0,0,0,0,0,0,null,null,null,null,null,null,null,null,null,null,null,null,null,null,null,null,null,1,2,3,4,5,6,7,8,9,1,2,3,4,5,6,7,8,9]
[null,null,null,3,4,0,0,0,0,0,0,0,0,0,0,null,null,null,null,null,null,"数独問題途中処理"]
[null,null,null,3,5,0,0,0,0,0,0,0,0,0,0]
[null,null,null,3,6,0,0,0,0,0,0,0,0,0,0]
[null,null,null,3,7,0,0,0,0,0,0,0,0,0,0]
[null,null,null,3,8,0,0,0,0,0,0,0,0,0,0]
[null,null,null,3,9,0,0,0,0,0,0,0,0,0,0]
[null,null,"ＤＥＦ　グループ",4,1,0,0,0,0,0,0,0,0,0,0]
[null,null,null,4,2,0,0,0,0,0,0,0,0,0,0]
[null,null,null,4,3,0,0,0,0,0,0,0,0,0,0]
[null,null,null,4,4,0,0,0,0,0,0,0,0,0,0,null,null,null,null,null,null,"全体（行）",1]
[null,null,null,4,5,0,0,0,0,0,0,0,0,0,0,null,null,null,null,null,null,null,2]
[null,null,null,4,6,0,0,0,0,0,0,0,0,0,0,null,null,null,null,null,null,null,3]
[null,null,null,4,7,0,0,0,0,0,0,0,0,0,0,null,null,null,null,null,null,null,4]
[null,null,null,4,8,0,0,0,0,0,0,0,0,0,0,null,null,null,null,null,null,null,5]
[null,null,null,4,9,0,0,0,0,0,0,0,0,0,0,null,null,null,"合計",null,null,null,6]
[null,null,null,5,1,0,0,0,0,0,0,0,0,0,0,null,null,null,"ＡＤＧ","ＢＥＨ","ＣＦＩ",null,7]
[null,null,null,5,2,0,0,0,0,0,0,0,0,0,0,null,null,null,null,null,null,null,8]
[null,null,null,5,3,0,0,0,0,0,0,0,0,0,0,null,null,null,null,null,null,null,9]
[null,null,null,5,4,0,0,0,0,0,0,0,0,0,0,null,null,null,null,null,null,"判定",1]
[null,null,null,5,5,0,0,0,0,0,0,0,0,0,0,null,null,null,null,null,null,null,2]
[null,null,null,5,6,0,0,0,0,0,0,0,0,0,0,null,null,null,null,null,null,null,3]
[null,null,null,5,7,0,0,0,0,0,0,0,0,0,0,null,null,null,null,null,null,null,4]
[null,null,null,5,8,0,0,0,0,0,0,0,0,0,0,null,null,null,null,null,null,null,5]
[null,null,null,5,9,0,0,0,0,0,0,0,0,0,0,null,null,null,null,null,null,null,6]
[null,null,null,6,1,0,0,0,0,0,0,0,0,0,0,null,null,null,null,null,null,null,7]
[null,null,null,6,2,0,0,0,0,0,0,0,0,0,0,null,null,null,null,null,null,null,8]
[null,null,null,6,3,0,0,0,0,0,0,0,0,0,0,null,null,null,null,null,null,null,9]
[null,null,null,6,4,0,0,0,0,0,0,0,0,0,0,null,null,null,null,null,null,"Ａ，Ｂ，Ｃ"]
[null,null,null,6,5,0,0,0,0,0,0,0,0,0,0,null,null,null,null,null,null,"Ｄ，Ｅ，Ｆ"]
[null,null,null,6,6,0,0,0,0,0,0,0,0,0,0,null,null,null,null,null,null,"Ｇ，Ｈ，Ｉ"]
[null,null,null,6,7,0,0,0,0,0,0,0,0,0,0,null,null,null,null,null,null,null,null,null,null,null,null,null,null,null,null,null,null,null,null,"２の個数","０の個数"]
[null,null,null,6,8,0,0,0,0,0,0,0,0,0,0,null,null,null,null,null,null,null,null,null,null,null,null,null,null,null,null,null,"ＡＤＧ","ＢＥＨ","ＣＦＩ"]
[null,null,null,6,9,0,0,0,0,0,0,0,0,0,0,null,null,null,null,null,null,"数独超難問１１（不要となる）"]
[null,null,"ＧＨＩ　グループ",7,1,0,0,0,0,0,0,0,0,0,0,null,null,null,null,null,null,"数独問題途中処理"]
[null,null,null,7,2,0,0,0,0,0,0,0,0,0,0]
[null,null,null,7,3,0,0,0,0,0,0,0,0,0,0]
[null,null,null,7,4,0,0,0,0,0,0,0,0,0,0]
[null,null,null,7,5,0,0,0,0,0,0,0,0,0,0]
[null,null,null,7,6,0,0,0,0,0,0,0,0,0,0]
[null,null,null,7,7,0,0,0,0,0,0,0,0,0,0]
[null,null,null,7,8,0,0,0,0,0,0,0,0,0,0]
[null,null,null,7,9,0,0,0,0,0,0,0,0,0,0]
[null,null,null,8,1,0,0,0,0,0,0,0,0,0,0,null,null,null,null,null,"０の個数","Ａ，Ｂ，Ｃ"]
[null,null,null,8,2,0,0,0,0,0,0,0,0,0,0,null,null,null,null,null,null,"Ｄ，Ｅ，Ｆ"]
[null,null,null,8,3,0,0,0,0,0,0,0,0,0,{"$f":"COUNTIF(F191:N191,E191)","v":0},null,null,null,null,null,null,"Ｇ，Ｈ，Ｉ"]
[null,null,null,8,4,0,0,0,0,0,0,0,0,0,0,null,null,null,null,null,"２の個数"]
[null,null,null,8,5,0,0,0,0,0,0,0,0,0,0,null,null,null,null,null,"０の個数"]
[null,null,null,8,6,0,0,0,0,0,0,0,0,0,0]
[null,null,null,8,7,0,0,0,0,0,0,0,0,0,0]
[null,null,null,8,8,0,0,0,0,0,0,0,0,0,0]
[null,null,null,8,9,0,0,0,0,0,0,0,0,0,0]
[null,null,null,9,1,0,0,0,0,0,0,0,0,0,0]
[null,null,null,9,2,0,0,0,0,0,0,0,0,0,0]
[null,null,null,9,3,0,0,0,0,0,0,0,0,0,0]
[null,null,null,9,4,0,0,0,0,0,0,0,0,0,0]
[null,null,null,9,5,0,0,0,0,0,0,0,0,0,0]
[null,null,null,9,6,0,0,0,0,0,0,0,0,0,0]
[null,null,null,9,7,0,0,0,0,0,0,0,0,0,0]
[null,null,null,9,8,0,0,0,0,0,0,0,0,0,0]
[null,null,null,9,9,0,0,0,0,0,0,0,0,0,0]
[]
[]
[]
[]
[]
[null,null,"数独超難問７の判定（列）",null,null,null,null,null,null,null,null,null,null,null,null,null,null,null,null,null,null,null,null,null,null,null,null,null,null,null,null,null,null,null,null,null,null,null,null,null,null,null,null,null,null,null,null,null,null,null,null,null,null,null,null,null,null,null,null,null,null,null,null,null,null,null,null,null,null,null,null,null,null,null,null,null,null,null,null,null,null,null,null,null,"合計"]
[null,null,null,1,1,1,1,1,1,1,1,1,2,2,2,2,2,2,2,2,2,3,3,3,3,3,3,3,3,3,4,4,4,4,4,4,4,4,4,5,5,5,5,5,5,5,5,5,6,6,6,6,6,6,6,6,6,7,7,7,7,7,7,7,7,7,8,8,8,8,8,8,8,8,8,9,9,9,9,9,9,9,9,9]
[null,null,"番号",1,2,3,4,5,6,7,8,9,1,2,3,4,5,6,7,8,9,1,2,3,4,5,6,7,8,9,1,2,3,4,5,6,7,8,9,1,2,3,4,5,6,7,8,9,1,2,3,4,5,6,7,8,9,1,2,3,4,5,6,7,8,9,1,2,3,4,5,6,7,8,9,1,2,3,4,5,6,7,8,9]
[null,"グループ","Ａ，Ｂ，Ｃ",{"$f":"IF($D$13=2,IF(D66=2,2,),0)","v":0},{"$f":"IF($E$13=2,IF(E66=2,2,),0)","v":0},{"$f":"IF($F$13=2,IF(F66=2,2,),0)","v":0},{"$f":"IF($G$13=2,IF(G66=2,2,),0)","v":0},{"$f":"IF($H$13=2,IF(H66=2,2,),0)","v":0},{"$f":"IF($I$13=2,IF(I66=2,2,),0)","v":0},{"$f":"IF($J$13=2,IF(J66=2,2,),0)","v":0},{"$f":"IF($K$13=2,IF(K66=2,2,),0)","v":0},{"$f":"IF($L$13=2,IF(L66=2,2,),0)","v":0},{"$f":"IF($M$13=2,IF(M66=2,2,),0)","v":0},{"$f":"IF($N$13=2,IF(N66=2,2,),0)","v":0},{"$f":"IF($O$13=2,IF(O66=2,2,),0)","v":0},{"$f":"IF($P$13=2,IF(P66=2,2,),0)","v":0},{"$f":"IF($Q$13=2,IF(Q66=2,2,),0)","v":0},{"$f":"IF($R$13=2,IF(R66=2,2,),0)","v":0},{"$f":"IF($S$13=2,IF(S66=2,2,),0)","v":0},{"$f":"IF($T$13=2,IF(T66=2,2,),0)","v":0},{"$f":"IF($U$13=2,IF(U66=2,2,),0)","v":0},{"$f":"IF($V$13=2,IF(V66=2,2,),0)","v":0},{"$f":"IF($W$13=2,IF(W66=2,2,),0)","v":0},{"$f":"IF($X$13=2,IF(X66=2,2,),0)","v":0},{"$f":"IF($Y$13=2,IF(Y66=2,2,),0)","v":0},{"$f":"IF($Z$13=2,IF(Z66=2,2,),0)","v":0},{"$f":"IF($AA$13=2,IF(AA66=2,2,),0)","v":0},{"$f":"IF($AB$13=2,IF(AB66=2,2,),0)","v":0},{"$f":"IF($AC$13=2,IF(AC66=2,2,),0)","v":0},{"$f":"IF($AD$13=2,IF(AD66=2,2,),0)","v":0},{"$f":"IF($AE$13=2,IF(AE66=2,2,),0)","v":0},{"$f":"IF($AF$13=2,IF(AF66=2,2,),0)","v":0},{"$f":"IF($AG$13=2,IF(AG66=2,2,),0)","v":0},{"$f":"IF($AH$13=2,IF(AH66=2,2,),0)","v":0},{"$f":"IF($AI$13=2,IF(AI66=2,2,),0)","v":0},{"$f":"IF($AJ$13=2,IF(AJ66=2,2,),0)","v":0},{"$f":"IF($AK$13=2,IF(AK66=2,2,),0)","v":0},{"$f":"IF($AL$13=2,IF(AL66=2,2,),0)","v":0},{"$f":"IF($AM$13=2,IF(AM66=2,2,),0)","v":0},{"$f":"IF($AN$13=2,IF(AN66=2,2,),0)","v":0},{"$f":"IF($AO$13=2,IF(AO66=2,2,),0)","v":0},{"$f":"IF($AP$13=2,IF(AP66=2,2,),0)","v":0},{"$f":"IF($AQ$13=2,IF(AQ66=2,2,),0)","v":0},{"$f":"IF($AR$13=2,IF(AR66=2,2,),0)","v":0},{"$f":"IF($AS$13=2,IF(AS66=2,2,),0)","v":0},{"$f":"IF($AT$13=2,IF(AT66=2,2,),0)","v":0},{"$f":"IF($AU$13=2,IF(AU66=2,2,),0)","v":0},{"$f":"IF($AV$13=2,IF(AV66=2,2,),0)","v":0},{"$f":"IF($AW$13=2,IF(AW66=2,2,),0)","v":0},{"$f":"IF($AX$13=2,IF(AX66=2,2,),0)","v":0},{"$f":"IF($AY$13=2,IF(AY66=2,2,),0)","v":0},{"$f":"IF($AZ$13=2,IF(AZ66=2,2,),0)","v":0},{"$f":"IF($BA$13=2,IF(BA66=2,2,),0)","v":0},{"$f":"IF($BB$13=2,IF(BB66=2,2,),0)","v":0},{"$f":"IF($BC$13=2,IF(BC66=2,2,),0)","v":0},{"$f":"IF($BD$13=2,IF(BD66=2,2,),0)","v":0},{"$f":"IF($BE$13=2,IF(BE66=2,2,),0)","v":0},{"$f":"IF($BF$13=2,IF(BF66=2,2,),0)","v":0},{"$f":"IF($BG$13=2,IF(BG66=2,2,),0)","v":0},{"$f":"IF($BH$13=2,IF(BH66=2,2,),0)","v":0},{"$f":"IF($BI$13=2,IF(BI66=2,2,),0)","v":0},{"$f":"IF($BJ$13=2,IF(BJ66=2,2,),0)","v":0},{"$f":"IF($BK$13=2,IF(BK66=2,2,),0)","v":0},{"$f":"IF($BL$13=2,IF(BL66=2,2,),0)","v":0},{"$f":"IF($BM$13=2,IF(BM66=2,2,),0)","v":0},{"$f":"IF($BN$13=2,IF(BN66=2,2,),0)","v":0},{"$f":"IF($BO$13=2,IF(BO66=2,2,),0)","v":0},{"$f":"IF($BP$13=2,IF(BP66=2,2,),0)","v":0},{"$f":"IF($BQ$13=2,IF(BQ66=2,2,),0)","v":0},{"$f":"IF($BR$13=2,IF(BR66=2,2,),0)","v":0},{"$f":"IF($BS$13=2,IF(BS66=2,2,),0)","v":0},{"$f":"IF($BT$13=2,IF(BT66=2,2,),0)","v":0},{"$f":"IF($BU$13=2,IF(BU66=2,2,),0)","v":0},{"$f":"IF($BV$13=2,IF(BV66=2,2,),0)","v":0},{"$f":"IF($BW$13=2,IF(BW66=2,2,),0)","v":0},{"$f":"IF($BX$13=2,IF(BX66=2,2,),0)","v":0},{"$f":"IF($BY$13=2,IF(BY66=2,2,),0)","v":0},{"$f":"IF($BZ$13=2,IF(BZ66=2,2,),0)","v":0},{"$f":"IF($CA$13=2,IF(CA66=2,2,),0)","v":0},{"$f":"IF($CB$13=2,IF(CB66=2,2,),0)","v":0},{"$f":"IF($CC$13=2,IF(CC66=2,2,),0)","v":0},{"$f":"IF($CD$13=2,IF(CD66=2,2,),0)","v":0},{"$f":"IF($CE$13=2,IF(CE66=2,2,),0)","v":0},{"$f":"IF($CF$13=2,IF(CF66=2,2,),0)","v":0},{"$f":"SUM(D215:CF215)","v":0}]
[null,null,"D，E，F",{"$f":"IF($D$13=2,IF(D67=2,2,),0)","v":0},{"$f":"IF($E$13=2,IF(E67=2,2,),0)","v":0},{"$f":"IF($F$13=2,IF(F67=2,2,),0)","v":0},{"$f":"IF($G$13=2,IF(G67=2,2,),0)","v":0},{"$f":"IF($H$13=2,IF(H67=2,2,),0)","v":0},{"$f":"IF($I$13=2,IF(I67=2,2,),0)","v":0},{"$f":"IF($J$13=2,IF(J67=2,2,),0)","v":0},{"$f":"IF($K$13=2,IF(K67=2,2,),0)","v":0},{"$f":"IF($L$13=2,IF(L67=2,2,),0)","v":0},{"$f":"IF($M$13=2,IF(M67=2,2,),0)","v":0},{"$f":"IF($N$13=2,IF(N67=2,2,),0)","v":0},{"$f":"IF($O$13=2,IF(O67=2,2,),0)","v":0},{"$f":"IF($P$13=2,IF(P67=2,2,),0)","v":0},{"$f":"IF($Q$13=2,IF(Q67=2,2,),0)","v":0},{"$f":"IF($R$13=2,IF(R67=2,2,),0)","v":0},{"$f":"IF($S$13=2,IF(S67=2,2,),0)","v":0},{"$f":"IF($T$13=2,IF(T67=2,2,),0)","v":0},{"$f":"IF($U$13=2,IF(U67=2,2,),0)","v":0},{"$f":"IF($V$13=2,IF(V67=2,2,),0)","v":0},{"$f":"IF($W$13=2,IF(W67=2,2,),0)","v":0},{"$f":"IF($X$13=2,IF(X67=2,2,),0)","v":0},{"$f":"IF($Y$13=2,IF(Y67=2,2,),0)","v":0},{"$f":"IF($Z$13=2,IF(Z67=2,2,),0)","v":0},{"$f":"IF($AA$13=2,IF(AA67=2,2,),0)","v":0},{"$f":"IF($AB$13=2,IF(AB67=2,2,),0)","v":0},{"$f":"IF($AC$13=2,IF(AC67=2,2,),0)","v":0},{"$f":"IF($AD$13=2,IF(AD67=2,2,),0)","v":0},{"$f":"IF($AE$13=2,IF(AE67=2,2,),0)","v":0},{"$f":"IF($AF$13=2,IF(AF67=2,2,),0)","v":0},{"$f":"IF($AG$13=2,IF(AG67=2,2,),0)","v":0},{"$f":"IF($AH$13=2,IF(AH67=2,2,),0)","v":0},{"$f":"IF($AI$13=2,IF(AI67=2,2,),0)","v":0},{"$f":"IF($AJ$13=2,IF(AJ67=2,2,),0)","v":0},{"$f":"IF($AK$13=2,IF(AK67=2,2,),0)","v":0},{"$f":"IF($AL$13=2,IF(AL67=2,2,),0)","v":0},{"$f":"IF($AM$13=2,IF(AM67=2,2,),0)","v":0},{"$f":"IF($AN$13=2,IF(AN67=2,2,),0)","v":0},{"$f":"IF($AO$13=2,IF(AO67=2,2,),0)","v":0},{"$f":"IF($AP$13=2,IF(AP67=2,2,),0)","v":0},{"$f":"IF($AQ$13=2,IF(AQ67=2,2,),0)","v":0},{"$f":"IF($AR$13=2,IF(AR67=2,2,),0)","v":0},{"$f":"IF($AS$13=2,IF(AS67=2,2,),0)","v":0},{"$f":"IF($AT$13=2,IF(AT67=2,2,),0)","v":0},{"$f":"IF($AU$13=2,IF(AU67=2,2,),0)","v":0},{"$f":"IF($AV$13=2,IF(AV67=2,2,),0)","v":0},{"$f":"IF($AW$13=2,IF(AW67=2,2,),0)","v":0},{"$f":"IF($AX$13=2,IF(AX67=2,2,),0)","v":0},{"$f":"IF($AY$13=2,IF(AY67=2,2,),0)","v":0},{"$f":"IF($AZ$13=2,IF(AZ67=2,2,),0)","v":0},{"$f":"IF($BA$13=2,IF(BA67=2,2,),0)","v":0},{"$f":"IF($BB$13=2,IF(BB67=2,2,),0)","v":0},{"$f":"IF($BC$13=2,IF(BC67=2,2,),0)","v":0},{"$f":"IF($BD$13=2,IF(BD67=2,2,),0)","v":0},{"$f":"IF($BE$13=2,IF(BE67=2,2,),0)","v":0},{"$f":"IF($BF$13=2,IF(BF67=2,2,),0)","v":0},{"$f":"IF($BG$13=2,IF(BG67=2,2,),0)","v":0},{"$f":"IF($BH$13=2,IF(BH67=2,2,),0)","v":0},{"$f":"IF($BI$13=2,IF(BI67=2,2,),0)","v":0},{"$f":"IF($BJ$13=2,IF(BJ67=2,2,),0)","v":0},{"$f":"IF($BK$13=2,IF(BK67=2,2,),0)","v":0},{"$f":"IF($BL$13=2,IF(BL67=2,2,),0)","v":0},{"$f":"IF($BM$13=2,IF(BM67=2,2,),0)","v":0},{"$f":"IF($BN$13=2,IF(BN67=2,2,),0)","v":0},{"$f":"IF($BO$13=2,IF(BO67=2,2,),0)","v":0},{"$f":"IF($BP$13=2,IF(BP67=2,2,),0)","v":0},{"$f":"IF($BQ$13=2,IF(BQ67=2,2,),0)","v":0},{"$f":"IF($BR$13=2,IF(BR67=2,2,),0)","v":0},{"$f":"IF($BS$13=2,IF(BS67=2,2,),0)","v":0},{"$f":"IF($BT$13=2,IF(BT67=2,2,),0)","v":0},{"$f":"IF($BU$13=2,IF(BU67=2,2,),0)","v":0},{"$f":"IF($BV$13=2,IF(BV67=2,2,),0)","v":0},{"$f":"IF($BW$13=2,IF(BW67=2,2,),0)","v":0},{"$f":"IF($BX$13=2,IF(BX67=2,2,),0)","v":0},{"$f":"IF($BY$13=2,IF(BY67=2,2,),0)","v":0},{"$f":"IF($BZ$13=2,IF(BZ67=2,2,),0)","v":0},{"$f":"IF($CA$13=2,IF(CA67=2,2,),0)","v":0},{"$f":"IF($CB$13=2,IF(CB67=2,2,),0)","v":0},{"$f":"IF($CC$13=2,IF(CC67=2,2,),0)","v":0},{"$f":"IF($CD$13=2,IF(CD67=2,2,),0)","v":0},{"$f":"IF($CE$13=2,IF(CE67=2,2,),0)","v":0},{"$f":"IF($CF$13=2,IF(CF67=2,2,),0)","v":0},{"$f":"SUM(D216:CF216)","v":0}]
[null,null,"G，H，I",{"$f":"IF($D$13=2,IF(D68=2,2,),0)","v":0},{"$f":"IF($E$13=2,IF(E68=2,2,),0)","v":0},{"$f":"IF($F$13=2,IF(F68=2,2,),0)","v":0},{"$f":"IF($G$13=2,IF(G68=2,2,),0)","v":0},{"$f":"IF($H$13=2,IF(H68=2,2,),0)","v":0},{"$f":"IF($I$13=2,IF(I68=2,2,),0)","v":0},{"$f":"IF($J$13=2,IF(J68=2,2,),0)","v":0},{"$f":"IF($K$13=2,IF(K68=2,2,),0)","v":0},{"$f":"IF($L$13=2,IF(L68=2,2,),0)","v":0},{"$f":"IF($M$13=2,IF(M68=2,2,),0)","v":0},{"$f":"IF($N$13=2,IF(N68=2,2,),0)","v":0},{"$f":"IF($O$13=2,IF(O68=2,2,),0)","v":0},{"$f":"IF($P$13=2,IF(P68=2,2,),0)","v":0},{"$f":"IF($Q$13=2,IF(Q68=2,2,),0)","v":0},{"$f":"IF($R$13=2,IF(R68=2,2,),0)","v":0},{"$f":"IF($S$13=2,IF(S68=2,2,),0)","v":0},{"$f":"IF($T$13=2,IF(T68=2,2,),0)","v":0},{"$f":"IF($U$13=2,IF(U68=2,2,),0)","v":0},{"$f":"IF($V$13=2,IF(V68=2,2,),0)","v":0},{"$f":"IF($W$13=2,IF(W68=2,2,),0)","v":0},{"$f":"IF($X$13=2,IF(X68=2,2,),0)","v":0},{"$f":"IF($Y$13=2,IF(Y68=2,2,),0)","v":0},{"$f":"IF($Z$13=2,IF(Z68=2,2,),0)","v":0},{"$f":"IF($AA$13=2,IF(AA68=2,2,),0)","v":0},{"$f":"IF($AB$13=2,IF(AB68=2,2,),0)","v":0},{"$f":"IF($AC$13=2,IF(AC68=2,2,),0)","v":0},{"$f":"IF($AD$13=2,IF(AD68=2,2,),0)","v":0},{"$f":"IF($AE$13=2,IF(AE68=2,2,),0)","v":0},{"$f":"IF($AF$13=2,IF(AF68=2,2,),0)","v":0},{"$f":"IF($AG$13=2,IF(AG68=2,2,),0)","v":0},{"$f":"IF($AH$13=2,IF(AH68=2,2,),0)","v":0},{"$f":"IF($AI$13=2,IF(AI68=2,2,),0)","v":0},{"$f":"IF($AJ$13=2,IF(AJ68=2,2,),0)","v":0},{"$f":"IF($AK$13=2,IF(AK68=2,2,),0)","v":0},{"$f":"IF($AL$13=2,IF(AL68=2,2,),0)","v":0},{"$f":"IF($AM$13=2,IF(AM68=2,2,),0)","v":0},{"$f":"IF($AN$13=2,IF(AN68=2,2,),0)","v":0},{"$f":"IF($AO$13=2,IF(AO68=2,2,),0)","v":0},{"$f":"IF($AP$13=2,IF(AP68=2,2,),0)","v":0},{"$f":"IF($AQ$13=2,IF(AQ68=2,2,),0)","v":0},{"$f":"IF($AR$13=2,IF(AR68=2,2,),0)","v":0},{"$f":"IF($AS$13=2,IF(AS68=2,2,),0)","v":0},{"$f":"IF($AT$13=2,IF(AT68=2,2,),0)","v":0},{"$f":"IF($AU$13=2,IF(AU68=2,2,),0)","v":0},{"$f":"IF($AV$13=2,IF(AV68=2,2,),0)","v":0},{"$f":"IF($AW$13=2,IF(AW68=2,2,),0)","v":0},{"$f":"IF($AX$13=2,IF(AX68=2,2,),0)","v":0},{"$f":"IF($AY$13=2,IF(AY68=2,2,),0)","v":0},{"$f":"IF($AZ$13=2,IF(AZ68=2,2,),0)","v":0},{"$f":"IF($BA$13=2,IF(BA68=2,2,),0)","v":0},{"$f":"IF($BB$13=2,IF(BB68=2,2,),0)","v":0},{"$f":"IF($BC$13=2,IF(BC68=2,2,),0)","v":0},{"$f":"IF($BD$13=2,IF(BD68=2,2,),0)","v":0},{"$f":"IF($BE$13=2,IF(BE68=2,2,),0)","v":0},{"$f":"IF($BF$13=2,IF(BF68=2,2,),0)","v":0},{"$f":"IF($BG$13=2,IF(BG68=2,2,),0)","v":0},{"$f":"IF($BH$13=2,IF(BH68=2,2,),0)","v":0},{"$f":"IF($BI$13=2,IF(BI68=2,2,),0)","v":0},{"$f":"IF($BJ$13=2,IF(BJ68=2,2,),0)","v":0},{"$f":"IF($BK$13=2,IF(BK68=2,2,),0)","v":0},{"$f":"IF($BL$13=2,IF(BL68=2,2,),0)","v":0},{"$f":"IF($BM$13=2,IF(BM68=2,2,),0)","v":0},{"$f":"IF($BN$13=2,IF(BN68=2,2,),0)","v":0},{"$f":"IF($BO$13=2,IF(BO68=2,2,),0)","v":0},{"$f":"IF($BP$13=2,IF(BP68=2,2,),0)","v":0},{"$f":"IF($BQ$13=2,IF(BQ68=2,2,),0)","v":0},{"$f":"IF($BR$13=2,IF(BR68=2,2,),0)","v":0},{"$f":"IF($BS$13=2,IF(BS68=2,2,),0)","v":0},{"$f":"IF($BT$13=2,IF(BT68=2,2,),0)","v":0},{"$f":"IF($BU$13=2,IF(BU68=2,2,),0)","v":0},{"$f":"IF($BV$13=2,IF(BV68=2,2,),0)","v":0},{"$f":"IF($BW$13=2,IF(BW68=2,2,),0)","v":0},{"$f":"IF($BX$13=2,IF(BX68=2,2,),0)","v":0},{"$f":"IF($BY$13=2,IF(BY68=2,2,),0)","v":0},{"$f":"IF($BZ$13=2,IF(BZ68=2,2,),0)","v":0},{"$f":"IF($CA$13=2,IF(CA68=2,2,),0)","v":0},{"$f":"IF($CB$13=2,IF(CB68=2,2,),0)","v":0},{"$f":"IF($CC$13=2,IF(CC68=2,2,),0)","v":0},{"$f":"IF($CD$13=2,IF(CD68=2,2,),0)","v":0},{"$f":"IF($CE$13=2,IF(CE68=2,2,),0)","v":0},{"$f":"IF($CF$13=2,IF(CF68=2,2,),0)","v":0},{"$f":"SUM(D217:CF217)","v":0}]
[null,null,null,null,null,null,null,null,null,null,null,null,null,null,null,null,null,null,null,null,null,null,null,null,null,null,null,null,null,null,null,null,null,null,null,null,null,null,null,null,null,null,null,null,null,null,null,null,null,null,null,null,null,null,null,null,null,null,null,null,null,null,null,null,null,null,null,null,null,null,null,null,null,null,null,null,null,null,null,null,null,null,null,null,{"$f":"SUM(CG215:CG217)","v":0}]
[]
[null,null,"数独超難問７の判定（行）",null,null,null,null,null,null,null,null,null,null,null,null,null,null,null,null,null,null,null,null,null,null,null,null,null,null,null,"合計"]
[null,null,"グループ","Ａ，Ｄ，Ｇ",null,null,null,null,null,null,null,null,"Ｂ，Ｅ，Ｈ",null,null,null,null,null,null,null,null,"Ｃ，Ｆ，Ｉ"]
[null,null,"番号",1,2,3,4,5,6,7,8,9,1,2,3,4,5,6,7,8,9,1,2,3,4,5,6,7,8,9]
[null,"行","１行",{"$f":"IF(CH4=2,IF(D75=2,2,),0)","v":0},{"$f":"IF(CI4=2,IF(E75=2,2,),0)","v":0},{"$f":"IF(CJ4=2,IF(F75=2,2,),0)","v":0},{"$f":"IF(CK4=2,IF(G75=2,2,),0)","v":0},{"$f":"IF(CL4=2,IF(H75=2,2,),0)","v":0},{"$f":"IF(CM4=2,IF(I75=2,2,),0)","v":0},{"$f":"IF(CN4=2,IF(J75=2,2,),0)","v":0},{"$f":"IF(CO4=2,IF(K75=2,2,),0)","v":0},{"$f":"IF(CP4=2,IF(L75=2,2,),0)","v":0},{"$f":"IF(CH4=2,IF(M75=2,2,),0)","v":0},{"$f":"IF(CI4=2,IF(N75=2,2,),0)","v":0},{"$f":"IF(CJ4=2,IF(O75=2,2,),0)","v":0},{"$f":"IF(CK4=2,IF(P75=2,2,),0)","v":0},{"$f":"IF(CL4=2,IF(Q75=2,2,),0)","v":0},{"$f":"IF(CM4=2,IF(R75=2,2,),0)","v":0},{"$f":"IF(CN4=2,IF(S75=2,2,),0)","v":0},{"$f":"IF(CO4=2,IF(T75=2,2,),0)","v":0},{"$f":"IF(CP4=2,IF(U75=2,2,),0)","v":0},{"$f":"IF(CH4=2,IF(V75=2,2,),0)","v":0},{"$f":"IF(CI4=2,IF(W75=2,2,),0)","v":0},{"$f":"IF(CJ4=2,IF(X75=2,2,),0)","v":0},{"$f":"IF(CK4=2,IF(Y75=2,2,),0)","v":0},{"$f":"IF(CL4=2,IF(Z75=2,2,),0)","v":0},{"$f":"IF(CM4=2,IF(AA75=2,2,),0)","v":0},{"$f":"IF(CN4=2,IF(AB75=2,2,),0)","v":0},{"$f":"IF(CO4=2,IF(AC75=2,2,),0)","v":0},{"$f":"IF(CP4=2,IF(AD75=2,2,),0)","v":0},{"$f":"SUM(D223:AD223)","v":0}]
[null,null,"２行",0,0,0,0,0,0,0,0,0,0,0,0,0,0,0,0,0,0,0,0,0,0,0,0,0,0,0,{"$f":"SUM(D224:AD224)","v":0}]
[null,null,"３行",0,0,0,0,0,0,0,0,0,0,0,0,0,0,0,0,0,0,0,0,0,0,0,0,0,0,0,0]
[null,null,"４行",0,0,0,0,0,0,0,0,0,0,0,0,0,0,0,0,0,0,0,0,0,0,0,0,0,0,0,0]
[null,null,"５行",0,0,0,0,0,0,0,0,0,0,0,0,0,0,0,0,0,0,0,0,0,0,0,0,0,0,0,0]
[null,null,"６行",0,0,0,0,0,0,0,0,0,0,0,0,0,0,0,0,0,0,0,0,0,0,0,0,0,0,0,0]
[null,null,"７行",0,0,0,0,0,0,0,0,0,0,0,0,0,0,0,0,0,0,0,0,0,0,0,0,0,0,0,0]
[null,null,"８行",0,0,0,0,0,0,0,0,0,0,0,0,0,0,0,0,0,0,0,0,0,0,0,0,0,0,0,0]
[null,null,"９行",0,0,0,0,0,0,0,0,0,0,0,0,0,0,0,0,0,0,0,0,0,0,0,0,0,0,0,0]
[null,null,null,null,null,null,null,null,null,null,null,null,null,null,null,null,null,null,null,null,null,null,null,null,null,null,null,null,null,null,{"$f":"SUM(AE223:AE231)","v":0}]
[]
[]
[]
[null,null,null,"難問８の処理(８月１４日　不要となる。)"]
[null,null,null,1,null,2,null,3,null,4,null,5,null,6,null,7,null,8,null,9]
[null,null,"１行"]
[null,null,"２行"]
[null,null,"３行"]
[null,null,"４行"]
[null,null,"５行"]
[null,null,"６行"]
[null,null,"７行"]
[null,null,"８行"]
[null,null,"９行"]
[null,null,"１行"]
[null,null,"２行"]
[null,null,"３行"]
[null,null,"４行"]
[null,null,"５行"]
[null,null,"６行"]
[null,null,"７行"]
[null,null,"８行"]
[null,null,"９行"]
[null,null,null,null,null,null,null,null,null,null,null,null,null,null,null,null,null,null,null,null,null,{"$f":"SUM(D247:U255)","v":0}]
[]
[]
[]
[null,null,null,"難問９の処理（８月１４日不要となる）"]
[null,null,null,"１列",null,null,"２列",null,null,"３列",null,null,"４列",null,null,"５列",null,null,"６列",null,null,"７列",null,null,"８列",null,null,"９列"]
[null,"全ての３つの数字を表示","１行"]
[null,null,"２行"]
[null,null,"３行"]
[null,null,"４行"]
[null,null,"５行"]
[null,null,"６行"]
[null,null,"７行"]
[null,null,"８行"]
[null,null,"９行"]
[null,"共通する３つの数字を表示","１行"]
[null,null,"２行"]
[null,null,"３行"]
[null,null,"４行"]
[null,null,"５行"]
[null,null,"６行"]
[null,null,"７行"]
[null,null,"８行"]
[null,null,"９行"]
[]
[]
[]
[]
[]
[]
[]
[]
[]
[]
[]
[]
[]
[]
[]
[null,null,"難　　　問　　　１　４　　　対　　　　応"]
[null,"数","列",1,1,1,1,1,1,1,1,1,2,2,2,2,2,2,2,2,2,3,3,3,3,3,3,3,3,3,4,4,4,4,4,4,4,4,4,5,5,5,5,5,5,5,5,5,6,6,6,6,6,6,6,6,6,7,7,7,7,7,7,7,7,7,8,8,8,8,8,8,8,8,8,9,9,9,9,9,9,9,9,9,null,null,null,"列",null,"難問１４の合計"]
[null,null,"番号",1,2,3,4,5,6,7,8,9,1,2,3,4,5,6,7,8,9,1,2,3,4,5,6,7,8,9,1,2,3,4,5,6,7,8,9,1,2,3,4,5,6,7,8,9,1,2,3,4,5,6,7,8,9,1,2,3,4,5,6,7,8,9,1,2,3,4,5,6,7,8,9,1,2,3,4,5,6,7,8,9,null,null,null,null,null,1,2,3,4,5,6,7,8,9]
[null,1,"１行",0,0,0,0,0,0,0,0,0,0,0,0,0,0,0,0,0,0,0,0,0,0,0,0,0,0,0,0,0,0,4,0,0,0,8,0,0,0,0,0,0,0,0,0,0,0,0,0,0,0,0,0,0,0,0,0,0,0,0,0,0,0,0,0,0,0,0,0,0,0,0,0,0,0,0,0,0,0,0,0,0,null,null,null,"１行",null,{"$f":"COUNT(D298:L298)-COUNTIF(D298:L298,0)","v":0},{"$f":"COUNT(M298:U298)-COUNTIF(M298:U298,0)","v":0},{"$f":"COUNT(V298:AD298)-COUNTIF(V298:AD298,0)","v":0},{"$f":"COUNT(AE298:AM298)-COUNTIF(AE298:AM298,0)","v":2},{"$f":"COUNT(AN298:AV298)-COUNTIF(AN298:AV298,0)","v":0},{"$f":"COUNT(AW298:BE298)-COUNTIF(AW298:BE298,0)","v":0},{"$f":"COUNT(BF298:BN298)-COUNTIF(BF298:BN298,0)","v":0},{"$f":"COUNT(BO298:BW298)-COUNTIF(BO298:BW298,0)","v":0},{"$f":"COUNT(BX298:CF298)-COUNTIF(BX298:CF298,0)","v":0}]
[null,2,"２行",0,0,0,0,0,0,0,0,0,0,0,0,0,0,0,0,0,0,0,0,0,0,0,0,0,0,0,0,0,0,4,0,0,0,8,0,0,0,0,0,0,0,0,0,0,0,0,0,0,0,0,0,0,0,0,0,0,0,0,0,0,0,0,0,0,0,0,0,0,0,0,0,0,0,0,0,0,0,0,0,0,null,null,null,"２行",null,{"$f":"COUNT(D299:L299)-COUNTIF(D299:L299,0)","v":0},{"$f":"COUNT(M299:U299)-COUNTIF(M299:U299,0)","v":0},{"$f":"COUNT(V299:AD299)-COUNTIF(V299:AD299,0)","v":0},{"$f":"COUNT(AE299:AM299)-COUNTIF(AE299:AM299,0)","v":2},{"$f":"COUNT(AN299:AV299)-COUNTIF(AN299:AV299,0)","v":0},{"$f":"COUNT(AW299:BE299)-COUNTIF(AW299:BE299,0)","v":0},{"$f":"COUNT(BF299:BN299)-COUNTIF(BF299:BN299,0)","v":0},{"$f":"COUNT(BO299:BW299)-COUNTIF(BO299:BW299,0)","v":0},{"$f":"COUNT(BX299:CF299)-COUNTIF(BX299:CF299,0)","v":0}]
[null,3,"３行",0,0,0,0,0,0,0,0,0,0,0,0,0,0,0,0,0,0,0,0,0,0,0,0,0,0,0,0,0,0,0,0,0,0,0,0,0,0,0,0,0,0,0,0,0,0,0,0,0,0,0,0,0,0,0,0,0,0,0,0,0,0,0,0,0,0,0,0,0,0,0,0,0,0,0,0,5,6,0,0,0,null,null,null,"３行",null,0,0,0,0,0,0,0,0,2]
[null,4,"４行",0,0,0,0,0,0,0,0,0,0,0,0,0,0,0,0,0,0,0,0,0,0,0,0,0,0,0,0,0,0,0,0,0,0,0,0,0,0,0,0,0,0,0,0,0,0,0,0,0,0,0,0,0,0,0,0,0,0,0,0,0,0,0,0,0,0,0,0,0,0,0,0,0,0,0,0,0,0,0,0,0,null,null,null,"４行",null,0,0,0,0,0,0,0,0,0]
[null,5,"５行",0,0,0,0,0,0,0,0,0,0,0,0,0,0,0,0,0,0,0,0,0,0,0,0,0,0,0,0,0,0,0,0,0,0,0,0,0,0,0,0,0,0,0,0,0,0,0,0,0,0,0,0,0,0,0,0,0,0,0,0,0,0,0,0,0,0,0,0,0,0,0,0,0,0,0,0,5,0,7,0,0,null,null,null,"５行",null,0,0,0,0,0,0,0,0,2]
[null,6,"６行",0,0,0,0,0,0,0,0,0,0,0,0,0,0,0,0,0,0,0,0,0,0,0,0,0,0,0,0,0,0,0,0,0,0,0,0,0,0,0,0,0,0,0,0,0,0,0,0,0,0,0,0,0,0,0,0,0,0,0,0,0,0,0,0,0,0,0,0,0,0,0,0,0,0,0,0,0,0,0,0,0,null,null,null,"６行",null,0,0,0,0,0,0,0,0,0]
[null,7,"7行",0,0,0,0,0,0,0,0,0,0,0,0,0,0,0,0,0,0,0,0,0,0,0,0,0,0,0,0,0,0,0,0,0,0,0,0,0,0,0,0,0,0,0,0,0,0,0,0,0,0,0,0,0,0,0,0,0,0,0,0,0,0,0,0,0,0,0,0,0,0,0,0,0,0,0,0,0,6,7,0,0,null,null,null,"７行",null,0,0,0,0,0,0,0,0,2]
[null,8,"8行",0,0,0,0,0,0,0,0,0,0,0,0,0,0,0,0,0,0,0,0,3,0,0,0,0,0,9,0,0,0,0,0,0,0,0,0,0,0,0,0,0,0,0,0,0,0,0,0,0,0,0,0,0,0,0,0,0,0,0,0,0,0,0,0,0,0,0,0,0,0,0,0,0,0,0,0,0,0,0,0,0,null,null,null,"８行",null,0,0,2,0,0,0,0,0,0]
[null,9,"９行",0,0,0,0,0,0,0,0,0,0,0,0,0,0,0,0,0,0,0,0,3,0,0,0,0,0,9,0,0,0,0,0,0,0,0,0,0,0,0,0,0,0,0,0,0,0,0,0,0,0,0,0,0,0,0,0,0,0,0,0,0,0,0,0,0,0,0,0,0,0,0,0,0,0,0,0,0,0,0,0,0,null,null,null,"９行",null,0,0,2,0,0,0,0,0,0]
[null,null,"合計",{"$f":"COUNTIF(D298:D306,D297)","v":0},{"$f":"COUNTIF(E298:E306,E297)","v":0},0,0,0,0,0,0,0,0,0,0,0,0,{"$f":"COUNTIF(R298:R306,R297)","v":0},0,0,0,0,{"$f":"COUNTIF(W298:W306,W297)","v":0},2,0,0,0,0,0,2,0,0,0,2,0,0,0,2,0,0,0,0,0,0,0,0,0,0,0,0,0,0,0,0,0,0,0,0,0,0,0,0,0,0,0,0,0,0,{"$f":"COUNTIF(BQ298:BQ306,BQ297)","v":0},0,0,0,0,0,0,0,0,0,0,2,2,2,0,0,null,null,null,"２の合計",null,{"$f":"COUNTIF(CL298:CL306,2)","v":0},{"$f":"COUNTIF(CM298:CM306,2)","v":0},2,2,0,0,0,0,3]
[null,"対処値",null,0,0,0,0,0,0,0,0,0,0,0,0,0,0,0,0,0,0,0,0,3,0,0,0,0,0,9,0,0,0,4,0,0,0,8,0,0,0,0,0,0,0,0,0,0,0,0,0,0,0,0,0,0,0,0,0,0,0,0,0,0,0,0,0,0,0,0,0,0,0,0,0,0,0,0,0,0,0,0,0,0,{"$f":"COUNT(D308:CF308)-COUNTIF(D308:CF308,0)","v":4}]
[null,"行番号",null,0,0,0,0,0,0,0,0,0,0,0,0,0,0,0,0,0,0,0,0,8,0,0,0,0,0,8,0,0,0,1,0,0,0,1,0,0,0,0,0,0,0,0,0,0,0,0,0,0,0,0,0,0,0,0,0,0,0,0,0,0,0,0,0,0,0,0,0,0,0,0,0,0,0,0,0,0,0,0,0,0]
[null,null,null,0,0,0,0,0,0,0,0,0,0,0,0,0,0,0,0,0,0,0,0,9,0,0,0,0,0,9,0,0,0,2,0,0,0,2,0,0,0,0,0,0,0,0,0,0,0,0,0,0,0,0,0,0,0,0,0,0,0,0,0,0,0,0,0,0,0,0,0,0,0,0,0,0,0,0,0,0,0,0,0,0]
[]
[]
[]
[null,null,null,null,null,null,null,null,null,null,null,null,null,null,null,null,null,null,null,null,null,null,null,null,null,null,null,null,null,null,null,null,"数字の数",null,null,"０の数"]
[null,null,null,null,null,null,null,null,null,null,null,null,null,null,null,null,null,null,null,null,null,"数独超難問１２(不要になる)",null,null,null,null,null,null,null,null,null,null,"ADG","BEH","CHI","ADG","BEH","CHI"]
[]
[null,null,null,null,null,null,null,null,null,null,null,null,null,null,null,null,null,null,null,null,null,"数独問題途中処理"]
[]
[null,"難　問　　１　４　　対　応",null,null,null,null,null,null,null,null,null,null,null,null,null,"対処値","列番号"]
[null,"超難問処理用",null,"行","数","１列","２列","３列","４列","５列","６列","７列","８列","９列","合計"]
[null,null,"ＡＢＣ　グループ",1,1,0,0,0,0,0,0,0,0,0,{"$f":"COUNTIF(F321:N321,E321)","v":0},0,0,0]
[null,null,null,1,2,0,0,0,0,0,0,0,0,0,{"$f":"COUNTIF(F322:N322,E322)","v":0},0,0,0]
[null,null,null,1,3,0,0,0,0,0,0,0,0,0,0,0,0,0]
[null,null,null,1,4,0,0,0,0,0,0,0,0,0,0,0,0,0]
[null,null,null,1,5,0,0,0,0,0,0,0,0,0,0,0,0,0]
[null,null,null,1,6,0,0,0,0,0,0,0,0,0,0,0,0,0,null,null,"数字の数","A,B,C"]
[null,null,null,1,7,0,0,0,0,0,0,0,0,0,{"$f":"COUNTIF(F327:N327,E327)","v":0},0,0,0,null,null,null,"D,E,F"]
[null,null,null,1,8,0,0,0,0,0,0,0,0,0,0,0,0,0,null,null,null,"G,H,I"]
[null,null,null,1,9,0,0,0,0,0,0,0,0,0,0,0,0,0,null,null,"０の数","A,B,C"]
[null,null,null,2,1,0,0,0,0,0,0,0,0,0,0,0,0,0,null,null,null,"D,E,F"]
[null,null,null,2,2,0,0,0,0,0,0,0,0,0,0,0,0,0,null,null,null,"G,H,I"]
[null,null,null,2,3,0,0,0,0,0,0,0,0,0,0,0,0,0]
[null,null,null,2,4,4,0,0,4,0,0,0,0,0,2,0,0,0]
[null,null,null,2,5,0,0,0,0,0,0,0,0,0,0,0,0,0]
[null,null,null,2,6,6,0,0,0,0,6,0,0,0,2,0,0,0]
[null,null,null,2,7,0,0,0,0,0,0,0,0,0,0,0,0,0]
[null,null,null,2,8,0,8,0,8,0,0,0,0,0,2,0,0,0]
[null,null,null,2,9,0,9,0,0,0,9,0,0,0,2,0,0,0]
[null,null,null,3,1,0,0,0,0,0,0,0,0,0,0,0,0,0,null,null,null,null,null,null,null,null,"難問14の処理(斜め方向に共通の２つの数字が存在する時)"]
[null,null,null,3,2,0,0,0,0,0,0,0,0,0,0,0,0,0,null,null,null,null,null,null,null,null,1,1,2,2,3,3,4,4,5,5,6,6,7,7,8,8,9,9]
[null,null,null,3,3,0,3,0,0,0,3,0,0,0,2,3,2,6,null,null,null,null,null,null,"１行",null,0,0,0,0,0,0,0,0,0,0,0,0,0,0,0,0,0,0]
[null,null,null,3,4,0,0,0,0,0,0,0,0,0,0,0,0,0,null,null,null,null,null,null,"２行",null,0,0,0,0,0,0,0,0,0,0,0,0,0,0,0,0,0,0]
[null,null,null,3,5,0,0,0,0,0,0,0,0,0,0,0,0,0,null,null,null,null,null,null,"３行",null,0,0,0,0,0,0,0,0,0,0,0,0,0,0,0,0,0,0]
[null,null,null,3,6,0,0,0,0,0,0,0,0,0,0,0,0,0,null,null,null,null,null,null,"４行",null,0,0,0,0,0,0,0,0,0,0,0,0,0,0,0,0,0,0]
[null,null,null,3,7,0,0,0,0,0,0,0,0,0,0,0,0,0,null,null,null,null,null,null,"５行",null,0,0,0,0,0,0,0,0,0,0,0,0,0,0,0,0,0,0]
[null,null,null,3,8,0,0,0,0,0,0,0,0,0,0,0,0,0,null,null,null,null,null,null,"６行",null,0,0,0,0,0,0,0,0,0,0,0,0,0,0,0,0,0,0]
[null,null,null,3,9,0,9,0,0,0,9,0,0,0,2,9,2,6,null,null,null,null,null,null,"７行",null,0,0,0,0,0,0,0,0,0,0,0,0,0,0,0,0,6,0]
[null,null,"ＤＥＦ　グループ",4,1,0,0,0,0,0,0,0,0,0,0,0,0,0,null,null,null,null,null,null,"８行",null,0,0,0,0,0,0,0,0,0,0,0,0,0,0,6,0,0,0]
[null,null,null,4,2,0,0,0,0,0,0,0,0,0,0,0,0,0,null,null,null,null,null,null,"９行",null,0,0,0,0,0,0,0,0,0,0,0,0,0,0,0,0,0,0]
[null,null,null,4,3,0,0,0,0,0,0,0,0,0,0,0,0,0]
[null,null,null,4,4,0,0,0,0,0,0,0,0,0,0,0,0,0]
[null,null,null,4,5,0,0,0,0,0,0,0,0,0,0,0,0,0]
[null,null,null,4,6,0,0,0,0,0,0,0,0,0,0,0,0,0,null,null,null,null,null,null,null,null,"判定、難問14の処理(斜め方向に共通の２つの数字が存在する時)"]
[null,null,null,4,7,0,0,0,0,0,0,0,0,0,0,0,0,0,null,null,null,null,null,null,null,null,"1列",null,"2列",null,"3列",null,"4列",null,"5列",null,"6列",null,"7列",null,"8列",null,"9列"]
[null,null,null,4,8,0,0,0,0,0,0,0,0,0,0,0,0,0,null,null,null,null,null,null,"１行",null,0,0,0,0,0,0,0,0,0,0,0,0,0,0,0,0,0,0]
[null,null,null,4,9,0,0,0,0,0,0,0,0,0,0,0,0,0,null,null,null,null,null,null,"２行",null,0,0,0,0,0,0,0,0,0,0,0,0,0,0,0,0,0,0]
[null,null,null,5,1,0,0,0,0,0,0,0,0,0,0,0,0,0,null,null,null,null,null,null,"３行",null,0,0,0,0,0,0,0,0,0,0,0,0,0,0,0,0,0,0]
[null,null,null,5,2,0,0,0,0,0,0,0,0,0,0,0,0,0,null,null,null,null,null,null,"４行",null,0,0,0,0,0,0,0,0,0,0,0,0,0,0,0,0,0,0]
[null,null,null,5,3,0,0,0,0,0,0,0,0,0,0,0,0,0,null,null,null,null,null,null,"５行",null,0,0,0,0,0,0,0,0,0,0,0,0,0,0,0,0,0,0]
[null,null,null,5,4,0,0,0,0,0,0,0,0,0,0,0,0,0,null,null,null,null,null,null,"６行",null,0,0,0,0,0,0,0,0,0,0,0,0,0,0,0,0,0,0]
[null,null,null,5,5,0,0,0,0,0,0,5,0,5,2,5,7,9,null,null,null,null,null,null,"７行",null,0,0,0,0,0,0,0,0,0,0,0,0,0,0,0,0,0,0]
[null,null,null,5,6,0,0,0,0,0,0,0,0,0,0,0,0,0,null,null,null,null,null,null,"８行",null,0,0,0,0,0,0,0,0,0,0,0,0,0,0,0,0,0,0]
[null,null,null,5,7,0,0,0,0,0,0,7,0,7,2,7,7,9,null,null,null,null,null,null,"９行",null,0,0,0,0,0,0,0,0,0,0,0,0,0,0,0,0,0,0]
[null,null,null,5,8,0,0,0,0,0,0,0,0,0,0,0,0,0,null,null,null,null,null,null,null,null,null,null,null,null,null,null,null,null,null,null,null,null,null,null,null,null,null,null,{"$f":"SUM(AA355:AR363)","v":0}]
[null,null,null,5,9,0,0,0,0,0,0,0,0,0,0,0,0,0]
[null,null,null,6,1,0,0,0,0,0,0,0,0,0,0,0,0,0]
[null,null,null,6,2,0,0,0,0,0,0,0,0,0,0,0,0,0]
[null,null,null,6,3,0,0,0,0,0,0,0,0,0,0,0,0,0]
[null,null,null,6,4,0,0,0,0,0,0,0,0,0,0,0,0,0,null,null,null,null,null,null,null,null,"難問１９の対応"]
[null,null,null,6,5,0,0,0,0,0,0,0,0,0,0,0,0,0,null,null,null,null,null,null,null,null,1,2,3,4,5,6,7,8,9]
[null,null,null,6,6,0,0,0,0,0,0,0,0,0,0,0,0,0,null,null,null,null,null,null,null,1,0,0,0,0,0,0,0,0,0]
[null,null,null,6,7,0,0,0,0,0,0,0,0,0,0,0,0,0,null,null,null,null,null,null,null,2,0,0,0,0,0,0,0,0,0]
[null,null,null,6,8,0,0,0,0,0,0,0,0,0,0,0,0,0,null,null,null,null,null,null,null,3,0,0,0,0,0,0,0,0,0]
[null,null,null,6,9,0,0,0,0,0,0,0,0,0,0,0,0,0,null,null,null,null,null,null,null,4,0,0,0,0,0,0,0,0,0]
[null,null,"ＧＨＩ　グループ",7,1,0,0,0,0,0,0,0,0,0,0,0,0,0,null,null,null,null,null,null,null,5,0,0,0,0,0,0,0,0,0]
[null,null,null,7,2,0,0,0,0,0,0,0,0,0,0,0,0,0,null,null,null,null,null,null,null,6,0,0,0,0,0,0,0,0,0]
[null,null,null,7,3,0,0,0,0,0,0,0,0,0,0,0,0,0,null,null,null,null,null,null,null,7,0,0,0,0,0,0,0,0,0]
[null,null,null,7,4,0,0,0,0,0,0,0,0,0,0,0,0,0,null,null,null,null,null,null,null,8,0,0,0,0,0,0,0,0,0]
[null,null,null,7,5,0,0,0,0,0,0,0,0,0,0,0,0,0,null,null,null,null,null,null,null,9,0,0,0,0,0,0,0,0,0]
[null,null,null,7,6,0,0,0,0,0,0,0,0,0,0,0,0,0,null,null,null,null,null,null,null,null,null,null,null,null,null,null,null,null,null,{"$f":"SUM(AA371:AI379)","v":0}]
[null,null,null,7,7,0,0,0,0,0,0,0,0,0,0,0,0,0]
[null,null,null,7,8,0,0,0,0,0,0,0,0,0,0,0,0,0]
[null,null,null,7,9,0,0,0,0,0,0,0,0,0,0,0,0,0]
[null,null,null,8,1,0,0,0,0,0,0,0,0,0,0,0,0,0]
[null,null,null,8,2,0,0,0,0,0,0,0,0,0,0,0,0,0]
[null,null,null,8,3,0,0,3,0,0,0,3,0,0,{"$f":"COUNTIF(F386:N386,E386)","v":2},0,0,0]
[null,null,null,8,4,0,0,0,0,0,0,0,0,0,0,0,0,0]
[null,null,null,8,5,0,0,0,0,0,0,5,5,0,2,0,0,0]
[null,null,null,8,6,0,0,0,0,6,0,0,6,0,2,0,0,0]
[null,null,null,8,7,0,0,0,0,0,0,0,0,0,0,0,0,0]
[null,null,null,8,8,0,0,0,0,0,0,0,0,0,0,0,0,0]
[null,null,null,8,9,0,0,9,0,9,0,0,0,0,2,0,0,0]
[null,null,null,9,1,0,0,0,0,0,0,0,0,0,0,0,0,0]
[null,null,null,9,2,0,0,0,0,0,0,0,0,0,0,0,0,0]
[null,null,null,9,3,0,0,3,0,0,0,3,0,0,2,0,0,0]
[null,null,null,9,4,0,0,0,0,0,0,0,0,0,0,0,0,0]
[null,null,null,9,5,0,0,0,0,0,0,0,0,0,0,0,0,0]
[null,null,null,9,6,0,0,0,0,0,0,0,0,0,0,0,0,0]
[null,null,null,9,7,0,0,0,0,0,0,0,0,0,0,0,0,0]
[null,null,null,9,8,0,0,0,0,0,0,0,0,0,0,0,0,0]
[null,null,null,9,9,0,0,0,0,0,0,0,0,0,0,0,0,0]
[null,null,null,null,null,null,null,null,null,null,null,null,null,null,null,null,{"$f":"COUNT(P321:P401)-COUNTIF(P321:P401,0)","v":4}]
[null,null,null,"列",null,"難問１４の合計",null,null,null,null,null,null,null,null,"２の合計"]
[null,null,null,null,null,1,2,3,4,5,6,7,8,9]
[null,null,null,"１行",null,{"$f":"COUNT(F321:F329)-COUNTIF(F321:F329,0)","v":0},{"$f":"COUNT(G321:G329)-COUNTIF(G321:G329,0)","v":0},0,0,0,0,0,0,0,{"$f":"COUNTIF(F405:N405,2)","v":0}]
[null,null,null,"２行",null,{"$f":"COUNT(F330:F338)-COUNTIF(F330:F338,0)","v":2},{"$f":"COUNT(G330:G338)-COUNTIF(G330:G338,0)","v":2},0,2,0,2,0,0,0,{"$f":"COUNTIF(F406:N406,2)","v":4}]
[null,null,null,"３行",null,{"$f":"COUNT(F339:F347)-COUNTIF(F339:F347,0)","v":0},{"$f":"COUNT(G339:G347)-COUNTIF(G339:G347,0)","v":2},0,0,0,2,0,0,0,2]
[null,null,null,"４行",null,{"$f":"COUNT(F348:F356)-COUNTIF(F348:F356,0)","v":0},{"$f":"COUNT(G348:G356)-COUNTIF(G348:G356,0)","v":0},0,0,0,0,0,0,0,0]
[null,null,null,"５行",null,{"$f":"COUNT(F357:F365)-COUNTIF(F357:F365,0)","v":0},{"$f":"COUNT(G357:G365)-COUNTIF(G357:G365,0)","v":0},0,0,0,0,2,0,2,2]
[null,null,null,"６行",null,{"$f":"COUNT(F366:F374)-COUNTIF(F366:F374,0)","v":0},{"$f":"COUNT(G366:G374)-COUNTIF(G366:G374,0)","v":0},0,0,0,0,0,0,0,0]
[null,null,null,"７行",null,{"$f":"COUNT(F375:F383)-COUNTIF(F375:F383,0)","v":0},{"$f":"COUNT(G375:G383)-COUNTIF(G375:G383,0)","v":0},0,0,0,0,0,0,0,0]
[null,null,null,"８行",null,{"$f":"COUNT(F384:F392)-COUNTIF(F384:F392,0)","v":0},{"$f":"COUNT(G384:G392)-COUNTIF(G384:G392,0)","v":0},2,0,2,0,2,2,0,4]
[null,null,null,"９行",null,{"$f":"COUNT(F393:F401)-COUNTIF(F393:F401,0)","v":0},{"$f":"COUNT(G393:G401)-COUNTIF(G393:G401,0)","v":0},{"$f":"COUNT(H393:H401)-COUNTIF(H393:H401,0)","v":1},0,0,0,1,0,0,0]
[]
[]
[]
[]
[]
[null,null,"数独超難問（１７）の判定（列）",null,null,null,null,null,null,null,null,null,null,null,null,null,null,null,null,null,null,null,null,null,null,null,null,null,null,null,null,null,null,null,null,null,null,null,null,null,null,null,null,null,null,null,null,null,null,null,null,null,null,null,null,null,null,null,null,null,null,null,null,null,null,null,null,null,null,null,null,null,null,null,null,null,null,null,null,null,null,null,null,null,"合計"]
[null,null,null,1,1,1,1,1,1,1,1,1,2,2,2,2,2,2,2,2,2,3,3,3,3,3,3,3,3,3,4,4,4,4,4,4,4,4,4,5,5,5,5,5,5,5,5,5,6,6,6,6,6,6,6,6,6,7,7,7,7,7,7,7,7,7,8,8,8,8,8,8,8,8,8,9,9,9,9,9,9,9,9,9]
[null,null,"番号",1,2,3,4,5,6,7,8,9,1,2,3,4,5,6,7,8,9,1,2,3,4,5,6,7,8,9,1,2,3,4,5,6,7,8,9,1,2,3,4,5,6,7,8,9,1,2,3,4,5,6,7,8,9,1,2,3,4,5,6,7,8,9,1,2,3,4,5,6,7,8,9,1,2,3,4,5,6,7,8,9]
[null,"グループ","Ａ，Ｂ，Ｃ",{"$f":"IF(D13=3,IF(D66=3,3,),0)","v":0},0,0,0,0,0,0,0,0,0,0,0,0,0,0,0,0,0,0,0,0,0,0,0,0,0,0,0,0,0,0,0,{"$f":"IF(AJ13=3,IF(AJ66=3,3,),0)","v":0},0,0,0,0,0,0,0,0,0,0,0,0,0,0,0,0,0,0,0,0,0,0,0,0,0,0,0,0,0,0,0,{"$f":"IF(BP13=3,IF(BP66=3,3,),0)","v":0},0,0,0,0,0,0,0,0,0,0,0,0,0,0,0,0,{"$f":"SUM(D422:CF422)","v":0}]
[null,null,"D，E，F",{"$f":"IF(D13=3,IF(D67=3,3,),0)","v":0},0,0,0,0,0,0,0,0,0,0,0,0,0,0,0,0,0,0,0,0,0,0,0,0,0,0,0,0,0,0,0,{"$f":"IF(AJ13=3,IF(AJ67=3,3,),0)","v":0},0,0,0,0,0,0,0,0,0,0,0,0,0,0,0,0,0,0,0,0,0,0,0,0,0,0,0,0,0,0,0,{"$f":"IF(BP13=3,IF(BP67=3,3,),0)","v":0},0,0,0,0,0,0,0,0,0,0,0,0,0,0,0,0,{"$f":"SUM(D423:CF423)","v":0}]
[null,null,"G，H，I",{"$f":"IF(D13=3,IF(D68=3,3,),0)","v":0},0,0,0,0,0,0,0,0,0,0,0,0,0,0,0,0,0,0,0,0,0,0,0,0,0,0,0,0,0,0,0,{"$f":"IF(AJ13=3,IF(AJ68=3,3,),0)","v":0},0,0,0,0,0,0,0,0,0,0,0,0,0,0,0,0,0,0,0,0,0,0,0,0,0,0,0,0,0,0,0,{"$f":"IF(BP13=3,IF(BP68=3,3,),0)","v":0},0,0,0,0,0,0,0,0,0,0,0,0,0,0,0,0,{"$f":"SUM(D424:CF424)","v":0}]
[null,null,null,null,null,null,null,null,null,null,null,null,null,null,null,null,null,null,null,null,null,null,null,null,null,null,null,null,null,null,null,null,null,null,null,null,null,null,null,null,null,null,null,null,null,null,null,null,null,null,null,null,null,null,null,null,null,null,null,null,null,null,null,null,null,null,null,null,null,null,null,null,null,null,null,null,null,null,null,null,null,null,null,null,{"$f":"SUM(CG422:CG424)","v":0}]
[]
[null,null,"数独超難問（１７）の判定（行）",null,null,null,null,null,null,null,null,null,null,null,null,null,null,null,null,null,null,null,null,null,null,null,null,null,null,null,"合計"]
[null,null,"グループ","Ａ，Ｄ，Ｇ",null,null,null,null,null,null,null,null,"Ｂ，Ｅ，Ｈ",null,null,null,null,null,null,null,null,"Ｃ，Ｆ，Ｉ"]
[null,null,"番号",1,2,3,4,5,6,7,8,9,1,2,3,4,5,6,7,8,9,1,2,3,4,5,6,7,8,9]
[null,"行","１行",{"$f":"IF(CH4=3,IF(D75=3,3,),0)","v":0},{"$f":"IF(CI4=3,IF(E75=3,3,),0)","v":0},0,0,0,0,0,0,0,{"$f":"IF(CH4=3,IF(M75=3,3,),0)","v":0},{"$f":"IF(CI4=3,IF(N75=3,3,),0)","v":0},0,0,0,0,0,0,0,{"$f":"IF(CH4=3,IF(V75=3,3,),0)","v":0},{"$f":"IF(CI4=3,IF(W75=3,3,),0)","v":0},0,0,0,0,0,0,0,{"$f":"SUM(D430:AD430)","v":0}]
[null,null,"２行",0,{"$f":"IF(CI5=3,IF(E76=3,3,),0)","v":0},0,0,0,0,0,0,0,0,{"$f":"IF(CI5=3,IF(N76=3,3,),0)","v":0},0,0,0,0,0,0,0,0,{"$f":"IF(CI5=3,IF(W76=3,3,),0)","v":0},0,0,0,0,0,0,0,{"$f":"SUM(D431:AD431)","v":0}]
[null,null,"３行",0,{"$f":"IF(CI6=3,IF(E77=3,3,),0)","v":0},0,0,0,0,0,0,0,0,{"$f":"IF(CI6=3,IF(N77=3,3,),0)","v":0},0,0,0,0,0,0,0,0,{"$f":"IF(CI6=3,IF(W77=3,3,),0)","v":0},0,0,0,0,0,0,0,0]
[null,null,"４行",0,{"$f":"IF(CI7=3,IF(E78=3,3,),0)","v":0},0,0,0,0,0,0,0,0,{"$f":"IF(CI7=3,IF(N78=3,3,),0)","v":0},0,0,0,0,0,0,0,0,{"$f":"IF(CI7=3,IF(W78=3,3,),0)","v":0},0,0,0,0,0,0,0,0]
[null,null,"５行",0,{"$f":"IF(CI8=3,IF(E79=3,3,),0)","v":0},0,0,0,0,0,0,0,0,{"$f":"IF(CI8=3,IF(N79=3,3,),0)","v":0},0,0,0,0,0,0,0,0,{"$f":"IF(CI8=3,IF(W79=3,3,),0)","v":0},0,0,0,0,0,0,0,0]
[null,null,"６行",0,{"$f":"IF(CI9=3,IF(E80=3,3,),0)","v":0},0,0,0,0,0,0,0,0,{"$f":"IF(CI9=3,IF(N80=3,3,),0)","v":0},0,0,0,0,0,0,0,0,{"$f":"IF(CI9=3,IF(W80=3,3,),0)","v":0},0,0,0,0,0,0,0,0]
[null,null,"７行",0,{"$f":"IF(CI10=3,IF(E81=3,3,),0)","v":0},0,0,0,0,0,0,0,0,{"$f":"IF(CI10=3,IF(N81=3,3,),0)","v":0},0,0,0,0,0,0,0,0,{"$f":"IF(CI10=3,IF(W81=3,3,),0)","v":0},0,0,0,0,0,0,0,0]
[null,null,"８行",0,{"$f":"IF(CI11=3,IF(E82=3,3,),0)","v":0},0,0,0,0,0,0,0,0,{"$f":"IF(CI11=3,IF(N82=3,3,),0)","v":0},0,0,0,0,0,0,0,0,{"$f":"IF(CI11=3,IF(W82=3,3,),0)","v":0},0,0,0,0,0,0,0,0]
[null,null,"９行",0,{"$f":"IF(CI12=3,IF(E83=3,3,),0)","v":0},0,0,0,0,0,0,0,0,{"$f":"IF(CI12=3,IF(N83=3,3,),0)","v":0},0,0,0,0,0,0,0,0,{"$f":"IF(CI12=3,IF(W83=3,3,),0)","v":0},0,0,0,0,0,0,0,0]
[null,null,null,null,null,null,null,null,null,null,null,null,null,null,null,null,null,null,null,null,null,null,null,null,null,null,null,null,null,null,{"$f":"SUM(AE430:AE438)","v":0}]
[]
[]
[]
[]
[null,null,"数独超難問（１７）の判定（列）",null,null,null,null,null,null,null,null,null,null,null,null,null,null,null,null,null,null,null,null,null,null,null,null,null,null,null,null,null,null,null,null,null,null,null,null,null,null,null,null,null,null,null,null,null,null,null,null,null,null,null,null,null,null,null,null,null,null,null,null,null,null,null,null,null,null,null,null,null,null,null,null,null,null,null,null,null,null,null,null,null,"合計"]
[null,null,null,1,1,1,1,1,1,1,1,1,2,2,2,2,2,2,2,2,2,3,3,3,3,3,3,3,3,3,4,4,4,4,4,4,4,4,4,5,5,5,5,5,5,5,5,5,6,6,6,6,6,6,6,6,6,7,7,7,7,7,7,7,7,7,8,8,8,8,8,8,8,8,8,9,9,9,9,9,9,9,9,9]
[null,null,"番号",1,2,3,4,5,6,7,8,9,1,2,3,4,5,6,7,8,9,1,2,3,4,5,6,7,8,9,1,2,3,4,5,6,7,8,9,1,2,3,4,5,6,7,8,9,1,2,3,4,5,6,7,8,9,1,2,3,4,5,6,7,8,9,1,2,3,4,5,6,7,8,9,1,2,3,4,5,6,7,8,9]
[null,"グループ","Ａ，Ｂ，Ｃ",{"$f":"IF(D17=3,IF(D66=3,3,),0)","v":0},0,0,0,0,0,0,0,0,{"$f":"IF(D17=3,IF(M66=3,3,),0)","v":0},0,0,0,0,0,0,0,0,{"$f":"IF(D17=3,IF(V66=3,3,),0)","v":0},0,0,0,0,0,0,0,0,0,{"$f":"IF(N17=3,IF(AF66=3,3,),0)","v":0},0,0,0,0,0,0,0,{"$f":"IF(M17=3,IF(AN66=3,3,),0)","v":0},0,0,0,0,0,0,0,0,{"$f":"IF(M17=3,IF(AW66=3,3,),0)","v":0},{"$f":"IF(N17=3,IF(AX66=3,3,),0)","v":0},0,0,0,0,0,0,0,0,0,{"$f":"IF(X17=3,IF(BH66=3,3,),0)","v":0},0,0,0,0,0,0,{"$f":"IF(V17=3,IF(BO66=3,3,),0)","v":0},0,0,0,0,0,0,0,0,{"$f":"IF(V17=3,IF(BX66=3,3,),0)","v":0},0,0,0,{"$f":"IF(Z17=3,IF(C66=3,3,),0)","v":0},{"$f":"IF(AA17=3,IF(CC66=3,3,),0)","v":0},0,0,0,{"$f":"SUM(D447:CF447)","v":0}]
[null,null,"D，E，F",{"$f":"IF(D18=3,IF(D67=3,3,),0)","v":0},0,0,0,0,0,0,0,0,0,0,0,0,0,0,0,0,0,0,0,0,0,0,0,0,0,0,0,0,0,0,0,0,0,0,0,0,0,0,0,0,0,0,0,0,{"$f":"IF(M18=3,IF(AW67=3,3,),0)","v":0},0,0,0,0,0,0,0,0,0,0,0,0,0,0,0,0,0,0,0,0,0,0,0,0,0,0,0,0,0,0,{"$f":"IF(Z18=3,IF(C67=3,3,),0)","v":0},0,0,0,0,{"$f":"SUM(D448:CF448)","v":0}]
[null,null,"G，H，I",{"$f":"IF(D19=3,IF(D68=3,3,),0)","v":0},0,0,0,0,0,0,0,0,0,0,0,0,0,0,0,0,0,0,0,0,0,0,0,0,0,{"$f":"IF(L19=3,IF(AD68=3,3,),0)","v":0},0,0,0,0,0,0,0,0,0,0,0,0,0,0,0,0,0,0,{"$f":"IF(M19=3,IF(AW68=3,3,),0)","v":0},0,0,0,0,0,0,0,0,0,0,0,0,0,0,0,0,0,0,0,0,0,0,0,0,0,0,0,0,0,0,{"$f":"IF(Z19=3,IF(C68=3,3,),0)","v":0},0,0,0,0,{"$f":"SUM(D449:CF449)","v":0}]
[null,null,null,null,null,null,null,null,null,null,null,null,null,null,null,null,null,null,null,null,null,null,null,null,null,null,null,null,null,null,null,null,null,null,null,null,null,null,null,null,null,null,null,null,null,null,null,null,null,null,null,null,null,null,null,null,null,null,null,null,null,null,null,null,null,null,null,null,null,null,null,null,null,null,null,null,null,null,null,null,null,null,null,null,{"$f":"SUM(CG447:CG449)","v":0}]
[]
[null,null,"数独超難問（１７）の判定（行）",null,null,null,null,null,null,null,null,null,null,null,null,null,null,null,null,null,null,null,null,null,null,null,null,null,null,null,"合計"]
[null,null,"グループ","Ａ，Ｄ，Ｇ",null,null,null,null,null,null,null,null,"Ｂ，Ｅ，Ｈ",null,null,null,null,null,null,null,null,"Ｃ，Ｆ，Ｉ"]
[null,null,"番号",1,2,3,4,5,6,7,8,9,1,2,3,4,5,6,7,8,9,1,2,3,4,5,6,7,8,9]
[null,"行","１行",{"$f":"IF($D$17=3,IF(D75=3,3,),0)","v":0},{"$f":"IF($E$17=3,IF(E75=3,3,),0)","v":0},{"$f":"IF($F$17=3,IF(F75=3,3,),0)","v":0},{"$f":"IF($G$17=3,IF(G75=3,3,),0)","v":0},{"$f":"IF($H$17=3,IF(H75=3,3,),0)","v":0},{"$f":"IF($I$17=3,IF(I75=3,3,),0)","v":0},{"$f":"IF($J$17=3,IF(J75=3,3,),0)","v":0},{"$f":"IF($K$17=3,IF(K75=3,3,),0)","v":0},{"$f":"IF($L$17=3,IF(L75=3,3,),0)","v":0},{"$f":"IF($M$17=3,IF(M75=3,3,),0)","v":0},{"$f":"IF($N$17=3,IF(N75=3,3,),0)","v":0},{"$f":"IF($O$17=3,IF(O75=3,3,),0)","v":0},{"$f":"IF($P$17=3,IF(P75=3,3,),0)","v":0},{"$f":"IF($Q$17=3,IF(Q75=3,3,),0)","v":0},{"$f":"IF($R$17=3,IF(R75=3,3,),0)","v":0},{"$f":"IF($S$17=3,IF(S75=3,3,),0)","v":0},{"$f":"IF($T$17=3,IF(T75=3,3,),0)","v":0},{"$f":"IF($U$17=3,IF(U75=3,3,),0)","v":0},{"$f":"IF($V$17=3,IF(V75=3,3,),0)","v":0},{"$f":"IF($W$17=3,IF(W75=3,3,),0)","v":0},{"$f":"IF($X$17=3,IF(X75=3,3,),0)","v":0},{"$f":"IF($Y$17=3,IF(Y75=3,3,),0)","v":0},{"$f":"IF($Z$17=3,IF(Z75=3,3,),0)","v":0},{"$f":"IF($AA$17=3,IF(AA75=3,3,),0)","v":0},{"$f":"IF($AB$17=3,IF(AB75=3,3,),0)","v":0},{"$f":"IF($AC$17=3,IF(AC75=3,3,),0)","v":0},{"$f":"IF($AD$17=3,IF(AD75=3,3,),0)","v":0},{"$f":"SUM(D455:AD455)","v":0}]
[null,null,"２行",{"$f":"IF($D$17=3,IF(D76=3,3,),0)","v":0},{"$f":"IF($E$17=3,IF(E76=3,3,),0)","v":0},{"$f":"IF($F$17=3,IF(F76=3,3,),0)","v":0},{"$f":"IF($G$17=3,IF(G76=3,3,),0)","v":0},{"$f":"IF($H$17=3,IF(H76=3,3,),0)","v":0},{"$f":"IF($I$17=3,IF(I76=3,3,),0)","v":0},{"$f":"IF($J$17=3,IF(J76=3,3,),0)","v":0},{"$f":"IF($K$17=3,IF(K76=3,3,),0)","v":0},{"$f":"IF($L$17=3,IF(L76=3,3,),0)","v":0},{"$f":"IF($M$17=3,IF(M76=3,3,),0)","v":0},{"$f":"IF($N$17=3,IF(N76=3,3,),0)","v":0},{"$f":"IF($O$17=3,IF(O76=3,3,),0)","v":0},{"$f":"IF($P$17=3,IF(P76=3,3,),0)","v":0},{"$f":"IF($Q$17=3,IF(Q76=3,3,),0)","v":0},{"$f":"IF($R$17=3,IF(R76=3,3,),0)","v":0},{"$f":"IF($S$17=3,IF(S76=3,3,),0)","v":0},{"$f":"IF($T$17=3,IF(T76=3,3,),0)","v":0},{"$f":"IF($U$17=3,IF(U76=3,3,),0)","v":0},{"$f":"IF($V$17=3,IF(V76=3,3,),0)","v":0},{"$f":"IF($W$17=3,IF(W76=3,3,),0)","v":0},{"$f":"IF($X$17=3,IF(X76=3,3,),0)","v":0},{"$f":"IF($Y$17=3,IF(Y76=3,3,),0)","v":0},{"$f":"IF($Z$17=3,IF(Z76=3,3,),0)","v":0},{"$f":"IF($AA$17=3,IF(AA76=3,3,),0)","v":0},{"$f":"IF($AB$17=3,IF(AB76=3,3,),0)","v":0},{"$f":"IF($AC$17=3,IF(AC76=3,3,),0)","v":0},{"$f":"IF($AD$17=3,IF(AD76=3,3,),0)","v":0},{"$f":"SUM(D456:AD456)","v":0}]
[null,null,"３行",{"$f":"IF($D$17=3,IF(D77=3,3,),0)","v":0},{"$f":"IF($E$17=3,IF(E77=3,3,),0)","v":0},{"$f":"IF($F$17=3,IF(F77=3,3,),0)","v":0},{"$f":"IF($G$17=3,IF(G77=3,3,),0)","v":0},{"$f":"IF($H$17=3,IF(H77=3,3,),0)","v":0},{"$f":"IF($I$17=3,IF(I77=3,3,),0)","v":0},{"$f":"IF($J$17=3,IF(J77=3,3,),0)","v":0},{"$f":"IF($K$17=3,IF(K77=3,3,),0)","v":0},{"$f":"IF($L$17=3,IF(L77=3,3,),0)","v":0},{"$f":"IF($M$17=3,IF(M77=3,3,),0)","v":0},{"$f":"IF($N$17=3,IF(N77=3,3,),0)","v":0},{"$f":"IF($O$17=3,IF(O77=3,3,),0)","v":0},{"$f":"IF($P$17=3,IF(P77=3,3,),0)","v":0},{"$f":"IF($Q$17=3,IF(Q77=3,3,),0)","v":0},{"$f":"IF($R$17=3,IF(R77=3,3,),0)","v":0},{"$f":"IF($S$17=3,IF(S77=3,3,),0)","v":0},{"$f":"IF($T$17=3,IF(T77=3,3,),0)","v":0},{"$f":"IF($U$17=3,IF(U77=3,3,),0)","v":0},{"$f":"IF($V$17=3,IF(V77=3,3,),0)","v":0},{"$f":"IF($W$17=3,IF(W77=3,3,),0)","v":0},{"$f":"IF($X$17=3,IF(X77=3,3,),0)","v":0},{"$f":"IF($Y$17=3,IF(Y77=3,3,),0)","v":0},{"$f":"IF($Z$17=3,IF(Z77=3,3,),0)","v":0},{"$f":"IF($AA$17=3,IF(AA77=3,3,),0)","v":0},{"$f":"IF($AB$17=3,IF(AB77=3,3,),0)","v":0},{"$f":"IF($AC$17=3,IF(AC77=3,3,),0)","v":0},{"$f":"IF($AD$17=3,IF(AD77=3,3,),0)","v":0},0]
[null,null,"４行",{"$f":"IF($D$18=3,IF(D78=3,3,),0)","v":0},{"$f":"IF($E$18=3,IF(E78=3,3,),0)","v":0},{"$f":"IF($F$18=3,IF(F78=3,3,),0)","v":0},{"$f":"IF($G$18=3,IF(G78=3,3,),0)","v":0},{"$f":"IF($H$18=3,IF(H78=3,3,),0)","v":0},{"$f":"IF($I$18=3,IF(I78=3,3,),0)","v":0},{"$f":"IF($J$18=3,IF(J78=3,3,),0)","v":0},{"$f":"IF($K$18=3,IF(K78=3,3,),0)","v":0},{"$f":"IF($L$18=3,IF(L78=3,3,),0)","v":0},{"$f":"IF($M$18=3,IF(M78=3,3,),0)","v":0},{"$f":"IF($N$18=3,IF(N78=3,3,),0)","v":0},{"$f":"IF($O$18=3,IF(O78=3,3,),0)","v":0},{"$f":"IF($P$18=3,IF(P78=3,3,),0)","v":0},{"$f":"IF($Q$18=3,IF(Q78=3,3,),0)","v":0},{"$f":"IF($R$18=3,IF(R78=3,3,),0)","v":0},{"$f":"IF($S$18=3,IF(S78=3,3,),0)","v":0},{"$f":"IF($T$18=3,IF(T78=3,3,),0)","v":0},{"$f":"IF($U$18=3,IF(U78=3,3,),0)","v":0},{"$f":"IF($V$18=3,IF(V78=3,3,),0)","v":0},{"$f":"IF($W$18=3,IF(W78=3,3,),0)","v":0},{"$f":"IF($X$18=3,IF(X78=3,3,),0)","v":0},{"$f":"IF($Y$18=3,IF(Y78=3,3,),0)","v":0},{"$f":"IF($Z$18=3,IF(Z78=3,3,),0)","v":0},{"$f":"IF($AA$18=3,IF(AA78=3,3,),0)","v":0},{"$f":"IF($AB$18=3,IF(AB78=3,3,),0)","v":0},{"$f":"IF($AC$18=3,IF(AC78=3,3,),0)","v":0},{"$f":"IF($AD$18=3,IF(AD78=3,3,),0)","v":0},0]
[null,null,"５行",{"$f":"IF($D$18=3,IF(D79=3,3,),0)","v":0},{"$f":"IF($E$18=3,IF(E79=3,3,),0)","v":0},{"$f":"IF($F$18=3,IF(F79=3,3,),0)","v":0},{"$f":"IF($G$18=3,IF(G79=3,3,),0)","v":0},{"$f":"IF($H$18=3,IF(H79=3,3,),0)","v":0},{"$f":"IF($I$18=3,IF(I79=3,3,),0)","v":0},{"$f":"IF($J$18=3,IF(J79=3,3,),0)","v":0},{"$f":"IF($K$18=3,IF(K79=3,3,),0)","v":0},{"$f":"IF($L$18=3,IF(L79=3,3,),0)","v":0},{"$f":"IF($M$18=3,IF(M79=3,3,),0)","v":0},{"$f":"IF($N$18=3,IF(N79=3,3,),0)","v":0},{"$f":"IF($O$18=3,IF(O79=3,3,),0)","v":0},{"$f":"IF($P$18=3,IF(P79=3,3,),0)","v":0},{"$f":"IF($Q$18=3,IF(Q79=3,3,),0)","v":0},{"$f":"IF($R$18=3,IF(R79=3,3,),0)","v":0},{"$f":"IF($S$18=3,IF(S79=3,3,),0)","v":0},{"$f":"IF($T$18=3,IF(T79=3,3,),0)","v":0},{"$f":"IF($U$18=3,IF(U79=3,3,),0)","v":0},{"$f":"IF($V$18=3,IF(V79=3,3,),0)","v":0},{"$f":"IF($W$18=3,IF(W79=3,3,),0)","v":0},{"$f":"IF($X$18=3,IF(X79=3,3,),0)","v":0},{"$f":"IF($Y$18=3,IF(Y79=3,3,),0)","v":0},{"$f":"IF($Z$18=3,IF(Z79=3,3,),0)","v":0},{"$f":"IF($AA$18=3,IF(AA79=3,3,),0)","v":0},{"$f":"IF($AB$18=3,IF(AB79=3,3,),0)","v":0},{"$f":"IF($AC$18=3,IF(AC79=3,3,),0)","v":0},{"$f":"IF($AD$18=3,IF(AD79=3,3,),0)","v":0},0]
[null,null,"６行",{"$f":"IF($D$18=3,IF(D80=3,3,),0)","v":0},{"$f":"IF($E$18=3,IF(E80=3,3,),0)","v":0},{"$f":"IF($F$18=3,IF(F80=3,3,),0)","v":0},{"$f":"IF($G$18=3,IF(G80=3,3,),0)","v":0},{"$f":"IF($H$18=3,IF(H80=3,3,),0)","v":0},{"$f":"IF($I$18=3,IF(I80=3,3,),0)","v":0},{"$f":"IF($J$18=3,IF(J80=3,3,),0)","v":0},{"$f":"IF($K$18=3,IF(K80=3,3,),0)","v":0},{"$f":"IF($L$18=3,IF(L80=3,3,),0)","v":0},{"$f":"IF($M$18=3,IF(M80=3,3,),0)","v":0},{"$f":"IF($N$18=3,IF(N80=3,3,),0)","v":0},{"$f":"IF($O$18=3,IF(O80=3,3,),0)","v":0},{"$f":"IF($P$18=3,IF(P80=3,3,),0)","v":0},{"$f":"IF($Q$18=3,IF(Q80=3,3,),0)","v":0},{"$f":"IF($R$18=3,IF(R80=3,3,),0)","v":0},{"$f":"IF($S$18=3,IF(S80=3,3,),0)","v":0},{"$f":"IF($T$18=3,IF(T80=3,3,),0)","v":0},{"$f":"IF($U$18=3,IF(U80=3,3,),0)","v":0},{"$f":"IF($V$18=3,IF(V80=3,3,),0)","v":0},{"$f":"IF($W$18=3,IF(W80=3,3,),0)","v":0},{"$f":"IF($X$18=3,IF(X80=3,3,),0)","v":0},{"$f":"IF($Y$18=3,IF(Y80=3,3,),0)","v":0},{"$f":"IF($Z$18=3,IF(Z80=3,3,),0)","v":0},{"$f":"IF($AA$18=3,IF(AA80=3,3,),0)","v":0},{"$f":"IF($AB$18=3,IF(AB80=3,3,),0)","v":0},{"$f":"IF($AC$18=3,IF(AC80=3,3,),0)","v":0},{"$f":"IF($AD$18=3,IF(AD80=3,3,),0)","v":0},0]
[null,null,"７行",{"$f":"IF($D$19=3,IF(D81=3,3,),0)","v":0},{"$f":"IF($E$19=3,IF(E81=3,3,),0)","v":0},{"$f":"IF($F$19=3,IF(F81=3,3,),0)","v":0},{"$f":"IF($G$19=3,IF(G81=3,3,),0)","v":0},{"$f":"IF($H$19=3,IF(H81=3,3,),0)","v":0},{"$f":"IF($I$19=3,IF(I81=3,3,),0)","v":0},{"$f":"IF($J$19=3,IF(J81=3,3,),0)","v":0},{"$f":"IF($K$19=3,IF(K81=3,3,),0)","v":0},{"$f":"IF($L$19=3,IF(L81=3,3,),0)","v":0},{"$f":"IF($M$19=3,IF(M81=3,3,),0)","v":0},{"$f":"IF($N$19=3,IF(N81=3,3,),0)","v":0},{"$f":"IF($O$19=3,IF(O81=3,3,),0)","v":0},{"$f":"IF($P$19=3,IF(P81=3,3,),0)","v":0},{"$f":"IF($Q$19=3,IF(Q81=3,3,),0)","v":0},{"$f":"IF($R$19=3,IF(R81=3,3,),0)","v":0},{"$f":"IF($S$19=3,IF(S81=3,3,),0)","v":0},{"$f":"IF($T$19=3,IF(T81=3,3,),0)","v":0},{"$f":"IF($U$19=3,IF(U81=3,3,),0)","v":0},{"$f":"IF($V$19=3,IF(V81=3,3,),0)","v":0},{"$f":"IF($W$19=3,IF(W81=3,3,),0)","v":0},{"$f":"IF($X$19=3,IF(X81=3,3,),0)","v":0},{"$f":"IF($Y$19=3,IF(Y81=3,3,),0)","v":0},{"$f":"IF($Z$19=3,IF(Z81=3,3,),0)","v":0},{"$f":"IF($AA$19=3,IF(AA81=3,3,),0)","v":0},{"$f":"IF($AB$19=3,IF(AB81=3,3,),0)","v":0},{"$f":"IF($AC$19=3,IF(AC81=3,3,),0)","v":0},{"$f":"IF($AD$19=3,IF(AD81=3,3,),0)","v":0},0]
[null,null,"８行",{"$f":"IF($D$19=3,IF(D82=3,3,),0)","v":0},{"$f":"IF($E$19=3,IF(E82=3,3,),0)","v":0},{"$f":"IF($F$19=3,IF(F82=3,3,),0)","v":0},{"$f":"IF($G$19=3,IF(G82=3,3,),0)","v":0},{"$f":"IF($H$19=3,IF(H82=3,3,),0)","v":0},{"$f":"IF($I$19=3,IF(I82=3,3,),0)","v":0},{"$f":"IF($J$19=3,IF(J82=3,3,),0)","v":0},{"$f":"IF($K$19=3,IF(K82=3,3,),0)","v":0},{"$f":"IF($L$19=3,IF(L82=3,3,),0)","v":0},{"$f":"IF($M$19=3,IF(M82=3,3,),0)","v":0},{"$f":"IF($N$19=3,IF(N82=3,3,),0)","v":0},{"$f":"IF($O$19=3,IF(O82=3,3,),0)","v":0},{"$f":"IF($P$19=3,IF(P82=3,3,),0)","v":0},{"$f":"IF($Q$19=3,IF(Q82=3,3,),0)","v":0},{"$f":"IF($R$19=3,IF(R82=3,3,),0)","v":0},{"$f":"IF($S$19=3,IF(S82=3,3,),0)","v":0},{"$f":"IF($T$19=3,IF(T82=3,3,),0)","v":0},{"$f":"IF($U$19=3,IF(U82=3,3,),0)","v":0},{"$f":"IF($V$19=3,IF(V82=3,3,),0)","v":0},{"$f":"IF($W$19=3,IF(W82=3,3,),0)","v":0},{"$f":"IF($X$19=3,IF(X82=3,3,),0)","v":0},{"$f":"IF($Y$19=3,IF(Y82=3,3,),0)","v":0},{"$f":"IF($Z$19=3,IF(Z82=3,3,),0)","v":0},{"$f":"IF($AA$19=3,IF(AA82=3,3,),0)","v":0},{"$f":"IF($AB$19=3,IF(AB82=3,3,),0)","v":0},{"$f":"IF($AC$19=3,IF(AC82=3,3,),0)","v":0},{"$f":"IF($AD$19=3,IF(AD82=3,3,),0)","v":0},0]
[null,null,"９行",{"$f":"IF($D$19=3,IF(D83=3,3,),0)","v":0},{"$f":"IF($E$19=3,IF(E83=3,3,),0)","v":0},{"$f":"IF($F$19=3,IF(F83=3,3,),0)","v":0},{"$f":"IF($G$19=3,IF(G83=3,3,),0)","v":0},{"$f":"IF($H$19=3,IF(H83=3,3,),0)","v":0},{"$f":"IF($I$19=3,IF(I83=3,3,),0)","v":0},{"$f":"IF($J$19=3,IF(J83=3,3,),0)","v":0},{"$f":"IF($K$19=3,IF(K83=3,3,),0)","v":0},{"$f":"IF($L$19=3,IF(L83=3,3,),0)","v":0},{"$f":"IF($M$19=3,IF(M83=3,3,),0)","v":0},{"$f":"IF($N$19=3,IF(N83=3,3,),0)","v":0},{"$f":"IF($O$19=3,IF(O83=3,3,),0)","v":0},{"$f":"IF($P$19=3,IF(P83=3,3,),0)","v":0},{"$f":"IF($Q$19=3,IF(Q83=3,3,),0)","v":0},{"$f":"IF($R$19=3,IF(R83=3,3,),0)","v":0},{"$f":"IF($S$19=3,IF(S83=3,3,),0)","v":0},{"$f":"IF($T$19=3,IF(T83=3,3,),0)","v":0},{"$f":"IF($U$19=3,IF(U83=3,3,),0)","v":0},{"$f":"IF($V$19=3,IF(V83=3,3,),0)","v":0},{"$f":"IF($W$19=3,IF(W83=3,3,),0)","v":0},{"$f":"IF($X$19=3,IF(X83=3,3,),0)","v":0},{"$f":"IF($Y$19=3,IF(Y83=3,3,),0)","v":0},{"$f":"IF($Z$19=3,IF(Z83=3,3,),0)","v":0},{"$f":"IF($AA$19=3,IF(AA83=3,3,),0)","v":0},{"$f":"IF($AB$19=3,IF(AB83=3,3,),0)","v":0},{"$f":"IF($AC$19=3,IF(AC83=3,3,),0)","v":0},{"$f":"IF($AD$19=3,IF(AD83=3,3,),0)","v":0},0]
[null,null,null,null,null,null,null,null,null,null,null,null,null,null,null,null,null,null,null,null,null,null,null,null,null,null,null,null,null,null,{"$f":"SUM(AE455:AE463)","v":0}]
[]
[]
[]
[]
[null,"難問１０５番対応(行方向)",null,null,null,null,null,null,null,null,null,null,null,null,"上段　：　（列の個数）　　　　中段：　（列番号）　　　　下段：　（対象数値）"]
[null,null,null,null,null,null,null,null,null,null,null,null,null,null,"３数字の組み合わせ"]
[null,"行","数値","１列","２列","３列","４列","５列","６列","７列","８列","９列","個数","合計",1,2,3,4,5,6,7,8,9,10,11,12,13,14,15,16,17,18,19]
[null,"１行目",1,{"$f":"IF($M472<>0,D$4,0)","v":0},{"$f":"IF($M472<>0,M$4,0)","v":0},{"$f":"IF($M472<>0,V$4,0)","v":0},{"$f":"IF($M472<>0,AE$4,0)","v":0},{"$f":"IF($M472<>0,AN$4,0)","v":0},{"$f":"IF($M472<>0,AW$4,0)","v":0},{"$f":"IF($M472<>0,BF$4,0)","v":0},{"$f":"IF($M472<>0,BO$4,0)","v":0},{"$f":"IF($M472<>0,BX$4,0)","v":0},{"$f":"IF(CH$4<=3,CH$4,0)","v":0},{"$f":"COUNTIF(M472:M480,\">0\")","v":0},0,0,0,0,0,0,0,0,0,0,0,0,0,0,0,0,0,0,0,{"$f":"COUNTIF(O472:AG474,3)","v":0}]
[null,null,2,{"$f":"IF($M473<>0,E$4,0)","v":0},{"$f":"IF($M473<>0,N$4,0)","v":0},{"$f":"IF($M473<>0,W$4,0)","v":0},{"$f":"IF($M473<>0,AF$4,0)","v":0},{"$f":"IF($M473<>0,AO$4,0)","v":0},{"$f":"IF($M473<>0,AX$4,0)","v":0},{"$f":"IF($M473<>0,BG$4,0)","v":0},{"$f":"IF($M473<>0,BP$4,0)","v":0},{"$f":"IF($M473<>0,BY$4,0)","v":0},{"$f":"IF(CI$4<=3,CI$4,0)","v":0}]
[null,null,3,{"$f":"IF($M474<>0,F$4,0)","v":0},{"$f":"IF($M474<>0,O$4,0)","v":0},{"$f":"IF($M474<>0,X$4,0)","v":0},{"$f":"IF($M474<>0,AG$4,0)","v":0},{"$f":"IF($M474<>0,AP$4,0)","v":0},{"$f":"IF($M474<>0,AY$4,0)","v":0},{"$f":"IF($M474<>0,BH$4,0)","v":0},{"$f":"IF($M474<>0,BQ$4,0)","v":0},{"$f":"IF($M474<>0,BZ$4,0)","v":0},{"$f":"IF(CJ$4<=3,CJ$4,0)","v":0}]
[null,null,4,{"$f":"IF($M475<>0,G$4,0)","v":0},{"$f":"IF($M475<>0,P$4,0)","v":0},{"$f":"IF($M475<>0,Y$4,0)","v":0},{"$f":"IF($M475<>0,AH$4,0)","v":0},{"$f":"IF($M475<>0,AQ$4,0)","v":0},{"$f":"IF($M475<>0,AZ$4,0)","v":0},{"$f":"IF($M475<>0,BI$4,0)","v":0},{"$f":"IF($M475<>0,BR$4,0)","v":0},{"$f":"IF($M475<>0,CA$4,0)","v":0},{"$f":"IF(CK$4<=3,CK$4,0)","v":0},null,0,0,0,0,0,0,0,0,0,0,0,0,0,0,0,0,0,0,0]
[null,null,5,{"$f":"IF($M476<>0,H$4,0)","v":0},{"$f":"IF($M476<>0,Q$4,0)","v":0},{"$f":"IF($M476<>0,Z$4,0)","v":0},{"$f":"IF($M476<>0,AI$4,0)","v":0},{"$f":"IF($M476<>0,AR$4,0)","v":0},{"$f":"IF($M476<>0,BA$4,0)","v":0},{"$f":"IF($M476<>0,BJ$4,0)","v":0},{"$f":"IF($M476<>0,BS$4,0)","v":0},{"$f":"IF($M476<>0,CB$4,0)","v":0},{"$f":"IF(CL$4<=3,CL$4,0)","v":0},null,0,0,0,0,0,0,0,0,0,0,0,0,0,0,0,0,0,0,0]
[null,null,6,{"$f":"IF($M477<>0,I$4,0)","v":0},{"$f":"IF($M477<>0,R$4,0)","v":0},{"$f":"IF($M477<>0,AA$4,0)","v":0},{"$f":"IF($M477<>0,AJ$4,0)","v":0},{"$f":"IF($M477<>0,AS$4,0)","v":0},{"$f":"IF($M477<>0,BB$4,0)","v":0},{"$f":"IF($M477<>0,BK$4,0)","v":0},{"$f":"IF($M477<>0,BT$4,0)","v":0},{"$f":"IF($M477<>0,CC$4,0)","v":0},{"$f":"IF(CM$4<=3,CM$4,0)","v":0},null,0,0,0,0,0,0,0,0,0,0,0,0,0,0,0,0,0,0,0]
[null,null,7,{"$f":"IF($M478<>0,J$4,0)","v":0},{"$f":"IF($M478<>0,S$4,0)","v":0},{"$f":"IF($M478<>0,AB$4,0)","v":0},{"$f":"IF($M478<>0,AK$4,0)","v":0},{"$f":"IF($M478<>0,AT$4,0)","v":0},{"$f":"IF($M478<>0,BC$4,0)","v":0},{"$f":"IF($M478<>0,BL$4,0)","v":0},{"$f":"IF($M478<>0,BU$4,0)","v":0},{"$f":"IF($M478<>0,CD$4,0)","v":0},{"$f":"IF(CN$4<=3,CN$4,0)","v":0},null,0,0,0,0,0,0,0,0,0,0,0,0,0,0,0,0,0,0,0]
[null,null,8,{"$f":"IF($M479<>0,K$4,0)","v":0},{"$f":"IF($M479<>0,T$4,0)","v":0},{"$f":"IF($M479<>0,AC$4,0)","v":0},{"$f":"IF($M479<>0,AL$4,0)","v":0},{"$f":"IF($M479<>0,AU$4,0)","v":0},{"$f":"IF($M479<>0,BD$4,0)","v":0},{"$f":"IF($M479<>0,BM$4,0)","v":0},{"$f":"IF($M479<>0,BV$4,0)","v":0},{"$f":"IF($M479<>0,CE$4,0)","v":0},{"$f":"IF(CO$4<=3,CO$4,0)","v":0},null,0,0,0,0,0,0,0,0,0,0,0,0,0,0,0,0,0,0,0]
[null,null,9,{"$f":"IF($M480<>0,L$4,0)","v":0},{"$f":"IF($M480<>0,U$4,0)","v":0},{"$f":"IF($M480<>0,AD$4,0)","v":0},{"$f":"IF($M480<>0,AM$4,0)","v":0},{"$f":"IF($M480<>0,AV$4,0)","v":0},{"$f":"IF($M480<>0,BE$4,0)","v":0},{"$f":"IF($M480<>0,BN$4,0)","v":0},{"$f":"IF($M480<>0,BW$4,0)","v":0},{"$f":"IF($M480<>0,CF$4,0)","v":0},{"$f":"IF(CP$4<=3,CP$4,0)","v":0},null,0,0,0,0,0,0,0,0,0,0,0,0,0,0,0,0,0,0,0]
[null,"２行目",1,{"$f":"IF($M481<>0,D$5,0)","v":0},{"$f":"IF($M481<>0,M$5,0)","v":0},{"$f":"IF($M481<>0,V$5,0)","v":0},{"$f":"IF($M481<>0,AE$5,0)","v":0},{"$f":"IF($M481<>0,AN$5,0)","v":0},{"$f":"IF($M481<>0,AW$5,0)","v":0},{"$f":"IF($M481<>0,BF$5,0)","v":0},{"$f":"IF($M481<>0,BO$5,0)","v":0},{"$f":"IF($M481<>0,BX$5,0)","v":0},{"$f":"IF(CH$5<=3,CH$5,0)","v":0},{"$f":"COUNTIF(M481:M489,\">0\")","v":0},0,0,0,0,0,0,0,0,0,0,0,0,0,0,0,0,0,0,0,{"$f":"COUNTIF(O481:AG483,3)","v":0}]
[null,null,2,{"$f":"IF($M482<>0,E$5,0)","v":0},{"$f":"IF($M482<>0,N$5,0)","v":0},{"$f":"IF($M482<>0,W$5,0)","v":0},{"$f":"IF($M482<>0,AF$5,0)","v":0},{"$f":"IF($M482<>0,AO$5,0)","v":0},{"$f":"IF($M482<>0,AX$5,0)","v":0},{"$f":"IF($M482<>0,BG$5,0)","v":0},{"$f":"IF($M482<>0,BP$5,0)","v":0},{"$f":"IF($M482<>0,BY$5,0)","v":0},{"$f":"IF(CI$5<=3,CI$5,0)","v":0}]
[null,null,3,{"$f":"IF($M483<>0,F$5,0)","v":0},{"$f":"IF($M483<>0,O$5,0)","v":0},{"$f":"IF($M483<>0,X$5,0)","v":0},{"$f":"IF($M483<>0,AG$5,0)","v":0},{"$f":"IF($M483<>0,AP$5,0)","v":0},{"$f":"IF($M483<>0,AY$5,0)","v":0},{"$f":"IF($M483<>0,BH$5,0)","v":0},{"$f":"IF($M483<>0,BQ$5,0)","v":0},{"$f":"IF($M483<>0,BZ$5,0)","v":0},{"$f":"IF(CJ$5<=3,CJ$5,0)","v":0}]
[null,null,4,{"$f":"IF($M484<>0,G$5,0)","v":0},{"$f":"IF($M484<>0,P$5,0)","v":0},{"$f":"IF($M484<>0,Y$5,0)","v":0},{"$f":"IF($M484<>0,AH$5,0)","v":0},{"$f":"IF($M484<>0,AQ$5,0)","v":0},{"$f":"IF($M484<>0,AZ$5,0)","v":0},{"$f":"IF($M484<>0,BI$5,0)","v":0},{"$f":"IF($M484<>0,BR$5,0)","v":0},{"$f":"IF($M484<>0,CA$5,0)","v":0},{"$f":"IF(CK$5<=3,CK$5,0)","v":0},null,0,0,0,0,0,0,0,0,0,0,0,0,0,0,0,0,0,0,0]
[null,null,5,{"$f":"IF($M485<>0,H$5,0)","v":0},{"$f":"IF($M485<>0,Q$5,0)","v":0},{"$f":"IF($M485<>0,Z$5,0)","v":0},{"$f":"IF($M485<>0,AI$5,0)","v":0},{"$f":"IF($M485<>0,AR$5,0)","v":0},{"$f":"IF($M485<>0,BA$5,0)","v":0},{"$f":"IF($M485<>0,BJ$5,0)","v":0},{"$f":"IF($M485<>0,BS$5,0)","v":0},{"$f":"IF($M485<>0,CB$5,0)","v":0},{"$f":"IF(CL$5<=3,CL$5,0)","v":0},null,0,0,0,0,0,0,0,0,0,0,0,0,0,0,0,0,0,0,0]
[null,null,6,{"$f":"IF($M486<>0,I$5,0)","v":0},{"$f":"IF($M486<>0,R$5,0)","v":0},{"$f":"IF($M486<>0,AA$5,0)","v":0},{"$f":"IF($M486<>0,AJ$5,0)","v":0},{"$f":"IF($M486<>0,AS$5,0)","v":0},{"$f":"IF($M486<>0,BB$5,0)","v":0},{"$f":"IF($M486<>0,BK$5,0)","v":0},{"$f":"IF($M486<>0,BT$5,0)","v":0},{"$f":"IF($M486<>0,CC$5,0)","v":0},{"$f":"IF(CM$5<=3,CM$5,0)","v":0},null,0,0,0,0,0,0,0,0,0,0,0,0,0,0,0,0,0,0,0]
[null,null,7,{"$f":"IF($M487<>0,J$5,0)","v":0},{"$f":"IF($M487<>0,S$5,0)","v":0},{"$f":"IF($M487<>0,AB$5,0)","v":0},{"$f":"IF($M487<>0,AK$5,0)","v":0},{"$f":"IF($M487<>0,AT$5,0)","v":0},{"$f":"IF($M487<>0,BC$5,0)","v":0},{"$f":"IF($M487<>0,BL$5,0)","v":0},{"$f":"IF($M487<>0,BU$5,0)","v":0},{"$f":"IF($M487<>0,CD$5,0)","v":0},{"$f":"IF(CN$5<=3,CN$5,0)","v":0},null,0,0,0,0,0,0,0,0,0,0,0,0,0,0,0,0,0,0,0]
[null,null,8,{"$f":"IF($M488<>0,K$5,0)","v":0},{"$f":"IF($M488<>0,T$5,0)","v":0},{"$f":"IF($M488<>0,AC$5,0)","v":0},{"$f":"IF($M488<>0,AL$5,0)","v":0},{"$f":"IF($M488<>0,AU$5,0)","v":0},{"$f":"IF($M488<>0,BD$5,0)","v":0},{"$f":"IF($M488<>0,BM$5,0)","v":0},{"$f":"IF($M488<>0,BV$5,0)","v":0},{"$f":"IF($M488<>0,CE$5,0)","v":0},{"$f":"IF(CO$5<=3,CO$5,0)","v":0},null,0,0,0,0,0,0,0,0,0,0,0,0,0,0,0,0,0,0,0]
[null,null,9,{"$f":"IF($M489<>0,L$5,0)","v":0},{"$f":"IF($M489<>0,U$5,0)","v":0},{"$f":"IF($M489<>0,AD$5,0)","v":0},{"$f":"IF($M489<>0,AM$5,0)","v":0},{"$f":"IF($M489<>0,AV$5,0)","v":0},{"$f":"IF($M489<>0,BE$5,0)","v":0},{"$f":"IF($M489<>0,BN$5,0)","v":0},{"$f":"IF($M489<>0,BW$5,0)","v":0},{"$f":"IF($M489<>0,CF$5,0)","v":0},{"$f":"IF(CP$5<=3,CP$5,0)","v":0},null,0,0,0,0,0,0,0,0,0,0,0,0,0,0,0,0,0,0,0]
[null,"３行目",1,{"$f":"IF($M490<>0,D$6,0)","v":0},{"$f":"IF($M490<>0,M$6,0)","v":0},{"$f":"IF($M490<>0,V$6,0)","v":0},{"$f":"IF($M490<>0,AE$6,0)","v":0},{"$f":"IF($M490<>0,AN$6,0)","v":0},{"$f":"IF($M490<>0,AW$6,0)","v":0},{"$f":"IF($M490<>0,BF$6,0)","v":0},{"$f":"IF($M490<>0,BO$6,0)","v":0},{"$f":"IF($M490<>0,BX$6,0)","v":0},{"$f":"IF(CH$6<=3,CH$6,0)","v":0},{"$f":"COUNTIF(M490:M498,\">0\")","v":0},0,0,0,0,0,0,0,0,0,0,0,0,0,0,0,0,0,0,0,{"$f":"COUNTIF(O490:AG492,3)","v":0}]
[null,null,2,{"$f":"IF($M491<>0,E$6,0)","v":0},{"$f":"IF($M491<>0,N$6,0)","v":0},{"$f":"IF($M491<>0,W$6,0)","v":0},{"$f":"IF($M491<>0,AF$6,0)","v":0},{"$f":"IF($M491<>0,AO$6,0)","v":0},{"$f":"IF($M491<>0,AX$6,0)","v":0},{"$f":"IF($M491<>0,BG$6,0)","v":0},{"$f":"IF($M491<>0,BP$6,0)","v":0},{"$f":"IF($M491<>0,BY$6,0)","v":0},{"$f":"IF(CI$6<=3,CI$6,0)","v":0}]
[null,null,3,{"$f":"IF($M492<>0,F$6,0)","v":0},{"$f":"IF($M492<>0,O$6,0)","v":0},{"$f":"IF($M492<>0,X$6,0)","v":0},{"$f":"IF($M492<>0,AG$6,0)","v":0},{"$f":"IF($M492<>0,AP$6,0)","v":0},{"$f":"IF($M492<>0,AY$6,0)","v":0},{"$f":"IF($M492<>0,BH$6,0)","v":0},{"$f":"IF($M492<>0,BQ$6,0)","v":0},{"$f":"IF($M492<>0,BZ$6,0)","v":0},{"$f":"IF(CJ$6<=3,CJ$6,0)","v":0}]
[null,null,4,{"$f":"IF($M493<>0,G$6,0)","v":0},{"$f":"IF($M493<>0,P$6,0)","v":0},{"$f":"IF($M493<>0,Y$6,0)","v":0},{"$f":"IF($M493<>0,AH$6,0)","v":0},{"$f":"IF($M493<>0,AQ$6,0)","v":0},{"$f":"IF($M493<>0,AZ$6,0)","v":0},{"$f":"IF($M493<>0,BI$6,0)","v":0},{"$f":"IF($M493<>0,BR$6,0)","v":0},{"$f":"IF($M493<>0,CA$6,0)","v":0},{"$f":"IF(CK$6<=3,CK$6,0)","v":0},null,0,0,0,0,0,0,0,0,0,0,0,0,0,0,0,0,0,0,0]
[null,null,5,{"$f":"IF($M494<>0,H$6,0)","v":0},{"$f":"IF($M494<>0,Q$6,0)","v":0},{"$f":"IF($M494<>0,Z$6,0)","v":0},{"$f":"IF($M494<>0,AI$6,0)","v":0},{"$f":"IF($M494<>0,AR$6,0)","v":0},{"$f":"IF($M494<>0,BA$6,0)","v":0},{"$f":"IF($M494<>0,BJ$6,0)","v":0},{"$f":"IF($M494<>0,BS$6,0)","v":0},{"$f":"IF($M494<>0,CB$6,0)","v":0},{"$f":"IF(CL$6<=3,CL$6,0)","v":0},null,0,0,0,0,0,0,0,0,0,0,0,0,0,0,0,0,0,0,0]
[null,null,6,{"$f":"IF($M495<>0,I$6,0)","v":0},{"$f":"IF($M495<>0,R$6,0)","v":0},{"$f":"IF($M495<>0,AA$6,0)","v":0},{"$f":"IF($M495<>0,AJ$6,0)","v":0},{"$f":"IF($M495<>0,AS$6,0)","v":0},{"$f":"IF($M495<>0,BB$6,0)","v":0},{"$f":"IF($M495<>0,BK$6,0)","v":0},{"$f":"IF($M495<>0,BT$6,0)","v":0},{"$f":"IF($M495<>0,CC$6,0)","v":0},{"$f":"IF(CM$6<=3,CM$6,0)","v":0},null,0,0,0,0,0,0,0,0,0,0,0,0,0,0,0,0,0,0,0]
[null,null,7,{"$f":"IF($M496<>0,J$6,0)","v":0},{"$f":"IF($M496<>0,S$6,0)","v":0},{"$f":"IF($M496<>0,AB$6,0)","v":0},{"$f":"IF($M496<>0,AK$6,0)","v":0},{"$f":"IF($M496<>0,AT$6,0)","v":0},{"$f":"IF($M496<>0,BC$6,0)","v":0},{"$f":"IF($M496<>0,BL$6,0)","v":0},{"$f":"IF($M496<>0,BU$6,0)","v":0},{"$f":"IF($M496<>0,CD$6,0)","v":0},{"$f":"IF(CN$6<=3,CN$6,0)","v":0},null,0,0,0,0,0,0,0,0,0,0,0,0,0,0,0,0,0,0,0]
[null,null,8,{"$f":"IF($M497<>0,K$6,0)","v":0},{"$f":"IF($M497<>0,T$6,0)","v":0},{"$f":"IF($M497<>0,AC$6,0)","v":0},{"$f":"IF($M497<>0,AL$6,0)","v":0},{"$f":"IF($M497<>0,AU$6,0)","v":0},{"$f":"IF($M497<>0,BD$6,0)","v":0},{"$f":"IF($M497<>0,BM$6,0)","v":0},{"$f":"IF($M497<>0,BV$6,0)","v":0},{"$f":"IF($M497<>0,CE$6,0)","v":0},{"$f":"IF(CO$6<=3,CO$6,0)","v":0},null,0,0,0,0,0,0,0,0,0,0,0,0,0,0,0,0,0,0,0]
[null,null,9,{"$f":"IF($M498<>0,L$6,0)","v":0},{"$f":"IF($M498<>0,U$6,0)","v":0},{"$f":"IF($M498<>0,AD$6,0)","v":0},{"$f":"IF($M498<>0,AM$6,0)","v":0},{"$f":"IF($M498<>0,AV$6,0)","v":0},{"$f":"IF($M498<>0,BE$6,0)","v":0},{"$f":"IF($M498<>0,BN$6,0)","v":0},{"$f":"IF($M498<>0,BW$6,0)","v":0},{"$f":"IF($M498<>0,CF$6,0)","v":0},{"$f":"IF(CP$6<=3,CP$6,0)","v":0},null,0,0,0,0,0,0,0,0,0,0,0,0,0,0,0,0,0,0,0]
[null,"４行目",1,{"$f":"IF($M499<>0,D$7,0)","v":0},{"$f":"IF($M499<>0,M$7,0)","v":0},{"$f":"IF($M499<>0,V$7,0)","v":0},{"$f":"IF($M499<>0,AE$7,0)","v":0},{"$f":"IF($M499<>0,AN$7,0)","v":0},{"$f":"IF($M499<>0,AW$7,0)","v":0},{"$f":"IF($M499<>0,BF$7,0)","v":0},{"$f":"IF($M499<>0,BO$7,0)","v":0},{"$f":"IF($M499<>0,BX$7,0)","v":0},{"$f":"IF(CH$7<=3,CH$7,0)","v":0},{"$f":"COUNTIF(M499:M507,\">0\")","v":0},0,0,0,0,0,0,0,0,0,0,0,0,0,0,0,0,0,0,0,{"$f":"COUNTIF(O499:AG501,3)","v":0}]
[null,null,2,{"$f":"IF($M500<>0,E$7,0)","v":0},{"$f":"IF($M500<>0,N$7,0)","v":0},{"$f":"IF($M500<>0,W$7,0)","v":0},{"$f":"IF($M500<>0,AF$7,0)","v":0},{"$f":"IF($M500<>0,AO$7,0)","v":0},{"$f":"IF($M500<>0,AX$7,0)","v":0},{"$f":"IF($M500<>0,BG$7,0)","v":0},{"$f":"IF($M500<>0,BP$7,0)","v":0},{"$f":"IF($M500<>0,BY$7,0)","v":0},{"$f":"IF(CI$7<=3,CI$7,0)","v":0}]
[null,null,3,{"$f":"IF($M501<>0,F$7,0)","v":0},{"$f":"IF($M501<>0,O$7,0)","v":0},{"$f":"IF($M501<>0,X$7,0)","v":0},{"$f":"IF($M501<>0,AG$7,0)","v":0},{"$f":"IF($M501<>0,AP$7,0)","v":0},{"$f":"IF($M501<>0,AY$7,0)","v":0},{"$f":"IF($M501<>0,BH$7,0)","v":0},{"$f":"IF($M501<>0,BQ$7,0)","v":0},{"$f":"IF($M501<>0,BZ$7,0)","v":0},{"$f":"IF(CJ$7<=3,CJ$7,0)","v":0}]
[null,null,4,{"$f":"IF($M502<>0,G$7,0)","v":0},{"$f":"IF($M502<>0,P$7,0)","v":0},{"$f":"IF($M502<>0,Y$7,0)","v":0},{"$f":"IF($M502<>0,AH$7,0)","v":0},{"$f":"IF($M502<>0,AQ$7,0)","v":0},{"$f":"IF($M502<>0,AZ$7,0)","v":0},{"$f":"IF($M502<>0,BI$7,0)","v":0},{"$f":"IF($M502<>0,BR$7,0)","v":0},{"$f":"IF($M502<>0,CA$7,0)","v":0},{"$f":"IF(CK$7<=3,CK$7,0)","v":0},null,0,0,0,0,0,0,0,0,0,0,0,0,0,0,0,0,0,0,0]
[null,null,5,{"$f":"IF($M503<>0,H$7,0)","v":0},{"$f":"IF($M503<>0,Q$7,0)","v":0},{"$f":"IF($M503<>0,Z$7,0)","v":0},{"$f":"IF($M503<>0,AI$7,0)","v":0},{"$f":"IF($M503<>0,AR$7,0)","v":0},{"$f":"IF($M503<>0,BA$7,0)","v":0},{"$f":"IF($M503<>0,BJ$7,0)","v":0},{"$f":"IF($M503<>0,BS$7,0)","v":0},{"$f":"IF($M503<>0,CB$7,0)","v":0},{"$f":"IF(CL$7<=3,CL$7,0)","v":0},null,0,0,0,0,0,0,0,0,0,0,0,0,0,0,0,0,0,0,0]
[null,null,6,{"$f":"IF($M504<>0,I$7,0)","v":0},{"$f":"IF($M504<>0,R$7,0)","v":0},{"$f":"IF($M504<>0,AA$7,0)","v":0},{"$f":"IF($M504<>0,AJ$7,0)","v":0},{"$f":"IF($M504<>0,AS$7,0)","v":0},{"$f":"IF($M504<>0,BB$7,0)","v":0},{"$f":"IF($M504<>0,BK$7,0)","v":0},{"$f":"IF($M504<>0,BT$7,0)","v":0},{"$f":"IF($M504<>0,CC$7,0)","v":0},{"$f":"IF(CM$7<=3,CM$7,0)","v":0},null,0,0,0,0,0,0,0,0,0,0,0,0,0,0,0,0,0,0,0]
[null,null,7,{"$f":"IF($M505<>0,J$7,0)","v":0},{"$f":"IF($M505<>0,S$7,0)","v":0},{"$f":"IF($M505<>0,AB$7,0)","v":0},{"$f":"IF($M505<>0,AK$7,0)","v":0},{"$f":"IF($M505<>0,AT$7,0)","v":0},{"$f":"IF($M505<>0,BC$7,0)","v":0},{"$f":"IF($M505<>0,BL$7,0)","v":0},{"$f":"IF($M505<>0,BU$7,0)","v":0},{"$f":"IF($M505<>0,CD$7,0)","v":0},{"$f":"IF(CN$7<=3,CN$7,0)","v":0},null,0,0,0,0,0,0,0,0,0,0,0,0,0,0,0,0,0,0,0]
[null,null,8,{"$f":"IF($M506<>0,K$7,0)","v":0},{"$f":"IF($M506<>0,T$7,0)","v":0},{"$f":"IF($M506<>0,AC$7,0)","v":0},{"$f":"IF($M506<>0,AL$7,0)","v":0},{"$f":"IF($M506<>0,AU$7,0)","v":0},{"$f":"IF($M506<>0,BD$7,0)","v":0},{"$f":"IF($M506<>0,BM$7,0)","v":0},{"$f":"IF($M506<>0,BV$7,0)","v":0},{"$f":"IF($M506<>0,CE$7,0)","v":0},{"$f":"IF(CO$7<=3,CO$7,0)","v":0},null,0,0,0,0,0,0,0,0,0,0,0,0,0,0,0,0,0,0,0]
[null,null,9,{"$f":"IF($M507<>0,L$7,0)","v":0},{"$f":"IF($M507<>0,U$7,0)","v":0},{"$f":"IF($M507<>0,AD$7,0)","v":0},{"$f":"IF($M507<>0,AM$7,0)","v":0},{"$f":"IF($M507<>0,AV$7,0)","v":0},{"$f":"IF($M507<>0,BE$7,0)","v":0},{"$f":"IF($M507<>0,BN$7,0)","v":0},{"$f":"IF($M507<>0,BW$7,0)","v":0},{"$f":"IF($M507<>0,CF$7,0)","v":0},{"$f":"IF(CP$7<=3,CP$7,0)","v":0},null,0,0,0,0,0,0,0,0,0,0,0,0,0,0,0,0,0,0,0]
[null,"５行目",1,{"$f":"IF($M508<>0,D$8,0)","v":0},{"$f":"IF($M508<>0,M$8,0)","v":0},{"$f":"IF($M508<>0,V$8,0)","v":0},{"$f":"IF($M508<>0,AE$8,0)","v":0},{"$f":"IF($M508<>0,AN$8,0)","v":0},{"$f":"IF($M508<>0,AW$8,0)","v":0},{"$f":"IF($M508<>0,BF$8,0)","v":0},{"$f":"IF($M508<>0,BO$8,0)","v":0},{"$f":"IF($M508<>0,BX$8,0)","v":0},{"$f":"IF(CH$8<=3,CH$8,0)","v":0},{"$f":"COUNTIF(M508:M516,\">0\")","v":0},0,0,0,0,0,0,0,0,0,0,0,0,0,0,0,0,0,0,0,{"$f":"COUNTIF(O508:AG510,3)","v":0}]
[null,null,2,{"$f":"IF($M509<>0,E$8,0)","v":0},{"$f":"IF($M509<>0,N$8,0)","v":0},{"$f":"IF($M509<>0,W$8,0)","v":0},{"$f":"IF($M509<>0,AF$8,0)","v":0},{"$f":"IF($M509<>0,AO$8,0)","v":0},{"$f":"IF($M509<>0,AX$8,0)","v":0},{"$f":"IF($M509<>0,BG$8,0)","v":0},{"$f":"IF($M509<>0,BP$8,0)","v":0},{"$f":"IF($M509<>0,BY$8,0)","v":0},{"$f":"IF(CI$8<=3,CI$8,0)","v":0}]
[null,null,3,{"$f":"IF($M510<>0,F$8,0)","v":0},{"$f":"IF($M510<>0,O$8,0)","v":0},{"$f":"IF($M510<>0,X$8,0)","v":0},{"$f":"IF($M510<>0,AG$8,0)","v":0},{"$f":"IF($M510<>0,AP$8,0)","v":0},{"$f":"IF($M510<>0,AY$8,0)","v":0},{"$f":"IF($M510<>0,BH$8,0)","v":0},{"$f":"IF($M510<>0,BQ$8,0)","v":0},{"$f":"IF($M510<>0,BZ$8,0)","v":0},{"$f":"IF(CJ$8<=3,CJ$8,0)","v":0}]
[null,null,4,{"$f":"IF($M511<>0,G$8,0)","v":0},{"$f":"IF($M511<>0,P$8,0)","v":0},{"$f":"IF($M511<>0,Y$8,0)","v":0},{"$f":"IF($M511<>0,AH$8,0)","v":0},{"$f":"IF($M511<>0,AQ$8,0)","v":0},{"$f":"IF($M511<>0,AZ$8,0)","v":0},{"$f":"IF($M511<>0,BI$8,0)","v":0},{"$f":"IF($M511<>0,BR$8,0)","v":0},{"$f":"IF($M511<>0,CA$8,0)","v":0},{"$f":"IF(CK$8<=3,CK$8,0)","v":0},null,0,0,0,0,0,0,0,0,0,0,0,0,0,0,0,0,0,0,0]
[null,null,5,{"$f":"IF($M512<>0,H$8,0)","v":0},{"$f":"IF($M512<>0,Q$8,0)","v":0},{"$f":"IF($M512<>0,Z$8,0)","v":0},{"$f":"IF($M512<>0,AI$8,0)","v":0},{"$f":"IF($M512<>0,AR$8,0)","v":0},{"$f":"IF($M512<>0,BA$8,0)","v":0},{"$f":"IF($M512<>0,BJ$8,0)","v":0},{"$f":"IF($M512<>0,BS$8,0)","v":0},{"$f":"IF($M512<>0,CB$8,0)","v":0},{"$f":"IF(CL$8<=3,CL$8,0)","v":0},null,0,0,0,0,0,0,0,0,0,0,0,0,0,0,0,0,0,0,0]
[null,null,6,{"$f":"IF($M513<>0,I$8,0)","v":0},{"$f":"IF($M513<>0,R$8,0)","v":0},{"$f":"IF($M513<>0,AA$8,0)","v":0},{"$f":"IF($M513<>0,AJ$8,0)","v":0},{"$f":"IF($M513<>0,AS$8,0)","v":0},{"$f":"IF($M513<>0,BB$8,0)","v":0},{"$f":"IF($M513<>0,BK$8,0)","v":0},{"$f":"IF($M513<>0,BT$8,0)","v":0},{"$f":"IF($M513<>0,CC$8,0)","v":0},{"$f":"IF(CM$8<=3,CM$8,0)","v":0},null,0,0,0,0,0,0,0,0,0,0,0,0,0,0,0,0,0,0,0]
[null,null,7,{"$f":"IF($M514<>0,J$8,0)","v":0},{"$f":"IF($M514<>0,S$8,0)","v":0},{"$f":"IF($M514<>0,AB$8,0)","v":0},{"$f":"IF($M514<>0,AK$8,0)","v":0},{"$f":"IF($M514<>0,AT$8,0)","v":0},{"$f":"IF($M514<>0,BC$8,0)","v":0},{"$f":"IF($M514<>0,BL$8,0)","v":0},{"$f":"IF($M514<>0,BU$8,0)","v":0},{"$f":"IF($M514<>0,CD$8,0)","v":0},{"$f":"IF(CN$8<=3,CN$8,0)","v":0},null,0,0,0,0,0,0,0,0,0,0,0,0,0,0,0,0,0,0,0]
[null,null,8,{"$f":"IF($M515<>0,K$8,0)","v":0},{"$f":"IF($M515<>0,T$8,0)","v":0},{"$f":"IF($M515<>0,AC$8,0)","v":0},{"$f":"IF($M515<>0,AL$8,0)","v":0},{"$f":"IF($M515<>0,AU$8,0)","v":0},{"$f":"IF($M515<>0,BD$8,0)","v":0},{"$f":"IF($M515<>0,BM$8,0)","v":0},{"$f":"IF($M515<>0,BV$8,0)","v":0},{"$f":"IF($M515<>0,CE$8,0)","v":0},{"$f":"IF(CO$8<=3,CO$8,0)","v":0},null,0,0,0,0,0,0,0,0,0,0,0,0,0,0,0,0,0,0,0]
[null,null,9,{"$f":"IF($M516<>0,L$8,0)","v":0},{"$f":"IF($M516<>0,U$8,0)","v":0},{"$f":"IF($M516<>0,AD$8,0)","v":0},{"$f":"IF($M516<>0,AM$8,0)","v":0},{"$f":"IF($M516<>0,AV$8,0)","v":0},{"$f":"IF($M516<>0,BE$8,0)","v":0},{"$f":"IF($M516<>0,BN$8,0)","v":0},{"$f":"IF($M516<>0,BW$8,0)","v":0},{"$f":"IF($M516<>0,CF$8,0)","v":0},{"$f":"IF(CP$8<=3,CP$8,0)","v":0},null,0,0,0,0,0,0,0,0,0,0,0,0,0,0,0,0,0,0,0]
[null,"６行目",1,{"$f":"IF($M517<>0,D$9,0)","v":0},{"$f":"IF($M517<>0,M$9,0)","v":0},{"$f":"IF($M517<>0,V$9,0)","v":0},{"$f":"IF($M517<>0,AE$9,0)","v":0},{"$f":"IF($M517<>0,AN$9,0)","v":0},{"$f":"IF($M517<>0,AW$9,0)","v":0},{"$f":"IF($M517<>0,BF$9,0)","v":0},{"$f":"IF($M517<>0,BO$9,0)","v":0},{"$f":"IF($M517<>0,BX$9,0)","v":0},{"$f":"IF(CH$9<=3,CH$9,0)","v":0},{"$f":"COUNTIF(M517:M525,\">0\")","v":0},0,0,0,0,0,0,0,0,0,0,0,0,0,0,0,0,0,0,0,{"$f":"COUNTIF(O517:AG519,3)","v":0}]
[null,null,2,{"$f":"IF($M518<>0,E$9,0)","v":0},{"$f":"IF($M518<>0,N$9,0)","v":0},{"$f":"IF($M518<>0,W$9,0)","v":0},{"$f":"IF($M518<>0,AF$9,0)","v":0},{"$f":"IF($M518<>0,AO$9,0)","v":0},{"$f":"IF($M518<>0,AX$9,0)","v":0},{"$f":"IF($M518<>0,BG$9,0)","v":0},{"$f":"IF($M518<>0,BP$9,0)","v":0},{"$f":"IF($M518<>0,BY$9,0)","v":0},{"$f":"IF(CI$9<=3,CI$9,0)","v":0}]
[null,null,3,{"$f":"IF($M519<>0,F$9,0)","v":0},{"$f":"IF($M519<>0,O$9,0)","v":0},{"$f":"IF($M519<>0,X$9,0)","v":0},{"$f":"IF($M519<>0,AG$9,0)","v":0},{"$f":"IF($M519<>0,AP$9,0)","v":0},{"$f":"IF($M519<>0,AY$9,0)","v":0},{"$f":"IF($M519<>0,BH$9,0)","v":0},{"$f":"IF($M519<>0,BQ$9,0)","v":0},{"$f":"IF($M519<>0,BZ$9,0)","v":0},{"$f":"IF(CJ$9<=3,CJ$9,0)","v":0}]
[null,null,4,{"$f":"IF($M520<>0,G$9,0)","v":0},{"$f":"IF($M520<>0,P$9,0)","v":0},{"$f":"IF($M520<>0,Y$9,0)","v":0},{"$f":"IF($M520<>0,AH$9,0)","v":0},{"$f":"IF($M520<>0,AQ$9,0)","v":0},{"$f":"IF($M520<>0,AZ$9,0)","v":0},{"$f":"IF($M520<>0,BI$9,0)","v":0},{"$f":"IF($M520<>0,BR$9,0)","v":0},{"$f":"IF($M520<>0,CA$9,0)","v":0},{"$f":"IF(CK$9<=3,CK$9,0)","v":0},null,0,0,0,0,0,0,0,0,0,0,0,0,0,0,0,0,0,0,0]
[null,null,5,{"$f":"IF($M521<>0,H$9,0)","v":0},{"$f":"IF($M521<>0,Q$9,0)","v":0},{"$f":"IF($M521<>0,Z$9,0)","v":0},{"$f":"IF($M521<>0,AI$9,0)","v":0},{"$f":"IF($M521<>0,AR$9,0)","v":0},{"$f":"IF($M521<>0,BA$9,0)","v":0},{"$f":"IF($M521<>0,BJ$9,0)","v":0},{"$f":"IF($M521<>0,BS$9,0)","v":0},{"$f":"IF($M521<>0,CB$9,0)","v":0},{"$f":"IF(CL$9<=3,CL$9,0)","v":0},null,0,0,0,0,0,0,0,0,0,0,0,0,0,0,0,0,0,0,0]
[null,null,6,{"$f":"IF($M522<>0,I$9,0)","v":0},{"$f":"IF($M522<>0,R$9,0)","v":0},{"$f":"IF($M522<>0,AA$9,0)","v":0},{"$f":"IF($M522<>0,AJ$9,0)","v":0},{"$f":"IF($M522<>0,AS$9,0)","v":0},{"$f":"IF($M522<>0,BB$9,0)","v":0},{"$f":"IF($M522<>0,BK$9,0)","v":0},{"$f":"IF($M522<>0,BT$9,0)","v":0},{"$f":"IF($M522<>0,CC$9,0)","v":0},{"$f":"IF(CM$9<=3,CM$9,0)","v":0},null,0,0,0,0,0,0,0,0,0,0,0,0,0,0,0,0,0,0,0]
[null,null,7,{"$f":"IF($M523<>0,J$9,0)","v":0},{"$f":"IF($M523<>0,S$9,0)","v":0},{"$f":"IF($M523<>0,AB$9,0)","v":0},{"$f":"IF($M523<>0,AK$9,0)","v":0},{"$f":"IF($M523<>0,AT$9,0)","v":0},{"$f":"IF($M523<>0,BC$9,0)","v":0},{"$f":"IF($M523<>0,BL$9,0)","v":0},{"$f":"IF($M523<>0,BU$9,0)","v":0},{"$f":"IF($M523<>0,CD$9,0)","v":0},{"$f":"IF(CN$9<=3,CN$9,0)","v":0},null,0,0,0,0,0,0,0,0,0,0,0,0,0,0,0,0,0,0,0]
[null,null,8,{"$f":"IF($M524<>0,K$9,0)","v":0},{"$f":"IF($M524<>0,T$9,0)","v":0},{"$f":"IF($M524<>0,AC$9,0)","v":0},{"$f":"IF($M524<>0,AL$9,0)","v":0},{"$f":"IF($M524<>0,AU$9,0)","v":0},{"$f":"IF($M524<>0,BD$9,0)","v":0},{"$f":"IF($M524<>0,BM$9,0)","v":0},{"$f":"IF($M524<>0,BV$9,0)","v":0},{"$f":"IF($M524<>0,CE$9,0)","v":0},{"$f":"IF(CO$9<=3,CO$9,0)","v":0},null,0,0,0,0,0,0,0,0,0,0,0,0,0,0,0,0,0,0,0]
[null,null,9,{"$f":"IF($M525<>0,L$9,0)","v":0},{"$f":"IF($M525<>0,U$9,0)","v":0},{"$f":"IF($M525<>0,AD$9,0)","v":0},{"$f":"IF($M525<>0,AM$9,0)","v":0},{"$f":"IF($M525<>0,AV$9,0)","v":0},{"$f":"IF($M525<>0,BE$9,0)","v":0},{"$f":"IF($M525<>0,BN$9,0)","v":0},{"$f":"IF($M525<>0,BW$9,0)","v":0},{"$f":"IF($M525<>0,CF$9,0)","v":0},{"$f":"IF(CP$9<=3,CP$9,0)","v":0},null,0,0,0,0,0,0,0,0,0,0,0,0,0,0,0,0,0,0,0]
[null,"７行目",1,{"$f":"IF($M526<>0,D$10,0)","v":0},{"$f":"IF($M526<>0,M$10,0)","v":0},{"$f":"IF($M526<>0,V$10,0)","v":0},{"$f":"IF($M526<>0,AE$10,0)","v":0},{"$f":"IF($M526<>0,AN$10,0)","v":0},{"$f":"IF($M526<>0,AW$10,0)","v":0},{"$f":"IF($M526<>0,BF$10,0)","v":0},{"$f":"IF($M526<>0,BO$10,0)","v":0},{"$f":"IF($M526<>0,BX$10,0)","v":0},{"$f":"IF(CH$10<=3,CH$10,0)","v":0},{"$f":"COUNTIF(M526:M534,\">0\")","v":0},0,0,0,0,0,0,0,0,0,0,0,0,0,0,0,0,0,0,0,{"$f":"COUNTIF(O526:AG528,3)","v":0}]
[null,null,2,{"$f":"IF($M527<>0,E$10,0)","v":0},{"$f":"IF($M527<>0,N$10,0)","v":0},{"$f":"IF($M527<>0,W$10,0)","v":0},{"$f":"IF($M527<>0,AF$10,0)","v":0},{"$f":"IF($M527<>0,AO$10,0)","v":0},{"$f":"IF($M527<>0,AX$10,0)","v":0},{"$f":"IF($M527<>0,BG$10,0)","v":0},{"$f":"IF($M527<>0,BP$10,0)","v":0},{"$f":"IF($M527<>0,BY$10,0)","v":0},{"$f":"IF(CI$10<=3,CI$10,0)","v":0}]
[null,null,3,{"$f":"IF($M528<>0,F$10,0)","v":0},{"$f":"IF($M528<>0,O$10,0)","v":0},{"$f":"IF($M528<>0,X$10,0)","v":0},{"$f":"IF($M528<>0,AG$10,0)","v":0},{"$f":"IF($M528<>0,AP$10,0)","v":0},{"$f":"IF($M528<>0,AY$10,0)","v":0},{"$f":"IF($M528<>0,BH$10,0)","v":0},{"$f":"IF($M528<>0,BQ$10,0)","v":0},{"$f":"IF($M528<>0,BZ$10,0)","v":0},{"$f":"IF(CJ$10<=3,CJ$10,0)","v":0}]
[null,null,4,{"$f":"IF($M529<>0,G$10,0)","v":0},{"$f":"IF($M529<>0,P$10,0)","v":0},{"$f":"IF($M529<>0,Y$10,0)","v":0},{"$f":"IF($M529<>0,AH$10,0)","v":0},{"$f":"IF($M529<>0,AQ$10,0)","v":0},{"$f":"IF($M529<>0,AZ$10,0)","v":0},{"$f":"IF($M529<>0,BI$10,0)","v":0},{"$f":"IF($M529<>0,BR$10,0)","v":0},{"$f":"IF($M529<>0,CA$10,0)","v":0},{"$f":"IF(CK$10<=3,CK$10,0)","v":0},null,0,0,0,0,0,0,0,0,0,0,0,0,0,0,0,0,0,0,0]
[null,null,5,{"$f":"IF($M530<>0,H$10,0)","v":0},{"$f":"IF($M530<>0,Q$10,0)","v":0},{"$f":"IF($M530<>0,Z$10,0)","v":0},{"$f":"IF($M530<>0,AI$10,0)","v":0},{"$f":"IF($M530<>0,AR$10,0)","v":0},{"$f":"IF($M530<>0,BA$10,0)","v":0},{"$f":"IF($M530<>0,BJ$10,0)","v":0},{"$f":"IF($M530<>0,BS$10,0)","v":0},{"$f":"IF($M530<>0,CB$10,0)","v":0},{"$f":"IF(CL$10<=3,CL$10,0)","v":0},null,0,0,0,0,0,0,0,0,0,0,0,0,0,0,0,0,0,0,0]
[null,null,6,{"$f":"IF($M531<>0,I$10,0)","v":0},{"$f":"IF($M531<>0,R$10,0)","v":0},{"$f":"IF($M531<>0,AA$10,0)","v":0},{"$f":"IF($M531<>0,AJ$10,0)","v":0},{"$f":"IF($M531<>0,AS$10,0)","v":0},{"$f":"IF($M531<>0,BB$10,0)","v":0},{"$f":"IF($M531<>0,BK$10,0)","v":0},{"$f":"IF($M531<>0,BT$10,0)","v":0},{"$f":"IF($M531<>0,CC$10,0)","v":0},{"$f":"IF(CM$10<=3,CM$10,0)","v":0},null,0,0,0,0,0,0,0,0,0,0,0,0,0,0,0,0,0,0,0]
[null,null,7,{"$f":"IF($M532<>0,J$10,0)","v":0},{"$f":"IF($M532<>0,S$10,0)","v":0},{"$f":"IF($M532<>0,AB$10,0)","v":0},{"$f":"IF($M532<>0,AK$10,0)","v":0},{"$f":"IF($M532<>0,AT$10,0)","v":0},{"$f":"IF($M532<>0,BC$10,0)","v":0},{"$f":"IF($M532<>0,BL$10,0)","v":0},{"$f":"IF($M532<>0,BU$10,0)","v":0},{"$f":"IF($M532<>0,CD$10,0)","v":0},{"$f":"IF(CN$10<=3,CN$10,0)","v":0},null,0,0,0,0,0,0,0,0,0,0,0,0,0,0,0,0,0,0,0]
[null,null,8,{"$f":"IF($M533<>0,K$10,0)","v":0},{"$f":"IF($M533<>0,T$10,0)","v":0},{"$f":"IF($M533<>0,AC$10,0)","v":0},{"$f":"IF($M533<>0,AL$10,0)","v":0},{"$f":"IF($M533<>0,AU$10,0)","v":0},{"$f":"IF($M533<>0,BD$10,0)","v":0},{"$f":"IF($M533<>0,BM$10,0)","v":0},{"$f":"IF($M533<>0,BV$10,0)","v":0},{"$f":"IF($M533<>0,CE$10,0)","v":0},{"$f":"IF(CO$10<=3,CO$10,0)","v":0},null,0,0,0,0,0,0,0,0,0,0,0,0,0,0,0,0,0,0,0]
[null,null,9,{"$f":"IF($M534<>0,L$10,0)","v":0},{"$f":"IF($M534<>0,U$10,0)","v":0},{"$f":"IF($M534<>0,AD$10,0)","v":0},{"$f":"IF($M534<>0,AM$10,0)","v":0},{"$f":"IF($M534<>0,AV$10,0)","v":0},{"$f":"IF($M534<>0,BE$10,0)","v":0},{"$f":"IF($M534<>0,BN$10,0)","v":0},{"$f":"IF($M534<>0,BW$10,0)","v":0},{"$f":"IF($M534<>0,CF$10,0)","v":0},{"$f":"IF(CP$10<=3,CP$10,0)","v":0},null,0,0,0,0,0,0,0,0,0,0,0,0,0,0,0,0,0,0,0]
[null,"８行目",1,{"$f":"IF($M535<>0,D$11,0)","v":0},{"$f":"IF($M535<>0,M$11,0)","v":0},{"$f":"IF($M535<>0,V$11,0)","v":0},{"$f":"IF($M535<>0,AE$11,0)","v":0},{"$f":"IF($M535<>0,AN$11,0)","v":0},{"$f":"IF($M535<>0,AW$11,0)","v":0},{"$f":"IF($M535<>0,BF$11,0)","v":0},{"$f":"IF($M535<>0,BO$11,0)","v":0},{"$f":"IF($M535<>0,BX$11,0)","v":0},{"$f":"IF(CH$11<=3,CH$11,0)","v":0},{"$f":"COUNTIF(M535:M543,\">0\")","v":0},0,0,0,0,0,0,0,0,0,0,0,0,0,0,0,0,0,0,0,{"$f":"COUNTIF(O535:AG537,3)","v":0}]
[null,null,2,{"$f":"IF($M536<>0,E$11,0)","v":0},{"$f":"IF($M536<>0,N$11,0)","v":0},{"$f":"IF($M536<>0,W$11,0)","v":0},{"$f":"IF($M536<>0,AF$11,0)","v":0},{"$f":"IF($M536<>0,AO$11,0)","v":0},{"$f":"IF($M536<>0,AX$11,0)","v":0},{"$f":"IF($M536<>0,BG$11,0)","v":0},{"$f":"IF($M536<>0,BP$11,0)","v":0},{"$f":"IF($M536<>0,BY$11,0)","v":0},{"$f":"IF(CI$11<=3,CI$11,0)","v":0}]
[null,null,3,{"$f":"IF($M537<>0,F$11,0)","v":0},{"$f":"IF($M537<>0,O$11,0)","v":0},{"$f":"IF($M537<>0,X$11,0)","v":0},{"$f":"IF($M537<>0,AG$11,0)","v":0},{"$f":"IF($M537<>0,AP$11,0)","v":0},{"$f":"IF($M537<>0,AY$11,0)","v":0},{"$f":"IF($M537<>0,BH$11,0)","v":0},{"$f":"IF($M537<>0,BQ$11,0)","v":0},{"$f":"IF($M537<>0,BZ$11,0)","v":0},{"$f":"IF(CJ$11<=3,CJ$11,0)","v":0}]
[null,null,4,{"$f":"IF($M538<>0,G$11,0)","v":0},{"$f":"IF($M538<>0,P$11,0)","v":0},{"$f":"IF($M538<>0,Y$11,0)","v":0},{"$f":"IF($M538<>0,AH$11,0)","v":0},{"$f":"IF($M538<>0,AQ$11,0)","v":0},{"$f":"IF($M538<>0,AZ$11,0)","v":0},{"$f":"IF($M538<>0,BI$11,0)","v":0},{"$f":"IF($M538<>0,BR$11,0)","v":0},{"$f":"IF($M538<>0,CA$11,0)","v":0},{"$f":"IF(CK$11<=3,CK$11,0)","v":0},null,0,0,0,0,0,0,0,0,0,0,0,0,0,0,0,0,0,0,0]
[null,null,5,{"$f":"IF($M539<>0,H$11,0)","v":0},{"$f":"IF($M539<>0,Q$11,0)","v":0},{"$f":"IF($M539<>0,Z$11,0)","v":0},{"$f":"IF($M539<>0,AI$11,0)","v":0},{"$f":"IF($M539<>0,AR$11,0)","v":0},{"$f":"IF($M539<>0,BA$11,0)","v":0},{"$f":"IF($M539<>0,BJ$11,0)","v":0},{"$f":"IF($M539<>0,BS$11,0)","v":0},{"$f":"IF($M539<>0,CB$11,0)","v":0},{"$f":"IF(CL$11<=3,CL$11,0)","v":0},null,0,0,0,0,0,0,0,0,0,0,0,0,0,0,0,0,0,0,0]
[null,null,6,{"$f":"IF($M540<>0,I$11,0)","v":0},{"$f":"IF($M540<>0,R$11,0)","v":0},{"$f":"IF($M540<>0,AA$11,0)","v":0},{"$f":"IF($M540<>0,AJ$11,0)","v":0},{"$f":"IF($M540<>0,AS$11,0)","v":0},{"$f":"IF($M540<>0,BB$11,0)","v":0},{"$f":"IF($M540<>0,BK$11,0)","v":0},{"$f":"IF($M540<>0,BT$11,0)","v":0},{"$f":"IF($M540<>0,CC$11,0)","v":0},{"$f":"IF(CM$11<=3,CM$11,0)","v":0},null,0,0,0,0,0,0,0,0,0,0,0,0,0,0,0,0,0,0,0]
[null,null,7,{"$f":"IF($M541<>0,J$11,0)","v":0},{"$f":"IF($M541<>0,S$11,0)","v":0},{"$f":"IF($M541<>0,AB$11,0)","v":0},{"$f":"IF($M541<>0,AK$11,0)","v":0},{"$f":"IF($M541<>0,AT$11,0)","v":0},{"$f":"IF($M541<>0,BC$11,0)","v":0},{"$f":"IF($M541<>0,BL$11,0)","v":0},{"$f":"IF($M541<>0,BU$11,0)","v":0},{"$f":"IF($M541<>0,CD$11,0)","v":0},{"$f":"IF(CN$11<=3,CN$11,0)","v":0},null,0,0,0,0,0,0,0,0,0,0,0,0,0,0,0,0,0,0,0]
[null,null,8,{"$f":"IF($M542<>0,K$11,0)","v":0},{"$f":"IF($M542<>0,T$11,0)","v":0},{"$f":"IF($M542<>0,AC$11,0)","v":0},{"$f":"IF($M542<>0,AL$11,0)","v":0},{"$f":"IF($M542<>0,AU$11,0)","v":0},{"$f":"IF($M542<>0,BD$11,0)","v":0},{"$f":"IF($M542<>0,BM$11,0)","v":0},{"$f":"IF($M542<>0,BV$11,0)","v":0},{"$f":"IF($M542<>0,CE$11,0)","v":0},{"$f":"IF(CO$11<=3,CO$11,0)","v":0},null,0,0,0,0,0,0,0,0,0,0,0,0,0,0,0,0,0,0,0]
[null,null,9,{"$f":"IF($M543<>0,L$11,0)","v":0},{"$f":"IF($M543<>0,U$11,0)","v":0},{"$f":"IF($M543<>0,AD$11,0)","v":0},{"$f":"IF($M543<>0,AM$11,0)","v":0},{"$f":"IF($M543<>0,AV$11,0)","v":0},{"$f":"IF($M543<>0,BE$11,0)","v":0},{"$f":"IF($M543<>0,BN$11,0)","v":0},{"$f":"IF($M543<>0,BW$11,0)","v":0},{"$f":"IF($M543<>0,CF$11,0)","v":0},{"$f":"IF(CP$11<=3,CP$11,0)","v":0},null,0,0,0,0,0,0,0,0,0,0,0,0,0,0,0,0,0,0,0]
[null,"９行目",1,{"$f":"IF($M544<>0,D$12,0)","v":0},{"$f":"IF($M544<>0,M$12,0)","v":0},{"$f":"IF($M544<>0,V$12,0)","v":0},{"$f":"IF($M544<>0,AE$12,0)","v":0},{"$f":"IF($M544<>0,AN$12,0)","v":0},{"$f":"IF($M544<>0,AW$12,0)","v":0},{"$f":"IF($M544<>0,BF$12,0)","v":0},{"$f":"IF($M544<>0,BO$12,0)","v":0},{"$f":"IF($M544<>0,BX$12,0)","v":0},{"$f":"IF(CH$12<=3,CH$12,0)","v":0},{"$f":"COUNTIF(M544:M552,\">0\")","v":0},0,0,0,0,0,0,0,0,0,0,0,0,0,0,0,0,0,0,0,{"$f":"COUNTIF(O544:AG546,3)","v":0}]
[null,null,2,{"$f":"IF($M545<>0,E$12,0)","v":0},{"$f":"IF($M545<>0,N$12,0)","v":0},{"$f":"IF($M545<>0,W$12,0)","v":0},{"$f":"IF($M545<>0,AF$12,0)","v":0},{"$f":"IF($M545<>0,AO$12,0)","v":0},{"$f":"IF($M545<>0,AX$12,0)","v":0},{"$f":"IF($M545<>0,BG$12,0)","v":0},{"$f":"IF($M545<>0,BP$12,0)","v":0},{"$f":"IF($M545<>0,BY$12,0)","v":0},{"$f":"IF(CI$12<=3,CI$12,0)","v":0}]
[null,null,3,{"$f":"IF($M546<>0,F$12,0)","v":0},{"$f":"IF($M546<>0,O$12,0)","v":0},{"$f":"IF($M546<>0,X$12,0)","v":0},{"$f":"IF($M546<>0,AG$12,0)","v":0},{"$f":"IF($M546<>0,AP$12,0)","v":0},{"$f":"IF($M546<>0,AY$12,0)","v":0},{"$f":"IF($M546<>0,BH$12,0)","v":0},{"$f":"IF($M546<>0,BQ$12,0)","v":0},{"$f":"IF($M546<>0,BZ$12,0)","v":0},{"$f":"IF(CJ$12<=3,CJ$12,0)","v":0}]
[null,null,4,{"$f":"IF($M547<>0,G$12,0)","v":0},{"$f":"IF($M547<>0,P$12,0)","v":0},{"$f":"IF($M547<>0,Y$12,0)","v":0},{"$f":"IF($M547<>0,AH$12,0)","v":0},{"$f":"IF($M547<>0,AQ$12,0)","v":0},{"$f":"IF($M547<>0,AZ$12,0)","v":0},{"$f":"IF($M547<>0,BI$12,0)","v":0},{"$f":"IF($M547<>0,BR$12,0)","v":0},{"$f":"IF($M547<>0,CA$12,0)","v":0},{"$f":"IF(CK$12<=3,CK$12,0)","v":0},null,0,0,0,0,0,0,0,0,0,0,0,0,0,0,0,0,0,0,0]
[null,null,5,{"$f":"IF($M548<>0,H$12,0)","v":0},{"$f":"IF($M548<>0,Q$12,0)","v":0},{"$f":"IF($M548<>0,Z$12,0)","v":0},{"$f":"IF($M548<>0,AI$12,0)","v":0},{"$f":"IF($M548<>0,AR$12,0)","v":0},{"$f":"IF($M548<>0,BA$12,0)","v":0},{"$f":"IF($M548<>0,BJ$12,0)","v":0},{"$f":"IF($M548<>0,BS$12,0)","v":0},{"$f":"IF($M548<>0,CB$12,0)","v":0},{"$f":"IF(CL$12<=3,CL$12,0)","v":0},null,0,0,0,0,0,0,0,0,0,0,0,0,0,0,0,0,0,0,0]
[null,null,6,{"$f":"IF($M549<>0,I$12,0)","v":0},{"$f":"IF($M549<>0,R$12,0)","v":0},{"$f":"IF($M549<>0,AA$12,0)","v":0},{"$f":"IF($M549<>0,AJ$12,0)","v":0},{"$f":"IF($M549<>0,AS$12,0)","v":0},{"$f":"IF($M549<>0,BB$12,0)","v":0},{"$f":"IF($M549<>0,BK$12,0)","v":0},{"$f":"IF($M549<>0,BT$12,0)","v":0},{"$f":"IF($M549<>0,CC$12,0)","v":0},{"$f":"IF(CM$12<=3,CM$12,0)","v":0},null,0,0,0,0,0,0,0,0,0,0,0,0,0,0,0,0,0,0,0]
[null,null,7,{"$f":"IF($M550<>0,J$12,0)","v":0},{"$f":"IF($M550<>0,S$12,0)","v":0},{"$f":"IF($M550<>0,AB$12,0)","v":0},{"$f":"IF($M550<>0,AK$12,0)","v":0},{"$f":"IF($M550<>0,AT$12,0)","v":0},{"$f":"IF($M550<>0,BC$12,0)","v":0},{"$f":"IF($M550<>0,BL$12,0)","v":0},{"$f":"IF($M550<>0,BU$12,0)","v":0},{"$f":"IF($M550<>0,CD$12,0)","v":0},{"$f":"IF(CN$12<=3,CN$12,0)","v":0},null,0,0,0,0,0,0,0,0,0,0,0,0,0,0,0,0,0,0,0]
[null,null,8,{"$f":"IF($M551<>0,K$12,0)","v":0},{"$f":"IF($M551<>0,T$12,0)","v":0},{"$f":"IF($M551<>0,AC$12,0)","v":0},{"$f":"IF($M551<>0,AL$12,0)","v":0},{"$f":"IF($M551<>0,AU$12,0)","v":0},{"$f":"IF($M551<>0,BD$12,0)","v":0},{"$f":"IF($M551<>0,BM$12,0)","v":0},{"$f":"IF($M551<>0,BV$12,0)","v":0},{"$f":"IF($M551<>0,CE$12,0)","v":0},{"$f":"IF(CO$12<=3,CO$12,0)","v":0},null,0,0,0,0,0,0,0,0,0,0,0,0,0,0,0,0,0,0,0]
[null,null,9,{"$f":"IF($M552<>0,L$12,0)","v":0},{"$f":"IF($M552<>0,U$12,0)","v":0},{"$f":"IF($M552<>0,AD$12,0)","v":0},{"$f":"IF($M552<>0,AM$12,0)","v":0},{"$f":"IF($M552<>0,AV$12,0)","v":0},{"$f":"IF($M552<>0,BE$12,0)","v":0},{"$f":"IF($M552<>0,BN$12,0)","v":0},{"$f":"IF($M552<>0,BW$12,0)","v":0},{"$f":"IF($M552<>0,CF$12,0)","v":0},{"$f":"IF(CP$12<=3,CP$12,0)","v":0},null,0,0,0,0,0,0,0,0,0,0,0,0,0,0,0,0,0,0,0]
[null,null,null,null,null,null,null,null,null,null,null,null,null,null,null,null,null,null,null,null,null,null,null,null,null,null,null,null,null,null,null,null,null,{"$f":"SUM(AH472:AH544)","v":0}]
[]
[]
[]
[null,"難　問　１　０　５　番　対　応　　（　列　方　向　）"]
[null,null,"列","1列",null,null,null,null,null,null,null,null,"２列",null,null,null,null,null,null,null,null,"３列",null,null,null,null,null,null,null,null,"４列",null,null,null,null,null,null,null,null,"５列",null,null,null,null,null,null,null,null,"６列",null,null,null,null,null,null,null,null,"７列",null,null,null,null,null,null,null,null,"８列",null,null,null,null,null,null,null,null,"９列"]
[null,null,"番号",1,2,3,4,5,6,7,8,9,1,2,3,4,5,6,7,8,9,1,2,3,4,5,6,7,8,9,1,2,3,4,5,6,7,8,9,1,2,3,4,5,6,7,8,9,1,2,3,4,5,6,7,8,9,1,2,3,4,5,6,7,8,9,1,2,3,4,5,6,7,8,9,1,2,3,4,5,6,7,8,9]
[null,null,"１行",{"$f":"IF(D$569<>0,D4,0)","v":0},{"$f":"IF(E$569<>0,E4,0)","v":0},0,0,0,0,0,0,0,0,{"$f":"IF(N$569<>0,N4,0)","v":0},0,0,0,0,0,0,0,0,0,0,0,0,0,0,0,0,0,0,0,0,0,0,0,0,0,0,0,0,0,0,0,0,0,0,0,0,0,0,0,0,0,0,0,0,0,0,0,0,0,0,0,0,0,0,0,0,0,0,0,0,0,0,0,{"$f":"IF(BZ$569<>0,BZ4,0)","v":0},0,0,0,0,0,0]
[null,null,"２行",{"$f":"IF(D$569<>0,D5,0)","v":0},0,0,0,0,0,0,0,0,{"$f":"IF(M$569<>0,M5,0)","v":0},0,0,0,0,0,0,0,0,0,0,0,0,0,0,0,0,0,0,0,0,0,0,0,0,0,0,0,0,0,0,0,0,0,0,0,0,0,0,0,0,0,0,0,0,0,0,0,0,0,0,0,0,0,0,0,0,0,0,0,0,0,0,0,{"$f":"IF(BY$569<>0,BY5,0)","v":0},0,0,0,0,0,0,0]
[null,null,"３行",0,0,0,0,0,0,0,0,0,{"$f":"IF(M$569<>0,M6,0)","v":0},0,0,0,0,0,0,0,0,0,0,0,0,0,0,0,0,0,0,0,0,0,0,0,0,0,0,0,0,0,0,0,0,0,0,0,0,0,0,0,0,0,0,0,0,0,0,0,0,0,0,0,0,0,0,0,0,0,0,0,0,0,0,0,{"$f":"IF(BY$569<>0,BY6,0)","v":0},0,0,0,0,0,0,0]
[null,null,"４行",0,0,0,0,0,0,0,0,0,{"$f":"IF(M$569<>0,M7,0)","v":0},0,0,0,0,0,0,0,0,0,0,0,0,0,0,0,0,0,0,0,0,0,0,0,0,0,0,0,0,0,0,0,0,0,0,0,0,0,0,0,0,0,0,0,0,0,0,0,0,0,0,0,0,0,0,0,0,0,0,0,0,0,0,0,{"$f":"IF(BY$569<>0,BY7,0)","v":0},0,0,0,0,0,0,0]
[null,null,"５行",0,0,0,0,0,0,0,0,0,{"$f":"IF(M$569<>0,M8,0)","v":0},0,0,0,0,0,0,0,0,0,0,0,0,0,0,0,0,0,0,0,0,0,0,0,0,0,0,0,0,0,0,0,0,0,0,0,0,0,0,0,0,0,0,0,0,0,0,0,0,0,0,0,0,0,0,0,0,0,0,0,0,0,0,0,{"$f":"IF(BY$569<>0,BY8,0)","v":0},0,0,0,0,0,0,0]
[null,null,"６行",0,0,0,0,0,0,0,0,0,{"$f":"IF(M$569<>0,M9,0)","v":0},0,0,0,0,0,0,0,0,0,0,0,0,0,0,0,0,0,0,0,0,0,0,0,0,0,0,0,0,0,0,0,0,0,0,0,0,0,0,0,0,0,0,0,0,0,0,0,0,0,0,0,0,0,0,0,0,0,0,0,0,0,0,0,{"$f":"IF(BY$569<>0,BY9,0)","v":0},0,0,0,0,0,0,0]
[null,null,"7行",0,0,0,0,0,0,0,0,0,{"$f":"IF(M$569<>0,M10,0)","v":0},0,0,0,0,0,0,0,0,0,0,0,0,0,0,0,0,0,0,0,0,0,0,0,0,0,0,0,0,0,0,0,0,0,0,0,0,0,0,0,0,0,0,0,0,0,0,0,0,0,0,0,0,0,0,0,0,0,0,0,0,0,0,0,{"$f":"IF(BY$569<>0,BY10,0)","v":0},0,0,0,0,0,0,0]
[null,null,"8行",0,0,0,0,0,0,0,0,0,{"$f":"IF(M$569<>0,M11,0)","v":0},0,0,0,0,0,0,0,0,0,0,0,0,0,0,0,0,0,0,0,0,0,0,0,0,0,0,0,0,0,0,0,0,0,0,0,0,0,0,0,0,0,0,0,0,0,0,0,0,0,0,0,0,0,0,0,0,0,0,0,0,0,0,0,{"$f":"IF(BY$569<>0,BY11,0)","v":0},0,0,0,0,0,0,0]
[null,null,"９行",0,0,0,0,0,0,0,0,0,{"$f":"IF(M$569<>0,M12,0)","v":0},0,0,0,0,0,0,0,0,0,0,0,0,0,0,0,0,0,0,0,0,0,0,0,0,0,0,0,0,0,0,0,0,0,0,0,0,0,0,0,0,0,0,0,0,0,0,0,0,0,0,0,0,0,0,0,0,0,0,0,0,0,0,0,{"$f":"IF(BY$569<>0,BY12,0)","v":0},0,0,0,0,0,0,0]
[null,null,"合計",{"$f":"IF(D13<=3,D13,0)","v":0},{"$f":"IF(E13<=3,E13,0)","v":0},0,0,0,0,0,0,0,0,0,0,0,0,0,0,0,0,0,0,0,0,0,0,0,0,0,0,0,0,0,0,0,0,0,0,0,0,0,0,0,0,0,0,0,0,0,0,0,0,0,0,0,0,0,0,0,0,0,0,0,0,0,0,0,{"$f":"IF(BQ13<=3,BQ13,0)","v":0},0,0,0,0,0,0,0,0,0,0,0,0,0,0,0]
[null,null,null,{"$f":"COUNTIF(D569:L569,\">0\")","v":0},null,null,null,null,null,null,null,null,{"$f":"COUNTIF(M569:U569,\">0\")","v":0},null,null,null,null,null,null,null,null,{"$f":"COUNTIF(V569:AD569,\">0\")","v":0},null,null,null,null,null,null,null,null,{"$f":"COUNTIF(AE569:AM569,\">0\")","v":0},null,null,null,null,null,null,null,null,{"$f":"COUNTIF(AN569:AV569,\">0\")","v":0},null,null,null,null,null,null,null,null,{"$f":"COUNTIF(AW569:BE569,\">0\")","v":0},null,null,null,null,null,null,null,null,{"$f":"COUNTIF(BF569:BN569,\">0\")","v":0},null,null,null,null,null,null,null,null,{"$f":"COUNTIF(BO569:BW569,\">0\")","v":0},null,null,null,null,null,null,null,null,{"$f":"COUNTIF(BX569:CF569,\">0\")","v":0},null,null,null,null,null,null,null,null,{"$f":"COUNTIF(D570:CF570,3)","v":0}]
[null,"３数字の組み合わせ","組１",0,null,null,0,0,0,0,0,0,0,null,null,0,0,0,0,0,0,0,null,null,0,0,0,0,0,0,0,null,null,0,0,0,0,0,0,0,null,null,0,0,0,0,0,0,0,null,null,0,0,0,0,0,0,0,null,null,0,0,0,0,0,0,0,null,null,0,0,0,0,0,0,0,null,null,0,0,0,0,0,0]
[null,null,"組２",0,null,null,0,0,0,0,0,0,0,null,null,0,0,0,0,0,0,0,null,null,0,0,0,0,0,0,0,null,null,0,0,0,0,0,0,0,null,null,0,0,0,0,0,0,0,null,null,0,0,0,0,0,0,0,null,null,0,0,0,0,0,0,0,null,null,0,0,0,0,0,0,0,null,null,0,0,0,0,0,0]
[null,null,"組３",0,null,null,0,0,0,0,0,0,0,null,null,0,0,0,0,0,0,0,null,null,0,0,0,0,0,0,0,null,null,0,0,0,0,0,0,0,null,null,0,0,0,0,0,0,0,null,null,0,0,0,0,0,0,0,null,null,0,0,0,0,0,0,0,null,null,0,0,0,0,0,0,0,null,null,0,0,0,0,0,0]
[null,null,"組４",0,null,null,0,0,0,0,0,0,0,null,null,0,0,0,0,0,0,0,null,null,0,0,0,0,0,0,0,null,null,0,0,0,0,0,0,0,null,null,0,0,0,0,0,0,0,null,null,0,0,0,0,0,0,0,null,null,0,0,0,0,0,0,0,null,null,0,0,0,0,0,0,0,null,null,0,0,0,0,0,0]
[null,null,"組５",0,null,null,0,0,0,0,0,0,0,null,null,0,0,0,0,0,0,0,null,null,0,0,0,0,0,0,0,null,null,0,0,0,0,0,0,0,null,null,0,0,0,0,0,0,0,null,null,0,0,0,0,0,0,0,null,null,0,0,0,0,0,0,0,null,null,0,0,0,0,0,0,0,null,null,0,0,0,0,0,0]
[null,null,"組６",0,null,null,0,0,0,0,0,0,0,null,null,0,0,0,0,0,0,0,null,null,0,0,0,0,0,0,0,null,null,0,0,0,0,0,0,0,null,null,0,0,0,0,0,0,0,null,null,0,0,0,0,0,0,0,null,null,0,0,0,0,0,0,0,null,null,0,0,0,0,0,0,0,null,null,0,0,0,0,0,0]
[null,null,"組７",0,null,null,0,0,0,0,0,0,0,null,null,0,0,0,0,0,0,0,null,null,0,0,0,0,0,0,0,null,null,0,0,0,0,0,0,0,null,null,0,0,0,0,0,0,0,null,null,0,0,0,0,0,0,0,null,null,0,0,0,0,0,0,0,null,null,0,0,0,0,0,0,0,null,null,0,0,0,0,0,0]
[null,null,"組８",0,null,null,0,0,0,0,0,0,0,null,null,0,0,0,0,0,0,0,null,null,0,0,0,0,0,0,0,null,null,0,0,0,0,0,0,0,null,null,0,0,0,0,0,0,0,null,null,0,0,0,0,0,0,0,null,null,0,0,0,0,0,0,0,null,null,0,0,0,0,0,0,0,null,null,0,0,0,0,0,0]
[null,null,"組９",0,null,null,0,0,0,0,0,0,0,null,null,0,0,0,0,0,0,0,null,null,0,0,0,0,0,0,0,null,null,0,0,0,0,0,0,0,null,null,0,0,0,0,0,0,0,null,null,0,0,0,0,0,0,0,null,null,0,0,0,0,0,0,0,null,null,0,0,0,0,0,0,0,null,null,0,0,0,0,0,0]
[null,null,"組１０",0,null,null,0,0,0,0,0,0,0,null,null,0,0,0,0,0,0,0,null,null,0,0,0,0,0,0,0,null,null,0,0,0,0,0,0,0,null,null,0,0,0,0,0,0,0,null,null,0,0,0,0,0,0,0,null,null,0,0,0,0,0,0,0,null,null,0,0,0,0,0,0,0,null,null,0,0,0,0,0,0]
[null,null,"組１１",0,null,null,0,0,0,0,0,0,0,null,null,0,0,0,0,0,0,0,null,null,0,0,0,0,0,0,0,null,null,0,0,0,0,0,0,0,null,null,0,0,0,0,0,0,0,null,null,0,0,0,0,0,0,0,null,null,0,0,0,0,0,0,0,null,null,0,0,0,0,0,0,0,null,null,0,0,0,0,0,0]
[null,null,"組１２",0,null,null,0,0,0,0,0,0,0,null,null,0,0,0,0,0,0,0,null,null,0,0,0,0,0,0,0,null,null,0,0,0,0,0,0,0,null,null,0,0,0,0,0,0,0,null,null,0,0,0,0,0,0,0,null,null,0,0,0,0,0,0,0,null,null,0,0,0,0,0,0,0,null,null,0,0,0,0,0,0]
[null,null,"組１３",0,null,null,0,0,0,0,0,0,0,null,null,0,0,0,0,0,0,0,null,null,0,0,0,0,0,0,0,null,null,0,0,0,0,0,0,0,null,null,0,0,0,0,0,0,0,null,null,0,0,0,0,0,0,0,null,null,0,0,0,0,0,0,0,null,null,0,0,0,0,0,0,0,null,null,0,0,0,0,0,0]
[null,null,"組１４",0,null,null,0,0,0,0,0,0,0,null,null,0,0,0,0,0,0,0,null,null,0,0,0,0,0,0,0,null,null,0,0,0,0,0,0,0,null,null,0,0,0,0,0,0,0,null,null,0,0,0,0,0,0,0,null,null,0,0,0,0,0,0,0,null,null,0,0,0,0,0,0,0,null,null,0,0,0,0,0,0]
[null,null,"組１５",0,null,null,0,0,0,0,0,0,0,null,null,0,0,0,0,0,0,0,null,null,0,0,0,0,0,0,0,null,null,0,0,0,0,0,0,0,null,null,0,0,0,0,0,0,0,null,null,0,0,0,0,0,0,0,null,null,0,0,0,0,0,0,0,null,null,0,0,0,0,0,0,0,null,null,0,0,0,0,0,0]
[null,null,"組１６",0,null,null,0,0,0,0,0,0,0,null,null,0,0,0,0,0,0,0,null,null,0,0,0,0,0,0,0,null,null,0,0,0,0,0,0,0,null,null,0,0,0,0,0,0,0,null,null,0,0,0,0,0,0,0,null,null,0,0,0,0,0,0,0,null,null,0,0,0,0,0,0,0,null,null,0,0,0,0,0,0]
[null,null,"組１７",0,null,null,0,0,0,0,0,0,0,null,null,0,0,0,0,0,0,0,null,null,0,0,0,0,0,0,0,null,null,0,0,0,0,0,0,0,null,null,0,0,0,0,0,0,0,null,null,0,0,0,0,0,0,0,null,null,0,0,0,0,0,0,0,null,null,0,0,0,0,0,0,0,null,null,0,0,0,0,0,0]
[null,null,"組１８",0,null,null,0,0,0,0,0,0,0,null,null,0,0,0,0,0,0,0,null,null,0,0,0,0,0,0,0,null,null,0,0,0,0,0,0,0,null,null,0,0,0,0,0,0,0,null,null,0,0,0,0,0,0,0,null,null,0,0,0,0,0,0,0,null,null,0,0,0,0,0,0,0,null,null,0,0,0,0,0,0]
[null,null,"組１９",0,null,null,0,0,0,0,0,0,0,null,null,0,0,0,0,0,0,0,null,null,0,0,0,0,0,0,0,null,null,0,0,0,0,0,0,0,null,null,0,0,0,0,0,0,0,null,null,0,0,0,0,0,0,0,null,null,0,0,0,0,0,0,0,null,null,0,0,0,0,0,0,0,null,null,0,0,0,0,0,0]
[null,null,null,{"$f":"COUNTIF(D571:F589,3)","v":0},null,null,null,null,null,null,null,null,{"$f":"COUNTIF(M571:O589,3)","v":0},null,null,null,null,null,null,null,null,{"$f":"COUNTIF(V571:X589,3)","v":0},null,null,null,null,null,null,null,null,{"$f":"COUNTIF(AE571:AG589,3)","v":0},null,null,null,null,null,null,null,null,{"$f":"COUNTIF(AN571:AP589,3)","v":0},null,null,null,null,null,null,null,null,{"$f":"COUNTIF(AW571:AY589,3)","v":0},null,null,null,null,null,null,null,null,{"$f":"COUNTIF(BF571:BH589,3)","v":0},null,null,null,null,null,null,null,null,{"$f":"COUNTIF(BO571:BQ589,3)","v":0},null,null,null,null,null,null,null,null,{"$f":"COUNTIF(BX571:BZ589,3)","v":0},null,null,null,null,null,null,null,null,{"$f":"SUM(D590)+SUM(M590)+SUM(V590)+SUM(AE590)+SUM(AN590)+SUM(AW590)+SUM(BF590)+SUM(BO590)+SUM(BX590)","v":0}]
[]
[]
[]
[]
[]
[]
[null,null,"グループ毎の集計(難問１０５対応)"]
[null,null,"番号",1,2,3,4,5,6,7,8,9,1,2,3,4,5,6,7,8,9,1,2,3,4,5,6,7,8,9]
[null,"グループ","Ａ，Ｂ，Ｃ",{"$f":"COUNTIF($D$4:$AD$6,D598)","v":0},0,0,0,0,0,0,0,0,{"$f":"COUNTIF($AE$4:$BE$6,M598)","v":0},0,0,0,0,0,0,0,0,{"$f":"COUNTIF($BF$4:$CF$6,V598)","v":0},0,0,0,0,0,0,0,0]
[null,null,"D，E，F",{"$f":"COUNTIF($D$7:$AD$9,D598)","v":0},0,0,0,0,0,0,0,{"$f":"COUNTIF($D$7:$AD$9,L598)","v":0},{"$f":"COUNTIF($AE$7:$BE$9,M598)","v":0},{"$f":"COUNTIF($AE$7:$BE$9,N598)","v":0},0,0,0,0,0,0,0,{"$f":"COUNTIF($BF$7:$CF$9,V598)","v":0},{"$f":"COUNTIF($BF$7:$CF$9,W598)","v":0},0,0,0,0,0,0,0]
[null,null,"G，H，I",{"$f":"COUNTIF($D$10:$AD$12,D598)","v":0},{"$f":"COUNTIF($D$10:$AD$12,E598)","v":0},0,0,0,0,0,0,0,{"$f":"COUNTIF($AE$10:$BE$12,M598)","v":0},{"$f":"COUNTIF($AE$10:$BE$12,N598)","v":0},0,0,0,0,0,0,0,{"$f":"COUNTIF($BF$10:$CF$12,V598)","v":0},{"$f":"COUNTIF($BF$10:$CF$12,W598)","v":0},0,0,0,0,0,0,0]
[null,null,null,"Ａ　グループ",null,null,null,null,null,null,null,null,"Ｂ　グループ",null,null,null,null,null,null,null,null,"Ｃ　グループ"]
[null,null,null,"数字個数",null,null,"列番号",null,null,"組み合わせの数値",null,null,"数字個数",null,null,"列番号",null,null,"組み合わせの数値",null,null,"数字個数",null,null,"列番号",null,null,"組み合わせの数値"]
[null,null,null,{"$f":"COUNTIF(D599:L599,\">0\")","v":0},null,null,null,null,null,null,null,null,{"$f":"COUNTIF(M599:U599,\">0\")","v":0},null,null,null,null,null,null,null,null,{"$f":"COUNTIF(V599:AD599,\">0\")","v":0}]
[null,"３数字の組み合わせ　ＡＢＣ","組１",0,null,null,0,0,0,0,0,0,0,null,null,0,0,0,0,0,0,0,null,null,0,0,0,0,0,0]
[null,null,"組２",0,null,null,0,0,0,0,0,0,0,null,null,0,0,0,0,0,0,0,null,null,0,0,0,0,0,0]
[null,null,"組３",0,null,null,0,0,0,0,0,0,0,null,null,0,0,0,0,0,0,0,null,null,0,0,0,0,0,0]
[null,null,"組４",0,null,null,0,0,0,0,0,0,0,null,null,0,0,0,0,0,0,0,null,null,0,0,0,0,0,0]
[null,null,"組５",0,null,null,0,0,0,0,0,0,0,null,null,0,0,0,0,0,0,0,null,null,0,0,0,0,0,0]
[null,null,"組６",0,null,null,0,0,0,0,0,0,0,null,null,0,0,0,0,0,0,0,null,null,0,0,0,0,0,0]
[null,null,"組７",0,null,null,0,0,0,0,0,0,0,null,null,0,0,0,0,0,0,0,null,null,0,0,0,0,0,0]
[null,null,"組８",0,null,null,0,0,0,0,0,0,0,null,null,0,0,0,0,0,0,0,null,null,0,0,0,0,0,0]
[null,null,"組９",0,null,null,0,0,0,0,0,0,0,null,null,0,0,0,0,0,0,0,null,null,0,0,0,0,0,0]
[null,null,"組１０",0,null,null,0,0,0,0,0,0,0,null,null,0,0,0,0,0,0,0,null,null,0,0,0,0,0,0]
[null,null,"組１１",0,null,null,0,0,0,0,0,0,0,null,null,0,0,0,0,0,0,0,null,null,0,0,0,0,0,0]
[null,null,"組１２",0,null,null,0,0,0,0,0,0,0,null,null,0,0,0,0,0,0,0,null,null,0,0,0,0,0,0]
[null,null,"組１３",0,null,null,0,0,0,0,0,0,0,null,null,0,0,0,0,0,0,0,null,null,0,0,0,0,0,0]
[null,null,"組１４",0,null,null,0,0,0,0,0,0,0,null,null,0,0,0,0,0,0,0,null,null,0,0,0,0,0,0]
[null,null,"組１５",0,null,null,0,0,0,0,0,0,0,null,null,0,0,0,0,0,0,0,null,null,0,0,0,0,0,0]
[null,null,"組１６",0,null,null,0,0,0,0,0,0,0,null,null,0,0,0,0,0,0,0,null,null,0,0,0,0,0,0]
[null,null,"組１７",0,null,null,0,0,0,0,0,0,0,null,null,0,0,0,0,0,0,0,null,null,0,0,0,0,0,0]
[null,null,"組１８",0,null,null,0,0,0,0,0,0,0,null,null,0,0,0,0,0,0,0,null,null,0,0,0,0,0,0]
[null,null,"組１９",0,null,null,0,0,0,0,0,0,0,null,null,0,0,0,0,0,0,0,null,null,0,0,0,0,0,0]
[null,null,null,"Ｄ　グループ",null,null,null,null,null,null,null,null,"Ｅ　グループ",null,null,null,null,null,null,null,null,"Ｆ　グループ"]
[null,null,null,"数字個数",null,null,"列番号",null,null,"組み合わせの数値",null,null,"数字個数",null,null,"列番号",null,null,"組み合わせの数値",null,null,"数字個数",null,null,"列番号",null,null,"組み合わせの数値"]
[null,null,null,{"$f":"COUNTIF(D600:L600,\">0\")","v":0},null,null,null,null,null,null,null,null,{"$f":"COUNTIF(M600:U600,\">0\")","v":0},null,null,null,null,null,null,null,null,{"$f":"COUNTIF(V600:AD600,\">0\")","v":0}]
[null,"３数字の組み合わせ　ＤＥＦ","組１",0,null,null,0,0,0,0,0,0,0,null,null,0,0,0,0,0,0,0,null,null,0,0,0,0,0,0]
[null,null,"組２",0,null,null,0,0,0,0,0,0,0,null,null,0,0,0,0,0,0,0,null,null,0,0,0,0,0,0]
[null,null,"組３",0,null,null,0,0,0,0,0,0,0,null,null,0,0,0,0,0,0,0,null,null,0,0,0,0,0,0]
[null,null,"組４",0,null,null,0,0,0,0,0,0,0,null,null,0,0,0,0,0,0,0,null,null,0,0,0,0,0,0]
[null,null,"組５",0,null,null,0,0,0,0,0,0,0,null,null,0,0,0,0,0,0,0,null,null,0,0,0,0,0,0]
[null,null,"組６",0,null,null,0,0,0,0,0,0,0,null,null,0,0,0,0,0,0,0,null,null,0,0,0,0,0,0]
[null,null,"組７",0,null,null,0,0,0,0,0,0,0,null,null,0,0,0,0,0,0,0,null,null,0,0,0,0,0,0]
[null,null,"組８",0,null,null,0,0,0,0,0,0,0,null,null,0,0,0,0,0,0,0,null,null,0,0,0,0,0,0]
[null,null,"組９",0,null,null,0,0,0,0,0,0,0,null,null,0,0,0,0,0,0,0,null,null,0,0,0,0,0,0]
[null,null,"組１０",0,null,null,0,0,0,0,0,0,0,null,null,0,0,0,0,0,0,0,null,null,0,0,0,0,0,0]
[null,null,"組１１",0,null,null,0,0,0,0,0,0,0,null,null,0,0,0,0,0,0,0,null,null,0,0,0,0,0,0]
[null,null,"組１２",0,null,null,0,0,0,0,0,0,0,null,null,0,0,0,0,0,0,0,null,null,0,0,0,0,0,0]
[null,null,"組１３",0,null,null,0,0,0,0,0,0,0,null,null,0,0,0,0,0,0,0,null,null,0,0,0,0,0,0]
[null,null,"組１４",0,null,null,0,0,0,0,0,0,0,null,null,0,0,0,0,0,0,0,null,null,0,0,0,0,0,0]
[null,null,"組１５",0,null,null,0,0,0,0,0,0,0,null,null,0,0,0,0,0,0,0,null,null,0,0,0,0,0,0]
[null,null,"組１６",0,null,null,0,0,0,0,0,0,0,null,null,0,0,0,0,0,0,0,null,null,0,0,0,0,0,0]
[null,null,"組１７",0,null,null,0,0,0,0,0,0,0,null,null,0,0,0,0,0,0,0,null,null,0,0,0,0,0,0]
[null,null,"組１８",0,null,null,0,0,0,0,0,0,0,null,null,0,0,0,0,0,0,0,null,null,0,0,0,0,0,0]
[null,null,"組１９",0,null,null,0,0,0,0,0,0,0,null,null,0,0,0,0,0,0,0,null,null,0,0,0,0,0,0]
[null,null,null,"Ｇ　グループ",null,null,null,null,null,null,null,null,"Ｈ　グループ",null,null,null,null,null,null,null,null,"Ｉ　グループ"]
[null,null,null,"数字個数",null,null,"列番号",null,null,"組み合わせの数値",null,null,"数字個数",null,null,"列番号",null,null,"組み合わせの数値",null,null,"数字個数",null,null,"列番号",null,null,"組み合わせの数値"]
[null,null,null,{"$f":"COUNTIF(D601:L601,\">0\")","v":0},null,null,null,null,null,null,null,null,{"$f":"COUNTIF(M601:U601,\">0\")","v":0},null,null,null,null,null,null,null,null,{"$f":"COUNTIF(V601:AD601,\">0\")","v":0}]
[null,"３数字の　ＧＨＩ","組１",0,null,null,0,0,0,0,0,0,0,null,null,0,0,0,0,0,0,0,null,null,0,0,0,0,0,0]
[null,null,"組２",0,null,null,0,0,0,0,0,0,0,null,null,0,0,0,0,0,0,0,null,null,0,0,0,0,0,0]
[null,null,"組３",0,null,null,0,0,0,0,0,0,0,null,null,0,0,0,0,0,0,0,null,null,0,0,0,0,0,0]
[null,null,"組４",0,null,null,0,0,0,0,0,0,0,null,null,0,0,0,0,0,0,0,null,null,0,0,0,0,0,0]
[null,null,"組５",0,null,null,0,0,0,0,0,0,0,null,null,0,0,0,0,0,0,0,null,null,0,0,0,0,0,0]
[null,null,"組６",0,null,null,0,0,0,0,0,0,0,null,null,0,0,0,0,0,0,0,null,null,0,0,0,0,0,0]
[null,null,"組７",0,null,null,0,0,0,0,0,0,0,null,null,0,0,0,0,0,0,0,null,null,0,0,0,0,0,0]
[null,null,"組８",0,null,null,0,0,0,0,0,0,0,null,null,0,0,0,0,0,0,0,null,null,0,0,0,0,0,0]
[null,null,"組９",0,null,null,0,0,0,0,0,0,0,null,null,0,0,0,0,0,0,0,null,null,0,0,0,0,0,0]
[null,null,"組１０",0,null,null,0,0,0,0,0,0,0,null,null,0,0,0,0,0,0,0,null,null,0,0,0,0,0,0]
[null,null,"組１１",0,null,null,0,0,0,0,0,0,0,null,null,0,0,0,0,0,0,0,null,null,0,0,0,0,0,0]
[null,null,"組１２",0,null,null,0,0,0,0,0,0,0,null,null,0,0,0,0,0,0,0,null,null,0,0,0,0,0,0]
[null,null,"組１３",0,null,null,0,0,0,0,0,0,0,null,null,0,0,0,0,0,0,0,null,null,0,0,0,0,0,0]
[null,null,"組１４",0,null,null,0,0,0,0,0,0,0,null,null,0,0,0,0,0,0,0,null,null,0,0,0,0,0,0]
[null,null,"組１５",0,null,null,0,0,0,0,0,0,0,null,null,0,0,0,0,0,0,0,null,null,0,0,0,0,0,0]
[null,null,"組１６",0,null,null,0,0,0,0,0,0,0,null,null,0,0,0,0,0,0,0,null,null,0,0,0,0,0,0]
[null,null,"組１７",0,null,null,0,0,0,0,0,0,0,null,null,0,0,0,0,0,0,0,null,null,0,0,0,0,0,0]
[null,null,"組１８",0,null,null,0,0,0,0,0,0,0,null,null,0,0,0,0,0,0,0,null,null,0,0,0,0,0,0]
[null,null,"組１９",0,null,null,0,0,0,0,0,0,0,null,null,0,0,0,0,0,0,0,null,null,0,0,0,0,0,0]
[null,null,null,{"$f":"COUNTIF(D605:F623,3)","v":0},null,null,null,null,null,null,null,null,{"$f":"COUNTIF(M605:O623,3)","v":0},null,null,null,null,null,null,null,null,{"$f":"COUNTIF(V605:X623,3)","v":0}]
[null,null,null,{"$f":"COUNTIF(D627:F645,3)","v":0},null,null,null,null,null,null,null,null,{"$f":"COUNTIF(M627:O645,3)","v":0},null,null,null,null,null,null,null,null,{"$f":"COUNTIF(V627:X645,3)","v":0}]
[null,null,null,{"$f":"COUNTIF(D649:F667,3)","v":0},null,null,null,null,null,null,null,null,{"$f":"COUNTIF(M649:O667,3)","v":0},null,null,null,null,null,null,null,null,{"$f":"COUNTIF(V649:X667,3)","v":0},null,null,null,null,null,null,null,null,{"$f":"SUM(D668:F670)+SUM(M668:O670)+SUM(V668:X670)","v":0}]
[]
[]
[]
[]
[]
[null,null,"難　問　１　０　４　　処　理",null,null,null,null,null,null,null,null,null,null,null,null,null,null,null,null,null,null,null,null,null,null,null,null,null,null,null,null,null,null,null,null,null,null,null,null,null,null,null,null,null,null,null,null,null,null,null,null,null,null,null,null,null,null,null,null,null,null,null,null,null,null,null,null,null,"難　問　１　０　４　処　理（　列　方　向　）"]
[null,null,"各セルの数字の個数(総数)",null,null,null,null,null,null,null,null,null,"各セルの個数３個以下を表示",null,null,null,null,null,null,null,null,"該当する３個以下の数字を表示（行方向）",null,null,null,null,null,null,null,null,null,null,null,null,null,null,null,null,null,null,null,null,null,null,null,null,null,null,null,null,null,null,null,null,null,null,null,null,null,null,null,null,null,null,null,null,null,null,null,null,"該当する３個以下の数字（列方向）",null,null,null,null,null,null,null,null,"組み合わせ数","組み合わせ数","個数","列番号","組の数値"]
[null,null,null,"列",null,null,null,null,null,null,null,null,"列",null,null,null,null,null,null,null,null,"列",null,null,null,null,null,null,null,null,null,null,null,null,null,null,null,null,null,null,null,null,null,null,null,null,null,null,null,null,null,null,null,null,null,null,null,null,null,null,null,null,null,null,null,null,null,null,null,null,"列"]
[null,null,null,1,2,3,4,5,6,7,8,9,1,2,3,4,5,6,7,8,9,1,null,null,2,null,null,3,null,null,4,null,null,5,null,null,6,null,null,7,null,null,8,null,null,9,null,null,null,null,null,null,null,null,null,null,null,null,null,null,null,null,null,null,null,null,null,null,null,null,1,2,3,4,5,6,7,8,9]
[null,null,"１行",{"$f":"COUNTIF(D4:L4,\">0\")","v":0},{"$f":"COUNTIF(M4:U4,\">0\")","v":0},{"$f":"COUNTIF(V4:AD4,\">0\")","v":0},{"$f":"COUNTIF(AE4:AM4,\">0\")","v":0},{"$f":"COUNTIF(AN4:AV4,\">0\")","v":0},{"$f":"COUNTIF(AW4:BE4,\">0\")","v":0},{"$f":"COUNTIF(BF4:BN4,\">0\")","v":0},{"$f":"COUNTIF(BO4:BW4,\">0\")","v":0},{"$f":"COUNTIF(BX4:CF4,\">0\")","v":0},{"$f":"IF(D680<=3,D680,0)","v":0},{"$f":"IF(E680<=3,E680,0)","v":0},0,0,0,0,0,0,0,0,0,0,0,0,0,0,0,0,0,0,0,0,0,0,0,0,0,0,0,0,0,0,0,0,0,0,null,null,null,null,null,null,null,null,null,null,null,null,null,null,null,null,null,null,null,null,null,"１行",0,0,0,0,0,0,0,0,0,{"$f":"COUNTIF(BS680:CA680,\">0\")","v":0},{"$f":"IF(CB680>=3,IF(CB682>0,CB680,0),0)","v":0},0,0,0]
[null,null,"２行",{"$f":"COUNTIF(D5:L5,\">0\")","v":0},{"$f":"COUNTIF(M5:U5,\">0\")","v":0},{"$f":"COUNTIF(V5:AD5,\">0\")","v":0},{"$f":"COUNTIF(AE5:AM5,\">0\")","v":0},{"$f":"COUNTIF(AN5:AV5,\">0\")","v":0},{"$f":"COUNTIF(AW5:BE5,\">0\")","v":0},{"$f":"COUNTIF(BF5:BN5,\">0\")","v":0},{"$f":"COUNTIF(BO5:BW5,\">0\")","v":0},{"$f":"COUNTIF(BX5:CF5,\">0\")","v":0},{"$f":"IF(D681<=3,D681,0)","v":0},{"$f":"IF(E681<=3,E681,0)","v":0},{"$f":"IF(F681<=3,F681,0)","v":0},{"$f":"IF(G681<=3,G681,0)","v":0},{"$f":"IF(H681<=3,H681,0)","v":0},{"$f":"IF(I681<=3,I681,0)","v":0},{"$f":"IF(J681<=3,J681,0)","v":0},{"$f":"IF(K681<=3,K681,0)","v":0},{"$f":"IF(L681<=3,L681,0)","v":0},0,0,0,0,0,0,0,0,0,0,0,0,0,0,0,0,0,0,0,0,0,0,0,0,0,0,0,null,null,null,null,null,null,null,null,null,null,null,null,null,null,null,null,null,null,null,null,null,null,0,0,0,0,0,0,0,0,0,null,null,null,0,0]
[null,null,"３行",0,0,0,0,0,0,0,0,0,0,0,0,0,0,0,0,0,0,0,0,0,0,0,0,0,0,0,0,0,0,0,0,0,0,0,0,0,0,0,0,0,0,0,0,0,null,null,null,null,null,null,null,null,null,null,null,null,null,null,null,null,null,null,null,null,null,null,0,0,0,0,0,0,0,0,0,{"$f":"COUNTIF(BS682:CA682,\">0\")","v":0},null,null,0,0]
[null,null,"４行",0,0,0,0,0,0,0,0,0,0,0,0,0,0,0,0,0,0,0,0,0,2,7,0,0,0,0,0,0,0,0,0,0,2,7,0,0,0,0,0,0,0,0,0,0,null,null,null,null,null,null,null,null,null,null,null,null,null,null,null,null,null,null,null,null,null,"２行",0,0,0,0,0,0,0,0,0,{"$f":"COUNTIF(BS683:CA683,\">0\")","v":0},{"$f":"IF(CB683>=3,IF(CB685>0,CB683,0),0)","v":0},0,0,0]
[null,null,"５行",0,0,0,0,0,0,0,0,0,0,0,0,0,0,0,0,0,0,0,0,0,0,0,0,0,0,0,0,0,0,0,0,0,2,7,0,0,0,0,0,0,0,2,7,0,null,null,null,null,null,null,null,null,null,null,null,null,null,null,null,null,null,null,null,null,null,null,0,0,0,0,0,0,0,0,0,null,null,null,0,0]
[null,null,"６行",0,0,0,0,0,0,0,0,0,0,0,0,0,0,0,0,0,0,0,0,0,2,7,0,0,0,0,0,0,0,0,0,0,0,0,0,0,0,0,0,0,0,2,7,0,null,null,null,null,null,null,null,null,null,null,null,null,null,null,null,null,null,null,null,null,null,null,0,0,0,0,0,0,0,0,0,{"$f":"COUNTIF(BS685:CA685,\">0\")","v":0},null,null,0,0]
[null,null,"７行",0,0,0,0,0,0,0,0,0,0,0,0,0,0,0,0,0,0,0,0,0,0,0,0,0,0,0,0,0,0,0,0,0,0,0,0,0,0,0,0,0,0,0,0,0,null,null,null,null,null,null,null,null,null,null,null,null,null,null,null,null,null,null,null,null,null,"３行",0,0,0,0,0,0,0,0,0,{"$f":"COUNTIF(BS686:CA686,\">0\")","v":0},{"$f":"IF(CB686>=3,IF(CB688>0,CB686,0),0)","v":0},0,0,0]
[null,null,"８行",0,0,0,0,0,0,0,0,0,0,0,0,0,0,0,0,0,0,0,0,0,0,0,0,0,0,0,0,0,0,0,0,0,0,0,0,0,0,0,0,0,0,0,0,0,null,null,null,null,null,null,null,null,null,null,null,null,null,null,null,null,null,null,null,null,null,null,0,0,0,0,0,0,0,0,0,null,null,null,0,0]
[null,null,"９行",0,0,0,0,0,0,0,0,0,0,0,0,0,0,0,0,0,0,0,0,0,0,0,0,0,0,0,0,0,0,0,0,0,0,0,0,0,0,0,0,0,0,0,0,0,null,null,null,null,null,null,null,null,null,null,null,null,null,null,null,null,null,null,null,null,null,null,0,0,0,0,0,0,0,0,0,{"$f":"COUNTIF(BS688:CA688,\">0\")","v":0},null,null,0,0]
[null,null,null,null,null,null,null,null,null,null,null,null,null,null,null,null,null,null,"組み合わせ数",null,null,{"$f":"COUNTIF(V680:V688,\">0\")","v":0},null,{"$f":"COUNTIF(X680:X688,\">0\")","v":0},{"$f":"COUNTIF(Y680:Y688,\">0\")","v":2},null,{"$f":"COUNTIF(AA680:AA688,\">0\")","v":0},{"$f":"COUNTIF(AB680:AB688,\">0\")","v":0},null,{"$f":"COUNTIF(AD680:AD688,\">0\")","v":0},{"$f":"COUNTIF(AE680:AE688,\">0\")","v":0},null,{"$f":"COUNTIF(AG680:AG688,\">0\")","v":0},{"$f":"COUNTIF(AH680:AH688,\">0\")","v":0},null,{"$f":"COUNTIF(AJ680:AJ688,\">0\")","v":0},{"$f":"COUNTIF(AK680:AK688,\">0\")","v":2},null,{"$f":"COUNTIF(AM680:AM688,\">0\")","v":0},{"$f":"COUNTIF(AN680:AN688,\">0\")","v":0},null,{"$f":"COUNTIF(AP680:AP688,\">0\")","v":0},{"$f":"COUNTIF(AQ680:AQ688,\">0\")","v":0},null,{"$f":"COUNTIF(AS680:AS688,\">0\")","v":0},{"$f":"COUNTIF(AT680:AT688,\">0\")","v":2},null,{"$f":"COUNTIF(AV680:AV688,\">0\")","v":0},null,null,null,null,null,null,null,null,null,null,null,null,null,null,null,null,null,null,null,null,null,"４行",0,2,0,0,0,2,0,0,0,{"$f":"COUNTIF(BS689:CA689,\">0\")","v":2},{"$f":"IF(CB689>=3,IF(CB691>0,CB689,0),0)","v":0},0,0,0]
[null,null,null,null,null,null,null,null,null,null,null,null,null,null,null,null,null,null,null,null,null,null,null,null,null,null,null,null,null,null,null,null,null,null,null,null,null,null,null,null,null,null,null,null,null,null,null,null,null,null,null,null,null,null,null,null,null,null,null,null,null,null,null,null,null,null,null,null,null,null,0,7,0,0,0,7,0,0,0,null,null,null,0,0]
[null,null,null,null,null,null,null,null,null,null,null,null,null,null,null,null,null,null,null,null,null,null,null,null,null,null,null,null,null,null,null,null,null,null,null,null,null,null,null,null,null,null,null,null,null,null,null,null,null,null,null,null,null,null,null,null,null,null,null,null,null,null,null,null,null,null,null,null,null,null,0,0,0,0,0,0,0,0,0,{"$f":"COUNTIF(BS691:CA691,\">0\")","v":0},null,null,0,0]
[null,"難　問　１　０　４　対　応　処　理　（　行　方　向　）",null,null,null,null,null,null,null,null,null,null,null,null,null,null,null,null,null,null,null,null,null,null,null,null,null,null,null,null,null,null,null,null,null,null,null,null,null,null,null,null,null,null,null,null,null,null,null,null,null,null,null,null,null,null,null,null,null,null,null,null,null,null,null,null,null,null,null,"５行",0,0,0,0,0,2,0,0,2,{"$f":"COUNTIF(BS692:CA692,\">0\")","v":2},{"$f":"IF(CB692>=3,IF(CB694>0,CB692,0),0)","v":0},0,0,0]
[null,"組み合わせ数",null,{"$f":"IF(V689>=3,IF(X689>0,V689,0),0)","v":0},null,null,null,null,null,null,{"$f":"IF(Y689>=3,IF(AA689>0,Y689,0),0)","v":0},null,null,null,null,null,null,{"$f":"IF(AB689>=3,IF(AD689>0,AB689,0),0)","v":0},null,null,null,null,null,null,{"$f":"IF(AE689>=3,IF(AG689>0,AE689,0),0)","v":0},null,null,null,null,null,null,{"$f":"IF(AH689>=3,IF(AJ689>0,AH689,0),0)","v":0},null,null,null,null,null,null,{"$f":"IF(AK689>=3,IF(AM689>0,AK689,0),0)","v":0},null,null,null,null,null,null,{"$f":"IF(AN689>=3,IF(AP689>0,AN689,0),0)","v":0},null,null,null,null,null,null,{"$f":"IF(AQ689>=3,IF(AS689>0,AQ689,0),0)","v":0},null,null,null,null,null,null,{"$f":"IF(AT689>=3,IF(AV689>0,AT689,0),0)","v":0},null,null,null,null,null,null,null,null,null,null,0,0,0,0,0,7,0,0,7,null,null,null,0,0]
[null,"列番号",null,1,null,null,null,null,null,null,2,null,null,null,null,null,null,3,null,null,null,null,null,null,4,null,null,null,null,null,null,5,null,null,null,null,null,null,6,null,null,null,null,null,null,7,null,null,null,null,null,null,8,null,null,null,null,null,null,9,null,null,null,null,null,null,null,null,null,null,0,0,0,0,0,0,0,0,0,{"$f":"COUNTIF(BS694:CA694,\">0\")","v":0},null,null,0,0]
[null,null,null,"個数","行番号",null,null,"組の数値",null,null,"個数","行番号",null,null,"組の数値",null,null,"個数","行番号",null,null,"組の数値",null,null,"個数","行番号",null,null,"組の数値",null,null,"個数","行番号",null,null,"組の数値",null,null,"個数","行番号",null,null,"組の数値",null,null,"個数","行番号",null,null,"組の数値",null,null,"個数","行番号",null,null,"組の数値",null,null,"個数","行番号",null,null,"組の数値",null,null,null,null,null,"６行",0,2,0,0,0,0,0,0,2,{"$f":"COUNTIF(BS695:CA695,\">0\")","v":2},{"$f":"IF(CB695>=3,IF(CB697>0,CB695,0),0)","v":0},0,0,0]
[null,"組み合わせ",null,0,0,0,0,0,0,0,0,0,0,0,0,0,0,0,0,0,0,0,0,0,0,0,0,0,0,0,0,0,0,0,0,0,0,0,0,0,0,0,0,0,0,0,0,0,0,0,0,0,0,0,0,0,0,0,0,0,0,0,0,0,0,0,null,null,null,null,0,7,0,0,0,0,0,0,7,null,null,null,0,0]
[null,null,null,null,null,null,null,null,null,null,null,null,null,null,null,null,null,null,null,null,null,null,null,null,null,null,null,null,null,null,null,null,null,null,null,null,null,null,null,null,null,null,null,null,null,null,null,null,null,null,null,null,null,null,null,null,null,null,null,null,null,null,null,null,null,null,{"$f":"D696+K696+R696+Y696+AF696+AM696+AT696+BA696+BH696","v":0},null,null,null,0,0,0,0,0,0,0,0,0,{"$f":"COUNTIF(BS697:CA697,\">0\")","v":0},null,null,0,0]
[null,null,null,null,null,null,null,null,null,null,null,null,null,null,null,null,null,null,null,null,null,null,null,null,null,null,null,null,null,null,null,null,null,null,null,null,null,null,null,null,null,null,null,null,null,null,null,null,null,null,null,null,null,null,null,null,null,null,null,null,null,null,null,null,null,null,null,null,null,"７行",0,0,0,0,0,0,0,0,0,{"$f":"COUNTIF(BS698:CA698,\">0\")","v":0},{"$f":"IF(CB698>=3,IF(CB700>0,CB698,0),0)","v":0},0,0,0]
[null,null,null,null,null,null,null,null,null,null,null,null,null,null,null,null,null,null,null,null,null,null,null,null,null,null,null,null,null,null,null,null,null,null,null,null,null,null,null,null,null,null,null,null,null,null,null,null,null,null,null,null,null,null,null,null,null,null,null,null,null,null,null,null,null,null,null,null,null,null,0,0,0,0,0,0,0,0,0,null,null,null,0,0]
[null,null,null,null,null,null,null,null,null,null,null,null,null,null,null,null,null,null,null,null,null,null,null,null,null,null,null,null,null,null,null,null,null,null,null,null,null,null,null,null,null,null,null,null,null,null,null,null,null,null,null,null,null,null,null,null,null,null,null,null,null,null,null,null,null,null,null,null,null,null,0,0,0,0,0,0,0,0,0,{"$f":"COUNTIF(BS700:CA700,\">0\")","v":0},null,null,0,0]
[null,null,"難　問　１０３　の　処　理（２組が発生しても良いように用意する。）",null,null,null,null,null,null,null,null,null,null,null,null,null,null,null,null,null,null,null,null,null,null,null,null,null,null,null,null,null,null,null,null,null,null,null,null,null,null,null,null,null,null,null,null,null,null,null,null,null,null,null,null,null,null,null,null,null,null,null,null,null,null,null,null,null,null,"８行",0,0,0,0,0,0,0,0,0,{"$f":"COUNTIF(BS701:CA701,\">0\")","v":0},{"$f":"IF(CB701>=3,IF(CB703>0,CB701,0),0)","v":0},0,0,0]
[null,null,null,null,null,null,null,null,null,null,null,null,null,null,null,null,null,null,null,null,null,null,null,null,null,null,null,null,null,null,null,null,null,null,null,null,null,null,null,null,null,null,null,null,null,null,null,null,null,null,null,null,null,null,null,null,null,null,null,null,null,null,null,null,null,null,null,null,null,null,0,0,0,0,0,0,0,0,0,null,null,null,0,0]
[null,null,"列方向の個数２に対しての個数を表示３個の場合難問１０３確定条件となる",null,null,null,null,null,null,null,null,null,null,null,null,null,null,null,"行方向の個数２に対しての個数を表示３個の場合難問１０３確定条件となる",null,null,null,null,null,null,null,null,null,null,null,null,null,null,null,null,null,null,null,null,null,null,null,null,null,null,null,null,null,null,null,null,null,null,null,null,null,null,null,null,null,null,null,null,null,null,null,null,null,null,null,0,0,0,0,0,0,0,0,0,{"$f":"COUNTIF(BS703:CA703,\">0\")","v":0},null,null,0,0]
[null,null,"数値",1,2,3,4,5,6,7,8,9,null,null,null,null,null,null,"数値",1,2,3,4,5,6,7,8,9,null,null,null,null,null,null,null,null,null,null,null,null,null,null,null,null,null,null,null,null,null,null,null,null,null,null,null,null,null,null,null,null,null,null,null,null,null,null,null,null,null,"９行",0,0,0,0,0,0,0,0,0,{"$f":"COUNTIF(BS704:CA704,\">0\")","v":0},{"$f":"IF(CB704>=3,IF(CB706>0,CB704,0),0)","v":0},0,0,0]
[null,null,"個数",{"$f":"COUNTIF(CH4:CH12,\"2\")","v":0},{"$f":"COUNTIF(CI4:CI12,\"2\")","v":0},0,0,0,0,0,0,0,{"$f":"COUNTIF(D705:L705,\"3\")","v":0},null,null,null,null,null,"個数",{"$f":"AH717","v":0},{"$f":"AI717","v":0},0,0,0,0,0,0,0,{"$f":"COUNTIF(T705:AB705,\"3\")","v":0},null,null,null,"難問１０３の行方向処理に必要",null,null,null,null,null,null,null,null,null,null,null,null,null,null,null,null,null,null,null,null,null,null,null,null,null,null,null,null,null,null,null,null,null,null,null,null,null,0,0,0,0,0,0,0,0,0,null,null,null,0,0]
[null,null,"１組目","列番号",null,null,null,null,null,null,null,null,null,null,null,null,null,null,"１組","行番号",null,null,null,null,null,null,null,null,null,null,null,null,"都合上、行方向の数字の合計を転記した",null,null,null,null,null,null,null,null,null,null,null,null,null,null,null,null,null,null,null,null,null,null,null,null,null,null,null,null,null,null,null,null,null,null,null,null,null,0,0,0,0,0,0,0,0,0,{"$f":"COUNTIF(BS706:CA706,\">0\")","v":0},null,null,0,0]
[null,null,null,1,2,3,4,5,6,7,8,9,null,null,null,null,null,null,null,1,2,3,4,5,6,7,8,9,null,null,null,null,"数値",1,2,3,4,5,6,7,8,9,null,null,null,null,null,null,null,null,null,null,null,null,null,null,null,null,null,null,null,null,null,null,null,null,null,null,null,null,null,null,null,null,null,null,null,null,null,null,null,{"$f":"SUM(CD680:CD704)","v":0}]
[null,null,"１行",0,0,0,0,0,0,0,0,0,null,null,null,null,null,null,"１列",0,0,0,0,0,0,0,0,0,null,null,null,null,"１列",{"$f":"D13","v":0},{"$f":"E13","v":0},0,0,0,0,0,0,0]
[null,null,"２行",0,0,0,0,0,0,0,0,0,null,null,null,null,null,null,"２列",0,0,0,2,0,2,0,0,0,null,null,null,null,"２列",{"$f":"M13","v":0},{"$f":"N13","v":0},0,0,0,0,0,0,0]
[null,null,"３行",0,0,0,0,0,0,0,0,0,null,null,null,null,null,null,"３列",0,0,0,0,0,0,0,0,0,null,null,null,null,"３列",{"$f":"V13","v":0},{"$f":"W13","v":0},0,0,0,0,0,0,0]
[null,null,"４行",0,2,0,0,0,2,0,0,0,null,null,null,null,null,null,"４列",0,0,0,0,0,0,0,0,0,null,null,null,null,"４列",{"$f":"AE13","v":0},{"$f":"AF13","v":0},0,0,0,0,0,0,0]
[null,null,"５行",0,0,0,0,0,2,0,0,2,null,null,null,null,null,null,"５列",0,0,0,0,0,0,0,0,0,null,null,null,null,"５列",{"$f":"AN13","v":0},{"$f":"AO13","v":0},0,0,0,0,0,0,0]
[null,null,"６行",0,2,0,0,0,0,0,0,2,null,null,null,null,null,null,"６列",0,0,0,2,2,0,0,0,0,null,null,null,null,"６列",{"$f":"AW13","v":0},{"$f":"AX13","v":0},0,0,0,0,0,0,0]
[null,null,"７行",0,0,0,0,0,0,0,0,0,null,null,null,null,null,null,"７列",0,0,0,0,0,0,0,0,0,null,null,null,null,"７列",{"$f":"BF13","v":0},{"$f":"BG13","v":0},0,0,0,0,0,0,0]
[null,null,"８行",0,0,0,0,0,0,0,0,0,null,null,null,null,null,null,"８列",0,0,0,0,0,0,0,0,0,null,null,null,null,"８列",{"$f":"BO13","v":0},{"$f":"BP13","v":0},0,0,0,0,0,0,0]
[null,null,"９行",0,0,0,0,0,0,0,0,0,null,null,null,null,null,null,"９列",0,0,0,0,2,2,0,0,0,null,null,null,null,"９列",{"$f":"BX13","v":0},{"$f":"BY13","v":0},0,0,0,0,0,0,0]
[null,null,"個数",{"$f":"COUNTIF(D708:D716,\">0\")","v":0},{"$f":"COUNTIF(E708:E716,\">0\")","v":2},{"$f":"COUNTIF(F708:F716,\">0\")","v":0},0,0,2,0,0,2,{"$f":"COUNTIF(D717:L717,\"2\")","v":3},null,null,null,null,null,"個数",{"$f":"COUNTIF(T708:T716,\">0\")","v":0},0,0,2,2,2,0,0,0,{"$f":"COUNTIF(T717:AB717,\"2\")","v":3},null,null,null,null,{"$f":"COUNTIF(AH708:AH716,\"2\")","v":0},{"$f":"COUNTIF(AI708:AI716,\"2\")","v":0},0,0,0,0,0,0,0]
[null,null,"更に行方向で２個ずつ３組存在すれば難問１０３が確定となる",null,null,null,null,null,null,null,null,null,null,null,null,null,null,null,"更に列方向で２個ずつ３組存在すれば難問１０３が確定となる"]
[null,null,"２組目","列番号",null,null,null,null,null,null,null,null,null,null,null,null,null,null,"２組","行番号"]
[null,null,null,1,2,3,4,5,6,7,8,9,null,null,null,null,null,null,null,1,2,3,4,5,6,7,8,9]
[null,null,"１行",0,0,0,0,0,0,0,0,0,null,null,null,null,null,null,"１列",0,0,0,0,0,0,0,0,0]
[null,null,"２行",0,0,0,0,0,0,0,0,0,null,null,null,null,null,null,"２列",0,0,0,7,0,7,0,0,0]
[null,null,"３行",0,0,0,0,0,0,0,0,0,null,null,null,null,null,null,"３列",0,0,0,0,0,0,0,0,0]
[null,null,"４行",0,7,0,0,0,7,0,0,0,null,null,null,null,null,null,"４列",0,0,0,0,0,0,0,0,0]
[null,null,"５行",0,0,0,0,0,7,0,0,7,null,null,null,null,null,null,"５列",0,0,0,0,0,0,0,0,0]
[null,null,"６行",0,7,0,0,0,0,0,0,7,null,null,null,null,null,null,"６列",0,0,0,7,7,0,0,0,0]
[null,null,"７行",0,0,0,0,0,0,0,0,0,null,null,null,null,null,null,"７列",0,0,0,0,0,0,0,0,0]
[null,null,"８行",0,0,0,0,0,0,0,0,0,null,null,null,null,null,null,"８列",0,0,0,0,0,0,0,0,0]
[null,null,"９行",0,0,0,0,0,0,0,0,0,null,null,null,null,null,null,"９列",0,0,0,0,7,7,0,0,0]
[null,null,"個数",{"$f":"COUNTIF(D721:D729,\">0\")","v":0},{"$f":"COUNTIF(E721:E729,\">0\")","v":2},0,0,0,2,0,0,2,{"$f":"COUNTIF(D730:L730,\"2\")","v":3},null,null,null,null,null,"個数",{"$f":"COUNTIF(T721:T729,\">0\")","v":0},0,0,2,2,2,0,0,0,{"$f":"COUNTIF(T730:AB730,\"2\")","v":3}]
[null,null,"更に行方向で２個ずつ３組存在すれば難問１０３が確定となる",null,null,null,null,null,null,null,null,null,null,null,null,null,null,null,"更に列方向で２個ずつ３組存在すれば難問１０３が確定となる"]